{"text_format":"1","workbook":"xlsx","n_sheets":12,"sheets":["UI","UIoptions","DATABASE","NewID","MotorCrossRef","Criteria","Sheet1","UIfilter","VERSION","DATABASErevision","PRODUCTION","Blad1"],"not_rendered":{"charts":0,"images":18,"macros":1,"external_links":0,"defined_names":8,"comments":7,"pivot_tables":0},"unopened":[],"bounds":{"document_bytes":16777216,"sheet_cells":100000,"rows_first":2000,"rows_last":500,"rows_between":2000,"halvings":0,"cell_chars":16384,"cell_head_chars":4096},"cells_cut":0,"cells_raw":0,"read":"whole","date_system":"1900"}

{"sheet":"UI","index":0,"n_rows":57,"n_cols":7,"rows_kept":57,"cut":false,"hidden":false,"merged":[[0,1,0,6],[44,1,50,1],[44,3,50,4],[44,6,50,6],[24,3,24,4],[30,1,36,1],[30,3,36,4],[30,6,36,6],[38,3,38,4]]}
[null,"PC-series Motor ID Selection Tool \nTo obtain Your specific Motor ID either use the pull-down menu for Manufacturer and Model respectively and hit the LOAD MOTOR button, or manually enter the dimensions of Your motor"]
[]
[null," Quick select motor:"]
[null," Manufacturer",null,"Model"]
[]
[]
[null,"Units"]
[null,"Motor Body"]
[]
[null,null,null,63,{"$f":"IF(UIoptions!$N$31=1,UIoptions!$M$29,UIoptions!$M$30)","v":"mm"}]
[null,"Pilot Diamter (PD)",null,40,{"$f":"IF(UIoptions!$N$31=1,UIoptions!$M$29,UIoptions!$M$30)","v":"mm"}]
[null,"Shaft Diameter (SD)",null,15,{"$f":"IF(UIoptions!$N$31=1,UIoptions!$M$29,UIoptions!$M$30)","v":"mm"}]
[null,"Shaft Length (SL)",null,20,{"$f":"IF(UIoptions!$N$31=1,UIoptions!$M$29,UIoptions!$M$30)","v":"mm"}]
[null,"Pilot Length (PL)",null,2.5,{"$f":"IF(UIoptions!$N$31=1,UIoptions!$M$29,UIoptions!$M$30)","v":"mm"}]
[null,{"$f":"IF(UIoptions!N35=1,\"Square Side (SQ)\",\"Outer Diameter (Motor)\")","v":"Square Side (SQ)"},null,58,{"$f":"IF(UIoptions!$N$31=1,UIoptions!$M$29,UIoptions!$M$30)","v":"mm"}]
[null,"Thru Holes"]
[null,"Hole Diameter (HD)",null,4.8,{"$f":"IF(UIoptions!$N$31=1,UIoptions!$M$29,UIoptions!$M$30)","v":"mm"}]
[null,"Flange Thickness (FT)",null,7,{"$f":"IF(UIoptions!$N$31=1,UIoptions!$M$29,UIoptions!$M$30)","v":"mm"}]
[null,"Tapped Holes"]
[null,"Thread"]
[null,"Thread Depth",null,null,{"$f":"IF(UIoptions!$N$31=1,UIoptions!$M$29,UIoptions!$M$30)","v":"mm"}]
[]
[null," Motor ID:",null,{"$f":"UIoptions!O24","v":"No match found. Please contact customer service."}]
[]
[null,"PC25LX",null,"PC32LX",null,null,"PC40LX"]
[]
[]
[]
[]
[]
[null,{"$f":"IF(Criteria!B3=1,Criteria!D3,Criteria!C3)","v":"Values out of range:\nShaft diameter\nUnsupported combination"},null,{"$f":"IF(Criteria!B4=1,Criteria!D4,Criteria!C4)","v":"Your motor fits!\nPLATE B\nC = 59 mm"},null,null,{"$f":"IF(Criteria!B5=1,Criteria!D5,Criteria!C5)","v":"Your motor fits!\nPLATE A\nC = 62 mm"}]
[]
[]
[]
[]
[]
[]
[]
[null,"PC25PA",null,"PC32PA",null,null,"PC40PA"]
[]
[]
[]
[]
[]
[null,{"$f":"IF(Criteria!B6=1,Criteria!D6,Criteria!C6)","v":"Values out of range:\nShaft diameter\nUnsupported combination"},null,{"$f":"IF(Criteria!B7=1,Criteria!D7,Criteria!C7)","v":"Values out of range:\nShaft diameter\nUnsupported combination"},null,null,{"$f":"IF(Criteria!B8=1,Criteria!D8,Criteria!C8)","v":"Your motor fits!\nPLATE C"}]
[]
[]
[]
[]
[]
[]
[]
[]
[null,"DISCLAIMER"]
[null,"The user is responsible to verify that all dimensions are according to drawing. Reservation for errors etc."]
[]
[null,"© 2014 Thomson Linear, Magnus Jonason B"]

{"sheet":"UIoptions","index":1,"n_rows":142,"n_cols":23,"rows_kept":142,"cut":false,"hidden":true,"merged":[[24,18,37,18]]}
[]
[]
[]
[]
[]
[]
[]
[null,null,null,null,null,null,null,null,null,null,null,null,"IF INCH",null,null,null,"DATABASE SEARCH TOLERANCES"]
[null,null,null,null,null,null,null,null,null,null,"BCD/Bolt dist.",null,"Metric","Dec","Rounded","NOMINAL","Tol-","Tol+","Min","Max"]
[null,null,null,null,null,null,null,null,null,null,{"$f":"IF(N22=1,UI!D10,UI!D10*SQRT(2))","v":63},"BD",{"$f":"IF($N$31=2,K10*25.4,K10)","v":63},1,{"$f":"ROUND(M10,N10)","v":63},{"$f":"O10","v":63},{"$f":"25.4*0.001","v":2.5399999999999999E-2},{"$f":"25.4*0.001","v":2.5399999999999999E-2},{"$f":"P10-Q10","v":62.974600000000002},{"$f":"P10+R10","v":63.025399999999998}]
[null,null,null,null,null,null,null,null,null,null,null,"PD",{"$f":"IF($N$31=2,UI!D11*25.4,UI!D11)","v":40},2,{"$f":"ROUNDUP(M11,N11)","v":40},{"$f":"O11","v":40},{"$f":"25.4*0.0005","v":1.2699999999999999E-2},{"$f":"25.4*0.0005","v":1.2699999999999999E-2},{"$f":"P11-Q11","v":39.987299999999998},{"$f":"P11+R11","v":40.012700000000002}]
[null,null,null,null,null,null,null,null,null,null,null,"SD",{"$f":"IF($N$31=2,UI!D12*25.4,UI!D12)","v":15},2,{"$f":"IF(M12=15.875,M12,ROUNDUP(M12,N12))","v":15},15,{"$f":"25.4*0.0005","v":1.2699999999999999E-2},{"$f":"25.4*0.0005","v":1.2699999999999999E-2},{"$f":"P12-Q12","v":14.987299999999999},{"$f":"P12+R12","v":15.012700000000001}]
[null,null,null,null,null,null,null,null,null,null,null,"SL",{"$f":"IF($N$31=2,UI!D13*25.4,UI!D13)","v":20},1,20,20,{"$f":"25.4*0.003","v":7.6200000000000004E-2},{"$f":"25.4*0.003","v":7.6200000000000004E-2},{"$f":"P13-Q13","v":19.9238},{"$f":"P13+R13","v":20.0762}]
[null,null,null,null,null,null,null,null,null,null,null,"PL",{"$f":"IF($N$31=2,UI!D14*25.4,UI!D14)","v":2.5},1,2.5,2.5,null,null,0.2,4]
[null,null,null,null,null,null,null,null,null,null,null,"SQ/ROUND",{"$f":"IF($N$31=2,UI!D15*25.4,UI!D15)","v":58},1,58,58,0.10100000000000001,0.10100000000000001,{"$f":"P15-Q15","v":57.899000000000001},{"$f":"P15+R15","v":58.100999999999999}]
[null,null,null,null,null,null,null,null,null,null,null,"FL",{"$f":"IF($N$31=2,UI!D18*25.4,UI!D18)","v":7},1,{"$f":"ROUND(M16,N16)","v":7},{"$f":"O16","v":7},0.1,0.1,{"$f":"P16-Q16","v":6.9},{"$f":"P16+R16","v":7.1}]
[null,null,null,null,null,null,null,null,null,null,null,"THREAD_L",{"$f":"IF($N$31=2,UI!D21*25.4,UI!D21)","v":0},1,{"$f":"ROUND(M17,N17)","v":0},{"$f":"O17","v":0},{"$f":"25.4*0.001","v":2.5399999999999999E-2},{"$f":"25.4*0.001","v":2.5399999999999999E-2},{"$f":"P17-Q17","v":-2.5399999999999999E-2},{"$f":"P17+R17","v":2.5399999999999999E-2}]
[null,null,null,null,null,null,null,null,null,null,null,"HOLE_D",{"$f":"IF($N$31=2,UI!D17*25.4,UI!D17)","v":4.8},1,{"$f":"ROUND(M18,N18)","v":4.8},{"$f":"O18","v":4.8},{"$f":"IF(N75=1,INDEX(Criteria!A111:G125,MATCH(1,Criteria!G111:G125,0),1),\"NA\")","v":"M4"}]
[null,null,null,null,null,null,null,null,null,null,null,"Thread SZ",null,null,null,{"$f":"IF(N75=1,\"NA\",INDEX(M37:M74,MATCH(N75,N37:N74,0),1))","v":"NA"}]
[null,null,null,null,null,null,null,null,null,null,null,null,"Bolt Circle Diameter (BCD)",1,null,null,null,null,null,4]
[null,null,null,null,null,null,null,null,null,null,null,null,"Bolt Distance (BD)",2,null,null,null,null,"Combo1",5,{"$f":"INDEX(MotorManufacturersTxt,T21)","v":"Kollmorgen"}]
[null,null,null,null,null,null,null,null,null,null,null,null,"Selected",1,null,null,null,null,"Combo2",7,{"$f":"INDEX(MotorModelsTxt,T22)","v":"AKM2xx-Dxxxx-00"}]
[]
[null,null,null,null,null,null,null,null,null,null,null,null,"MOTOR ID FOUND",{"$f":"IFERROR(INDEX(PCdb[#Data],MATCH(1,PCdb[HIT?],0),1),M25)","v":"No match found. Please contact customer service."},{"$f":"IF(N24>99,N24,IF(N24>9,CONCATENATE(\"0\",N24),CONCATENATE(\"00\",N24)))","v":"No match found. Please contact customer service."},null,null,null,null,null,{"$f":"MATCH(CONCATENATE(U21,U22),TableMotorCrossRef[ComboTxt],0)","v":22}]
[null,null,null,null,null,null,null,null,null,null,null,null,"No match found. Please contact customer service.",null,null,null,null,null,"NEED TO CHANGE MACRO IF THESE CELLS ARE MOVED!","BD",{"$f":"INDEX(TableMotorCrossRef[],$U$24,4)","v":65}]
[null,null,null,null,null,null,null,null,null,null,null,null,null,null,null,null,null,null,null,"PD",{"$f":"INDEX(TableMotorCrossRef[],$U$24,5)","v":40}]
[null,null,null,null,null,null,null,null,null,null,null,null,null,null,null,null,null,null,null,"SD",{"$f":"INDEX(TableMotorCrossRef[],$U$24,7)","v":9}]
[null,null,null,null,null,null,null,null,null,null,null,null,null,null,null,null,null,null,null,"SL",{"$f":"INDEX(TableMotorCrossRef[],$U$24,8)","v":20}]
[null,null,null,null,null,null,null,null,null,null,null,null,"mm",1,null,null,null,null,null,"PL",{"$f":"INDEX(TableMotorCrossRef[],$U$24,6)","v":2.5}]
[null,null,null,null,null,null,null,null,null,null,null,null,"inch",2,null,null,null,null,null,"SQ/ROUND",{"$f":"IF(INDEX(TableMotorCrossRef[],$U$24,9)=\"NA\",INDEX(TableMotorCrossRef[],1,10),INDEX(TableMotorCrossRef[],$U$24,9))","v":58}]
[null,null,null,null,null,null,null,null,null,null,null,null,"Selected",1,null,null,null,null,null,"SQ",{"$f":"INDEX(TableMotorCrossRef[],$U$24,9)","v":58}]
[null,"PRODUCTION TAB",null,null,null,null,null,null,null,null,null,null,null,null,null,null,null,null,null,"ROUND",{"$f":"INDEX(TableMotorCrossRef[],$U$24,10)","v":"NA"}]
[null,null,null,null,null,null,null,null,null,null,null,null,"Square",1,null,null,null,null,null,"FL",{"$f":"IF(INDEX(TableMotorCrossRef[],$U$24,11)=\"NA\",\"\",INDEX(TableMotorCrossRef[],$U$24,11))","v":7}]
[null,"Size",null,null,null,null,null,null,null,null,null,null,"Round",2,null,null,null,null,null,"THREAD_L",{"$f":"IF(INDEX(TableMotorCrossRef[],$U$24,14)=\"NA\",\"\",INDEX(TableMotorCrossRef[],$U$24,14))","v":""}]
[null,"Selected",3,null,null,null,null,null,null,null,null,null,"Selected",1,null,null,null,null,null,"Hole Dia",{"$f":"IF(INDEX(TableMotorCrossRef[],$U$24,12)=\"NA\",\"\",INDEX(TableMotorCrossRef[],$U$24,12))","v":5.8}]
[null,"PC25",1,null,null,null,null,null,null,null,null,null,null,null,null,null,null,null,null,"Thread SZ",{"$f":"IF(INDEX(TableMotorCrossRef[],$U$24,13)=\"NA\",\"\",INDEX(TableMotorCrossRef[],$U$24,13))","v":""}]
[null,"PC32",2,null,null,null,null,null,null,null,null,null,"No Tapped Holes",1,null,null,null,null,null,"Thread SZ",{"$f":"INDEX(TableMotorCrossRef[],$U$24,13)","v":"NA"}]
[null,"PC40",3,null,null,null,null,null,null,null,null,null,"M3",2,null,null,null,null,null,"Thread SZ lookup",{"$f":"IF(OR(U37=\"NA\",T22=0),1,INDEX(M38:N74,MATCH(U37,M38:M74,0),2))","v":1}]
[null,null,null,null,null,null,null,null,null,null,null,null,"M4",3]
[null,"Type",null,null,null,null,null,null,null,null,null,null,"M5",4]
[null,"Selected",2,null,null,null,null,null,null,null,null,null,"#4 - 40 UNC",5]
[null,"LX",1,null,null,null,null,null,null,null,null,null,"#8 - 32 UNC",6]
[null,"PA",2,null,null,null,null,null,null," ",null,null,"#12 - 24 UNC",7]
[null,null,null,null,null,null,null,null,null,null,null,null,"#4 - 48 UNF",8]
[null,"Chosen",{"$f":"INDEX(B36:C38,MATCH(C35,C36:C38,0),1)","v":"PC40"},{"$f":"INDEX(B42:C43,MATCH(C41,C42:C43,0),1)","v":"PA"},null,null,null,null,null,null,null,null,"#8 - 36 UNF",9]
[null,null,null,null,null,null,null,null,null,null,null,null,"#12 - 28 UNF",10]
[null,null,null,"Plate","Rin","L","Beta1","Beta2","LC",null,null,null,null,11]
[null,"Columns ",null,{"$f":"INDEX($E$50:$H$55,MATCH(2,$E$50:$E$55,0),2)","v":51},{"$f":"INDEX($E$50:$H$55,MATCH(2,$E$50:$E$55,0),3)","v":48},{"$f":"INDEX($E$50:$H$55,MATCH(2,$E$50:$E$55,0),4)","v":49},{"$f":"INDEX($E$50:$J$55,MATCH(2,$E$50:$E$55,0),5)","v":52},{"$f":"INDEX($E$50:$J$55,MATCH(2,$E$50:$E$55,0),6)","v":53},{"$f":"INDEX($E$50:$K$55,MATCH(2,$E$50:$E$55,0),7)","v":0},null,null,null,null,12]
[null,null,"Sz hit?","Type hit?","Hit?","Plate","Rin","L","Beta1","Beta2","LC",null,null,13]
[null,"PC25LX",{"$f":"IF($C$35=1,1,0)","v":0},{"$f":"IF($C$41=1,1,0)","v":0},{"$f":"SUM(C50:D50)","v":0},{"$f":"COLUMN(PCdb[PLATE (PC25LX)])","v":19},{"$f":"COLUMN(PCdb[Rin (PC25LX)])","v":16},{"$f":"COLUMN(PCdb[L (PC25LX)])","v":17},{"$f":"COLUMN(PCdb[Beta1 (PC25LX)])","v":20},{"$f":"COLUMN(PCdb[Beta2 (PC25LX)])","v":21},{"$f":"COLUMN(PCdb[LC (PC25LX)])","v":15},null,null,14]
[null,"PC25PA",{"$f":"IF($C$35=1,1,0)","v":0},{"$f":"IF($C$41=2,1,0)","v":1},1,{"$f":"COLUMN(PCdb[PLATE (PC25PA)])","v":39},{"$f":"COLUMN(PCdb[Rin (PC25PA)])","v":36},{"$f":"COLUMN(PCdb[L (PC25PA)])","v":37},{"$f":"COLUMN(PCdb[Beta1 (PC25PA)])","v":40},{"$f":"COLUMN(PCdb[Beta2 (PC25PA)])","v":41},null,null,null,15]
[null,"PC32LX",{"$f":"IF($C$35=2,1,0)","v":0},{"$f":"IF($C$41=1,1,0)","v":0},0,{"$f":"COLUMN(PCdb[PLATE (PC32LX)])","v":26},{"$f":"COLUMN(PCdb[Rin (PC32LX)])","v":23},{"$f":"COLUMN(PCdb[L (PC32LX)])","v":24},{"$f":"COLUMN(PCdb[Beta1 (PC32LX)])","v":27},{"$f":"COLUMN(PCdb[Beta2 (PC32LX)])","v":28},{"$f":"COLUMN(PCdb[LC (PC32LX)])","v":22},null,null,16]
[null,"PC32PA",{"$f":"IF($C$35=2,1,0)","v":0},{"$f":"IF($C$41=2,1,0)","v":1},1,{"$f":"COLUMN(PCdb[PLATE (PC32PA)])","v":45},{"$f":"COLUMN(PCdb[Rin (PC32PA)])","v":42},{"$f":"COLUMN(PCdb[L (PC32PA)])","v":43},{"$f":"COLUMN(PCdb[Beta1 (PC32PA)])","v":46},{"$f":"COLUMN(PCdb[Beta2 (PC32PA)])","v":47},null,null,null,17]
[null,"PC40LX",{"$f":"IF($C$35=3,1,0)","v":1},{"$f":"IF($C$41=1,1,0)","v":0},1,{"$f":"COLUMN(PCdb[PLATE (PC40LX)])","v":33},{"$f":"COLUMN(PCdb[Rin (PC40LX)])","v":30},{"$f":"COLUMN(PCdb[L (PC40LX)])","v":31},{"$f":"COLUMN(PCdb[Beta1 (PC40LX)])","v":34},{"$f":"COLUMN(PCdb[Beta2 (PC40LX)])","v":35},{"$f":"COLUMN(PCdb[LC (PC40LX)])","v":29},null,null,18]
[null,"PC40PA",{"$f":"IF($C$35=3,1,0)","v":1},{"$f":"IF($C$41=2,1,0)","v":1},2,{"$f":"COLUMN(PCdb[PLATE (PC40PA)])","v":51},{"$f":"COLUMN(PCdb[Rin (PC40PA)])","v":48},{"$f":"COLUMN(PCdb[L (PC40PA)])","v":49},{"$f":"COLUMN(PCdb[Beta1 (PC40PA)])","v":52},{"$f":"COLUMN(PCdb[Beta2 (PC40PA)])","v":53},null,null,null,19]
[null,null,null,null,null,null,null,null,null,null,null,null,null,20]
[null,null,null,null,null,null,null,null,null,null,null,null,null,21]
[null,null,null,null,null,null,null,null,null,null,null,null,null,22]
[null,null,null,null,null,null,null,null,null,null,null,null,null,23]
[null,null,null,null,null,null,null,null,null,null,null,null,null,24]
[null,null,null,null,null,null,null,null,null,null,null,null,null,25]
[null,null,null,null,null,null,null,null,null,null,null,null,null,26]
[null,null,null,null,null,null,null,null,null,null,null,null,null,27]
[null,null,null,null,null,null,null,null,null,null,null,null,null,28]
[null,null,null,null,null,null,null,null,null,null,null,null,null,29]
[null,null,null,null,null,null,null,null,null,null,null,null,null,30]
[null,null,null,null,null,null,null,null,null,null,null,null,null,31]
[null,null,null,null,null,null,null,null,null,null,null,null,null,32]
[null,null,null,null,null,null,null,null,null,null,null,null,null,33]
[null,null,null,null,null,null,null,null,null,null,null,null,null,34]
[null,null,null,null,null,null,null,null,null,null,null,null,null,35]
[null,null,null,null,null,null,null,null,null,null,null,null,null,36]
[null,null,null,null,null,null,null,null,null,null,null,null,null,37]
[null,null,null,null,null,null,null,null,null,null,null,null,null,38]
[null,null,null,null,null,null,null,null,null,null,null,null,"Selected",1]
[]
[null,null,null,null,null,null,null,null,null,null,null,null,"OLD LIST FOR REF. NOT USED!!!"]
[null,null,null,null,null,null,null,null,null,null,null,null,"No Tapped Holes",1]
[null,null,null,null,null,null,null,null,null,null,null,null,"M2",2]
[null,null,null,null,null,null,null,null,null,null,null,null,"M2,5",3]
[null,null,null,null,null,null,null,null,null,null,null,null,"M3",4]
[null,null,null,null,null,null,null,null,null,null,null,null,"M4",5]
[null,null,null,null,null,null,null,null,null,null,null,null,"M5",6]
[null,null,null,null,null,null,null,null,null,null,null,null,"M6",7]
[null,null,null,null,null,null,null,null,null,null,null,null,"M8",8]
[null,null,null,null,null,null,null,null,null,null,null,null,"M10",9]
[null,null,null,null,null,null,null,null,null,null,null,null,"M12",10]
[null,null,null,null,null,null,null,null,null,null,null,null,"#1 - 64 UNC",11]
[null,null,null,null,null,null,null,null,null,null,null,null,"#2 - 56 UNC",12]
[null,null,null,null,null,null,null,null,null,null,null,null,"#3 - 48 UNC",13]
[null,null,null,null,null,null,null,null,null,null,null,null,"#4 - 40 UNC",14]
[null,null,null,null,null,null,null,null,null,null,null,null,"#5 - 40 UNC",15]
[null,null,null,null,null,null,null,null,null,null,null,null,"#6 - 32 UNC",16]
[null,null,null,null,null,null,null,null,null,null,null,null,"#8 - 32 UNC",17]
[null,null,null,null,null,null,null,null,null,null,null,null,"#10 - 24 UNC",18]
[null,null,null,null,null,null,null,null,null,null,null,null,"#12 - 24 UNC",19]
[null,null,null,null,null,null,null,null,null,null,null,null,"1/4\" - 20 UNC",20]
[null,null,null,null,null,null,null,null,null,null,null,null,"5/16\" - 18 UNC",21]
[null,null,null,null,null,null,null,null,null,null,null,null,"3/8\" - 16 UNC",22]
[null,null,null,null,null,null,null,null,null,null,null,null,"7/16\" - 14 UNC",23]
[null,null,null,null,null,null,null,null,null,null,null,null,"1/2\" - 13 UNC",24]
[null,null,null,null,null,null,null,null,null,null,null,null,"#1 - 72 UNF",25]
[null,null,null,null,null,null,null,null,null,null,null,null,"#2 - 64 UNF",26]
[null,null,null,null,null,null,null,null,null,null,null,null,"#3 - 56 UNF",27]
[null,null,null,null,null,null,null,null,null,null,null,null,"#4 - 48 UNF",28]
[null,null,null,null,null,null,null,null,null,null,null,null,"#5 - 44 UNF",29]
[null,null,null,null,null,null,null,null,null,null,null,null,"#6 - 40 UNF",30]
[null,null,null,null,null,null,null,null,null,null,null,null,"#8 - 36 UNF",31]
[null,null,null,null,null,null,null,null,null,null,null,null,"#10 - 32 UNF",32]
[null,null,null,null,null,null,null,null,null,null,null,null,"#12 - 28 UNF",33]
[null,null,null,null,null,null,null,null,null,null,null,null,"1/4\" - 28 UNF",34]
[null,null,null,null,null,null,null,null,null,null,null,null,"5/16\" - 24 UNF",35]
[null,null,null,null,null,null,null,null,null,null,null,null,"3/8\" - 24 UNF",36]
[null,null,null,null,null,null,null,null,null,null,null,null,"7/16\" - 20 UNF",37]
[null,null,null,null,null,null,null,null,null,null,null,null,"1/2\" - 20 UNF",38]
[null,null,null,null,null,null,null,null,null,null,null,null,"Selected",1]
[]
[]
[null,null,null,null,null,null,null,null,null,null,null,null,null,null,null,null,null,"#0 - 80 UNF",0.06,1.524,1.25,80,0.317]
[null,null,null,null,null,null,null,null,null,null,null,null,null,null,null,null,null,"#1 - 72 UNF",7.2999999999999995E-2,1.8540000000000001,1.55,72,0.35299999999999998]
[null,null,null,null,null,null,null,null,null,null,null,null,null,null,null,null,null,"#2 - 64 UNF",8.5999999999999993E-2,2.1840000000000002,1.9,64,0.39700000000000002]
[null,null,null,null,null,null,null,null,null,null,null,null,null,null,null,null,null,"#3 - 56 UNF",9.9000000000000005E-2,2.5150000000000001,2.15,56,0.45300000000000001]
[null,null,null,null,null,null,null,null,null,null,null,null,null,null,null,null,null,"#4 - 48 UNF",0.112,2.8450000000000002,2.4,48,0.52900000000000003]
[null,null,null,null,null,null,null,null,null,null,null,null,null,null,null,null,null,"#5 - 44 UNF",0.125,3.1749999999999998,2.7,44,0.57699999999999996]
[null,null,null,null,null,null,null,null,null,null,null,null,null,null,null,null,null,"#6 - 40 UNF",0.13800000000000001,3.5049999999999999,2.95,40,0.63500000000000001]
[null,null,null,null,null,null,null,null,null,null,null,null,null,null,null,null,null,"#8 - 36 UNF",0.16400000000000001,4.1660000000000004,3.5,36,0.70499999999999996]
[null,null,null,null,null,null,null,null,null,null,null,null,null,null,null,null,null,"#10 - 32 UNF",0.19,4.8259999999999996,4.0999999999999996,32,0.79400000000000004]
[null,null,null,null,null,null,null,null,null,null,null,null,null,null,null,null,null,"#12 - 28 UNF",0.216,5.4859999999999998,4.7,28,0.90700000000000003]
[null,null,null,null,null,null,null,null,null,null,null,null,null,null,null,null,null,"1/4\" - 28 UNF",0.25,6.35,5.5,28,0.90700000000000003]
[null,null,null,null,null,null,null,null,null,null,null,null,null,null,null,null,null,"5/16\" - 24 UNF",0.313,7.9379999999999997,6.9,24,1.0580000000000001]
[null,null,null,null,null,null,null,null,null,null,null,null,null,null,null,null,null,"3/8\" - 24 UNF",0.375,9.5250000000000004,8.5,24,1.0580000000000001]
[null,null,null,null,null,null,null,null,null,null,null,null,null,null,null,null,null,"7/16\" - 20 UNF",0.438,11.112,9.9,20,1.27]
[null,null,null,null,null,null,null,null,null,null,null,null,null,null,null,null,null,"1/2\" - 20 UNF",0.5,12.7,11.5,20,1.27]
[null,null,null,null,null,null,null,null,null,null,null,null,null,null,null,null,null,"9/16\" - 18 UNF",0.56299999999999994,14.288,12.9,18,1.411]
[null,null,null,null,null,null,null,null,null,null,null,null,null,null,null,null,null,"5/8\" - 18 UNF",0.625,15.875,14.5,18,1.411]
[null,null,null,null,null,null,null,null,null,null,null,null,null,null,null,null,null,"3/4\" - 16 UNF",0.75,19.05,17.5,16,1.587]
[null,null,null,null,null,null,null,null,null,null,null,null,null,null,null,null,null,"7/8\" - 14 UNF",0.875,22.225000000000001,20.399999999999999,14,1.8140000000000001]
[null,null,null,null,null,null,null,null,null,null,null,null,null,null,null,null,null,"1\" - 12 UNF",1,25.4,23.25,12,2.117]
[null,null,null,null,null,null,null,null,null,null,null,null,null,null,null,null,null,"1 1/8\" - 12 UNF",1.125,28.574999999999999,26.5,12,2.117]
[null,null,null,null,null,null,null,null,null,null,null,null,null,null,null,null,null,"1 1/4\" - 12 UNF",1.25,31.75,29.5,12,2.117]
[null,null,null,null,null,null,null,null,null,null,null,null,null,null,null,null,null,"1 3/8\" - 12 UNF",1.375,34.924999999999997,32.75,12,2.117]
[null,null,null,null,null,null,null,null,null,null,null,null,null,null,null,null,null,"1 1/2\" - 12 UNF",1.5,38.1,36,12,2.117]

{"sheet":"DATABASE","index":2,"n_rows":312,"n_cols":67,"rows_kept":312,"cut":false,"hidden":true,"merged":[[0,47,0,50],[0,53,0,66],[0,0,0,12],[0,35,0,38],[0,14,0,20],[0,21,0,27],[0,28,0,34],[0,41,0,46]]}
["M O T O R    D A T A  B A S A E",null,null,null,null,null,null,null,null,null,null,null,null,null,"PC25LX (INLINE)",null,null,null,null,null,null,"PC32LX (INLINE)",null,null,null,null,null,null,"PC40LX (INLINE)",null,null,null,null,null,null,"PC25PA (BGM)",null,null,null,null,null,"PC32PA (BGM)",null,null,null,null,null,"PC40PA (BGM)",null,null,null,null,null,"D A T A   B A S E S E A R CH  H I T S"]
[]
["RMID","BCD","PD","PL (MAX)","SD","SL","SQ_SZ","ROUND_D","FL","THRU_SCREW","THREAD_SZ","THREAD_L","NBR_HOLES","H","LC (PC25LX)","Rin (PC25LX)","L (PC25LX)","IP65 (PC25LX)","PLATE (PC25LX)","Beta1 (PC25LX)","Beta2 (PC25LX)","LC (PC32LX)","Rin (PC32LX)","L (PC32LX)","IP65 (PC32LX)","PLATE (PC32LX)","Beta1 (PC32LX)","Beta2 (PC32LX)","LC (PC40LX)","Rin (PC40LX)","L (PC40LX)","IP65 (PC40LX)","PLATE (PC40LX)","Beta1 (PC40LX)","Beta2 (PC40LX)","Rin (PC25PA)","L (PC25PA)","IP65 (PC25PA)","PLATE (PC25PA)","Beta1 (PC25PA)","Beta2 (PC25PA)","Rin (PC32PA)","L (PC32PA)","IP65 (PC32PA)","PLATE (PC32PA)","Beta1 (PC32PA)","Beta2 (PC32PA)","Rin (PC40PA)","L (PC40PA)","IP65 (PC40PA)","PLATE (PC40PA)","Beta1 (PC40PA)","Beta2 (PC40PA)","BDhit","PDhit","PLhit","SDhit","SLhit","SQhit","ROUNDhit","FLhit","THRU-SCREWhit","THREAD_SZhit","THREAD_Lhit","HIT?","Validation test","Column1"]
[1,75,60,4,14,30,70,"NA",6.9,"M5","NA","NA",4,"M5","NA","NA","NA","NA","NA","NA","NA",45.2,32.5,0,"Y","B",45,90,48.7,32.5,0,"Y","B",45,90,"NA","NA","NA","NA","NA","NA",33,0,"Y","D",45,90,33,0,"Y","C",45,90,{"$f":"IF(AND(PCdb[[#This Row],[BCD]]>UIoptions!$S$10,PCdb[[#This Row],[BCD]]<UIoptions!$T$10),1,0)","v":0},{"$f":"IF(AND(PCdb[[#This Row],[PD]]>UIoptions!$S$11,PCdb[[#This Row],[PD]]<UIoptions!$T$11),1,0)","v":0},{"$f":"IF(AND(UIoptions!$P$14<=PCdb[[#This Row],[PL (MAX)]],UIoptions!$P$14>UIoptions!$S$14),1,0)","v":1},{"$f":"IF(AND(PCdb[[#This Row],[SD]]>UIoptions!$S$12,PCdb[[#This Row],[SD]]<UIoptions!$T$12),1,0)","v":0},{"$f":"IF(AND(PCdb[[#This Row],[SL]]>UIoptions!$S$13,PCdb[[#This Row],[SL]]<UIoptions!$T$13),1,0)","v":0},{"$f":"IF(UIoptions!$N$35=1,IF(AND(PCdb[[#This Row],[SQ_SZ]]>UIoptions!$S$15,PCdb[[#This Row],[SQ_SZ]]<UIoptions!$T$15),1,0),1)","v":0},{"$f":"IF(UIoptions!$N$35=2,IF(AND(PCdb[[#This Row],[ROUND_D]]>UIoptions!$S$15,PCdb[[#This Row],[ROUND_D]]<UIoptions!$T$15),1,0),1)","v":1},{"$f":"IF(UIoptions!$N$75<>1,1,IF(AND(PCdb[[#This Row],[FL]]>UIoptions!$S$16,PCdb[[#This Row],[FL]]<UIoptions!$T$16),1,0))","v":0},{"$f":"IF(OR(UIoptions!$Q$18=PCdb[[#This Row],[THRU_SCREW]],UIoptions!$Q$18=\"NA\"),1,0)","v":0},{"$f":"IF(OR(UIoptions!$P$19=PCdb[[#This Row],[THREAD_SZ]],UIoptions!$P$19=\"NA\"),1,0)","v":1},{"$f":"IF(UIoptions!$N$75=1,1,IF(AND(PCdb[[#This Row],[THREAD_L]]>UIoptions!$S$17,PCdb[[#This Row],[THREAD_L]]<UIoptions!$T$17),1,0))","v":1},{"$f":"IF(SUM(PCdb[[#This Row],[BDhit]:[THREAD_Lhit]])=11,1,0)","v":0},{"$f":"CONCATENATE(PCdb[[#This Row],[BCD]],PCdb[[#This Row],[PD]],PCdb[[#This Row],[PL (MAX)]],PCdb[[#This Row],[SD]],PCdb[[#This Row],[SL]],PCdb[[#This Row],[SQ_SZ]],PCdb[[#This Row],[ROUND_D]],PCdb[[#This Row],[FL]],PCdb[[#This Row],[THRU_SCREW]],PCdb[[#This Row],[THREAD_SZ]],PCdb[[#This Row],[THREAD_L]],PCdb[[#This Row],[NBR_HOLES]])","v":"75604143070NA6,9M5NANA4"},{"$f":"SUM(PCdb[[#This Row],[BDhit]:[THREAD_Lhit]])","v":4}]
[2,100,80,4,16,40,89.4,"NA",9.9,"M6","NA","NA",4,"M6","NA","NA","NA","NA","NA","NA","NA","NA","NA","NA","NA","NA","NA","NA",45.2,42,"NA","Y","B",45,90,"NA","NA","NA","NA","NA","NA","NA","NA","NA","NA","NA","NA",41,0,"Y","D",45,90,{"$f":"IF(AND(PCdb[[#This Row],[BCD]]>UIoptions!$S$10,PCdb[[#This Row],[BCD]]<UIoptions!$T$10),1,0)","v":0},{"$f":"IF(AND(PCdb[[#This Row],[PD]]>UIoptions!$S$11,PCdb[[#This Row],[PD]]<UIoptions!$T$11),1,0)","v":0},{"$f":"IF(AND(UIoptions!$P$14<=PCdb[[#This Row],[PL (MAX)]],UIoptions!$P$14>UIoptions!$S$14),1,0)","v":1},{"$f":"IF(AND(PCdb[[#This Row],[SD]]>UIoptions!$S$12,PCdb[[#This Row],[SD]]<UIoptions!$T$12),1,0)","v":0},{"$f":"IF(AND(PCdb[[#This Row],[SL]]>UIoptions!$S$13,PCdb[[#This Row],[SL]]<UIoptions!$T$13),1,0)","v":0},{"$f":"IF(UIoptions!$N$35=1,IF(AND(PCdb[[#This Row],[SQ_SZ]]>UIoptions!$S$15,PCdb[[#This Row],[SQ_SZ]]<UIoptions!$T$15),1,0),1)","v":0},{"$f":"IF(UIoptions!$N$35=2,IF(AND(PCdb[[#This Row],[ROUND_D]]>UIoptions!$S$15,PCdb[[#This Row],[ROUND_D]]<UIoptions!$T$15),1,0),1)","v":1},{"$f":"IF(UIoptions!$N$75<>1,1,IF(AND(PCdb[[#This Row],[FL]]>UIoptions!$S$16,PCdb[[#This Row],[FL]]<UIoptions!$T$16),1,0))","v":0},{"$f":"IF(OR(UIoptions!$Q$18=PCdb[[#This Row],[THRU_SCREW]],UIoptions!$Q$18=\"NA\"),1,0)","v":0},{"$f":"IF(OR(UIoptions!$P$19=PCdb[[#This Row],[THREAD_SZ]],UIoptions!$P$19=\"NA\"),1,0)","v":1},{"$f":"IF(UIoptions!$N$75=1,1,IF(AND(PCdb[[#This Row],[THREAD_L]]>UIoptions!$S$17,PCdb[[#This Row],[THREAD_L]]<UIoptions!$T$17),1,0))","v":1},{"$f":"IF(SUM(PCdb[[#This Row],[BDhit]:[THREAD_Lhit]])=11,1,0)","v":0},{"$f":"CONCATENATE(PCdb[[#This Row],[BCD]],PCdb[[#This Row],[PD]],PCdb[[#This Row],[PL (MAX)]],PCdb[[#This Row],[SD]],PCdb[[#This Row],[SL]],PCdb[[#This Row],[SQ_SZ]],PCdb[[#This Row],[ROUND_D]],PCdb[[#This Row],[FL]],PCdb[[#This Row],[THRU_SCREW]],PCdb[[#This Row],[THREAD_SZ]],PCdb[[#This Row],[THREAD_L]],PCdb[[#This Row],[NBR_HOLES]])","v":"100804164089,4NA9,9M6NANA4"},{"$f":"SUM(PCdb[[#This Row],[BDhit]:[THREAD_Lhit]])","v":4}]
[3,63,40,4,9,20,55,"NA",9,"M5","NA","NA",4,"M5",38.700000000000003,22,"NA","Y","B",45,90,45.2,25.5,0,"Y","B",25,90,48.7,0,45,"Y","A",45,90,22,"NA","Y","D",45,90,25.5,0,"Y","C",45,90,null,null,null,null,null,null,{"$f":"IF(AND(PCdb[[#This Row],[BCD]]>UIoptions!$S$10,PCdb[[#This Row],[BCD]]<UIoptions!$T$10),1,0)","v":1},{"$f":"IF(AND(PCdb[[#This Row],[PD]]>UIoptions!$S$11,PCdb[[#This Row],[PD]]<UIoptions!$T$11),1,0)","v":1},{"$f":"IF(AND(UIoptions!$P$14<=PCdb[[#This Row],[PL (MAX)]],UIoptions!$P$14>UIoptions!$S$14),1,0)","v":1},{"$f":"IF(AND(PCdb[[#This Row],[SD]]>UIoptions!$S$12,PCdb[[#This Row],[SD]]<UIoptions!$T$12),1,0)","v":0},{"$f":"IF(AND(PCdb[[#This Row],[SL]]>UIoptions!$S$13,PCdb[[#This Row],[SL]]<UIoptions!$T$13),1,0)","v":1},{"$f":"IF(UIoptions!$N$35=1,IF(AND(PCdb[[#This Row],[SQ_SZ]]>UIoptions!$S$15,PCdb[[#This Row],[SQ_SZ]]<UIoptions!$T$15),1,0),1)","v":0},{"$f":"IF(UIoptions!$N$35=2,IF(AND(PCdb[[#This Row],[ROUND_D]]>UIoptions!$S$15,PCdb[[#This Row],[ROUND_D]]<UIoptions!$T$15),1,0),1)","v":1},{"$f":"IF(UIoptions!$N$75<>1,1,IF(AND(PCdb[[#This Row],[FL]]>UIoptions!$S$16,PCdb[[#This Row],[FL]]<UIoptions!$T$16),1,0))","v":0},{"$f":"IF(OR(UIoptions!$Q$18=PCdb[[#This Row],[THRU_SCREW]],UIoptions!$Q$18=\"NA\"),1,0)","v":0},{"$f":"IF(OR(UIoptions!$P$19=PCdb[[#This Row],[THREAD_SZ]],UIoptions!$P$19=\"NA\"),1,0)","v":1},{"$f":"IF(UIoptions!$N$75=1,1,IF(AND(PCdb[[#This Row],[THREAD_L]]>UIoptions!$S$17,PCdb[[#This Row],[THREAD_L]]<UIoptions!$T$17),1,0))","v":1},{"$f":"IF(SUM(PCdb[[#This Row],[BDhit]:[THREAD_Lhit]])=11,1,0)","v":0},{"$f":"CONCATENATE(PCdb[[#This Row],[BCD]],PCdb[[#This Row],[PD]],PCdb[[#This Row],[PL (MAX)]],PCdb[[#This Row],[SD]],PCdb[[#This Row],[SL]],PCdb[[#This Row],[SQ_SZ]],PCdb[[#This Row],[ROUND_D]],PCdb[[#This Row],[FL]],PCdb[[#This Row],[THRU_SCREW]],PCdb[[#This Row],[THREAD_SZ]],PCdb[[#This Row],[THREAD_L]],PCdb[[#This Row],[NBR_HOLES]])","v":"6340492055NA9M5NANA4"},{"$f":"SUM(PCdb[[#This Row],[BDhit]:[THREAD_Lhit]])","v":7}]
[4,63,40,4,9,20,58,"NA",7,"M4","NA","NA",4,"M4",38.700000000000003,25,0,"Y","B",45,90,45.2,26,0,"Y","B",45,90,48.7,10,35,"Y*","A",45,90,24,0,"Y","D",45,90,25,0,"Y*","C",45,90,25,0,"Y*","C",45,90,{"$f":"IF(AND(PCdb[[#This Row],[BCD]]>UIoptions!$S$10,PCdb[[#This Row],[BCD]]<UIoptions!$T$10),1,0)","v":1},{"$f":"IF(AND(PCdb[[#This Row],[PD]]>UIoptions!$S$11,PCdb[[#This Row],[PD]]<UIoptions!$T$11),1,0)","v":1},{"$f":"IF(AND(UIoptions!$P$14<=PCdb[[#This Row],[PL (MAX)]],UIoptions!$P$14>UIoptions!$S$14),1,0)","v":1},{"$f":"IF(AND(PCdb[[#This Row],[SD]]>UIoptions!$S$12,PCdb[[#This Row],[SD]]<UIoptions!$T$12),1,0)","v":0},{"$f":"IF(AND(PCdb[[#This Row],[SL]]>UIoptions!$S$13,PCdb[[#This Row],[SL]]<UIoptions!$T$13),1,0)","v":1},{"$f":"IF(UIoptions!$N$35=1,IF(AND(PCdb[[#This Row],[SQ_SZ]]>UIoptions!$S$15,PCdb[[#This Row],[SQ_SZ]]<UIoptions!$T$15),1,0),1)","v":1},{"$f":"IF(UIoptions!$N$35=2,IF(AND(PCdb[[#This Row],[ROUND_D]]>UIoptions!$S$15,PCdb[[#This Row],[ROUND_D]]<UIoptions!$T$15),1,0),1)","v":1},{"$f":"IF(UIoptions!$N$75<>1,1,IF(AND(PCdb[[#This Row],[FL]]>UIoptions!$S$16,PCdb[[#This Row],[FL]]<UIoptions!$T$16),1,0))","v":1},{"$f":"IF(OR(UIoptions!$Q$18=PCdb[[#This Row],[THRU_SCREW]],UIoptions!$Q$18=\"NA\"),1,0)","v":1},{"$f":"IF(OR(UIoptions!$P$19=PCdb[[#This Row],[THREAD_SZ]],UIoptions!$P$19=\"NA\"),1,0)","v":1},{"$f":"IF(UIoptions!$N$75=1,1,IF(AND(PCdb[[#This Row],[THREAD_L]]>UIoptions!$S$17,PCdb[[#This Row],[THREAD_L]]<UIoptions!$T$17),1,0))","v":1},{"$f":"IF(SUM(PCdb[[#This Row],[BDhit]:[THREAD_Lhit]])=11,1,0)","v":0},{"$f":"CONCATENATE(PCdb[[#This Row],[BCD]],PCdb[[#This Row],[PD]],PCdb[[#This Row],[PL (MAX)]],PCdb[[#This Row],[SD]],PCdb[[#This Row],[SL]],PCdb[[#This Row],[SQ_SZ]],PCdb[[#This Row],[ROUND_D]],PCdb[[#This Row],[FL]],PCdb[[#This Row],[THRU_SCREW]],PCdb[[#This Row],[THREAD_SZ]],PCdb[[#This Row],[THREAD_L]],PCdb[[#This Row],[NBR_HOLES]])","v":"6340492058NA7M4NANA4"},{"$f":"SUM(PCdb[[#This Row],[BDhit]:[THREAD_Lhit]])","v":10}]
[5,66.7,38.1,4,6.35,20.6,57.2,"NA",11.7,"M4","NA","NA",4,"M4",null,null,null,null,null,null,null,null,null,null,null,null,null,null,48.7,3.3,47.15,"Y",null,null,null,22,"NA","Y","D",45,90,null,null,null,null,null,null,null,null,null,null,null,null,{"$f":"IF(AND(PCdb[[#This Row],[BCD]]>UIoptions!$S$10,PCdb[[#This Row],[BCD]]<UIoptions!$T$10),1,0)","v":0},{"$f":"IF(AND(PCdb[[#This Row],[PD]]>UIoptions!$S$11,PCdb[[#This Row],[PD]]<UIoptions!$T$11),1,0)","v":0},{"$f":"IF(AND(UIoptions!$P$14<=PCdb[[#This Row],[PL (MAX)]],UIoptions!$P$14>UIoptions!$S$14),1,0)","v":1},{"$f":"IF(AND(PCdb[[#This Row],[SD]]>UIoptions!$S$12,PCdb[[#This Row],[SD]]<UIoptions!$T$12),1,0)","v":0},{"$f":"IF(AND(PCdb[[#This Row],[SL]]>UIoptions!$S$13,PCdb[[#This Row],[SL]]<UIoptions!$T$13),1,0)","v":0},{"$f":"IF(UIoptions!$N$35=1,IF(AND(PCdb[[#This Row],[SQ_SZ]]>UIoptions!$S$15,PCdb[[#This Row],[SQ_SZ]]<UIoptions!$T$15),1,0),1)","v":0},{"$f":"IF(UIoptions!$N$35=2,IF(AND(PCdb[[#This Row],[ROUND_D]]>UIoptions!$S$15,PCdb[[#This Row],[ROUND_D]]<UIoptions!$T$15),1,0),1)","v":1},{"$f":"IF(UIoptions!$N$75<>1,1,IF(AND(PCdb[[#This Row],[FL]]>UIoptions!$S$16,PCdb[[#This Row],[FL]]<UIoptions!$T$16),1,0))","v":0},{"$f":"IF(OR(UIoptions!$Q$18=PCdb[[#This Row],[THRU_SCREW]],UIoptions!$Q$18=\"NA\"),1,0)","v":1},{"$f":"IF(OR(UIoptions!$P$19=PCdb[[#This Row],[THREAD_SZ]],UIoptions!$P$19=\"NA\"),1,0)","v":1},{"$f":"IF(UIoptions!$N$75=1,1,IF(AND(PCdb[[#This Row],[THREAD_L]]>UIoptions!$S$17,PCdb[[#This Row],[THREAD_L]]<UIoptions!$T$17),1,0))","v":1},{"$f":"IF(SUM(PCdb[[#This Row],[BDhit]:[THREAD_Lhit]])=11,1,0)","v":0},{"$f":"CONCATENATE(PCdb[[#This Row],[BCD]],PCdb[[#This Row],[PD]],PCdb[[#This Row],[PL (MAX)]],PCdb[[#This Row],[SD]],PCdb[[#This Row],[SL]],PCdb[[#This Row],[SQ_SZ]],PCdb[[#This Row],[ROUND_D]],PCdb[[#This Row],[FL]],PCdb[[#This Row],[THRU_SCREW]],PCdb[[#This Row],[THREAD_SZ]],PCdb[[#This Row],[THREAD_L]],PCdb[[#This Row],[NBR_HOLES]])","v":"66,738,146,3520,657,2NA11,7M4NANA4"},{"$f":"SUM(PCdb[[#This Row],[BDhit]:[THREAD_Lhit]])","v":5}]
[6,70,50,4,14,30,58,"NA",7,"M5","NA","NA",4,"M5","NA","NA","NA","NA",null,null,null,45.2,27,0,"Y",null,null,null,48.7,3.15,49.5,null,null,null,null,"NA","NA","NA",null,null,null,27,0,"Y",null,null,null,27,0,"Y","C",45,90,{"$f":"IF(AND(PCdb[[#This Row],[BCD]]>UIoptions!$S$10,PCdb[[#This Row],[BCD]]<UIoptions!$T$10),1,0)","v":0},{"$f":"IF(AND(PCdb[[#This Row],[PD]]>UIoptions!$S$11,PCdb[[#This Row],[PD]]<UIoptions!$T$11),1,0)","v":0},{"$f":"IF(AND(UIoptions!$P$14<=PCdb[[#This Row],[PL (MAX)]],UIoptions!$P$14>UIoptions!$S$14),1,0)","v":1},{"$f":"IF(AND(PCdb[[#This Row],[SD]]>UIoptions!$S$12,PCdb[[#This Row],[SD]]<UIoptions!$T$12),1,0)","v":0},{"$f":"IF(AND(PCdb[[#This Row],[SL]]>UIoptions!$S$13,PCdb[[#This Row],[SL]]<UIoptions!$T$13),1,0)","v":0},{"$f":"IF(UIoptions!$N$35=1,IF(AND(PCdb[[#This Row],[SQ_SZ]]>UIoptions!$S$15,PCdb[[#This Row],[SQ_SZ]]<UIoptions!$T$15),1,0),1)","v":1},{"$f":"IF(UIoptions!$N$35=2,IF(AND(PCdb[[#This Row],[ROUND_D]]>UIoptions!$S$15,PCdb[[#This Row],[ROUND_D]]<UIoptions!$T$15),1,0),1)","v":1},{"$f":"IF(UIoptions!$N$75<>1,1,IF(AND(PCdb[[#This Row],[FL]]>UIoptions!$S$16,PCdb[[#This Row],[FL]]<UIoptions!$T$16),1,0))","v":1},{"$f":"IF(OR(UIoptions!$Q$18=PCdb[[#This Row],[THRU_SCREW]],UIoptions!$Q$18=\"NA\"),1,0)","v":0},{"$f":"IF(OR(UIoptions!$P$19=PCdb[[#This Row],[THREAD_SZ]],UIoptions!$P$19=\"NA\"),1,0)","v":1},{"$f":"IF(UIoptions!$N$75=1,1,IF(AND(PCdb[[#This Row],[THREAD_L]]>UIoptions!$S$17,PCdb[[#This Row],[THREAD_L]]<UIoptions!$T$17),1,0))","v":1},{"$f":"IF(SUM(PCdb[[#This Row],[BDhit]:[THREAD_Lhit]])=11,1,0)","v":0},{"$f":"CONCATENATE(PCdb[[#This Row],[BCD]],PCdb[[#This Row],[PD]],PCdb[[#This Row],[PL (MAX)]],PCdb[[#This Row],[SD]],PCdb[[#This Row],[SL]],PCdb[[#This Row],[SQ_SZ]],PCdb[[#This Row],[ROUND_D]],PCdb[[#This Row],[FL]],PCdb[[#This Row],[THRU_SCREW]],PCdb[[#This Row],[THREAD_SZ]],PCdb[[#This Row],[THREAD_L]],PCdb[[#This Row],[NBR_HOLES]])","v":"70504143058NA7M5NANA4"},{"$f":"SUM(PCdb[[#This Row],[BDhit]:[THREAD_Lhit]])","v":6}]
[7,40,32,4,12,24.5,"NA",55,"NA","NA","M5",10,4,6,null,null,null,null,null,null,null,null,null,null,null,null,null,null,null,null,null,null,null,null,null,null,null,null,null,null,null,"NA","NA","Y","SPLC2-007",45,90,null,null,null,null,null,null,{"$f":"IF(AND(PCdb[[#This Row],[BCD]]>UIoptions!$S$10,PCdb[[#This Row],[BCD]]<UIoptions!$T$10),1,0)","v":0},{"$f":"IF(AND(PCdb[[#This Row],[PD]]>UIoptions!$S$11,PCdb[[#This Row],[PD]]<UIoptions!$T$11),1,0)","v":0},{"$f":"IF(AND(UIoptions!$P$14<=PCdb[[#This Row],[PL (MAX)]],UIoptions!$P$14>UIoptions!$S$14),1,0)","v":1},{"$f":"IF(AND(PCdb[[#This Row],[SD]]>UIoptions!$S$12,PCdb[[#This Row],[SD]]<UIoptions!$T$12),1,0)","v":0},{"$f":"IF(AND(PCdb[[#This Row],[SL]]>UIoptions!$S$13,PCdb[[#This Row],[SL]]<UIoptions!$T$13),1,0)","v":0},{"$f":"IF(UIoptions!$N$35=1,IF(AND(PCdb[[#This Row],[SQ_SZ]]>UIoptions!$S$15,PCdb[[#This Row],[SQ_SZ]]<UIoptions!$T$15),1,0),1)","v":0},{"$f":"IF(UIoptions!$N$35=2,IF(AND(PCdb[[#This Row],[ROUND_D]]>UIoptions!$S$15,PCdb[[#This Row],[ROUND_D]]<UIoptions!$T$15),1,0),1)","v":1},{"$f":"IF(UIoptions!$N$75<>1,1,IF(AND(PCdb[[#This Row],[FL]]>UIoptions!$S$16,PCdb[[#This Row],[FL]]<UIoptions!$T$16),1,0))","v":0},{"$f":"IF(OR(UIoptions!$Q$18=PCdb[[#This Row],[THRU_SCREW]],UIoptions!$Q$18=\"NA\"),1,0)","v":0},{"$f":"IF(OR(UIoptions!$P$19=PCdb[[#This Row],[THREAD_SZ]],UIoptions!$P$19=\"NA\"),1,0)","v":1},{"$f":"IF(UIoptions!$N$75=1,1,IF(AND(PCdb[[#This Row],[THREAD_L]]>UIoptions!$S$17,PCdb[[#This Row],[THREAD_L]]<UIoptions!$T$17),1,0))","v":1},{"$f":"IF(SUM(PCdb[[#This Row],[BDhit]:[THREAD_Lhit]])=11,1,0)","v":0},{"$f":"CONCATENATE(PCdb[[#This Row],[BCD]],PCdb[[#This Row],[PD]],PCdb[[#This Row],[PL (MAX)]],PCdb[[#This Row],[SD]],PCdb[[#This Row],[SL]],PCdb[[#This Row],[SQ_SZ]],PCdb[[#This Row],[ROUND_D]],PCdb[[#This Row],[FL]],PCdb[[#This Row],[THRU_SCREW]],PCdb[[#This Row],[THREAD_SZ]],PCdb[[#This Row],[THREAD_L]],PCdb[[#This Row],[NBR_HOLES]])","v":"403241224,5NA55NANAM5104"},{"$f":"SUM(PCdb[[#This Row],[BDhit]:[THREAD_Lhit]])","v":4}]
[8,85,70,4,14,30,"NA",140,"NA","NA","M6",7,4,7,"NA","NA","NA","NA",null,null,null,45.2,36.5,0,"Y",null,null,null,48.7,"NA","NA","Y","SPLB2-008",45,90,"NA","NA",null,null,null,null,"NA","NA",null,null,null,null,"NA","NA",null,null,null,null,{"$f":"IF(AND(PCdb[[#This Row],[BCD]]>UIoptions!$S$10,PCdb[[#This Row],[BCD]]<UIoptions!$T$10),1,0)","v":0},{"$f":"IF(AND(PCdb[[#This Row],[PD]]>UIoptions!$S$11,PCdb[[#This Row],[PD]]<UIoptions!$T$11),1,0)","v":0},{"$f":"IF(AND(UIoptions!$P$14<=PCdb[[#This Row],[PL (MAX)]],UIoptions!$P$14>UIoptions!$S$14),1,0)","v":1},{"$f":"IF(AND(PCdb[[#This Row],[SD]]>UIoptions!$S$12,PCdb[[#This Row],[SD]]<UIoptions!$T$12),1,0)","v":0},{"$f":"IF(AND(PCdb[[#This Row],[SL]]>UIoptions!$S$13,PCdb[[#This Row],[SL]]<UIoptions!$T$13),1,0)","v":0},{"$f":"IF(UIoptions!$N$35=1,IF(AND(PCdb[[#This Row],[SQ_SZ]]>UIoptions!$S$15,PCdb[[#This Row],[SQ_SZ]]<UIoptions!$T$15),1,0),1)","v":0},{"$f":"IF(UIoptions!$N$35=2,IF(AND(PCdb[[#This Row],[ROUND_D]]>UIoptions!$S$15,PCdb[[#This Row],[ROUND_D]]<UIoptions!$T$15),1,0),1)","v":1},{"$f":"IF(UIoptions!$N$75<>1,1,IF(AND(PCdb[[#This Row],[FL]]>UIoptions!$S$16,PCdb[[#This Row],[FL]]<UIoptions!$T$16),1,0))","v":0},{"$f":"IF(OR(UIoptions!$Q$18=PCdb[[#This Row],[THRU_SCREW]],UIoptions!$Q$18=\"NA\"),1,0)","v":0},{"$f":"IF(OR(UIoptions!$P$19=PCdb[[#This Row],[THREAD_SZ]],UIoptions!$P$19=\"NA\"),1,0)","v":1},{"$f":"IF(UIoptions!$N$75=1,1,IF(AND(PCdb[[#This Row],[THREAD_L]]>UIoptions!$S$17,PCdb[[#This Row],[THREAD_L]]<UIoptions!$T$17),1,0))","v":1},{"$f":"IF(SUM(PCdb[[#This Row],[BDhit]:[THREAD_Lhit]])=11,1,0)","v":0},{"$f":"CONCATENATE(PCdb[[#This Row],[BCD]],PCdb[[#This Row],[PD]],PCdb[[#This Row],[PL (MAX)]],PCdb[[#This Row],[SD]],PCdb[[#This Row],[SL]],PCdb[[#This Row],[SQ_SZ]],PCdb[[#This Row],[ROUND_D]],PCdb[[#This Row],[FL]],PCdb[[#This Row],[THRU_SCREW]],PCdb[[#This Row],[THREAD_SZ]],PCdb[[#This Row],[THREAD_L]],PCdb[[#This Row],[NBR_HOLES]])","v":"857041430NA140NANAM674"},{"$f":"SUM(PCdb[[#This Row],[BDhit]:[THREAD_Lhit]])","v":4}]
[9,43.8,22,4,5,24,42.3,"NA","NA","NA","M3",4.5,4,3.5,36.200000000000003,"NA","NA","Y","B2",45,90,41.7,"NA","NA","Y*",null,null,null,null,null,null,null,null,null,null,"NA","NA","Y","D2",45,90,null,null,null,null,null,null,null,null,null,null,null,null,{"$f":"IF(AND(PCdb[[#This Row],[BCD]]>UIoptions!$S$10,PCdb[[#This Row],[BCD]]<UIoptions!$T$10),1,0)","v":0},{"$f":"IF(AND(PCdb[[#This Row],[PD]]>UIoptions!$S$11,PCdb[[#This Row],[PD]]<UIoptions!$T$11),1,0)","v":0},{"$f":"IF(AND(UIoptions!$P$14<=PCdb[[#This Row],[PL (MAX)]],UIoptions!$P$14>UIoptions!$S$14),1,0)","v":1},{"$f":"IF(AND(PCdb[[#This Row],[SD]]>UIoptions!$S$12,PCdb[[#This Row],[SD]]<UIoptions!$T$12),1,0)","v":0},{"$f":"IF(AND(PCdb[[#This Row],[SL]]>UIoptions!$S$13,PCdb[[#This Row],[SL]]<UIoptions!$T$13),1,0)","v":0},{"$f":"IF(UIoptions!$N$35=1,IF(AND(PCdb[[#This Row],[SQ_SZ]]>UIoptions!$S$15,PCdb[[#This Row],[SQ_SZ]]<UIoptions!$T$15),1,0),1)","v":0},{"$f":"IF(UIoptions!$N$35=2,IF(AND(PCdb[[#This Row],[ROUND_D]]>UIoptions!$S$15,PCdb[[#This Row],[ROUND_D]]<UIoptions!$T$15),1,0),1)","v":1},{"$f":"IF(UIoptions!$N$75<>1,1,IF(AND(PCdb[[#This Row],[FL]]>UIoptions!$S$16,PCdb[[#This Row],[FL]]<UIoptions!$T$16),1,0))","v":0},{"$f":"IF(OR(UIoptions!$Q$18=PCdb[[#This Row],[THRU_SCREW]],UIoptions!$Q$18=\"NA\"),1,0)","v":0},{"$f":"IF(OR(UIoptions!$P$19=PCdb[[#This Row],[THREAD_SZ]],UIoptions!$P$19=\"NA\"),1,0)","v":1},{"$f":"IF(UIoptions!$N$75=1,1,IF(AND(PCdb[[#This Row],[THREAD_L]]>UIoptions!$S$17,PCdb[[#This Row],[THREAD_L]]<UIoptions!$T$17),1,0))","v":1},{"$f":"IF(SUM(PCdb[[#This Row],[BDhit]:[THREAD_Lhit]])=11,1,0)","v":0},{"$f":"CONCATENATE(PCdb[[#This Row],[BCD]],PCdb[[#This Row],[PD]],PCdb[[#This Row],[PL (MAX)]],PCdb[[#This Row],[SD]],PCdb[[#This Row],[SL]],PCdb[[#This Row],[SQ_SZ]],PCdb[[#This Row],[ROUND_D]],PCdb[[#This Row],[FL]],PCdb[[#This Row],[THRU_SCREW]],PCdb[[#This Row],[THREAD_SZ]],PCdb[[#This Row],[THREAD_L]],PCdb[[#This Row],[NBR_HOLES]])","v":"43,822452442,3NANANAM34,54"},{"$f":"SUM(PCdb[[#This Row],[BDhit]:[THREAD_Lhit]])","v":4}]
[10,70,50,4,14,30,60,"NA",7.5,"M5","NA","NA",4,"M5","NA","NA","NA","NA","NA","NA","NA",45.2,27,0,"Y","B",45,90,48.7,"NA",54.3,"Y","A",45,90,"NA","NA","NA",null,null,null,27,0,"Y","C",45,90,27,0,"Y","C",45,90,{"$f":"IF(AND(PCdb[[#This Row],[BCD]]>UIoptions!$S$10,PCdb[[#This Row],[BCD]]<UIoptions!$T$10),1,0)","v":0},{"$f":"IF(AND(PCdb[[#This Row],[PD]]>UIoptions!$S$11,PCdb[[#This Row],[PD]]<UIoptions!$T$11),1,0)","v":0},{"$f":"IF(AND(UIoptions!$P$14<=PCdb[[#This Row],[PL (MAX)]],UIoptions!$P$14>UIoptions!$S$14),1,0)","v":1},{"$f":"IF(AND(PCdb[[#This Row],[SD]]>UIoptions!$S$12,PCdb[[#This Row],[SD]]<UIoptions!$T$12),1,0)","v":0},{"$f":"IF(AND(PCdb[[#This Row],[SL]]>UIoptions!$S$13,PCdb[[#This Row],[SL]]<UIoptions!$T$13),1,0)","v":0},{"$f":"IF(UIoptions!$N$35=1,IF(AND(PCdb[[#This Row],[SQ_SZ]]>UIoptions!$S$15,PCdb[[#This Row],[SQ_SZ]]<UIoptions!$T$15),1,0),1)","v":0},{"$f":"IF(UIoptions!$N$35=2,IF(AND(PCdb[[#This Row],[ROUND_D]]>UIoptions!$S$15,PCdb[[#This Row],[ROUND_D]]<UIoptions!$T$15),1,0),1)","v":1},{"$f":"IF(UIoptions!$N$75<>1,1,IF(AND(PCdb[[#This Row],[FL]]>UIoptions!$S$16,PCdb[[#This Row],[FL]]<UIoptions!$T$16),1,0))","v":0},{"$f":"IF(OR(UIoptions!$Q$18=PCdb[[#This Row],[THRU_SCREW]],UIoptions!$Q$18=\"NA\"),1,0)","v":0},{"$f":"IF(OR(UIoptions!$P$19=PCdb[[#This Row],[THREAD_SZ]],UIoptions!$P$19=\"NA\"),1,0)","v":1},{"$f":"IF(UIoptions!$N$75=1,1,IF(AND(PCdb[[#This Row],[THREAD_L]]>UIoptions!$S$17,PCdb[[#This Row],[THREAD_L]]<UIoptions!$T$17),1,0))","v":1},{"$f":"IF(SUM(PCdb[[#This Row],[BDhit]:[THREAD_Lhit]])=11,1,0)","v":0},{"$f":"CONCATENATE(PCdb[[#This Row],[BCD]],PCdb[[#This Row],[PD]],PCdb[[#This Row],[PL (MAX)]],PCdb[[#This Row],[SD]],PCdb[[#This Row],[SL]],PCdb[[#This Row],[SQ_SZ]],PCdb[[#This Row],[ROUND_D]],PCdb[[#This Row],[FL]],PCdb[[#This Row],[THRU_SCREW]],PCdb[[#This Row],[THREAD_SZ]],PCdb[[#This Row],[THREAD_L]],PCdb[[#This Row],[NBR_HOLES]])","v":"70504143060NA7,5M5NANA4"},{"$f":"SUM(PCdb[[#This Row],[BDhit]:[THREAD_Lhit]])","v":4}]
[11,36.799999999999997,22,4,5,24,"NA",35.6,"NA","NA","M3",3.5,4,4,null,null,null,null,null,null,null,null,null,null,null,null,null,null,null,null,null,null,null,null,null,null,null,null,null,null,null,null,null,null,null,null,null,null,null,null,null,null,null,{"$f":"IF(AND(PCdb[[#This Row],[BCD]]>UIoptions!$S$10,PCdb[[#This Row],[BCD]]<UIoptions!$T$10),1,0)","v":0},{"$f":"IF(AND(PCdb[[#This Row],[PD]]>UIoptions!$S$11,PCdb[[#This Row],[PD]]<UIoptions!$T$11),1,0)","v":0},{"$f":"IF(AND(UIoptions!$P$14<=PCdb[[#This Row],[PL (MAX)]],UIoptions!$P$14>UIoptions!$S$14),1,0)","v":1},{"$f":"IF(AND(PCdb[[#This Row],[SD]]>UIoptions!$S$12,PCdb[[#This Row],[SD]]<UIoptions!$T$12),1,0)","v":0},{"$f":"IF(AND(PCdb[[#This Row],[SL]]>UIoptions!$S$13,PCdb[[#This Row],[SL]]<UIoptions!$T$13),1,0)","v":0},{"$f":"IF(UIoptions!$N$35=1,IF(AND(PCdb[[#This Row],[SQ_SZ]]>UIoptions!$S$15,PCdb[[#This Row],[SQ_SZ]]<UIoptions!$T$15),1,0),1)","v":0},{"$f":"IF(UIoptions!$N$35=2,IF(AND(PCdb[[#This Row],[ROUND_D]]>UIoptions!$S$15,PCdb[[#This Row],[ROUND_D]]<UIoptions!$T$15),1,0),1)","v":1},{"$f":"IF(UIoptions!$N$75<>1,1,IF(AND(PCdb[[#This Row],[FL]]>UIoptions!$S$16,PCdb[[#This Row],[FL]]<UIoptions!$T$16),1,0))","v":0},{"$f":"IF(OR(UIoptions!$Q$18=PCdb[[#This Row],[THRU_SCREW]],UIoptions!$Q$18=\"NA\"),1,0)","v":0},{"$f":"IF(OR(UIoptions!$P$19=PCdb[[#This Row],[THREAD_SZ]],UIoptions!$P$19=\"NA\"),1,0)","v":1},{"$f":"IF(UIoptions!$N$75=1,1,IF(AND(PCdb[[#This Row],[THREAD_L]]>UIoptions!$S$17,PCdb[[#This Row],[THREAD_L]]<UIoptions!$T$17),1,0))","v":1},{"$f":"IF(SUM(PCdb[[#This Row],[BDhit]:[THREAD_Lhit]])=11,1,0)","v":0},{"$f":"CONCATENATE(PCdb[[#This Row],[BCD]],PCdb[[#This Row],[PD]],PCdb[[#This Row],[PL (MAX)]],PCdb[[#This Row],[SD]],PCdb[[#This Row],[SL]],PCdb[[#This Row],[SQ_SZ]],PCdb[[#This Row],[ROUND_D]],PCdb[[#This Row],[FL]],PCdb[[#This Row],[THRU_SCREW]],PCdb[[#This Row],[THREAD_SZ]],PCdb[[#This Row],[THREAD_L]],PCdb[[#This Row],[NBR_HOLES]])","v":"36,8224524NA35,6NANAM33,54"},{"$f":"SUM(PCdb[[#This Row],[BDhit]:[THREAD_Lhit]])","v":4}]
[12,66.7,38.1,4,6.35,20.6,57,"NA",4.8,"M4","NA","NA",4,"M4",null,null,null,null,null,null,null,null,null,null,null,null,null,null,null,null,null,null,null,null,null,22,0,"Y","D",45,90,22,0,"Y",null,null,null,22,0,"Y",null,null,null,{"$f":"IF(AND(PCdb[[#This Row],[BCD]]>UIoptions!$S$10,PCdb[[#This Row],[BCD]]<UIoptions!$T$10),1,0)","v":0},{"$f":"IF(AND(PCdb[[#This Row],[PD]]>UIoptions!$S$11,PCdb[[#This Row],[PD]]<UIoptions!$T$11),1,0)","v":0},{"$f":"IF(AND(UIoptions!$P$14<=PCdb[[#This Row],[PL (MAX)]],UIoptions!$P$14>UIoptions!$S$14),1,0)","v":1},{"$f":"IF(AND(PCdb[[#This Row],[SD]]>UIoptions!$S$12,PCdb[[#This Row],[SD]]<UIoptions!$T$12),1,0)","v":0},{"$f":"IF(AND(PCdb[[#This Row],[SL]]>UIoptions!$S$13,PCdb[[#This Row],[SL]]<UIoptions!$T$13),1,0)","v":0},{"$f":"IF(UIoptions!$N$35=1,IF(AND(PCdb[[#This Row],[SQ_SZ]]>UIoptions!$S$15,PCdb[[#This Row],[SQ_SZ]]<UIoptions!$T$15),1,0),1)","v":0},{"$f":"IF(UIoptions!$N$35=2,IF(AND(PCdb[[#This Row],[ROUND_D]]>UIoptions!$S$15,PCdb[[#This Row],[ROUND_D]]<UIoptions!$T$15),1,0),1)","v":1},{"$f":"IF(UIoptions!$N$75<>1,1,IF(AND(PCdb[[#This Row],[FL]]>UIoptions!$S$16,PCdb[[#This Row],[FL]]<UIoptions!$T$16),1,0))","v":0},{"$f":"IF(OR(UIoptions!$Q$18=PCdb[[#This Row],[THRU_SCREW]],UIoptions!$Q$18=\"NA\"),1,0)","v":1},{"$f":"IF(OR(UIoptions!$P$19=PCdb[[#This Row],[THREAD_SZ]],UIoptions!$P$19=\"NA\"),1,0)","v":1},{"$f":"IF(UIoptions!$N$75=1,1,IF(AND(PCdb[[#This Row],[THREAD_L]]>UIoptions!$S$17,PCdb[[#This Row],[THREAD_L]]<UIoptions!$T$17),1,0))","v":1},{"$f":"IF(SUM(PCdb[[#This Row],[BDhit]:[THREAD_Lhit]])=11,1,0)","v":0},{"$f":"CONCATENATE(PCdb[[#This Row],[BCD]],PCdb[[#This Row],[PD]],PCdb[[#This Row],[PL (MAX)]],PCdb[[#This Row],[SD]],PCdb[[#This Row],[SL]],PCdb[[#This Row],[SQ_SZ]],PCdb[[#This Row],[ROUND_D]],PCdb[[#This Row],[FL]],PCdb[[#This Row],[THRU_SCREW]],PCdb[[#This Row],[THREAD_SZ]],PCdb[[#This Row],[THREAD_L]],PCdb[[#This Row],[NBR_HOLES]])","v":"66,738,146,3520,657NA4,8M4NANA4"},{"$f":"SUM(PCdb[[#This Row],[BDhit]:[THREAD_Lhit]])","v":5}]
[13,36.799999999999997,22,4,5,24,35.6,"NA","NA","NA","M3",3.5,4,3.5,36.200000000000003,"NA","NA","Y","B2",45,90,null,null,null,null,null,null,null,null,null,null,null,null,null,null,null,null,null,null,null,null,null,null,null,null,null,null,null,null,null,null,null,null,{"$f":"IF(AND(PCdb[[#This Row],[BCD]]>UIoptions!$S$10,PCdb[[#This Row],[BCD]]<UIoptions!$T$10),1,0)","v":0},{"$f":"IF(AND(PCdb[[#This Row],[PD]]>UIoptions!$S$11,PCdb[[#This Row],[PD]]<UIoptions!$T$11),1,0)","v":0},{"$f":"IF(AND(UIoptions!$P$14<=PCdb[[#This Row],[PL (MAX)]],UIoptions!$P$14>UIoptions!$S$14),1,0)","v":1},{"$f":"IF(AND(PCdb[[#This Row],[SD]]>UIoptions!$S$12,PCdb[[#This Row],[SD]]<UIoptions!$T$12),1,0)","v":0},{"$f":"IF(AND(PCdb[[#This Row],[SL]]>UIoptions!$S$13,PCdb[[#This Row],[SL]]<UIoptions!$T$13),1,0)","v":0},{"$f":"IF(UIoptions!$N$35=1,IF(AND(PCdb[[#This Row],[SQ_SZ]]>UIoptions!$S$15,PCdb[[#This Row],[SQ_SZ]]<UIoptions!$T$15),1,0),1)","v":0},{"$f":"IF(UIoptions!$N$35=2,IF(AND(PCdb[[#This Row],[ROUND_D]]>UIoptions!$S$15,PCdb[[#This Row],[ROUND_D]]<UIoptions!$T$15),1,0),1)","v":1},{"$f":"IF(UIoptions!$N$75<>1,1,IF(AND(PCdb[[#This Row],[FL]]>UIoptions!$S$16,PCdb[[#This Row],[FL]]<UIoptions!$T$16),1,0))","v":0},{"$f":"IF(OR(UIoptions!$Q$18=PCdb[[#This Row],[THRU_SCREW]],UIoptions!$Q$18=\"NA\"),1,0)","v":0},{"$f":"IF(OR(UIoptions!$P$19=PCdb[[#This Row],[THREAD_SZ]],UIoptions!$P$19=\"NA\"),1,0)","v":1},{"$f":"IF(UIoptions!$N$75=1,1,IF(AND(PCdb[[#This Row],[THREAD_L]]>UIoptions!$S$17,PCdb[[#This Row],[THREAD_L]]<UIoptions!$T$17),1,0))","v":1},{"$f":"IF(SUM(PCdb[[#This Row],[BDhit]:[THREAD_Lhit]])=11,1,0)","v":0},{"$f":"CONCATENATE(PCdb[[#This Row],[BCD]],PCdb[[#This Row],[PD]],PCdb[[#This Row],[PL (MAX)]],PCdb[[#This Row],[SD]],PCdb[[#This Row],[SL]],PCdb[[#This Row],[SQ_SZ]],PCdb[[#This Row],[ROUND_D]],PCdb[[#This Row],[FL]],PCdb[[#This Row],[THRU_SCREW]],PCdb[[#This Row],[THREAD_SZ]],PCdb[[#This Row],[THREAD_L]],PCdb[[#This Row],[NBR_HOLES]])","v":"36,822452435,6NANANAM33,54"},{"$f":"SUM(PCdb[[#This Row],[BDhit]:[THREAD_Lhit]])","v":4}]
[14,43.8,22,4,6,20,42,"NA","NA","NA","M3",4.5,4,3.5,38.700000000000003,"NA","NA","Y","B2",45,90,null,null,null,null,null,null,null,null,null,null,null,null,null,null,"NA","NA","NA","NA","NA","NA",null,null,null,null,null,null,null,null,null,null,null,null,{"$f":"IF(AND(PCdb[[#This Row],[BCD]]>UIoptions!$S$10,PCdb[[#This Row],[BCD]]<UIoptions!$T$10),1,0)","v":0},{"$f":"IF(AND(PCdb[[#This Row],[PD]]>UIoptions!$S$11,PCdb[[#This Row],[PD]]<UIoptions!$T$11),1,0)","v":0},{"$f":"IF(AND(UIoptions!$P$14<=PCdb[[#This Row],[PL (MAX)]],UIoptions!$P$14>UIoptions!$S$14),1,0)","v":1},{"$f":"IF(AND(PCdb[[#This Row],[SD]]>UIoptions!$S$12,PCdb[[#This Row],[SD]]<UIoptions!$T$12),1,0)","v":0},{"$f":"IF(AND(PCdb[[#This Row],[SL]]>UIoptions!$S$13,PCdb[[#This Row],[SL]]<UIoptions!$T$13),1,0)","v":1},{"$f":"IF(UIoptions!$N$35=1,IF(AND(PCdb[[#This Row],[SQ_SZ]]>UIoptions!$S$15,PCdb[[#This Row],[SQ_SZ]]<UIoptions!$T$15),1,0),1)","v":0},{"$f":"IF(UIoptions!$N$35=2,IF(AND(PCdb[[#This Row],[ROUND_D]]>UIoptions!$S$15,PCdb[[#This Row],[ROUND_D]]<UIoptions!$T$15),1,0),1)","v":1},{"$f":"IF(UIoptions!$N$75<>1,1,IF(AND(PCdb[[#This Row],[FL]]>UIoptions!$S$16,PCdb[[#This Row],[FL]]<UIoptions!$T$16),1,0))","v":0},{"$f":"IF(OR(UIoptions!$Q$18=PCdb[[#This Row],[THRU_SCREW]],UIoptions!$Q$18=\"NA\"),1,0)","v":0},{"$f":"IF(OR(UIoptions!$P$19=PCdb[[#This Row],[THREAD_SZ]],UIoptions!$P$19=\"NA\"),1,0)","v":1},{"$f":"IF(UIoptions!$N$75=1,1,IF(AND(PCdb[[#This Row],[THREAD_L]]>UIoptions!$S$17,PCdb[[#This Row],[THREAD_L]]<UIoptions!$T$17),1,0))","v":1},{"$f":"IF(SUM(PCdb[[#This Row],[BDhit]:[THREAD_Lhit]])=11,1,0)","v":0},{"$f":"CONCATENATE(PCdb[[#This Row],[BCD]],PCdb[[#This Row],[PD]],PCdb[[#This Row],[PL (MAX)]],PCdb[[#This Row],[SD]],PCdb[[#This Row],[SL]],PCdb[[#This Row],[SQ_SZ]],PCdb[[#This Row],[ROUND_D]],PCdb[[#This Row],[FL]],PCdb[[#This Row],[THRU_SCREW]],PCdb[[#This Row],[THREAD_SZ]],PCdb[[#This Row],[THREAD_L]],PCdb[[#This Row],[NBR_HOLES]])","v":"43,822462042NANANAM34,54"},{"$f":"SUM(PCdb[[#This Row],[BDhit]:[THREAD_Lhit]])","v":5}]
[15,46.7,20.02,4,6.35,25,40,"NA",4,"M3","NA","NA",4,"M3",null,null,null,null,null,null,null,null,null,null,null,null,null,null,null,null,null,null,null,null,null,null,null,null,null,null,null,null,null,null,null,null,null,null,null,null,null,null,null,{"$f":"IF(AND(PCdb[[#This Row],[BCD]]>UIoptions!$S$10,PCdb[[#This Row],[BCD]]<UIoptions!$T$10),1,0)","v":0},{"$f":"IF(AND(PCdb[[#This Row],[PD]]>UIoptions!$S$11,PCdb[[#This Row],[PD]]<UIoptions!$T$11),1,0)","v":0},{"$f":"IF(AND(UIoptions!$P$14<=PCdb[[#This Row],[PL (MAX)]],UIoptions!$P$14>UIoptions!$S$14),1,0)","v":1},{"$f":"IF(AND(PCdb[[#This Row],[SD]]>UIoptions!$S$12,PCdb[[#This Row],[SD]]<UIoptions!$T$12),1,0)","v":0},{"$f":"IF(AND(PCdb[[#This Row],[SL]]>UIoptions!$S$13,PCdb[[#This Row],[SL]]<UIoptions!$T$13),1,0)","v":0},{"$f":"IF(UIoptions!$N$35=1,IF(AND(PCdb[[#This Row],[SQ_SZ]]>UIoptions!$S$15,PCdb[[#This Row],[SQ_SZ]]<UIoptions!$T$15),1,0),1)","v":0},{"$f":"IF(UIoptions!$N$35=2,IF(AND(PCdb[[#This Row],[ROUND_D]]>UIoptions!$S$15,PCdb[[#This Row],[ROUND_D]]<UIoptions!$T$15),1,0),1)","v":1},{"$f":"IF(UIoptions!$N$75<>1,1,IF(AND(PCdb[[#This Row],[FL]]>UIoptions!$S$16,PCdb[[#This Row],[FL]]<UIoptions!$T$16),1,0))","v":0},{"$f":"IF(OR(UIoptions!$Q$18=PCdb[[#This Row],[THRU_SCREW]],UIoptions!$Q$18=\"NA\"),1,0)","v":0},{"$f":"IF(OR(UIoptions!$P$19=PCdb[[#This Row],[THREAD_SZ]],UIoptions!$P$19=\"NA\"),1,0)","v":1},{"$f":"IF(UIoptions!$N$75=1,1,IF(AND(PCdb[[#This Row],[THREAD_L]]>UIoptions!$S$17,PCdb[[#This Row],[THREAD_L]]<UIoptions!$T$17),1,0))","v":1},{"$f":"IF(SUM(PCdb[[#This Row],[BDhit]:[THREAD_Lhit]])=11,1,0)","v":0},{"$f":"CONCATENATE(PCdb[[#This Row],[BCD]],PCdb[[#This Row],[PD]],PCdb[[#This Row],[PL (MAX)]],PCdb[[#This Row],[SD]],PCdb[[#This Row],[SL]],PCdb[[#This Row],[SQ_SZ]],PCdb[[#This Row],[ROUND_D]],PCdb[[#This Row],[FL]],PCdb[[#This Row],[THRU_SCREW]],PCdb[[#This Row],[THREAD_SZ]],PCdb[[#This Row],[THREAD_L]],PCdb[[#This Row],[NBR_HOLES]])","v":"46,720,0246,352540NA4M3NANA4"},{"$f":"SUM(PCdb[[#This Row],[BDhit]:[THREAD_Lhit]])","v":4}]
[16,45,30,4,8,25,40,"NA",4,"M3","NA","NA",4,"M3",null,null,null,null,null,null,null,null,null,null,null,null,null,null,null,null,null,null,null,null,null,null,null,null,null,null,null,null,null,null,null,null,null,null,null,null,null,null,null,{"$f":"IF(AND(PCdb[[#This Row],[BCD]]>UIoptions!$S$10,PCdb[[#This Row],[BCD]]<UIoptions!$T$10),1,0)","v":0},{"$f":"IF(AND(PCdb[[#This Row],[PD]]>UIoptions!$S$11,PCdb[[#This Row],[PD]]<UIoptions!$T$11),1,0)","v":0},{"$f":"IF(AND(UIoptions!$P$14<=PCdb[[#This Row],[PL (MAX)]],UIoptions!$P$14>UIoptions!$S$14),1,0)","v":1},{"$f":"IF(AND(PCdb[[#This Row],[SD]]>UIoptions!$S$12,PCdb[[#This Row],[SD]]<UIoptions!$T$12),1,0)","v":0},{"$f":"IF(AND(PCdb[[#This Row],[SL]]>UIoptions!$S$13,PCdb[[#This Row],[SL]]<UIoptions!$T$13),1,0)","v":0},{"$f":"IF(UIoptions!$N$35=1,IF(AND(PCdb[[#This Row],[SQ_SZ]]>UIoptions!$S$15,PCdb[[#This Row],[SQ_SZ]]<UIoptions!$T$15),1,0),1)","v":0},{"$f":"IF(UIoptions!$N$35=2,IF(AND(PCdb[[#This Row],[ROUND_D]]>UIoptions!$S$15,PCdb[[#This Row],[ROUND_D]]<UIoptions!$T$15),1,0),1)","v":1},{"$f":"IF(UIoptions!$N$75<>1,1,IF(AND(PCdb[[#This Row],[FL]]>UIoptions!$S$16,PCdb[[#This Row],[FL]]<UIoptions!$T$16),1,0))","v":0},{"$f":"IF(OR(UIoptions!$Q$18=PCdb[[#This Row],[THRU_SCREW]],UIoptions!$Q$18=\"NA\"),1,0)","v":0},{"$f":"IF(OR(UIoptions!$P$19=PCdb[[#This Row],[THREAD_SZ]],UIoptions!$P$19=\"NA\"),1,0)","v":1},{"$f":"IF(UIoptions!$N$75=1,1,IF(AND(PCdb[[#This Row],[THREAD_L]]>UIoptions!$S$17,PCdb[[#This Row],[THREAD_L]]<UIoptions!$T$17),1,0))","v":1},{"$f":"IF(SUM(PCdb[[#This Row],[BDhit]:[THREAD_Lhit]])=11,1,0)","v":0},{"$f":"CONCATENATE(PCdb[[#This Row],[BCD]],PCdb[[#This Row],[PD]],PCdb[[#This Row],[PL (MAX)]],PCdb[[#This Row],[SD]],PCdb[[#This Row],[SL]],PCdb[[#This Row],[SQ_SZ]],PCdb[[#This Row],[ROUND_D]],PCdb[[#This Row],[FL]],PCdb[[#This Row],[THRU_SCREW]],PCdb[[#This Row],[THREAD_SZ]],PCdb[[#This Row],[THREAD_L]],PCdb[[#This Row],[NBR_HOLES]])","v":"4530482540NA4M3NANA4"},{"$f":"SUM(PCdb[[#This Row],[BDhit]:[THREAD_Lhit]])","v":4}]
[17,66.7,38.1,4,9.5299999999999994,31.8,58,"NA",7,"M4","NA","NA",4,"M4",36.200000000000003,23,0,"Y","B",45,90,null,null,null,null,null,null,null,null,null,null,null,null,null,null,22,"NA","Y","D",45,90,22,0,"Y","C",45,90,25,0,"Y","C",45,90,{"$f":"IF(AND(PCdb[[#This Row],[BCD]]>UIoptions!$S$10,PCdb[[#This Row],[BCD]]<UIoptions!$T$10),1,0)","v":0},{"$f":"IF(AND(PCdb[[#This Row],[PD]]>UIoptions!$S$11,PCdb[[#This Row],[PD]]<UIoptions!$T$11),1,0)","v":0},{"$f":"IF(AND(UIoptions!$P$14<=PCdb[[#This Row],[PL (MAX)]],UIoptions!$P$14>UIoptions!$S$14),1,0)","v":1},{"$f":"IF(AND(PCdb[[#This Row],[SD]]>UIoptions!$S$12,PCdb[[#This Row],[SD]]<UIoptions!$T$12),1,0)","v":0},{"$f":"IF(AND(PCdb[[#This Row],[SL]]>UIoptions!$S$13,PCdb[[#This Row],[SL]]<UIoptions!$T$13),1,0)","v":0},{"$f":"IF(UIoptions!$N$35=1,IF(AND(PCdb[[#This Row],[SQ_SZ]]>UIoptions!$S$15,PCdb[[#This Row],[SQ_SZ]]<UIoptions!$T$15),1,0),1)","v":1},{"$f":"IF(UIoptions!$N$35=2,IF(AND(PCdb[[#This Row],[ROUND_D]]>UIoptions!$S$15,PCdb[[#This Row],[ROUND_D]]<UIoptions!$T$15),1,0),1)","v":1},{"$f":"IF(UIoptions!$N$75<>1,1,IF(AND(PCdb[[#This Row],[FL]]>UIoptions!$S$16,PCdb[[#This Row],[FL]]<UIoptions!$T$16),1,0))","v":1},{"$f":"IF(OR(UIoptions!$Q$18=PCdb[[#This Row],[THRU_SCREW]],UIoptions!$Q$18=\"NA\"),1,0)","v":1},{"$f":"IF(OR(UIoptions!$P$19=PCdb[[#This Row],[THREAD_SZ]],UIoptions!$P$19=\"NA\"),1,0)","v":1},{"$f":"IF(UIoptions!$N$75=1,1,IF(AND(PCdb[[#This Row],[THREAD_L]]>UIoptions!$S$17,PCdb[[#This Row],[THREAD_L]]<UIoptions!$T$17),1,0))","v":1},{"$f":"IF(SUM(PCdb[[#This Row],[BDhit]:[THREAD_Lhit]])=11,1,0)","v":0},{"$f":"CONCATENATE(PCdb[[#This Row],[BCD]],PCdb[[#This Row],[PD]],PCdb[[#This Row],[PL (MAX)]],PCdb[[#This Row],[SD]],PCdb[[#This Row],[SL]],PCdb[[#This Row],[SQ_SZ]],PCdb[[#This Row],[ROUND_D]],PCdb[[#This Row],[FL]],PCdb[[#This Row],[THRU_SCREW]],PCdb[[#This Row],[THREAD_SZ]],PCdb[[#This Row],[THREAD_L]],PCdb[[#This Row],[NBR_HOLES]])","v":"66,738,149,5331,858NA7M4NANA4"},{"$f":"SUM(PCdb[[#This Row],[BDhit]:[THREAD_Lhit]])","v":7}]
[18,65,40,4,9,20,58,"NA",7,"M5","NA","NA",4,"M5",null,null,null,null,null,null,null,45.2,26,"NA","Y","B",45,90,null,null,null,null,null,null,null,null,null,null,null,null,null,25,0,"Y","C",45,90,null,null,null,null,null,null,{"$f":"IF(AND(PCdb[[#This Row],[BCD]]>UIoptions!$S$10,PCdb[[#This Row],[BCD]]<UIoptions!$T$10),1,0)","v":0},{"$f":"IF(AND(PCdb[[#This Row],[PD]]>UIoptions!$S$11,PCdb[[#This Row],[PD]]<UIoptions!$T$11),1,0)","v":1},{"$f":"IF(AND(UIoptions!$P$14<=PCdb[[#This Row],[PL (MAX)]],UIoptions!$P$14>UIoptions!$S$14),1,0)","v":1},{"$f":"IF(AND(PCdb[[#This Row],[SD]]>UIoptions!$S$12,PCdb[[#This Row],[SD]]<UIoptions!$T$12),1,0)","v":0},{"$f":"IF(AND(PCdb[[#This Row],[SL]]>UIoptions!$S$13,PCdb[[#This Row],[SL]]<UIoptions!$T$13),1,0)","v":1},{"$f":"IF(UIoptions!$N$35=1,IF(AND(PCdb[[#This Row],[SQ_SZ]]>UIoptions!$S$15,PCdb[[#This Row],[SQ_SZ]]<UIoptions!$T$15),1,0),1)","v":1},{"$f":"IF(UIoptions!$N$35=2,IF(AND(PCdb[[#This Row],[ROUND_D]]>UIoptions!$S$15,PCdb[[#This Row],[ROUND_D]]<UIoptions!$T$15),1,0),1)","v":1},{"$f":"IF(UIoptions!$N$75<>1,1,IF(AND(PCdb[[#This Row],[FL]]>UIoptions!$S$16,PCdb[[#This Row],[FL]]<UIoptions!$T$16),1,0))","v":1},{"$f":"IF(OR(UIoptions!$Q$18=PCdb[[#This Row],[THRU_SCREW]],UIoptions!$Q$18=\"NA\"),1,0)","v":0},{"$f":"IF(OR(UIoptions!$P$19=PCdb[[#This Row],[THREAD_SZ]],UIoptions!$P$19=\"NA\"),1,0)","v":1},{"$f":"IF(UIoptions!$N$75=1,1,IF(AND(PCdb[[#This Row],[THREAD_L]]>UIoptions!$S$17,PCdb[[#This Row],[THREAD_L]]<UIoptions!$T$17),1,0))","v":1},{"$f":"IF(SUM(PCdb[[#This Row],[BDhit]:[THREAD_Lhit]])=11,1,0)","v":0},{"$f":"CONCATENATE(PCdb[[#This Row],[BCD]],PCdb[[#This Row],[PD]],PCdb[[#This Row],[PL (MAX)]],PCdb[[#This Row],[SD]],PCdb[[#This Row],[SL]],PCdb[[#This Row],[SQ_SZ]],PCdb[[#This Row],[ROUND_D]],PCdb[[#This Row],[FL]],PCdb[[#This Row],[THRU_SCREW]],PCdb[[#This Row],[THREAD_SZ]],PCdb[[#This Row],[THREAD_L]],PCdb[[#This Row],[NBR_HOLES]])","v":"6540492058NA7M5NANA4"},{"$f":"SUM(PCdb[[#This Row],[BDhit]:[THREAD_Lhit]])","v":8}]
[19,66.7,38.1,4,9.5299999999999994,20.6,58,"NA",7,"M4","NA","NA",4,"M4",38.700000000000003,23,0,"Y","B",45,90,null,null,null,null,null,null,null,48.7,4,47,"Y","A",45,90,22,0,"Y","D",45,90,22,0,"Y","C",45,90,26,"NA","Y","C",45,90,{"$f":"IF(AND(PCdb[[#This Row],[BCD]]>UIoptions!$S$10,PCdb[[#This Row],[BCD]]<UIoptions!$T$10),1,0)","v":0},{"$f":"IF(AND(PCdb[[#This Row],[PD]]>UIoptions!$S$11,PCdb[[#This Row],[PD]]<UIoptions!$T$11),1,0)","v":0},{"$f":"IF(AND(UIoptions!$P$14<=PCdb[[#This Row],[PL (MAX)]],UIoptions!$P$14>UIoptions!$S$14),1,0)","v":1},{"$f":"IF(AND(PCdb[[#This Row],[SD]]>UIoptions!$S$12,PCdb[[#This Row],[SD]]<UIoptions!$T$12),1,0)","v":0},{"$f":"IF(AND(PCdb[[#This Row],[SL]]>UIoptions!$S$13,PCdb[[#This Row],[SL]]<UIoptions!$T$13),1,0)","v":0},{"$f":"IF(UIoptions!$N$35=1,IF(AND(PCdb[[#This Row],[SQ_SZ]]>UIoptions!$S$15,PCdb[[#This Row],[SQ_SZ]]<UIoptions!$T$15),1,0),1)","v":1},{"$f":"IF(UIoptions!$N$35=2,IF(AND(PCdb[[#This Row],[ROUND_D]]>UIoptions!$S$15,PCdb[[#This Row],[ROUND_D]]<UIoptions!$T$15),1,0),1)","v":1},{"$f":"IF(UIoptions!$N$75<>1,1,IF(AND(PCdb[[#This Row],[FL]]>UIoptions!$S$16,PCdb[[#This Row],[FL]]<UIoptions!$T$16),1,0))","v":1},{"$f":"IF(OR(UIoptions!$Q$18=PCdb[[#This Row],[THRU_SCREW]],UIoptions!$Q$18=\"NA\"),1,0)","v":1},{"$f":"IF(OR(UIoptions!$P$19=PCdb[[#This Row],[THREAD_SZ]],UIoptions!$P$19=\"NA\"),1,0)","v":1},{"$f":"IF(UIoptions!$N$75=1,1,IF(AND(PCdb[[#This Row],[THREAD_L]]>UIoptions!$S$17,PCdb[[#This Row],[THREAD_L]]<UIoptions!$T$17),1,0))","v":1},{"$f":"IF(SUM(PCdb[[#This Row],[BDhit]:[THREAD_Lhit]])=11,1,0)","v":0},{"$f":"CONCATENATE(PCdb[[#This Row],[BCD]],PCdb[[#This Row],[PD]],PCdb[[#This Row],[PL (MAX)]],PCdb[[#This Row],[SD]],PCdb[[#This Row],[SL]],PCdb[[#This Row],[SQ_SZ]],PCdb[[#This Row],[ROUND_D]],PCdb[[#This Row],[FL]],PCdb[[#This Row],[THRU_SCREW]],PCdb[[#This Row],[THREAD_SZ]],PCdb[[#This Row],[THREAD_L]],PCdb[[#This Row],[NBR_HOLES]])","v":"66,738,149,5320,658NA7M4NANA4"},{"$f":"SUM(PCdb[[#This Row],[BDhit]:[THREAD_Lhit]])","v":7}]
[20,85,60,4,14,30,70,"NA",6.9,"M5","NA","NA",4,"M5",null,null,null,null,null,null,null,null,null,null,null,null,null,null,null,null,null,null,null,null,null,null,null,null,null,null,null,32,0,"Y","D",45,90,32,0,"Y*","C",45,90,{"$f":"IF(AND(PCdb[[#This Row],[BCD]]>UIoptions!$S$10,PCdb[[#This Row],[BCD]]<UIoptions!$T$10),1,0)","v":0},{"$f":"IF(AND(PCdb[[#This Row],[PD]]>UIoptions!$S$11,PCdb[[#This Row],[PD]]<UIoptions!$T$11),1,0)","v":0},{"$f":"IF(AND(UIoptions!$P$14<=PCdb[[#This Row],[PL (MAX)]],UIoptions!$P$14>UIoptions!$S$14),1,0)","v":1},{"$f":"IF(AND(PCdb[[#This Row],[SD]]>UIoptions!$S$12,PCdb[[#This Row],[SD]]<UIoptions!$T$12),1,0)","v":0},{"$f":"IF(AND(PCdb[[#This Row],[SL]]>UIoptions!$S$13,PCdb[[#This Row],[SL]]<UIoptions!$T$13),1,0)","v":0},{"$f":"IF(UIoptions!$N$35=1,IF(AND(PCdb[[#This Row],[SQ_SZ]]>UIoptions!$S$15,PCdb[[#This Row],[SQ_SZ]]<UIoptions!$T$15),1,0),1)","v":0},{"$f":"IF(UIoptions!$N$35=2,IF(AND(PCdb[[#This Row],[ROUND_D]]>UIoptions!$S$15,PCdb[[#This Row],[ROUND_D]]<UIoptions!$T$15),1,0),1)","v":1},{"$f":"IF(UIoptions!$N$75<>1,1,IF(AND(PCdb[[#This Row],[FL]]>UIoptions!$S$16,PCdb[[#This Row],[FL]]<UIoptions!$T$16),1,0))","v":0},{"$f":"IF(OR(UIoptions!$Q$18=PCdb[[#This Row],[THRU_SCREW]],UIoptions!$Q$18=\"NA\"),1,0)","v":0},{"$f":"IF(OR(UIoptions!$P$19=PCdb[[#This Row],[THREAD_SZ]],UIoptions!$P$19=\"NA\"),1,0)","v":1},{"$f":"IF(UIoptions!$N$75=1,1,IF(AND(PCdb[[#This Row],[THREAD_L]]>UIoptions!$S$17,PCdb[[#This Row],[THREAD_L]]<UIoptions!$T$17),1,0))","v":1},{"$f":"IF(SUM(PCdb[[#This Row],[BDhit]:[THREAD_Lhit]])=11,1,0)","v":0},{"$f":"CONCATENATE(PCdb[[#This Row],[BCD]],PCdb[[#This Row],[PD]],PCdb[[#This Row],[PL (MAX)]],PCdb[[#This Row],[SD]],PCdb[[#This Row],[SL]],PCdb[[#This Row],[SQ_SZ]],PCdb[[#This Row],[ROUND_D]],PCdb[[#This Row],[FL]],PCdb[[#This Row],[THRU_SCREW]],PCdb[[#This Row],[THREAD_SZ]],PCdb[[#This Row],[THREAD_L]],PCdb[[#This Row],[NBR_HOLES]])","v":"85604143070NA6,9M5NANA4"},{"$f":"SUM(PCdb[[#This Row],[BDhit]:[THREAD_Lhit]])","v":4}]
[21,75,60,4,11,23,70,"NA",6.9,"M5","NA","NA",4,"M5",null,null,null,null,null,null,null,null,null,null,null,null,null,null,null,null,null,null,null,null,null,null,null,null,null,null,null,33,"NA","Y","D",45,90,null,null,null,null,null,null,{"$f":"IF(AND(PCdb[[#This Row],[BCD]]>UIoptions!$S$10,PCdb[[#This Row],[BCD]]<UIoptions!$T$10),1,0)","v":0},{"$f":"IF(AND(PCdb[[#This Row],[PD]]>UIoptions!$S$11,PCdb[[#This Row],[PD]]<UIoptions!$T$11),1,0)","v":0},{"$f":"IF(AND(UIoptions!$P$14<=PCdb[[#This Row],[PL (MAX)]],UIoptions!$P$14>UIoptions!$S$14),1,0)","v":1},{"$f":"IF(AND(PCdb[[#This Row],[SD]]>UIoptions!$S$12,PCdb[[#This Row],[SD]]<UIoptions!$T$12),1,0)","v":0},{"$f":"IF(AND(PCdb[[#This Row],[SL]]>UIoptions!$S$13,PCdb[[#This Row],[SL]]<UIoptions!$T$13),1,0)","v":0},{"$f":"IF(UIoptions!$N$35=1,IF(AND(PCdb[[#This Row],[SQ_SZ]]>UIoptions!$S$15,PCdb[[#This Row],[SQ_SZ]]<UIoptions!$T$15),1,0),1)","v":0},{"$f":"IF(UIoptions!$N$35=2,IF(AND(PCdb[[#This Row],[ROUND_D]]>UIoptions!$S$15,PCdb[[#This Row],[ROUND_D]]<UIoptions!$T$15),1,0),1)","v":1},{"$f":"IF(UIoptions!$N$75<>1,1,IF(AND(PCdb[[#This Row],[FL]]>UIoptions!$S$16,PCdb[[#This Row],[FL]]<UIoptions!$T$16),1,0))","v":0},{"$f":"IF(OR(UIoptions!$Q$18=PCdb[[#This Row],[THRU_SCREW]],UIoptions!$Q$18=\"NA\"),1,0)","v":0},{"$f":"IF(OR(UIoptions!$P$19=PCdb[[#This Row],[THREAD_SZ]],UIoptions!$P$19=\"NA\"),1,0)","v":1},{"$f":"IF(UIoptions!$N$75=1,1,IF(AND(PCdb[[#This Row],[THREAD_L]]>UIoptions!$S$17,PCdb[[#This Row],[THREAD_L]]<UIoptions!$T$17),1,0))","v":1},{"$f":"IF(SUM(PCdb[[#This Row],[BDhit]:[THREAD_Lhit]])=11,1,0)","v":0},{"$f":"CONCATENATE(PCdb[[#This Row],[BCD]],PCdb[[#This Row],[PD]],PCdb[[#This Row],[PL (MAX)]],PCdb[[#This Row],[SD]],PCdb[[#This Row],[SL]],PCdb[[#This Row],[SQ_SZ]],PCdb[[#This Row],[ROUND_D]],PCdb[[#This Row],[FL]],PCdb[[#This Row],[THRU_SCREW]],PCdb[[#This Row],[THREAD_SZ]],PCdb[[#This Row],[THREAD_L]],PCdb[[#This Row],[NBR_HOLES]])","v":"75604112370NA6,9M5NANA4"},{"$f":"SUM(PCdb[[#This Row],[BDhit]:[THREAD_Lhit]])","v":4}]
[22,98.4,73.03,4,12.7,31.8,84,"NA",8,"M5","NA","NA",4,"M5","NA","NA","NA","NA","NA","NA","NA",41.7,37.799999999999997,0,"Y","B",45,90,45.2,39,0,"Y","B",null,null,"NA","NA","NA","NA","NA","NA","NA","NA","NA","NA","NA","NA",39,0,"Y","D",45,90,{"$f":"IF(AND(PCdb[[#This Row],[BCD]]>UIoptions!$S$10,PCdb[[#This Row],[BCD]]<UIoptions!$T$10),1,0)","v":0},{"$f":"IF(AND(PCdb[[#This Row],[PD]]>UIoptions!$S$11,PCdb[[#This Row],[PD]]<UIoptions!$T$11),1,0)","v":0},{"$f":"IF(AND(UIoptions!$P$14<=PCdb[[#This Row],[PL (MAX)]],UIoptions!$P$14>UIoptions!$S$14),1,0)","v":1},{"$f":"IF(AND(PCdb[[#This Row],[SD]]>UIoptions!$S$12,PCdb[[#This Row],[SD]]<UIoptions!$T$12),1,0)","v":0},{"$f":"IF(AND(PCdb[[#This Row],[SL]]>UIoptions!$S$13,PCdb[[#This Row],[SL]]<UIoptions!$T$13),1,0)","v":0},{"$f":"IF(UIoptions!$N$35=1,IF(AND(PCdb[[#This Row],[SQ_SZ]]>UIoptions!$S$15,PCdb[[#This Row],[SQ_SZ]]<UIoptions!$T$15),1,0),1)","v":0},{"$f":"IF(UIoptions!$N$35=2,IF(AND(PCdb[[#This Row],[ROUND_D]]>UIoptions!$S$15,PCdb[[#This Row],[ROUND_D]]<UIoptions!$T$15),1,0),1)","v":1},{"$f":"IF(UIoptions!$N$75<>1,1,IF(AND(PCdb[[#This Row],[FL]]>UIoptions!$S$16,PCdb[[#This Row],[FL]]<UIoptions!$T$16),1,0))","v":0},{"$f":"IF(OR(UIoptions!$Q$18=PCdb[[#This Row],[THRU_SCREW]],UIoptions!$Q$18=\"NA\"),1,0)","v":0},{"$f":"IF(OR(UIoptions!$P$19=PCdb[[#This Row],[THREAD_SZ]],UIoptions!$P$19=\"NA\"),1,0)","v":1},{"$f":"IF(UIoptions!$N$75=1,1,IF(AND(PCdb[[#This Row],[THREAD_L]]>UIoptions!$S$17,PCdb[[#This Row],[THREAD_L]]<UIoptions!$T$17),1,0))","v":1},{"$f":"IF(SUM(PCdb[[#This Row],[BDhit]:[THREAD_Lhit]])=11,1,0)","v":0},{"$f":"CONCATENATE(PCdb[[#This Row],[BCD]],PCdb[[#This Row],[PD]],PCdb[[#This Row],[PL (MAX)]],PCdb[[#This Row],[SD]],PCdb[[#This Row],[SL]],PCdb[[#This Row],[SQ_SZ]],PCdb[[#This Row],[ROUND_D]],PCdb[[#This Row],[FL]],PCdb[[#This Row],[THRU_SCREW]],PCdb[[#This Row],[THREAD_SZ]],PCdb[[#This Row],[THREAD_L]],PCdb[[#This Row],[NBR_HOLES]])","v":"98,473,03412,731,884NA8M5NANA4"},{"$f":"SUM(PCdb[[#This Row],[BDhit]:[THREAD_Lhit]])","v":4}]
[23,90,60,4,14,30,84,"NA",8,"M5","NA","NA",4,"M5","NA","NA","NA","NA","NA","NA","NA",45.2,35,0,"Y","B",45,90,48.7,39,"NA","Y","B",45,90,"NA","NA","NA","NA","NA","NA","NA","NA","NA","NA","NA","NA",38,"NA","Y","D",45,90,{"$f":"IF(AND(PCdb[[#This Row],[BCD]]>UIoptions!$S$10,PCdb[[#This Row],[BCD]]<UIoptions!$T$10),1,0)","v":0},{"$f":"IF(AND(PCdb[[#This Row],[PD]]>UIoptions!$S$11,PCdb[[#This Row],[PD]]<UIoptions!$T$11),1,0)","v":0},{"$f":"IF(AND(UIoptions!$P$14<=PCdb[[#This Row],[PL (MAX)]],UIoptions!$P$14>UIoptions!$S$14),1,0)","v":1},{"$f":"IF(AND(PCdb[[#This Row],[SD]]>UIoptions!$S$12,PCdb[[#This Row],[SD]]<UIoptions!$T$12),1,0)","v":0},{"$f":"IF(AND(PCdb[[#This Row],[SL]]>UIoptions!$S$13,PCdb[[#This Row],[SL]]<UIoptions!$T$13),1,0)","v":0},{"$f":"IF(UIoptions!$N$35=1,IF(AND(PCdb[[#This Row],[SQ_SZ]]>UIoptions!$S$15,PCdb[[#This Row],[SQ_SZ]]<UIoptions!$T$15),1,0),1)","v":0},{"$f":"IF(UIoptions!$N$35=2,IF(AND(PCdb[[#This Row],[ROUND_D]]>UIoptions!$S$15,PCdb[[#This Row],[ROUND_D]]<UIoptions!$T$15),1,0),1)","v":1},{"$f":"IF(UIoptions!$N$75<>1,1,IF(AND(PCdb[[#This Row],[FL]]>UIoptions!$S$16,PCdb[[#This Row],[FL]]<UIoptions!$T$16),1,0))","v":0},{"$f":"IF(OR(UIoptions!$Q$18=PCdb[[#This Row],[THRU_SCREW]],UIoptions!$Q$18=\"NA\"),1,0)","v":0},{"$f":"IF(OR(UIoptions!$P$19=PCdb[[#This Row],[THREAD_SZ]],UIoptions!$P$19=\"NA\"),1,0)","v":1},{"$f":"IF(UIoptions!$N$75=1,1,IF(AND(PCdb[[#This Row],[THREAD_L]]>UIoptions!$S$17,PCdb[[#This Row],[THREAD_L]]<UIoptions!$T$17),1,0))","v":1},{"$f":"IF(SUM(PCdb[[#This Row],[BDhit]:[THREAD_Lhit]])=11,1,0)","v":0},{"$f":"CONCATENATE(PCdb[[#This Row],[BCD]],PCdb[[#This Row],[PD]],PCdb[[#This Row],[PL (MAX)]],PCdb[[#This Row],[SD]],PCdb[[#This Row],[SL]],PCdb[[#This Row],[SQ_SZ]],PCdb[[#This Row],[ROUND_D]],PCdb[[#This Row],[FL]],PCdb[[#This Row],[THRU_SCREW]],PCdb[[#This Row],[THREAD_SZ]],PCdb[[#This Row],[THREAD_L]],PCdb[[#This Row],[NBR_HOLES]])","v":"90604143084NA8M5NANA4"},{"$f":"SUM(PCdb[[#This Row],[BDhit]:[THREAD_Lhit]])","v":4}]
[24,90,70,4,16,40,84,"NA",8,"M6","NA","NA",4,"M6","NA","NA","NA","NA","NA","NA","NA",null,null,null,null,null,null,null,null,null,null,null,null,null,null,"NA","NA","NA","NA","NA","NA","NA","NA","NA","NA","NA","NA",38,0,"Y","D",45,90,{"$f":"IF(AND(PCdb[[#This Row],[BCD]]>UIoptions!$S$10,PCdb[[#This Row],[BCD]]<UIoptions!$T$10),1,0)","v":0},{"$f":"IF(AND(PCdb[[#This Row],[PD]]>UIoptions!$S$11,PCdb[[#This Row],[PD]]<UIoptions!$T$11),1,0)","v":0},{"$f":"IF(AND(UIoptions!$P$14<=PCdb[[#This Row],[PL (MAX)]],UIoptions!$P$14>UIoptions!$S$14),1,0)","v":1},{"$f":"IF(AND(PCdb[[#This Row],[SD]]>UIoptions!$S$12,PCdb[[#This Row],[SD]]<UIoptions!$T$12),1,0)","v":0},{"$f":"IF(AND(PCdb[[#This Row],[SL]]>UIoptions!$S$13,PCdb[[#This Row],[SL]]<UIoptions!$T$13),1,0)","v":0},{"$f":"IF(UIoptions!$N$35=1,IF(AND(PCdb[[#This Row],[SQ_SZ]]>UIoptions!$S$15,PCdb[[#This Row],[SQ_SZ]]<UIoptions!$T$15),1,0),1)","v":0},{"$f":"IF(UIoptions!$N$35=2,IF(AND(PCdb[[#This Row],[ROUND_D]]>UIoptions!$S$15,PCdb[[#This Row],[ROUND_D]]<UIoptions!$T$15),1,0),1)","v":1},{"$f":"IF(UIoptions!$N$75<>1,1,IF(AND(PCdb[[#This Row],[FL]]>UIoptions!$S$16,PCdb[[#This Row],[FL]]<UIoptions!$T$16),1,0))","v":0},{"$f":"IF(OR(UIoptions!$Q$18=PCdb[[#This Row],[THRU_SCREW]],UIoptions!$Q$18=\"NA\"),1,0)","v":0},{"$f":"IF(OR(UIoptions!$P$19=PCdb[[#This Row],[THREAD_SZ]],UIoptions!$P$19=\"NA\"),1,0)","v":1},{"$f":"IF(UIoptions!$N$75=1,1,IF(AND(PCdb[[#This Row],[THREAD_L]]>UIoptions!$S$17,PCdb[[#This Row],[THREAD_L]]<UIoptions!$T$17),1,0))","v":1},{"$f":"IF(SUM(PCdb[[#This Row],[BDhit]:[THREAD_Lhit]])=11,1,0)","v":0},{"$f":"CONCATENATE(PCdb[[#This Row],[BCD]],PCdb[[#This Row],[PD]],PCdb[[#This Row],[PL (MAX)]],PCdb[[#This Row],[SD]],PCdb[[#This Row],[SL]],PCdb[[#This Row],[SQ_SZ]],PCdb[[#This Row],[ROUND_D]],PCdb[[#This Row],[FL]],PCdb[[#This Row],[THRU_SCREW]],PCdb[[#This Row],[THREAD_SZ]],PCdb[[#This Row],[THREAD_L]],PCdb[[#This Row],[NBR_HOLES]])","v":"90704164084NA8M6NANA4"},{"$f":"SUM(PCdb[[#This Row],[BDhit]:[THREAD_Lhit]])","v":4}]
[25,70.7,36,4,11,28.5,58,"NA",6.1,"M4","NA","NA",4,"M4",36.200000000000003,23,0,"Y",null,45,90,45.2,26,0,"Y",null,null,null,48.7,4,48,"Y",null,null,null,"NA","NA","NA",null,null,null,20,0,"Y",null,null,null,20,0,"Y",null,null,null,{"$f":"IF(AND(PCdb[[#This Row],[BCD]]>UIoptions!$S$10,PCdb[[#This Row],[BCD]]<UIoptions!$T$10),1,0)","v":0},{"$f":"IF(AND(PCdb[[#This Row],[PD]]>UIoptions!$S$11,PCdb[[#This Row],[PD]]<UIoptions!$T$11),1,0)","v":0},{"$f":"IF(AND(UIoptions!$P$14<=PCdb[[#This Row],[PL (MAX)]],UIoptions!$P$14>UIoptions!$S$14),1,0)","v":1},{"$f":"IF(AND(PCdb[[#This Row],[SD]]>UIoptions!$S$12,PCdb[[#This Row],[SD]]<UIoptions!$T$12),1,0)","v":0},{"$f":"IF(AND(PCdb[[#This Row],[SL]]>UIoptions!$S$13,PCdb[[#This Row],[SL]]<UIoptions!$T$13),1,0)","v":0},{"$f":"IF(UIoptions!$N$35=1,IF(AND(PCdb[[#This Row],[SQ_SZ]]>UIoptions!$S$15,PCdb[[#This Row],[SQ_SZ]]<UIoptions!$T$15),1,0),1)","v":1},{"$f":"IF(UIoptions!$N$35=2,IF(AND(PCdb[[#This Row],[ROUND_D]]>UIoptions!$S$15,PCdb[[#This Row],[ROUND_D]]<UIoptions!$T$15),1,0),1)","v":1},{"$f":"IF(UIoptions!$N$75<>1,1,IF(AND(PCdb[[#This Row],[FL]]>UIoptions!$S$16,PCdb[[#This Row],[FL]]<UIoptions!$T$16),1,0))","v":0},{"$f":"IF(OR(UIoptions!$Q$18=PCdb[[#This Row],[THRU_SCREW]],UIoptions!$Q$18=\"NA\"),1,0)","v":1},{"$f":"IF(OR(UIoptions!$P$19=PCdb[[#This Row],[THREAD_SZ]],UIoptions!$P$19=\"NA\"),1,0)","v":1},{"$f":"IF(UIoptions!$N$75=1,1,IF(AND(PCdb[[#This Row],[THREAD_L]]>UIoptions!$S$17,PCdb[[#This Row],[THREAD_L]]<UIoptions!$T$17),1,0))","v":1},{"$f":"IF(SUM(PCdb[[#This Row],[BDhit]:[THREAD_Lhit]])=11,1,0)","v":0},{"$f":"CONCATENATE(PCdb[[#This Row],[BCD]],PCdb[[#This Row],[PD]],PCdb[[#This Row],[PL (MAX)]],PCdb[[#This Row],[SD]],PCdb[[#This Row],[SL]],PCdb[[#This Row],[SQ_SZ]],PCdb[[#This Row],[ROUND_D]],PCdb[[#This Row],[FL]],PCdb[[#This Row],[THRU_SCREW]],PCdb[[#This Row],[THREAD_SZ]],PCdb[[#This Row],[THREAD_L]],PCdb[[#This Row],[NBR_HOLES]])","v":"70,73641128,558NA6,1M4NANA4"},{"$f":"SUM(PCdb[[#This Row],[BDhit]:[THREAD_Lhit]])","v":6}]
[26,75,60,4,14,30,72,"NA",7,"M5","NA","NA",4,"M5","NA","NA","NA","NA","NA","NA","NA",45.2,32,0,"Y","B",45,90,48.7,32,0,"Y","B",45,90,"NA","NA","NA","NA",null,null,32.5,0,"Y","D",45,90,32.5,0,"Y","C",45,90,{"$f":"IF(AND(PCdb[[#This Row],[BCD]]>UIoptions!$S$10,PCdb[[#This Row],[BCD]]<UIoptions!$T$10),1,0)","v":0},{"$f":"IF(AND(PCdb[[#This Row],[PD]]>UIoptions!$S$11,PCdb[[#This Row],[PD]]<UIoptions!$T$11),1,0)","v":0},{"$f":"IF(AND(UIoptions!$P$14<=PCdb[[#This Row],[PL (MAX)]],UIoptions!$P$14>UIoptions!$S$14),1,0)","v":1},{"$f":"IF(AND(PCdb[[#This Row],[SD]]>UIoptions!$S$12,PCdb[[#This Row],[SD]]<UIoptions!$T$12),1,0)","v":0},{"$f":"IF(AND(PCdb[[#This Row],[SL]]>UIoptions!$S$13,PCdb[[#This Row],[SL]]<UIoptions!$T$13),1,0)","v":0},{"$f":"IF(UIoptions!$N$35=1,IF(AND(PCdb[[#This Row],[SQ_SZ]]>UIoptions!$S$15,PCdb[[#This Row],[SQ_SZ]]<UIoptions!$T$15),1,0),1)","v":0},{"$f":"IF(UIoptions!$N$35=2,IF(AND(PCdb[[#This Row],[ROUND_D]]>UIoptions!$S$15,PCdb[[#This Row],[ROUND_D]]<UIoptions!$T$15),1,0),1)","v":1},{"$f":"IF(UIoptions!$N$75<>1,1,IF(AND(PCdb[[#This Row],[FL]]>UIoptions!$S$16,PCdb[[#This Row],[FL]]<UIoptions!$T$16),1,0))","v":1},{"$f":"IF(OR(UIoptions!$Q$18=PCdb[[#This Row],[THRU_SCREW]],UIoptions!$Q$18=\"NA\"),1,0)","v":0},{"$f":"IF(OR(UIoptions!$P$19=PCdb[[#This Row],[THREAD_SZ]],UIoptions!$P$19=\"NA\"),1,0)","v":1},{"$f":"IF(UIoptions!$N$75=1,1,IF(AND(PCdb[[#This Row],[THREAD_L]]>UIoptions!$S$17,PCdb[[#This Row],[THREAD_L]]<UIoptions!$T$17),1,0))","v":1},{"$f":"IF(SUM(PCdb[[#This Row],[BDhit]:[THREAD_Lhit]])=11,1,0)","v":0},{"$f":"CONCATENATE(PCdb[[#This Row],[BCD]],PCdb[[#This Row],[PD]],PCdb[[#This Row],[PL (MAX)]],PCdb[[#This Row],[SD]],PCdb[[#This Row],[SL]],PCdb[[#This Row],[SQ_SZ]],PCdb[[#This Row],[ROUND_D]],PCdb[[#This Row],[FL]],PCdb[[#This Row],[THRU_SCREW]],PCdb[[#This Row],[THREAD_SZ]],PCdb[[#This Row],[THREAD_L]],PCdb[[#This Row],[NBR_HOLES]])","v":"75604143072NA7M5NANA4"},{"$f":"SUM(PCdb[[#This Row],[BDhit]:[THREAD_Lhit]])","v":5}]
[27,36,25,4,8,25,"NA",42,"NA","NA","M4",8,4,4.5,null,null,null,null,null,null,null,null,null,null,null,null,null,null,null,null,null,null,null,null,null,"NA","NA","Y","D2",null,null,null,null,null,null,null,null,null,null,null,null,null,null,{"$f":"IF(AND(PCdb[[#This Row],[BCD]]>UIoptions!$S$10,PCdb[[#This Row],[BCD]]<UIoptions!$T$10),1,0)","v":0},{"$f":"IF(AND(PCdb[[#This Row],[PD]]>UIoptions!$S$11,PCdb[[#This Row],[PD]]<UIoptions!$T$11),1,0)","v":0},{"$f":"IF(AND(UIoptions!$P$14<=PCdb[[#This Row],[PL (MAX)]],UIoptions!$P$14>UIoptions!$S$14),1,0)","v":1},{"$f":"IF(AND(PCdb[[#This Row],[SD]]>UIoptions!$S$12,PCdb[[#This Row],[SD]]<UIoptions!$T$12),1,0)","v":0},{"$f":"IF(AND(PCdb[[#This Row],[SL]]>UIoptions!$S$13,PCdb[[#This Row],[SL]]<UIoptions!$T$13),1,0)","v":0},{"$f":"IF(UIoptions!$N$35=1,IF(AND(PCdb[[#This Row],[SQ_SZ]]>UIoptions!$S$15,PCdb[[#This Row],[SQ_SZ]]<UIoptions!$T$15),1,0),1)","v":0},{"$f":"IF(UIoptions!$N$35=2,IF(AND(PCdb[[#This Row],[ROUND_D]]>UIoptions!$S$15,PCdb[[#This Row],[ROUND_D]]<UIoptions!$T$15),1,0),1)","v":1},{"$f":"IF(UIoptions!$N$75<>1,1,IF(AND(PCdb[[#This Row],[FL]]>UIoptions!$S$16,PCdb[[#This Row],[FL]]<UIoptions!$T$16),1,0))","v":0},{"$f":"IF(OR(UIoptions!$Q$18=PCdb[[#This Row],[THRU_SCREW]],UIoptions!$Q$18=\"NA\"),1,0)","v":0},{"$f":"IF(OR(UIoptions!$P$19=PCdb[[#This Row],[THREAD_SZ]],UIoptions!$P$19=\"NA\"),1,0)","v":1},{"$f":"IF(UIoptions!$N$75=1,1,IF(AND(PCdb[[#This Row],[THREAD_L]]>UIoptions!$S$17,PCdb[[#This Row],[THREAD_L]]<UIoptions!$T$17),1,0))","v":1},{"$f":"IF(SUM(PCdb[[#This Row],[BDhit]:[THREAD_Lhit]])=11,1,0)","v":0},{"$f":"CONCATENATE(PCdb[[#This Row],[BCD]],PCdb[[#This Row],[PD]],PCdb[[#This Row],[PL (MAX)]],PCdb[[#This Row],[SD]],PCdb[[#This Row],[SL]],PCdb[[#This Row],[SQ_SZ]],PCdb[[#This Row],[ROUND_D]],PCdb[[#This Row],[FL]],PCdb[[#This Row],[THRU_SCREW]],PCdb[[#This Row],[THREAD_SZ]],PCdb[[#This Row],[THREAD_L]],PCdb[[#This Row],[NBR_HOLES]])","v":"36254825NA42NANAM484"},{"$f":"SUM(PCdb[[#This Row],[BDhit]:[THREAD_Lhit]])","v":4}]
[28,66.7,38.1,4,6.35,20,56.4,"NA",5,"M4","NA","NA",4,"M4",38.700000000000003,25,0,"Y","B",45,90,null,null,null,null,null,null,null,null,null,null,null,null,null,null,25,0,"Y*","D",45,90,null,null,null,null,null,null,null,null,null,null,null,null,{"$f":"IF(AND(PCdb[[#This Row],[BCD]]>UIoptions!$S$10,PCdb[[#This Row],[BCD]]<UIoptions!$T$10),1,0)","v":0},{"$f":"IF(AND(PCdb[[#This Row],[PD]]>UIoptions!$S$11,PCdb[[#This Row],[PD]]<UIoptions!$T$11),1,0)","v":0},{"$f":"IF(AND(UIoptions!$P$14<=PCdb[[#This Row],[PL (MAX)]],UIoptions!$P$14>UIoptions!$S$14),1,0)","v":1},{"$f":"IF(AND(PCdb[[#This Row],[SD]]>UIoptions!$S$12,PCdb[[#This Row],[SD]]<UIoptions!$T$12),1,0)","v":0},{"$f":"IF(AND(PCdb[[#This Row],[SL]]>UIoptions!$S$13,PCdb[[#This Row],[SL]]<UIoptions!$T$13),1,0)","v":1},{"$f":"IF(UIoptions!$N$35=1,IF(AND(PCdb[[#This Row],[SQ_SZ]]>UIoptions!$S$15,PCdb[[#This Row],[SQ_SZ]]<UIoptions!$T$15),1,0),1)","v":0},{"$f":"IF(UIoptions!$N$35=2,IF(AND(PCdb[[#This Row],[ROUND_D]]>UIoptions!$S$15,PCdb[[#This Row],[ROUND_D]]<UIoptions!$T$15),1,0),1)","v":1},{"$f":"IF(UIoptions!$N$75<>1,1,IF(AND(PCdb[[#This Row],[FL]]>UIoptions!$S$16,PCdb[[#This Row],[FL]]<UIoptions!$T$16),1,0))","v":0},{"$f":"IF(OR(UIoptions!$Q$18=PCdb[[#This Row],[THRU_SCREW]],UIoptions!$Q$18=\"NA\"),1,0)","v":1},{"$f":"IF(OR(UIoptions!$P$19=PCdb[[#This Row],[THREAD_SZ]],UIoptions!$P$19=\"NA\"),1,0)","v":1},{"$f":"IF(UIoptions!$N$75=1,1,IF(AND(PCdb[[#This Row],[THREAD_L]]>UIoptions!$S$17,PCdb[[#This Row],[THREAD_L]]<UIoptions!$T$17),1,0))","v":1},{"$f":"IF(SUM(PCdb[[#This Row],[BDhit]:[THREAD_Lhit]])=11,1,0)","v":0},{"$f":"CONCATENATE(PCdb[[#This Row],[BCD]],PCdb[[#This Row],[PD]],PCdb[[#This Row],[PL (MAX)]],PCdb[[#This Row],[SD]],PCdb[[#This Row],[SL]],PCdb[[#This Row],[SQ_SZ]],PCdb[[#This Row],[ROUND_D]],PCdb[[#This Row],[FL]],PCdb[[#This Row],[THRU_SCREW]],PCdb[[#This Row],[THREAD_SZ]],PCdb[[#This Row],[THREAD_L]],PCdb[[#This Row],[NBR_HOLES]])","v":"66,738,146,352056,4NA5M4NANA4"},{"$f":"SUM(PCdb[[#This Row],[BDhit]:[THREAD_Lhit]])","v":6}]
[29,98.4,73,4,12.7,37,85.8,"NA",10,"M6","NA","NA",4,"M6",null,null,null,null,null,null,null,45.2,38,0,"Y","B",45,90,48.7,39,"NA","Y","B",45,90,null,null,null,null,null,null,null,null,null,null,null,null,null,null,null,null,null,null,{"$f":"IF(AND(PCdb[[#This Row],[BCD]]>UIoptions!$S$10,PCdb[[#This Row],[BCD]]<UIoptions!$T$10),1,0)","v":0},{"$f":"IF(AND(PCdb[[#This Row],[PD]]>UIoptions!$S$11,PCdb[[#This Row],[PD]]<UIoptions!$T$11),1,0)","v":0},{"$f":"IF(AND(UIoptions!$P$14<=PCdb[[#This Row],[PL (MAX)]],UIoptions!$P$14>UIoptions!$S$14),1,0)","v":1},{"$f":"IF(AND(PCdb[[#This Row],[SD]]>UIoptions!$S$12,PCdb[[#This Row],[SD]]<UIoptions!$T$12),1,0)","v":0},{"$f":"IF(AND(PCdb[[#This Row],[SL]]>UIoptions!$S$13,PCdb[[#This Row],[SL]]<UIoptions!$T$13),1,0)","v":0},{"$f":"IF(UIoptions!$N$35=1,IF(AND(PCdb[[#This Row],[SQ_SZ]]>UIoptions!$S$15,PCdb[[#This Row],[SQ_SZ]]<UIoptions!$T$15),1,0),1)","v":0},{"$f":"IF(UIoptions!$N$35=2,IF(AND(PCdb[[#This Row],[ROUND_D]]>UIoptions!$S$15,PCdb[[#This Row],[ROUND_D]]<UIoptions!$T$15),1,0),1)","v":1},{"$f":"IF(UIoptions!$N$75<>1,1,IF(AND(PCdb[[#This Row],[FL]]>UIoptions!$S$16,PCdb[[#This Row],[FL]]<UIoptions!$T$16),1,0))","v":0},{"$f":"IF(OR(UIoptions!$Q$18=PCdb[[#This Row],[THRU_SCREW]],UIoptions!$Q$18=\"NA\"),1,0)","v":0},{"$f":"IF(OR(UIoptions!$P$19=PCdb[[#This Row],[THREAD_SZ]],UIoptions!$P$19=\"NA\"),1,0)","v":1},{"$f":"IF(UIoptions!$N$75=1,1,IF(AND(PCdb[[#This Row],[THREAD_L]]>UIoptions!$S$17,PCdb[[#This Row],[THREAD_L]]<UIoptions!$T$17),1,0))","v":1},{"$f":"IF(SUM(PCdb[[#This Row],[BDhit]:[THREAD_Lhit]])=11,1,0)","v":0},{"$f":"CONCATENATE(PCdb[[#This Row],[BCD]],PCdb[[#This Row],[PD]],PCdb[[#This Row],[PL (MAX)]],PCdb[[#This Row],[SD]],PCdb[[#This Row],[SL]],PCdb[[#This Row],[SQ_SZ]],PCdb[[#This Row],[ROUND_D]],PCdb[[#This Row],[FL]],PCdb[[#This Row],[THRU_SCREW]],PCdb[[#This Row],[THREAD_SZ]],PCdb[[#This Row],[THREAD_L]],PCdb[[#This Row],[NBR_HOLES]])","v":"98,473412,73785,8NA10M6NANA4"},{"$f":"SUM(PCdb[[#This Row],[BDhit]:[THREAD_Lhit]])","v":4}]
[30,66.7,38.1,4,9.5,30.7,57.7,"NA",7.5,"M4","NA","NA",4,"M4",38.700000000000003,22,"NA","Y","B",45,90,null,null,null,null,null,null,null,null,null,null,null,null,null,null,22,0,"Y","D",45,90,null,null,null,null,null,null,null,null,null,null,null,null,{"$f":"IF(AND(PCdb[[#This Row],[BCD]]>UIoptions!$S$10,PCdb[[#This Row],[BCD]]<UIoptions!$T$10),1,0)","v":0},{"$f":"IF(AND(PCdb[[#This Row],[PD]]>UIoptions!$S$11,PCdb[[#This Row],[PD]]<UIoptions!$T$11),1,0)","v":0},{"$f":"IF(AND(UIoptions!$P$14<=PCdb[[#This Row],[PL (MAX)]],UIoptions!$P$14>UIoptions!$S$14),1,0)","v":1},{"$f":"IF(AND(PCdb[[#This Row],[SD]]>UIoptions!$S$12,PCdb[[#This Row],[SD]]<UIoptions!$T$12),1,0)","v":0},{"$f":"IF(AND(PCdb[[#This Row],[SL]]>UIoptions!$S$13,PCdb[[#This Row],[SL]]<UIoptions!$T$13),1,0)","v":0},{"$f":"IF(UIoptions!$N$35=1,IF(AND(PCdb[[#This Row],[SQ_SZ]]>UIoptions!$S$15,PCdb[[#This Row],[SQ_SZ]]<UIoptions!$T$15),1,0),1)","v":0},{"$f":"IF(UIoptions!$N$35=2,IF(AND(PCdb[[#This Row],[ROUND_D]]>UIoptions!$S$15,PCdb[[#This Row],[ROUND_D]]<UIoptions!$T$15),1,0),1)","v":1},{"$f":"IF(UIoptions!$N$75<>1,1,IF(AND(PCdb[[#This Row],[FL]]>UIoptions!$S$16,PCdb[[#This Row],[FL]]<UIoptions!$T$16),1,0))","v":0},{"$f":"IF(OR(UIoptions!$Q$18=PCdb[[#This Row],[THRU_SCREW]],UIoptions!$Q$18=\"NA\"),1,0)","v":1},{"$f":"IF(OR(UIoptions!$P$19=PCdb[[#This Row],[THREAD_SZ]],UIoptions!$P$19=\"NA\"),1,0)","v":1},{"$f":"IF(UIoptions!$N$75=1,1,IF(AND(PCdb[[#This Row],[THREAD_L]]>UIoptions!$S$17,PCdb[[#This Row],[THREAD_L]]<UIoptions!$T$17),1,0))","v":1},{"$f":"IF(SUM(PCdb[[#This Row],[BDhit]:[THREAD_Lhit]])=11,1,0)","v":0},{"$f":"CONCATENATE(PCdb[[#This Row],[BCD]],PCdb[[#This Row],[PD]],PCdb[[#This Row],[PL (MAX)]],PCdb[[#This Row],[SD]],PCdb[[#This Row],[SL]],PCdb[[#This Row],[SQ_SZ]],PCdb[[#This Row],[ROUND_D]],PCdb[[#This Row],[FL]],PCdb[[#This Row],[THRU_SCREW]],PCdb[[#This Row],[THREAD_SZ]],PCdb[[#This Row],[THREAD_L]],PCdb[[#This Row],[NBR_HOLES]])","v":"66,738,149,530,757,7NA7,5M4NANA4"},{"$f":"SUM(PCdb[[#This Row],[BDhit]:[THREAD_Lhit]])","v":5}]
[31,75,60,4,11,23.5,65.2,"NA",7.5,"M5","NA","NA",4,"M5",null,null,null,null,null,null,null,null,null,null,null,null,null,null,null,null,null,null,null,null,null,null,null,null,null,null,null,null,null,null,null,null,null,null,null,null,null,null,null,{"$f":"IF(AND(PCdb[[#This Row],[BCD]]>UIoptions!$S$10,PCdb[[#This Row],[BCD]]<UIoptions!$T$10),1,0)","v":0},{"$f":"IF(AND(PCdb[[#This Row],[PD]]>UIoptions!$S$11,PCdb[[#This Row],[PD]]<UIoptions!$T$11),1,0)","v":0},{"$f":"IF(AND(UIoptions!$P$14<=PCdb[[#This Row],[PL (MAX)]],UIoptions!$P$14>UIoptions!$S$14),1,0)","v":1},{"$f":"IF(AND(PCdb[[#This Row],[SD]]>UIoptions!$S$12,PCdb[[#This Row],[SD]]<UIoptions!$T$12),1,0)","v":0},{"$f":"IF(AND(PCdb[[#This Row],[SL]]>UIoptions!$S$13,PCdb[[#This Row],[SL]]<UIoptions!$T$13),1,0)","v":0},{"$f":"IF(UIoptions!$N$35=1,IF(AND(PCdb[[#This Row],[SQ_SZ]]>UIoptions!$S$15,PCdb[[#This Row],[SQ_SZ]]<UIoptions!$T$15),1,0),1)","v":0},{"$f":"IF(UIoptions!$N$35=2,IF(AND(PCdb[[#This Row],[ROUND_D]]>UIoptions!$S$15,PCdb[[#This Row],[ROUND_D]]<UIoptions!$T$15),1,0),1)","v":1},{"$f":"IF(UIoptions!$N$75<>1,1,IF(AND(PCdb[[#This Row],[FL]]>UIoptions!$S$16,PCdb[[#This Row],[FL]]<UIoptions!$T$16),1,0))","v":0},{"$f":"IF(OR(UIoptions!$Q$18=PCdb[[#This Row],[THRU_SCREW]],UIoptions!$Q$18=\"NA\"),1,0)","v":0},{"$f":"IF(OR(UIoptions!$P$19=PCdb[[#This Row],[THREAD_SZ]],UIoptions!$P$19=\"NA\"),1,0)","v":1},{"$f":"IF(UIoptions!$N$75=1,1,IF(AND(PCdb[[#This Row],[THREAD_L]]>UIoptions!$S$17,PCdb[[#This Row],[THREAD_L]]<UIoptions!$T$17),1,0))","v":1},{"$f":"IF(SUM(PCdb[[#This Row],[BDhit]:[THREAD_Lhit]])=11,1,0)","v":0},{"$f":"CONCATENATE(PCdb[[#This Row],[BCD]],PCdb[[#This Row],[PD]],PCdb[[#This Row],[PL (MAX)]],PCdb[[#This Row],[SD]],PCdb[[#This Row],[SL]],PCdb[[#This Row],[SQ_SZ]],PCdb[[#This Row],[ROUND_D]],PCdb[[#This Row],[FL]],PCdb[[#This Row],[THRU_SCREW]],PCdb[[#This Row],[THREAD_SZ]],PCdb[[#This Row],[THREAD_L]],PCdb[[#This Row],[NBR_HOLES]])","v":"756041123,565,2NA7,5M5NANA4"},{"$f":"SUM(PCdb[[#This Row],[BDhit]:[THREAD_Lhit]])","v":4}]
[32,100,80,4,14,30,92,"NA",7.5,"M6","NA","NA",4,"M6",null,null,null,null,null,null,null,null,null,null,null,null,null,null,null,null,null,null,null,null,null,null,null,null,null,null,null,null,null,null,null,null,null,null,null,null,null,null,null,{"$f":"IF(AND(PCdb[[#This Row],[BCD]]>UIoptions!$S$10,PCdb[[#This Row],[BCD]]<UIoptions!$T$10),1,0)","v":0},{"$f":"IF(AND(PCdb[[#This Row],[PD]]>UIoptions!$S$11,PCdb[[#This Row],[PD]]<UIoptions!$T$11),1,0)","v":0},{"$f":"IF(AND(UIoptions!$P$14<=PCdb[[#This Row],[PL (MAX)]],UIoptions!$P$14>UIoptions!$S$14),1,0)","v":1},{"$f":"IF(AND(PCdb[[#This Row],[SD]]>UIoptions!$S$12,PCdb[[#This Row],[SD]]<UIoptions!$T$12),1,0)","v":0},{"$f":"IF(AND(PCdb[[#This Row],[SL]]>UIoptions!$S$13,PCdb[[#This Row],[SL]]<UIoptions!$T$13),1,0)","v":0},{"$f":"IF(UIoptions!$N$35=1,IF(AND(PCdb[[#This Row],[SQ_SZ]]>UIoptions!$S$15,PCdb[[#This Row],[SQ_SZ]]<UIoptions!$T$15),1,0),1)","v":0},{"$f":"IF(UIoptions!$N$35=2,IF(AND(PCdb[[#This Row],[ROUND_D]]>UIoptions!$S$15,PCdb[[#This Row],[ROUND_D]]<UIoptions!$T$15),1,0),1)","v":1},{"$f":"IF(UIoptions!$N$75<>1,1,IF(AND(PCdb[[#This Row],[FL]]>UIoptions!$S$16,PCdb[[#This Row],[FL]]<UIoptions!$T$16),1,0))","v":0},{"$f":"IF(OR(UIoptions!$Q$18=PCdb[[#This Row],[THRU_SCREW]],UIoptions!$Q$18=\"NA\"),1,0)","v":0},{"$f":"IF(OR(UIoptions!$P$19=PCdb[[#This Row],[THREAD_SZ]],UIoptions!$P$19=\"NA\"),1,0)","v":1},{"$f":"IF(UIoptions!$N$75=1,1,IF(AND(PCdb[[#This Row],[THREAD_L]]>UIoptions!$S$17,PCdb[[#This Row],[THREAD_L]]<UIoptions!$T$17),1,0))","v":1},{"$f":"IF(SUM(PCdb[[#This Row],[BDhit]:[THREAD_Lhit]])=11,1,0)","v":0},{"$f":"CONCATENATE(PCdb[[#This Row],[BCD]],PCdb[[#This Row],[PD]],PCdb[[#This Row],[PL (MAX)]],PCdb[[#This Row],[SD]],PCdb[[#This Row],[SL]],PCdb[[#This Row],[SQ_SZ]],PCdb[[#This Row],[ROUND_D]],PCdb[[#This Row],[FL]],PCdb[[#This Row],[THRU_SCREW]],PCdb[[#This Row],[THREAD_SZ]],PCdb[[#This Row],[THREAD_L]],PCdb[[#This Row],[NBR_HOLES]])","v":"100804143092NA7,5M6NANA4"},{"$f":"SUM(PCdb[[#This Row],[BDhit]:[THREAD_Lhit]])","v":4}]
[33,70,50,4,9,25,60,"NA",6,"M5","NA","NA",4,"M5",null,null,null,null,null,null,null,null,null,null,null,null,null,null,null,null,null,null,null,null,null,27,0,"Y","D",45,90,null,null,null,null,null,null,null,null,null,null,null,null,{"$f":"IF(AND(PCdb[[#This Row],[BCD]]>UIoptions!$S$10,PCdb[[#This Row],[BCD]]<UIoptions!$T$10),1,0)","v":0},{"$f":"IF(AND(PCdb[[#This Row],[PD]]>UIoptions!$S$11,PCdb[[#This Row],[PD]]<UIoptions!$T$11),1,0)","v":0},{"$f":"IF(AND(UIoptions!$P$14<=PCdb[[#This Row],[PL (MAX)]],UIoptions!$P$14>UIoptions!$S$14),1,0)","v":1},{"$f":"IF(AND(PCdb[[#This Row],[SD]]>UIoptions!$S$12,PCdb[[#This Row],[SD]]<UIoptions!$T$12),1,0)","v":0},{"$f":"IF(AND(PCdb[[#This Row],[SL]]>UIoptions!$S$13,PCdb[[#This Row],[SL]]<UIoptions!$T$13),1,0)","v":0},{"$f":"IF(UIoptions!$N$35=1,IF(AND(PCdb[[#This Row],[SQ_SZ]]>UIoptions!$S$15,PCdb[[#This Row],[SQ_SZ]]<UIoptions!$T$15),1,0),1)","v":0},{"$f":"IF(UIoptions!$N$35=2,IF(AND(PCdb[[#This Row],[ROUND_D]]>UIoptions!$S$15,PCdb[[#This Row],[ROUND_D]]<UIoptions!$T$15),1,0),1)","v":1},{"$f":"IF(UIoptions!$N$75<>1,1,IF(AND(PCdb[[#This Row],[FL]]>UIoptions!$S$16,PCdb[[#This Row],[FL]]<UIoptions!$T$16),1,0))","v":0},{"$f":"IF(OR(UIoptions!$Q$18=PCdb[[#This Row],[THRU_SCREW]],UIoptions!$Q$18=\"NA\"),1,0)","v":0},{"$f":"IF(OR(UIoptions!$P$19=PCdb[[#This Row],[THREAD_SZ]],UIoptions!$P$19=\"NA\"),1,0)","v":1},{"$f":"IF(UIoptions!$N$75=1,1,IF(AND(PCdb[[#This Row],[THREAD_L]]>UIoptions!$S$17,PCdb[[#This Row],[THREAD_L]]<UIoptions!$T$17),1,0))","v":1},{"$f":"IF(SUM(PCdb[[#This Row],[BDhit]:[THREAD_Lhit]])=11,1,0)","v":0},{"$f":"CONCATENATE(PCdb[[#This Row],[BCD]],PCdb[[#This Row],[PD]],PCdb[[#This Row],[PL (MAX)]],PCdb[[#This Row],[SD]],PCdb[[#This Row],[SL]],PCdb[[#This Row],[SQ_SZ]],PCdb[[#This Row],[ROUND_D]],PCdb[[#This Row],[FL]],PCdb[[#This Row],[THRU_SCREW]],PCdb[[#This Row],[THREAD_SZ]],PCdb[[#This Row],[THREAD_L]],PCdb[[#This Row],[NBR_HOLES]])","v":"7050492560NA6M5NANA4"},{"$f":"SUM(PCdb[[#This Row],[BDhit]:[THREAD_Lhit]])","v":4}]
[34,66.7,38.200000000000003,4,6.35,20,57.7,"NA",6,"M4","NA","NA",4,"M4",38.700000000000003,22,0,"Y","B",45,90,null,null,null,null,null,null,null,null,null,null,null,null,null,null,null,null,null,null,null,null,null,null,null,null,null,null,null,null,null,null,null,null,{"$f":"IF(AND(PCdb[[#This Row],[BCD]]>UIoptions!$S$10,PCdb[[#This Row],[BCD]]<UIoptions!$T$10),1,0)","v":0},{"$f":"IF(AND(PCdb[[#This Row],[PD]]>UIoptions!$S$11,PCdb[[#This Row],[PD]]<UIoptions!$T$11),1,0)","v":0},{"$f":"IF(AND(UIoptions!$P$14<=PCdb[[#This Row],[PL (MAX)]],UIoptions!$P$14>UIoptions!$S$14),1,0)","v":1},{"$f":"IF(AND(PCdb[[#This Row],[SD]]>UIoptions!$S$12,PCdb[[#This Row],[SD]]<UIoptions!$T$12),1,0)","v":0},{"$f":"IF(AND(PCdb[[#This Row],[SL]]>UIoptions!$S$13,PCdb[[#This Row],[SL]]<UIoptions!$T$13),1,0)","v":1},{"$f":"IF(UIoptions!$N$35=1,IF(AND(PCdb[[#This Row],[SQ_SZ]]>UIoptions!$S$15,PCdb[[#This Row],[SQ_SZ]]<UIoptions!$T$15),1,0),1)","v":0},{"$f":"IF(UIoptions!$N$35=2,IF(AND(PCdb[[#This Row],[ROUND_D]]>UIoptions!$S$15,PCdb[[#This Row],[ROUND_D]]<UIoptions!$T$15),1,0),1)","v":1},{"$f":"IF(UIoptions!$N$75<>1,1,IF(AND(PCdb[[#This Row],[FL]]>UIoptions!$S$16,PCdb[[#This Row],[FL]]<UIoptions!$T$16),1,0))","v":0},{"$f":"IF(OR(UIoptions!$Q$18=PCdb[[#This Row],[THRU_SCREW]],UIoptions!$Q$18=\"NA\"),1,0)","v":1},{"$f":"IF(OR(UIoptions!$P$19=PCdb[[#This Row],[THREAD_SZ]],UIoptions!$P$19=\"NA\"),1,0)","v":1},{"$f":"IF(UIoptions!$N$75=1,1,IF(AND(PCdb[[#This Row],[THREAD_L]]>UIoptions!$S$17,PCdb[[#This Row],[THREAD_L]]<UIoptions!$T$17),1,0))","v":1},{"$f":"IF(SUM(PCdb[[#This Row],[BDhit]:[THREAD_Lhit]])=11,1,0)","v":0},{"$f":"CONCATENATE(PCdb[[#This Row],[BCD]],PCdb[[#This Row],[PD]],PCdb[[#This Row],[PL (MAX)]],PCdb[[#This Row],[SD]],PCdb[[#This Row],[SL]],PCdb[[#This Row],[SQ_SZ]],PCdb[[#This Row],[ROUND_D]],PCdb[[#This Row],[FL]],PCdb[[#This Row],[THRU_SCREW]],PCdb[[#This Row],[THREAD_SZ]],PCdb[[#This Row],[THREAD_L]],PCdb[[#This Row],[NBR_HOLES]])","v":"66,738,246,352057,7NA6M4NANA4"},{"$f":"SUM(PCdb[[#This Row],[BDhit]:[THREAD_Lhit]])","v":6}]
[35,98.4,73.08,4,9.5299999999999994,30,86.9,"NA",8,"M5","NA","NA",4,"M5",null,null,null,null,null,null,null,null,null,null,null,null,null,null,null,null,null,null,null,null,null,null,null,null,null,null,null,null,null,null,null,null,null,null,null,null,null,null,null,{"$f":"IF(AND(PCdb[[#This Row],[BCD]]>UIoptions!$S$10,PCdb[[#This Row],[BCD]]<UIoptions!$T$10),1,0)","v":0},{"$f":"IF(AND(PCdb[[#This Row],[PD]]>UIoptions!$S$11,PCdb[[#This Row],[PD]]<UIoptions!$T$11),1,0)","v":0},{"$f":"IF(AND(UIoptions!$P$14<=PCdb[[#This Row],[PL (MAX)]],UIoptions!$P$14>UIoptions!$S$14),1,0)","v":1},{"$f":"IF(AND(PCdb[[#This Row],[SD]]>UIoptions!$S$12,PCdb[[#This Row],[SD]]<UIoptions!$T$12),1,0)","v":0},{"$f":"IF(AND(PCdb[[#This Row],[SL]]>UIoptions!$S$13,PCdb[[#This Row],[SL]]<UIoptions!$T$13),1,0)","v":0},{"$f":"IF(UIoptions!$N$35=1,IF(AND(PCdb[[#This Row],[SQ_SZ]]>UIoptions!$S$15,PCdb[[#This Row],[SQ_SZ]]<UIoptions!$T$15),1,0),1)","v":0},{"$f":"IF(UIoptions!$N$35=2,IF(AND(PCdb[[#This Row],[ROUND_D]]>UIoptions!$S$15,PCdb[[#This Row],[ROUND_D]]<UIoptions!$T$15),1,0),1)","v":1},{"$f":"IF(UIoptions!$N$75<>1,1,IF(AND(PCdb[[#This Row],[FL]]>UIoptions!$S$16,PCdb[[#This Row],[FL]]<UIoptions!$T$16),1,0))","v":0},{"$f":"IF(OR(UIoptions!$Q$18=PCdb[[#This Row],[THRU_SCREW]],UIoptions!$Q$18=\"NA\"),1,0)","v":0},{"$f":"IF(OR(UIoptions!$P$19=PCdb[[#This Row],[THREAD_SZ]],UIoptions!$P$19=\"NA\"),1,0)","v":1},{"$f":"IF(UIoptions!$N$75=1,1,IF(AND(PCdb[[#This Row],[THREAD_L]]>UIoptions!$S$17,PCdb[[#This Row],[THREAD_L]]<UIoptions!$T$17),1,0))","v":1},{"$f":"IF(SUM(PCdb[[#This Row],[BDhit]:[THREAD_Lhit]])=11,1,0)","v":0},{"$f":"CONCATENATE(PCdb[[#This Row],[BCD]],PCdb[[#This Row],[PD]],PCdb[[#This Row],[PL (MAX)]],PCdb[[#This Row],[SD]],PCdb[[#This Row],[SL]],PCdb[[#This Row],[SQ_SZ]],PCdb[[#This Row],[ROUND_D]],PCdb[[#This Row],[FL]],PCdb[[#This Row],[THRU_SCREW]],PCdb[[#This Row],[THREAD_SZ]],PCdb[[#This Row],[THREAD_L]],PCdb[[#This Row],[NBR_HOLES]])","v":"98,473,0849,533086,9NA8M5NANA4"},{"$f":"SUM(PCdb[[#This Row],[BDhit]:[THREAD_Lhit]])","v":4}]
[36,98.4,73.08,4,15.875,30,86.9,"NA",8,"M5","NA","NA",4,"M5",null,null,null,null,null,null,null,null,null,null,null,null,null,null,null,null,null,null,null,null,null,null,null,null,null,null,null,null,null,null,null,null,null,null,null,null,null,null,null,{"$f":"IF(AND(PCdb[[#This Row],[BCD]]>UIoptions!$S$10,PCdb[[#This Row],[BCD]]<UIoptions!$T$10),1,0)","v":0},{"$f":"IF(AND(PCdb[[#This Row],[PD]]>UIoptions!$S$11,PCdb[[#This Row],[PD]]<UIoptions!$T$11),1,0)","v":0},{"$f":"IF(AND(UIoptions!$P$14<=PCdb[[#This Row],[PL (MAX)]],UIoptions!$P$14>UIoptions!$S$14),1,0)","v":1},{"$f":"IF(AND(PCdb[[#This Row],[SD]]>UIoptions!$S$12,PCdb[[#This Row],[SD]]<UIoptions!$T$12),1,0)","v":0},{"$f":"IF(AND(PCdb[[#This Row],[SL]]>UIoptions!$S$13,PCdb[[#This Row],[SL]]<UIoptions!$T$13),1,0)","v":0},{"$f":"IF(UIoptions!$N$35=1,IF(AND(PCdb[[#This Row],[SQ_SZ]]>UIoptions!$S$15,PCdb[[#This Row],[SQ_SZ]]<UIoptions!$T$15),1,0),1)","v":0},{"$f":"IF(UIoptions!$N$35=2,IF(AND(PCdb[[#This Row],[ROUND_D]]>UIoptions!$S$15,PCdb[[#This Row],[ROUND_D]]<UIoptions!$T$15),1,0),1)","v":1},{"$f":"IF(UIoptions!$N$75<>1,1,IF(AND(PCdb[[#This Row],[FL]]>UIoptions!$S$16,PCdb[[#This Row],[FL]]<UIoptions!$T$16),1,0))","v":0},{"$f":"IF(OR(UIoptions!$Q$18=PCdb[[#This Row],[THRU_SCREW]],UIoptions!$Q$18=\"NA\"),1,0)","v":0},{"$f":"IF(OR(UIoptions!$P$19=PCdb[[#This Row],[THREAD_SZ]],UIoptions!$P$19=\"NA\"),1,0)","v":1},{"$f":"IF(UIoptions!$N$75=1,1,IF(AND(PCdb[[#This Row],[THREAD_L]]>UIoptions!$S$17,PCdb[[#This Row],[THREAD_L]]<UIoptions!$T$17),1,0))","v":1},{"$f":"IF(SUM(PCdb[[#This Row],[BDhit]:[THREAD_Lhit]])=11,1,0)","v":0},{"$f":"CONCATENATE(PCdb[[#This Row],[BCD]],PCdb[[#This Row],[PD]],PCdb[[#This Row],[PL (MAX)]],PCdb[[#This Row],[SD]],PCdb[[#This Row],[SL]],PCdb[[#This Row],[SQ_SZ]],PCdb[[#This Row],[ROUND_D]],PCdb[[#This Row],[FL]],PCdb[[#This Row],[THRU_SCREW]],PCdb[[#This Row],[THREAD_SZ]],PCdb[[#This Row],[THREAD_L]],PCdb[[#This Row],[NBR_HOLES]])","v":"98,473,08415,8753086,9NA8M5NANA4"},{"$f":"SUM(PCdb[[#This Row],[BDhit]:[THREAD_Lhit]])","v":4}]
[37,63,40,4,9,20,54,"NA",7,"M4","NA","NA",4,"M4",null,null,null,null,null,null,null,null,null,null,null,null,null,null,null,null,null,null,null,null,null,null,null,null,null,null,null,null,null,null,null,null,null,24,0,"Y*","C",45,90,{"$f":"IF(AND(PCdb[[#This Row],[BCD]]>UIoptions!$S$10,PCdb[[#This Row],[BCD]]<UIoptions!$T$10),1,0)","v":1},{"$f":"IF(AND(PCdb[[#This Row],[PD]]>UIoptions!$S$11,PCdb[[#This Row],[PD]]<UIoptions!$T$11),1,0)","v":1},{"$f":"IF(AND(UIoptions!$P$14<=PCdb[[#This Row],[PL (MAX)]],UIoptions!$P$14>UIoptions!$S$14),1,0)","v":1},{"$f":"IF(AND(PCdb[[#This Row],[SD]]>UIoptions!$S$12,PCdb[[#This Row],[SD]]<UIoptions!$T$12),1,0)","v":0},{"$f":"IF(AND(PCdb[[#This Row],[SL]]>UIoptions!$S$13,PCdb[[#This Row],[SL]]<UIoptions!$T$13),1,0)","v":1},{"$f":"IF(UIoptions!$N$35=1,IF(AND(PCdb[[#This Row],[SQ_SZ]]>UIoptions!$S$15,PCdb[[#This Row],[SQ_SZ]]<UIoptions!$T$15),1,0),1)","v":0},{"$f":"IF(UIoptions!$N$35=2,IF(AND(PCdb[[#This Row],[ROUND_D]]>UIoptions!$S$15,PCdb[[#This Row],[ROUND_D]]<UIoptions!$T$15),1,0),1)","v":1},{"$f":"IF(UIoptions!$N$75<>1,1,IF(AND(PCdb[[#This Row],[FL]]>UIoptions!$S$16,PCdb[[#This Row],[FL]]<UIoptions!$T$16),1,0))","v":1},{"$f":"IF(OR(UIoptions!$Q$18=PCdb[[#This Row],[THRU_SCREW]],UIoptions!$Q$18=\"NA\"),1,0)","v":1},{"$f":"IF(OR(UIoptions!$P$19=PCdb[[#This Row],[THREAD_SZ]],UIoptions!$P$19=\"NA\"),1,0)","v":1},{"$f":"IF(UIoptions!$N$75=1,1,IF(AND(PCdb[[#This Row],[THREAD_L]]>UIoptions!$S$17,PCdb[[#This Row],[THREAD_L]]<UIoptions!$T$17),1,0))","v":1},{"$f":"IF(SUM(PCdb[[#This Row],[BDhit]:[THREAD_Lhit]])=11,1,0)","v":0},{"$f":"CONCATENATE(PCdb[[#This Row],[BCD]],PCdb[[#This Row],[PD]],PCdb[[#This Row],[PL (MAX)]],PCdb[[#This Row],[SD]],PCdb[[#This Row],[SL]],PCdb[[#This Row],[SQ_SZ]],PCdb[[#This Row],[ROUND_D]],PCdb[[#This Row],[FL]],PCdb[[#This Row],[THRU_SCREW]],PCdb[[#This Row],[THREAD_SZ]],PCdb[[#This Row],[THREAD_L]],PCdb[[#This Row],[NBR_HOLES]])","v":"6340492054NA7M4NANA4"},{"$f":"SUM(PCdb[[#This Row],[BDhit]:[THREAD_Lhit]])","v":9}]
[38,95,50,4,14,30,82,"NA",8,"M6","NA","NA",4,"M6",null,null,null,null,null,null,null,45.2,30,0,"Y","B",45,90,null,null,null,null,null,null,null,null,null,null,null,null,null,null,null,null,null,null,null,null,null,null,null,null,null,{"$f":"IF(AND(PCdb[[#This Row],[BCD]]>UIoptions!$S$10,PCdb[[#This Row],[BCD]]<UIoptions!$T$10),1,0)","v":0},{"$f":"IF(AND(PCdb[[#This Row],[PD]]>UIoptions!$S$11,PCdb[[#This Row],[PD]]<UIoptions!$T$11),1,0)","v":0},{"$f":"IF(AND(UIoptions!$P$14<=PCdb[[#This Row],[PL (MAX)]],UIoptions!$P$14>UIoptions!$S$14),1,0)","v":1},{"$f":"IF(AND(PCdb[[#This Row],[SD]]>UIoptions!$S$12,PCdb[[#This Row],[SD]]<UIoptions!$T$12),1,0)","v":0},{"$f":"IF(AND(PCdb[[#This Row],[SL]]>UIoptions!$S$13,PCdb[[#This Row],[SL]]<UIoptions!$T$13),1,0)","v":0},{"$f":"IF(UIoptions!$N$35=1,IF(AND(PCdb[[#This Row],[SQ_SZ]]>UIoptions!$S$15,PCdb[[#This Row],[SQ_SZ]]<UIoptions!$T$15),1,0),1)","v":0},{"$f":"IF(UIoptions!$N$35=2,IF(AND(PCdb[[#This Row],[ROUND_D]]>UIoptions!$S$15,PCdb[[#This Row],[ROUND_D]]<UIoptions!$T$15),1,0),1)","v":1},{"$f":"IF(UIoptions!$N$75<>1,1,IF(AND(PCdb[[#This Row],[FL]]>UIoptions!$S$16,PCdb[[#This Row],[FL]]<UIoptions!$T$16),1,0))","v":0},{"$f":"IF(OR(UIoptions!$Q$18=PCdb[[#This Row],[THRU_SCREW]],UIoptions!$Q$18=\"NA\"),1,0)","v":0},{"$f":"IF(OR(UIoptions!$P$19=PCdb[[#This Row],[THREAD_SZ]],UIoptions!$P$19=\"NA\"),1,0)","v":1},{"$f":"IF(UIoptions!$N$75=1,1,IF(AND(PCdb[[#This Row],[THREAD_L]]>UIoptions!$S$17,PCdb[[#This Row],[THREAD_L]]<UIoptions!$T$17),1,0))","v":1},{"$f":"IF(SUM(PCdb[[#This Row],[BDhit]:[THREAD_Lhit]])=11,1,0)","v":0},{"$f":"CONCATENATE(PCdb[[#This Row],[BCD]],PCdb[[#This Row],[PD]],PCdb[[#This Row],[PL (MAX)]],PCdb[[#This Row],[SD]],PCdb[[#This Row],[SL]],PCdb[[#This Row],[SQ_SZ]],PCdb[[#This Row],[ROUND_D]],PCdb[[#This Row],[FL]],PCdb[[#This Row],[THRU_SCREW]],PCdb[[#This Row],[THREAD_SZ]],PCdb[[#This Row],[THREAD_L]],PCdb[[#This Row],[NBR_HOLES]])","v":"95504143082NA8M6NANA4"},{"$f":"SUM(PCdb[[#This Row],[BDhit]:[THREAD_Lhit]])","v":4}]
[39,66.8,38.1,4,6.35,20.6,57.2,"NA",5.0999999999999996,"M4","NA","NA",4,"M4",null,null,null,null,null,null,null,null,null,null,null,null,null,null,null,null,null,null,null,null,null,null,null,null,null,null,null,null,null,null,null,null,null,null,null,null,null,null,null,{"$f":"IF(AND(PCdb[[#This Row],[BCD]]>UIoptions!$S$10,PCdb[[#This Row],[BCD]]<UIoptions!$T$10),1,0)","v":0},{"$f":"IF(AND(PCdb[[#This Row],[PD]]>UIoptions!$S$11,PCdb[[#This Row],[PD]]<UIoptions!$T$11),1,0)","v":0},{"$f":"IF(AND(UIoptions!$P$14<=PCdb[[#This Row],[PL (MAX)]],UIoptions!$P$14>UIoptions!$S$14),1,0)","v":1},{"$f":"IF(AND(PCdb[[#This Row],[SD]]>UIoptions!$S$12,PCdb[[#This Row],[SD]]<UIoptions!$T$12),1,0)","v":0},{"$f":"IF(AND(PCdb[[#This Row],[SL]]>UIoptions!$S$13,PCdb[[#This Row],[SL]]<UIoptions!$T$13),1,0)","v":0},{"$f":"IF(UIoptions!$N$35=1,IF(AND(PCdb[[#This Row],[SQ_SZ]]>UIoptions!$S$15,PCdb[[#This Row],[SQ_SZ]]<UIoptions!$T$15),1,0),1)","v":0},{"$f":"IF(UIoptions!$N$35=2,IF(AND(PCdb[[#This Row],[ROUND_D]]>UIoptions!$S$15,PCdb[[#This Row],[ROUND_D]]<UIoptions!$T$15),1,0),1)","v":1},{"$f":"IF(UIoptions!$N$75<>1,1,IF(AND(PCdb[[#This Row],[FL]]>UIoptions!$S$16,PCdb[[#This Row],[FL]]<UIoptions!$T$16),1,0))","v":0},{"$f":"IF(OR(UIoptions!$Q$18=PCdb[[#This Row],[THRU_SCREW]],UIoptions!$Q$18=\"NA\"),1,0)","v":1},{"$f":"IF(OR(UIoptions!$P$19=PCdb[[#This Row],[THREAD_SZ]],UIoptions!$P$19=\"NA\"),1,0)","v":1},{"$f":"IF(UIoptions!$N$75=1,1,IF(AND(PCdb[[#This Row],[THREAD_L]]>UIoptions!$S$17,PCdb[[#This Row],[THREAD_L]]<UIoptions!$T$17),1,0))","v":1},{"$f":"IF(SUM(PCdb[[#This Row],[BDhit]:[THREAD_Lhit]])=11,1,0)","v":0},{"$f":"CONCATENATE(PCdb[[#This Row],[BCD]],PCdb[[#This Row],[PD]],PCdb[[#This Row],[PL (MAX)]],PCdb[[#This Row],[SD]],PCdb[[#This Row],[SL]],PCdb[[#This Row],[SQ_SZ]],PCdb[[#This Row],[ROUND_D]],PCdb[[#This Row],[FL]],PCdb[[#This Row],[THRU_SCREW]],PCdb[[#This Row],[THREAD_SZ]],PCdb[[#This Row],[THREAD_L]],PCdb[[#This Row],[NBR_HOLES]])","v":"66,838,146,3520,657,2NA5,1M4NANA4"},{"$f":"SUM(PCdb[[#This Row],[BDhit]:[THREAD_Lhit]])","v":5}]
[40,98.4,73.03,4,12.7,37.1,86.1,"NA",10.199999999999999,"M6","NA","NA",4,"M6",null,null,null,null,null,null,null,null,null,null,null,null,null,null,48.7,39,"NA","Y","B",45,90,null,null,null,null,null,null,null,null,null,null,null,null,null,null,null,null,null,null,{"$f":"IF(AND(PCdb[[#This Row],[BCD]]>UIoptions!$S$10,PCdb[[#This Row],[BCD]]<UIoptions!$T$10),1,0)","v":0},{"$f":"IF(AND(PCdb[[#This Row],[PD]]>UIoptions!$S$11,PCdb[[#This Row],[PD]]<UIoptions!$T$11),1,0)","v":0},{"$f":"IF(AND(UIoptions!$P$14<=PCdb[[#This Row],[PL (MAX)]],UIoptions!$P$14>UIoptions!$S$14),1,0)","v":1},{"$f":"IF(AND(PCdb[[#This Row],[SD]]>UIoptions!$S$12,PCdb[[#This Row],[SD]]<UIoptions!$T$12),1,0)","v":0},{"$f":"IF(AND(PCdb[[#This Row],[SL]]>UIoptions!$S$13,PCdb[[#This Row],[SL]]<UIoptions!$T$13),1,0)","v":0},{"$f":"IF(UIoptions!$N$35=1,IF(AND(PCdb[[#This Row],[SQ_SZ]]>UIoptions!$S$15,PCdb[[#This Row],[SQ_SZ]]<UIoptions!$T$15),1,0),1)","v":0},{"$f":"IF(UIoptions!$N$35=2,IF(AND(PCdb[[#This Row],[ROUND_D]]>UIoptions!$S$15,PCdb[[#This Row],[ROUND_D]]<UIoptions!$T$15),1,0),1)","v":1},{"$f":"IF(UIoptions!$N$75<>1,1,IF(AND(PCdb[[#This Row],[FL]]>UIoptions!$S$16,PCdb[[#This Row],[FL]]<UIoptions!$T$16),1,0))","v":0},{"$f":"IF(OR(UIoptions!$Q$18=PCdb[[#This Row],[THRU_SCREW]],UIoptions!$Q$18=\"NA\"),1,0)","v":0},{"$f":"IF(OR(UIoptions!$P$19=PCdb[[#This Row],[THREAD_SZ]],UIoptions!$P$19=\"NA\"),1,0)","v":1},{"$f":"IF(UIoptions!$N$75=1,1,IF(AND(PCdb[[#This Row],[THREAD_L]]>UIoptions!$S$17,PCdb[[#This Row],[THREAD_L]]<UIoptions!$T$17),1,0))","v":1},{"$f":"IF(SUM(PCdb[[#This Row],[BDhit]:[THREAD_Lhit]])=11,1,0)","v":0},{"$f":"CONCATENATE(PCdb[[#This Row],[BCD]],PCdb[[#This Row],[PD]],PCdb[[#This Row],[PL (MAX)]],PCdb[[#This Row],[SD]],PCdb[[#This Row],[SL]],PCdb[[#This Row],[SQ_SZ]],PCdb[[#This Row],[ROUND_D]],PCdb[[#This Row],[FL]],PCdb[[#This Row],[THRU_SCREW]],PCdb[[#This Row],[THREAD_SZ]],PCdb[[#This Row],[THREAD_L]],PCdb[[#This Row],[NBR_HOLES]])","v":"98,473,03412,737,186,1NA10,2M6NANA4"},{"$f":"SUM(PCdb[[#This Row],[BDhit]:[THREAD_Lhit]])","v":4}]
[41,66.8,38.1,4,6.35,20.5,57.4,"NA",4.5999999999999996,"M4","NA","NA",4,"M4",null,null,null,null,null,null,null,null,null,null,null,null,null,null,null,null,null,null,null,null,null,null,null,null,null,null,null,null,null,null,null,null,null,null,null,null,null,null,null,{"$f":"IF(AND(PCdb[[#This Row],[BCD]]>UIoptions!$S$10,PCdb[[#This Row],[BCD]]<UIoptions!$T$10),1,0)","v":0},{"$f":"IF(AND(PCdb[[#This Row],[PD]]>UIoptions!$S$11,PCdb[[#This Row],[PD]]<UIoptions!$T$11),1,0)","v":0},{"$f":"IF(AND(UIoptions!$P$14<=PCdb[[#This Row],[PL (MAX)]],UIoptions!$P$14>UIoptions!$S$14),1,0)","v":1},{"$f":"IF(AND(PCdb[[#This Row],[SD]]>UIoptions!$S$12,PCdb[[#This Row],[SD]]<UIoptions!$T$12),1,0)","v":0},{"$f":"IF(AND(PCdb[[#This Row],[SL]]>UIoptions!$S$13,PCdb[[#This Row],[SL]]<UIoptions!$T$13),1,0)","v":0},{"$f":"IF(UIoptions!$N$35=1,IF(AND(PCdb[[#This Row],[SQ_SZ]]>UIoptions!$S$15,PCdb[[#This Row],[SQ_SZ]]<UIoptions!$T$15),1,0),1)","v":0},{"$f":"IF(UIoptions!$N$35=2,IF(AND(PCdb[[#This Row],[ROUND_D]]>UIoptions!$S$15,PCdb[[#This Row],[ROUND_D]]<UIoptions!$T$15),1,0),1)","v":1},{"$f":"IF(UIoptions!$N$75<>1,1,IF(AND(PCdb[[#This Row],[FL]]>UIoptions!$S$16,PCdb[[#This Row],[FL]]<UIoptions!$T$16),1,0))","v":0},{"$f":"IF(OR(UIoptions!$Q$18=PCdb[[#This Row],[THRU_SCREW]],UIoptions!$Q$18=\"NA\"),1,0)","v":1},{"$f":"IF(OR(UIoptions!$P$19=PCdb[[#This Row],[THREAD_SZ]],UIoptions!$P$19=\"NA\"),1,0)","v":1},{"$f":"IF(UIoptions!$N$75=1,1,IF(AND(PCdb[[#This Row],[THREAD_L]]>UIoptions!$S$17,PCdb[[#This Row],[THREAD_L]]<UIoptions!$T$17),1,0))","v":1},{"$f":"IF(SUM(PCdb[[#This Row],[BDhit]:[THREAD_Lhit]])=11,1,0)","v":0},{"$f":"CONCATENATE(PCdb[[#This Row],[BCD]],PCdb[[#This Row],[PD]],PCdb[[#This Row],[PL (MAX)]],PCdb[[#This Row],[SD]],PCdb[[#This Row],[SL]],PCdb[[#This Row],[SQ_SZ]],PCdb[[#This Row],[ROUND_D]],PCdb[[#This Row],[FL]],PCdb[[#This Row],[THRU_SCREW]],PCdb[[#This Row],[THREAD_SZ]],PCdb[[#This Row],[THREAD_L]],PCdb[[#This Row],[NBR_HOLES]])","v":"66,838,146,3520,557,4NA4,6M4NANA4"},{"$f":"SUM(PCdb[[#This Row],[BDhit]:[THREAD_Lhit]])","v":5}]
[42,46,30,4,8,25,40,"NA",5,"M4","NA","NA",4,"M4",38.700000000000003,0,"31.5","Y","A",45,90,null,null,null,null,null,null,null,null,null,null,null,null,null,null,18,0,"Y","C",45,90,17.5,"NA","Y","C",45,90,null,null,null,null,null,null,{"$f":"IF(AND(PCdb[[#This Row],[BCD]]>UIoptions!$S$10,PCdb[[#This Row],[BCD]]<UIoptions!$T$10),1,0)","v":0},{"$f":"IF(AND(PCdb[[#This Row],[PD]]>UIoptions!$S$11,PCdb[[#This Row],[PD]]<UIoptions!$T$11),1,0)","v":0},{"$f":"IF(AND(UIoptions!$P$14<=PCdb[[#This Row],[PL (MAX)]],UIoptions!$P$14>UIoptions!$S$14),1,0)","v":1},{"$f":"IF(AND(PCdb[[#This Row],[SD]]>UIoptions!$S$12,PCdb[[#This Row],[SD]]<UIoptions!$T$12),1,0)","v":0},{"$f":"IF(AND(PCdb[[#This Row],[SL]]>UIoptions!$S$13,PCdb[[#This Row],[SL]]<UIoptions!$T$13),1,0)","v":0},{"$f":"IF(UIoptions!$N$35=1,IF(AND(PCdb[[#This Row],[SQ_SZ]]>UIoptions!$S$15,PCdb[[#This Row],[SQ_SZ]]<UIoptions!$T$15),1,0),1)","v":0},{"$f":"IF(UIoptions!$N$35=2,IF(AND(PCdb[[#This Row],[ROUND_D]]>UIoptions!$S$15,PCdb[[#This Row],[ROUND_D]]<UIoptions!$T$15),1,0),1)","v":1},{"$f":"IF(UIoptions!$N$75<>1,1,IF(AND(PCdb[[#This Row],[FL]]>UIoptions!$S$16,PCdb[[#This Row],[FL]]<UIoptions!$T$16),1,0))","v":0},{"$f":"IF(OR(UIoptions!$Q$18=PCdb[[#This Row],[THRU_SCREW]],UIoptions!$Q$18=\"NA\"),1,0)","v":1},{"$f":"IF(OR(UIoptions!$P$19=PCdb[[#This Row],[THREAD_SZ]],UIoptions!$P$19=\"NA\"),1,0)","v":1},{"$f":"IF(UIoptions!$N$75=1,1,IF(AND(PCdb[[#This Row],[THREAD_L]]>UIoptions!$S$17,PCdb[[#This Row],[THREAD_L]]<UIoptions!$T$17),1,0))","v":1},{"$f":"IF(SUM(PCdb[[#This Row],[BDhit]:[THREAD_Lhit]])=11,1,0)","v":0},{"$f":"CONCATENATE(PCdb[[#This Row],[BCD]],PCdb[[#This Row],[PD]],PCdb[[#This Row],[PL (MAX)]],PCdb[[#This Row],[SD]],PCdb[[#This Row],[SL]],PCdb[[#This Row],[SQ_SZ]],PCdb[[#This Row],[ROUND_D]],PCdb[[#This Row],[FL]],PCdb[[#This Row],[THRU_SCREW]],PCdb[[#This Row],[THREAD_SZ]],PCdb[[#This Row],[THREAD_L]],PCdb[[#This Row],[NBR_HOLES]])","v":"4630482540NA5M4NANA4"},{"$f":"SUM(PCdb[[#This Row],[BDhit]:[THREAD_Lhit]])","v":5}]
[43,70,50,4,14,30,60,"NA",7,"M5","NA","NA",4,"M5",null,null,null,null,null,null,null,45.2,28,0,"Y","B",45,90,48.7,"NA",55,"Y","A",45,90,null,null,null,null,null,null,27,0,"Y","C",45,90,27,0,"Y","C",45,90,{"$f":"IF(AND(PCdb[[#This Row],[BCD]]>UIoptions!$S$10,PCdb[[#This Row],[BCD]]<UIoptions!$T$10),1,0)","v":0},{"$f":"IF(AND(PCdb[[#This Row],[PD]]>UIoptions!$S$11,PCdb[[#This Row],[PD]]<UIoptions!$T$11),1,0)","v":0},{"$f":"IF(AND(UIoptions!$P$14<=PCdb[[#This Row],[PL (MAX)]],UIoptions!$P$14>UIoptions!$S$14),1,0)","v":1},{"$f":"IF(AND(PCdb[[#This Row],[SD]]>UIoptions!$S$12,PCdb[[#This Row],[SD]]<UIoptions!$T$12),1,0)","v":0},{"$f":"IF(AND(PCdb[[#This Row],[SL]]>UIoptions!$S$13,PCdb[[#This Row],[SL]]<UIoptions!$T$13),1,0)","v":0},{"$f":"IF(UIoptions!$N$35=1,IF(AND(PCdb[[#This Row],[SQ_SZ]]>UIoptions!$S$15,PCdb[[#This Row],[SQ_SZ]]<UIoptions!$T$15),1,0),1)","v":0},{"$f":"IF(UIoptions!$N$35=2,IF(AND(PCdb[[#This Row],[ROUND_D]]>UIoptions!$S$15,PCdb[[#This Row],[ROUND_D]]<UIoptions!$T$15),1,0),1)","v":1},{"$f":"IF(UIoptions!$N$75<>1,1,IF(AND(PCdb[[#This Row],[FL]]>UIoptions!$S$16,PCdb[[#This Row],[FL]]<UIoptions!$T$16),1,0))","v":1},{"$f":"IF(OR(UIoptions!$Q$18=PCdb[[#This Row],[THRU_SCREW]],UIoptions!$Q$18=\"NA\"),1,0)","v":0},{"$f":"IF(OR(UIoptions!$P$19=PCdb[[#This Row],[THREAD_SZ]],UIoptions!$P$19=\"NA\"),1,0)","v":1},{"$f":"IF(UIoptions!$N$75=1,1,IF(AND(PCdb[[#This Row],[THREAD_L]]>UIoptions!$S$17,PCdb[[#This Row],[THREAD_L]]<UIoptions!$T$17),1,0))","v":1},{"$f":"IF(SUM(PCdb[[#This Row],[BDhit]:[THREAD_Lhit]])=11,1,0)","v":0},{"$f":"CONCATENATE(PCdb[[#This Row],[BCD]],PCdb[[#This Row],[PD]],PCdb[[#This Row],[PL (MAX)]],PCdb[[#This Row],[SD]],PCdb[[#This Row],[SL]],PCdb[[#This Row],[SQ_SZ]],PCdb[[#This Row],[ROUND_D]],PCdb[[#This Row],[FL]],PCdb[[#This Row],[THRU_SCREW]],PCdb[[#This Row],[THREAD_SZ]],PCdb[[#This Row],[THREAD_L]],PCdb[[#This Row],[NBR_HOLES]])","v":"70504143060NA7M5NANA4"},{"$f":"SUM(PCdb[[#This Row],[BDhit]:[THREAD_Lhit]])","v":5}]
[44,75,60,4,11,23,70,"NA",9,"M5","NA","NA",4,"M5","NA","NA","NA","NA","NA","NA","NA",45.2,32,"NA","Y","B",45,90,null,null,null,null,null,null,null,"NA","NA","NA","NA","NA","NA",32,"NA","Y","D",45,90,32,0,"Y","C",45,90,{"$f":"IF(AND(PCdb[[#This Row],[BCD]]>UIoptions!$S$10,PCdb[[#This Row],[BCD]]<UIoptions!$T$10),1,0)","v":0},{"$f":"IF(AND(PCdb[[#This Row],[PD]]>UIoptions!$S$11,PCdb[[#This Row],[PD]]<UIoptions!$T$11),1,0)","v":0},{"$f":"IF(AND(UIoptions!$P$14<=PCdb[[#This Row],[PL (MAX)]],UIoptions!$P$14>UIoptions!$S$14),1,0)","v":1},{"$f":"IF(AND(PCdb[[#This Row],[SD]]>UIoptions!$S$12,PCdb[[#This Row],[SD]]<UIoptions!$T$12),1,0)","v":0},{"$f":"IF(AND(PCdb[[#This Row],[SL]]>UIoptions!$S$13,PCdb[[#This Row],[SL]]<UIoptions!$T$13),1,0)","v":0},{"$f":"IF(UIoptions!$N$35=1,IF(AND(PCdb[[#This Row],[SQ_SZ]]>UIoptions!$S$15,PCdb[[#This Row],[SQ_SZ]]<UIoptions!$T$15),1,0),1)","v":0},{"$f":"IF(UIoptions!$N$35=2,IF(AND(PCdb[[#This Row],[ROUND_D]]>UIoptions!$S$15,PCdb[[#This Row],[ROUND_D]]<UIoptions!$T$15),1,0),1)","v":1},{"$f":"IF(UIoptions!$N$75<>1,1,IF(AND(PCdb[[#This Row],[FL]]>UIoptions!$S$16,PCdb[[#This Row],[FL]]<UIoptions!$T$16),1,0))","v":0},{"$f":"IF(OR(UIoptions!$Q$18=PCdb[[#This Row],[THRU_SCREW]],UIoptions!$Q$18=\"NA\"),1,0)","v":0},{"$f":"IF(OR(UIoptions!$P$19=PCdb[[#This Row],[THREAD_SZ]],UIoptions!$P$19=\"NA\"),1,0)","v":1},{"$f":"IF(UIoptions!$N$75=1,1,IF(AND(PCdb[[#This Row],[THREAD_L]]>UIoptions!$S$17,PCdb[[#This Row],[THREAD_L]]<UIoptions!$T$17),1,0))","v":1},{"$f":"IF(SUM(PCdb[[#This Row],[BDhit]:[THREAD_Lhit]])=11,1,0)","v":0},{"$f":"CONCATENATE(PCdb[[#This Row],[BCD]],PCdb[[#This Row],[PD]],PCdb[[#This Row],[PL (MAX)]],PCdb[[#This Row],[SD]],PCdb[[#This Row],[SL]],PCdb[[#This Row],[SQ_SZ]],PCdb[[#This Row],[ROUND_D]],PCdb[[#This Row],[FL]],PCdb[[#This Row],[THRU_SCREW]],PCdb[[#This Row],[THREAD_SZ]],PCdb[[#This Row],[THREAD_L]],PCdb[[#This Row],[NBR_HOLES]])","v":"75604112370NA9M5NANA4"},{"$f":"SUM(PCdb[[#This Row],[BDhit]:[THREAD_Lhit]])","v":4}]
[45,45,30,4,8,25,38,"NA",6,"M3","NA","NA",4,"M3",38.700000000000003,2,"31.5","Y","A",45,90,null,null,null,null,null,null,null,null,null,null,null,null,null,null,16.5,"NA","Y","C",45,90,null,null,null,null,null,null,null,null,null,null,null,null,{"$f":"IF(AND(PCdb[[#This Row],[BCD]]>UIoptions!$S$10,PCdb[[#This Row],[BCD]]<UIoptions!$T$10),1,0)","v":0},{"$f":"IF(AND(PCdb[[#This Row],[PD]]>UIoptions!$S$11,PCdb[[#This Row],[PD]]<UIoptions!$T$11),1,0)","v":0},{"$f":"IF(AND(UIoptions!$P$14<=PCdb[[#This Row],[PL (MAX)]],UIoptions!$P$14>UIoptions!$S$14),1,0)","v":1},{"$f":"IF(AND(PCdb[[#This Row],[SD]]>UIoptions!$S$12,PCdb[[#This Row],[SD]]<UIoptions!$T$12),1,0)","v":0},{"$f":"IF(AND(PCdb[[#This Row],[SL]]>UIoptions!$S$13,PCdb[[#This Row],[SL]]<UIoptions!$T$13),1,0)","v":0},{"$f":"IF(UIoptions!$N$35=1,IF(AND(PCdb[[#This Row],[SQ_SZ]]>UIoptions!$S$15,PCdb[[#This Row],[SQ_SZ]]<UIoptions!$T$15),1,0),1)","v":0},{"$f":"IF(UIoptions!$N$35=2,IF(AND(PCdb[[#This Row],[ROUND_D]]>UIoptions!$S$15,PCdb[[#This Row],[ROUND_D]]<UIoptions!$T$15),1,0),1)","v":1},{"$f":"IF(UIoptions!$N$75<>1,1,IF(AND(PCdb[[#This Row],[FL]]>UIoptions!$S$16,PCdb[[#This Row],[FL]]<UIoptions!$T$16),1,0))","v":0},{"$f":"IF(OR(UIoptions!$Q$18=PCdb[[#This Row],[THRU_SCREW]],UIoptions!$Q$18=\"NA\"),1,0)","v":0},{"$f":"IF(OR(UIoptions!$P$19=PCdb[[#This Row],[THREAD_SZ]],UIoptions!$P$19=\"NA\"),1,0)","v":1},{"$f":"IF(UIoptions!$N$75=1,1,IF(AND(PCdb[[#This Row],[THREAD_L]]>UIoptions!$S$17,PCdb[[#This Row],[THREAD_L]]<UIoptions!$T$17),1,0))","v":1},{"$f":"IF(SUM(PCdb[[#This Row],[BDhit]:[THREAD_Lhit]])=11,1,0)","v":0},{"$f":"CONCATENATE(PCdb[[#This Row],[BCD]],PCdb[[#This Row],[PD]],PCdb[[#This Row],[PL (MAX)]],PCdb[[#This Row],[SD]],PCdb[[#This Row],[SL]],PCdb[[#This Row],[SQ_SZ]],PCdb[[#This Row],[ROUND_D]],PCdb[[#This Row],[FL]],PCdb[[#This Row],[THRU_SCREW]],PCdb[[#This Row],[THREAD_SZ]],PCdb[[#This Row],[THREAD_L]],PCdb[[#This Row],[NBR_HOLES]])","v":"4530482538NA6M3NANA4"},{"$f":"SUM(PCdb[[#This Row],[BDhit]:[THREAD_Lhit]])","v":4}]
[46,70,50,4,11,30,60,"NA",6.5,"M4","NA","NA",4,"M4",38.700000000000003,27,0,"Y","B",45,90,null,null,null,null,null,null,null,null,null,null,null,null,null,null,null,null,null,null,null,null,27,"NA","Y","C",45,90,null,null,null,null,null,null,{"$f":"IF(AND(PCdb[[#This Row],[BCD]]>UIoptions!$S$10,PCdb[[#This Row],[BCD]]<UIoptions!$T$10),1,0)","v":0},{"$f":"IF(AND(PCdb[[#This Row],[PD]]>UIoptions!$S$11,PCdb[[#This Row],[PD]]<UIoptions!$T$11),1,0)","v":0},{"$f":"IF(AND(UIoptions!$P$14<=PCdb[[#This Row],[PL (MAX)]],UIoptions!$P$14>UIoptions!$S$14),1,0)","v":1},{"$f":"IF(AND(PCdb[[#This Row],[SD]]>UIoptions!$S$12,PCdb[[#This Row],[SD]]<UIoptions!$T$12),1,0)","v":0},{"$f":"IF(AND(PCdb[[#This Row],[SL]]>UIoptions!$S$13,PCdb[[#This Row],[SL]]<UIoptions!$T$13),1,0)","v":0},{"$f":"IF(UIoptions!$N$35=1,IF(AND(PCdb[[#This Row],[SQ_SZ]]>UIoptions!$S$15,PCdb[[#This Row],[SQ_SZ]]<UIoptions!$T$15),1,0),1)","v":0},{"$f":"IF(UIoptions!$N$35=2,IF(AND(PCdb[[#This Row],[ROUND_D]]>UIoptions!$S$15,PCdb[[#This Row],[ROUND_D]]<UIoptions!$T$15),1,0),1)","v":1},{"$f":"IF(UIoptions!$N$75<>1,1,IF(AND(PCdb[[#This Row],[FL]]>UIoptions!$S$16,PCdb[[#This Row],[FL]]<UIoptions!$T$16),1,0))","v":0},{"$f":"IF(OR(UIoptions!$Q$18=PCdb[[#This Row],[THRU_SCREW]],UIoptions!$Q$18=\"NA\"),1,0)","v":1},{"$f":"IF(OR(UIoptions!$P$19=PCdb[[#This Row],[THREAD_SZ]],UIoptions!$P$19=\"NA\"),1,0)","v":1},{"$f":"IF(UIoptions!$N$75=1,1,IF(AND(PCdb[[#This Row],[THREAD_L]]>UIoptions!$S$17,PCdb[[#This Row],[THREAD_L]]<UIoptions!$T$17),1,0))","v":1},{"$f":"IF(SUM(PCdb[[#This Row],[BDhit]:[THREAD_Lhit]])=11,1,0)","v":0},{"$f":"CONCATENATE(PCdb[[#This Row],[BCD]],PCdb[[#This Row],[PD]],PCdb[[#This Row],[PL (MAX)]],PCdb[[#This Row],[SD]],PCdb[[#This Row],[SL]],PCdb[[#This Row],[SQ_SZ]],PCdb[[#This Row],[ROUND_D]],PCdb[[#This Row],[FL]],PCdb[[#This Row],[THRU_SCREW]],PCdb[[#This Row],[THREAD_SZ]],PCdb[[#This Row],[THREAD_L]],PCdb[[#This Row],[NBR_HOLES]])","v":"70504113060NA6,5M4NANA4"},{"$f":"SUM(PCdb[[#This Row],[BDhit]:[THREAD_Lhit]])","v":5}]
[47,70,50,4,14,30,60,"NA",6.5,"M4","NA","NA",4,"M4",null,null,null,null,null,null,null,45.2,27,"NA","Y","B",45,90,48.7,2.5,50,"Y","A",45,90,27,"NA","Y","D",45,90,27,"NA","Y","C",45,90,28,0,"Y","C",45,90,{"$f":"IF(AND(PCdb[[#This Row],[BCD]]>UIoptions!$S$10,PCdb[[#This Row],[BCD]]<UIoptions!$T$10),1,0)","v":0},{"$f":"IF(AND(PCdb[[#This Row],[PD]]>UIoptions!$S$11,PCdb[[#This Row],[PD]]<UIoptions!$T$11),1,0)","v":0},{"$f":"IF(AND(UIoptions!$P$14<=PCdb[[#This Row],[PL (MAX)]],UIoptions!$P$14>UIoptions!$S$14),1,0)","v":1},{"$f":"IF(AND(PCdb[[#This Row],[SD]]>UIoptions!$S$12,PCdb[[#This Row],[SD]]<UIoptions!$T$12),1,0)","v":0},{"$f":"IF(AND(PCdb[[#This Row],[SL]]>UIoptions!$S$13,PCdb[[#This Row],[SL]]<UIoptions!$T$13),1,0)","v":0},{"$f":"IF(UIoptions!$N$35=1,IF(AND(PCdb[[#This Row],[SQ_SZ]]>UIoptions!$S$15,PCdb[[#This Row],[SQ_SZ]]<UIoptions!$T$15),1,0),1)","v":0},{"$f":"IF(UIoptions!$N$35=2,IF(AND(PCdb[[#This Row],[ROUND_D]]>UIoptions!$S$15,PCdb[[#This Row],[ROUND_D]]<UIoptions!$T$15),1,0),1)","v":1},{"$f":"IF(UIoptions!$N$75<>1,1,IF(AND(PCdb[[#This Row],[FL]]>UIoptions!$S$16,PCdb[[#This Row],[FL]]<UIoptions!$T$16),1,0))","v":0},{"$f":"IF(OR(UIoptions!$Q$18=PCdb[[#This Row],[THRU_SCREW]],UIoptions!$Q$18=\"NA\"),1,0)","v":1},{"$f":"IF(OR(UIoptions!$P$19=PCdb[[#This Row],[THREAD_SZ]],UIoptions!$P$19=\"NA\"),1,0)","v":1},{"$f":"IF(UIoptions!$N$75=1,1,IF(AND(PCdb[[#This Row],[THREAD_L]]>UIoptions!$S$17,PCdb[[#This Row],[THREAD_L]]<UIoptions!$T$17),1,0))","v":1},{"$f":"IF(SUM(PCdb[[#This Row],[BDhit]:[THREAD_Lhit]])=11,1,0)","v":0},{"$f":"CONCATENATE(PCdb[[#This Row],[BCD]],PCdb[[#This Row],[PD]],PCdb[[#This Row],[PL (MAX)]],PCdb[[#This Row],[SD]],PCdb[[#This Row],[SL]],PCdb[[#This Row],[SQ_SZ]],PCdb[[#This Row],[ROUND_D]],PCdb[[#This Row],[FL]],PCdb[[#This Row],[THRU_SCREW]],PCdb[[#This Row],[THREAD_SZ]],PCdb[[#This Row],[THREAD_L]],PCdb[[#This Row],[NBR_HOLES]])","v":"70504143060NA6,5M4NANA4"},{"$f":"SUM(PCdb[[#This Row],[BDhit]:[THREAD_Lhit]])","v":5}]
[48,100,80,4,16,40.1,88.8,"NA",9.9,"M6","NA","NA",4,"M6",null,null,null,null,null,null,null,null,null,null,null,null,null,null,null,null,null,null,null,null,null,null,null,null,null,null,null,null,null,null,null,null,null,null,null,null,null,null,null,{"$f":"IF(AND(PCdb[[#This Row],[BCD]]>UIoptions!$S$10,PCdb[[#This Row],[BCD]]<UIoptions!$T$10),1,0)","v":0},{"$f":"IF(AND(PCdb[[#This Row],[PD]]>UIoptions!$S$11,PCdb[[#This Row],[PD]]<UIoptions!$T$11),1,0)","v":0},{"$f":"IF(AND(UIoptions!$P$14<=PCdb[[#This Row],[PL (MAX)]],UIoptions!$P$14>UIoptions!$S$14),1,0)","v":1},{"$f":"IF(AND(PCdb[[#This Row],[SD]]>UIoptions!$S$12,PCdb[[#This Row],[SD]]<UIoptions!$T$12),1,0)","v":0},{"$f":"IF(AND(PCdb[[#This Row],[SL]]>UIoptions!$S$13,PCdb[[#This Row],[SL]]<UIoptions!$T$13),1,0)","v":0},{"$f":"IF(UIoptions!$N$35=1,IF(AND(PCdb[[#This Row],[SQ_SZ]]>UIoptions!$S$15,PCdb[[#This Row],[SQ_SZ]]<UIoptions!$T$15),1,0),1)","v":0},{"$f":"IF(UIoptions!$N$35=2,IF(AND(PCdb[[#This Row],[ROUND_D]]>UIoptions!$S$15,PCdb[[#This Row],[ROUND_D]]<UIoptions!$T$15),1,0),1)","v":1},{"$f":"IF(UIoptions!$N$75<>1,1,IF(AND(PCdb[[#This Row],[FL]]>UIoptions!$S$16,PCdb[[#This Row],[FL]]<UIoptions!$T$16),1,0))","v":0},{"$f":"IF(OR(UIoptions!$Q$18=PCdb[[#This Row],[THRU_SCREW]],UIoptions!$Q$18=\"NA\"),1,0)","v":0},{"$f":"IF(OR(UIoptions!$P$19=PCdb[[#This Row],[THREAD_SZ]],UIoptions!$P$19=\"NA\"),1,0)","v":1},{"$f":"IF(UIoptions!$N$75=1,1,IF(AND(PCdb[[#This Row],[THREAD_L]]>UIoptions!$S$17,PCdb[[#This Row],[THREAD_L]]<UIoptions!$T$17),1,0))","v":1},{"$f":"IF(SUM(PCdb[[#This Row],[BDhit]:[THREAD_Lhit]])=11,1,0)","v":0},{"$f":"CONCATENATE(PCdb[[#This Row],[BCD]],PCdb[[#This Row],[PD]],PCdb[[#This Row],[PL (MAX)]],PCdb[[#This Row],[SD]],PCdb[[#This Row],[SL]],PCdb[[#This Row],[SQ_SZ]],PCdb[[#This Row],[ROUND_D]],PCdb[[#This Row],[FL]],PCdb[[#This Row],[THRU_SCREW]],PCdb[[#This Row],[THREAD_SZ]],PCdb[[#This Row],[THREAD_L]],PCdb[[#This Row],[NBR_HOLES]])","v":"1008041640,188,8NA9,9M6NANA4"},{"$f":"SUM(PCdb[[#This Row],[BDhit]:[THREAD_Lhit]])","v":4}]
[49,80,50,4,8,30,66,"NA",10.199999999999999,"M4","NA","NA",4,"M4",null,null,null,null,null,null,null,null,null,null,null,null,null,null,null,null,null,null,null,null,null,null,null,null,null,null,null,null,null,null,null,null,null,null,null,null,null,null,null,{"$f":"IF(AND(PCdb[[#This Row],[BCD]]>UIoptions!$S$10,PCdb[[#This Row],[BCD]]<UIoptions!$T$10),1,0)","v":0},{"$f":"IF(AND(PCdb[[#This Row],[PD]]>UIoptions!$S$11,PCdb[[#This Row],[PD]]<UIoptions!$T$11),1,0)","v":0},{"$f":"IF(AND(UIoptions!$P$14<=PCdb[[#This Row],[PL (MAX)]],UIoptions!$P$14>UIoptions!$S$14),1,0)","v":1},{"$f":"IF(AND(PCdb[[#This Row],[SD]]>UIoptions!$S$12,PCdb[[#This Row],[SD]]<UIoptions!$T$12),1,0)","v":0},{"$f":"IF(AND(PCdb[[#This Row],[SL]]>UIoptions!$S$13,PCdb[[#This Row],[SL]]<UIoptions!$T$13),1,0)","v":0},{"$f":"IF(UIoptions!$N$35=1,IF(AND(PCdb[[#This Row],[SQ_SZ]]>UIoptions!$S$15,PCdb[[#This Row],[SQ_SZ]]<UIoptions!$T$15),1,0),1)","v":0},{"$f":"IF(UIoptions!$N$35=2,IF(AND(PCdb[[#This Row],[ROUND_D]]>UIoptions!$S$15,PCdb[[#This Row],[ROUND_D]]<UIoptions!$T$15),1,0),1)","v":1},{"$f":"IF(UIoptions!$N$75<>1,1,IF(AND(PCdb[[#This Row],[FL]]>UIoptions!$S$16,PCdb[[#This Row],[FL]]<UIoptions!$T$16),1,0))","v":0},{"$f":"IF(OR(UIoptions!$Q$18=PCdb[[#This Row],[THRU_SCREW]],UIoptions!$Q$18=\"NA\"),1,0)","v":1},{"$f":"IF(OR(UIoptions!$P$19=PCdb[[#This Row],[THREAD_SZ]],UIoptions!$P$19=\"NA\"),1,0)","v":1},{"$f":"IF(UIoptions!$N$75=1,1,IF(AND(PCdb[[#This Row],[THREAD_L]]>UIoptions!$S$17,PCdb[[#This Row],[THREAD_L]]<UIoptions!$T$17),1,0))","v":1},{"$f":"IF(SUM(PCdb[[#This Row],[BDhit]:[THREAD_Lhit]])=11,1,0)","v":0},{"$f":"CONCATENATE(PCdb[[#This Row],[BCD]],PCdb[[#This Row],[PD]],PCdb[[#This Row],[PL (MAX)]],PCdb[[#This Row],[SD]],PCdb[[#This Row],[SL]],PCdb[[#This Row],[SQ_SZ]],PCdb[[#This Row],[ROUND_D]],PCdb[[#This Row],[FL]],PCdb[[#This Row],[THRU_SCREW]],PCdb[[#This Row],[THREAD_SZ]],PCdb[[#This Row],[THREAD_L]],PCdb[[#This Row],[NBR_HOLES]])","v":"8050483066NA10,2M4NANA4"},{"$f":"SUM(PCdb[[#This Row],[BDhit]:[THREAD_Lhit]])","v":5}]
[50,75,60,4,11,23,72,"NA",11.2,"M5","NA","NA",4,"M5",null,null,null,null,null,null,null,null,null,null,null,null,null,null,null,null,null,null,null,null,null,null,null,null,null,null,null,null,null,null,null,null,null,null,null,null,null,null,null,{"$f":"IF(AND(PCdb[[#This Row],[BCD]]>UIoptions!$S$10,PCdb[[#This Row],[BCD]]<UIoptions!$T$10),1,0)","v":0},{"$f":"IF(AND(PCdb[[#This Row],[PD]]>UIoptions!$S$11,PCdb[[#This Row],[PD]]<UIoptions!$T$11),1,0)","v":0},{"$f":"IF(AND(UIoptions!$P$14<=PCdb[[#This Row],[PL (MAX)]],UIoptions!$P$14>UIoptions!$S$14),1,0)","v":1},{"$f":"IF(AND(PCdb[[#This Row],[SD]]>UIoptions!$S$12,PCdb[[#This Row],[SD]]<UIoptions!$T$12),1,0)","v":0},{"$f":"IF(AND(PCdb[[#This Row],[SL]]>UIoptions!$S$13,PCdb[[#This Row],[SL]]<UIoptions!$T$13),1,0)","v":0},{"$f":"IF(UIoptions!$N$35=1,IF(AND(PCdb[[#This Row],[SQ_SZ]]>UIoptions!$S$15,PCdb[[#This Row],[SQ_SZ]]<UIoptions!$T$15),1,0),1)","v":0},{"$f":"IF(UIoptions!$N$35=2,IF(AND(PCdb[[#This Row],[ROUND_D]]>UIoptions!$S$15,PCdb[[#This Row],[ROUND_D]]<UIoptions!$T$15),1,0),1)","v":1},{"$f":"IF(UIoptions!$N$75<>1,1,IF(AND(PCdb[[#This Row],[FL]]>UIoptions!$S$16,PCdb[[#This Row],[FL]]<UIoptions!$T$16),1,0))","v":0},{"$f":"IF(OR(UIoptions!$Q$18=PCdb[[#This Row],[THRU_SCREW]],UIoptions!$Q$18=\"NA\"),1,0)","v":0},{"$f":"IF(OR(UIoptions!$P$19=PCdb[[#This Row],[THREAD_SZ]],UIoptions!$P$19=\"NA\"),1,0)","v":1},{"$f":"IF(UIoptions!$N$75=1,1,IF(AND(PCdb[[#This Row],[THREAD_L]]>UIoptions!$S$17,PCdb[[#This Row],[THREAD_L]]<UIoptions!$T$17),1,0))","v":1},{"$f":"IF(SUM(PCdb[[#This Row],[BDhit]:[THREAD_Lhit]])=11,1,0)","v":0},{"$f":"CONCATENATE(PCdb[[#This Row],[BCD]],PCdb[[#This Row],[PD]],PCdb[[#This Row],[PL (MAX)]],PCdb[[#This Row],[SD]],PCdb[[#This Row],[SL]],PCdb[[#This Row],[SQ_SZ]],PCdb[[#This Row],[ROUND_D]],PCdb[[#This Row],[FL]],PCdb[[#This Row],[THRU_SCREW]],PCdb[[#This Row],[THREAD_SZ]],PCdb[[#This Row],[THREAD_L]],PCdb[[#This Row],[NBR_HOLES]])","v":"75604112372NA11,2M5NANA4"},{"$f":"SUM(PCdb[[#This Row],[BDhit]:[THREAD_Lhit]])","v":4}]
[51,98.4,73.03,4,12.7,30,84.1,"NA",11.2,"M5","NA","NA",4,"M5",null,null,null,null,null,null,null,null,null,null,null,null,null,null,null,null,null,null,null,null,null,null,null,null,null,null,null,null,null,null,null,null,null,null,null,null,null,null,null,{"$f":"IF(AND(PCdb[[#This Row],[BCD]]>UIoptions!$S$10,PCdb[[#This Row],[BCD]]<UIoptions!$T$10),1,0)","v":0},{"$f":"IF(AND(PCdb[[#This Row],[PD]]>UIoptions!$S$11,PCdb[[#This Row],[PD]]<UIoptions!$T$11),1,0)","v":0},{"$f":"IF(AND(UIoptions!$P$14<=PCdb[[#This Row],[PL (MAX)]],UIoptions!$P$14>UIoptions!$S$14),1,0)","v":1},{"$f":"IF(AND(PCdb[[#This Row],[SD]]>UIoptions!$S$12,PCdb[[#This Row],[SD]]<UIoptions!$T$12),1,0)","v":0},{"$f":"IF(AND(PCdb[[#This Row],[SL]]>UIoptions!$S$13,PCdb[[#This Row],[SL]]<UIoptions!$T$13),1,0)","v":0},{"$f":"IF(UIoptions!$N$35=1,IF(AND(PCdb[[#This Row],[SQ_SZ]]>UIoptions!$S$15,PCdb[[#This Row],[SQ_SZ]]<UIoptions!$T$15),1,0),1)","v":0},{"$f":"IF(UIoptions!$N$35=2,IF(AND(PCdb[[#This Row],[ROUND_D]]>UIoptions!$S$15,PCdb[[#This Row],[ROUND_D]]<UIoptions!$T$15),1,0),1)","v":1},{"$f":"IF(UIoptions!$N$75<>1,1,IF(AND(PCdb[[#This Row],[FL]]>UIoptions!$S$16,PCdb[[#This Row],[FL]]<UIoptions!$T$16),1,0))","v":0},{"$f":"IF(OR(UIoptions!$Q$18=PCdb[[#This Row],[THRU_SCREW]],UIoptions!$Q$18=\"NA\"),1,0)","v":0},{"$f":"IF(OR(UIoptions!$P$19=PCdb[[#This Row],[THREAD_SZ]],UIoptions!$P$19=\"NA\"),1,0)","v":1},{"$f":"IF(UIoptions!$N$75=1,1,IF(AND(PCdb[[#This Row],[THREAD_L]]>UIoptions!$S$17,PCdb[[#This Row],[THREAD_L]]<UIoptions!$T$17),1,0))","v":1},{"$f":"IF(SUM(PCdb[[#This Row],[BDhit]:[THREAD_Lhit]])=11,1,0)","v":0},{"$f":"CONCATENATE(PCdb[[#This Row],[BCD]],PCdb[[#This Row],[PD]],PCdb[[#This Row],[PL (MAX)]],PCdb[[#This Row],[SD]],PCdb[[#This Row],[SL]],PCdb[[#This Row],[SQ_SZ]],PCdb[[#This Row],[ROUND_D]],PCdb[[#This Row],[FL]],PCdb[[#This Row],[THRU_SCREW]],PCdb[[#This Row],[THREAD_SZ]],PCdb[[#This Row],[THREAD_L]],PCdb[[#This Row],[NBR_HOLES]])","v":"98,473,03412,73084,1NA11,2M5NANA4"},{"$f":"SUM(PCdb[[#This Row],[BDhit]:[THREAD_Lhit]])","v":4}]
[52,100,80,4,14,30,89,"NA",11.2,"M6","NA","NA",4,"M6",null,null,null,null,null,null,null,null,null,null,null,null,null,null,null,null,null,null,null,null,null,null,null,null,null,null,null,null,null,null,null,null,null,null,null,null,null,null,null,{"$f":"IF(AND(PCdb[[#This Row],[BCD]]>UIoptions!$S$10,PCdb[[#This Row],[BCD]]<UIoptions!$T$10),1,0)","v":0},{"$f":"IF(AND(PCdb[[#This Row],[PD]]>UIoptions!$S$11,PCdb[[#This Row],[PD]]<UIoptions!$T$11),1,0)","v":0},{"$f":"IF(AND(UIoptions!$P$14<=PCdb[[#This Row],[PL (MAX)]],UIoptions!$P$14>UIoptions!$S$14),1,0)","v":1},{"$f":"IF(AND(PCdb[[#This Row],[SD]]>UIoptions!$S$12,PCdb[[#This Row],[SD]]<UIoptions!$T$12),1,0)","v":0},{"$f":"IF(AND(PCdb[[#This Row],[SL]]>UIoptions!$S$13,PCdb[[#This Row],[SL]]<UIoptions!$T$13),1,0)","v":0},{"$f":"IF(UIoptions!$N$35=1,IF(AND(PCdb[[#This Row],[SQ_SZ]]>UIoptions!$S$15,PCdb[[#This Row],[SQ_SZ]]<UIoptions!$T$15),1,0),1)","v":0},{"$f":"IF(UIoptions!$N$35=2,IF(AND(PCdb[[#This Row],[ROUND_D]]>UIoptions!$S$15,PCdb[[#This Row],[ROUND_D]]<UIoptions!$T$15),1,0),1)","v":1},{"$f":"IF(UIoptions!$N$75<>1,1,IF(AND(PCdb[[#This Row],[FL]]>UIoptions!$S$16,PCdb[[#This Row],[FL]]<UIoptions!$T$16),1,0))","v":0},{"$f":"IF(OR(UIoptions!$Q$18=PCdb[[#This Row],[THRU_SCREW]],UIoptions!$Q$18=\"NA\"),1,0)","v":0},{"$f":"IF(OR(UIoptions!$P$19=PCdb[[#This Row],[THREAD_SZ]],UIoptions!$P$19=\"NA\"),1,0)","v":1},{"$f":"IF(UIoptions!$N$75=1,1,IF(AND(PCdb[[#This Row],[THREAD_L]]>UIoptions!$S$17,PCdb[[#This Row],[THREAD_L]]<UIoptions!$T$17),1,0))","v":1},{"$f":"IF(SUM(PCdb[[#This Row],[BDhit]:[THREAD_Lhit]])=11,1,0)","v":0},{"$f":"CONCATENATE(PCdb[[#This Row],[BCD]],PCdb[[#This Row],[PD]],PCdb[[#This Row],[PL (MAX)]],PCdb[[#This Row],[SD]],PCdb[[#This Row],[SL]],PCdb[[#This Row],[SQ_SZ]],PCdb[[#This Row],[ROUND_D]],PCdb[[#This Row],[FL]],PCdb[[#This Row],[THRU_SCREW]],PCdb[[#This Row],[THREAD_SZ]],PCdb[[#This Row],[THREAD_L]],PCdb[[#This Row],[NBR_HOLES]])","v":"100804143089NA11,2M6NANA4"},{"$f":"SUM(PCdb[[#This Row],[BDhit]:[THREAD_Lhit]])","v":4}]
[53,46.7,22.02,4,6.35,24.8,40.9,"NA",6.5,"M3","NA","NA",4,"M3",null,null,null,null,null,null,null,null,null,null,null,null,null,null,null,null,null,null,null,null,null,null,null,null,null,null,null,null,null,null,null,null,null,null,null,null,null,null,null,{"$f":"IF(AND(PCdb[[#This Row],[BCD]]>UIoptions!$S$10,PCdb[[#This Row],[BCD]]<UIoptions!$T$10),1,0)","v":0},{"$f":"IF(AND(PCdb[[#This Row],[PD]]>UIoptions!$S$11,PCdb[[#This Row],[PD]]<UIoptions!$T$11),1,0)","v":0},{"$f":"IF(AND(UIoptions!$P$14<=PCdb[[#This Row],[PL (MAX)]],UIoptions!$P$14>UIoptions!$S$14),1,0)","v":1},{"$f":"IF(AND(PCdb[[#This Row],[SD]]>UIoptions!$S$12,PCdb[[#This Row],[SD]]<UIoptions!$T$12),1,0)","v":0},{"$f":"IF(AND(PCdb[[#This Row],[SL]]>UIoptions!$S$13,PCdb[[#This Row],[SL]]<UIoptions!$T$13),1,0)","v":0},{"$f":"IF(UIoptions!$N$35=1,IF(AND(PCdb[[#This Row],[SQ_SZ]]>UIoptions!$S$15,PCdb[[#This Row],[SQ_SZ]]<UIoptions!$T$15),1,0),1)","v":0},{"$f":"IF(UIoptions!$N$35=2,IF(AND(PCdb[[#This Row],[ROUND_D]]>UIoptions!$S$15,PCdb[[#This Row],[ROUND_D]]<UIoptions!$T$15),1,0),1)","v":1},{"$f":"IF(UIoptions!$N$75<>1,1,IF(AND(PCdb[[#This Row],[FL]]>UIoptions!$S$16,PCdb[[#This Row],[FL]]<UIoptions!$T$16),1,0))","v":0},{"$f":"IF(OR(UIoptions!$Q$18=PCdb[[#This Row],[THRU_SCREW]],UIoptions!$Q$18=\"NA\"),1,0)","v":0},{"$f":"IF(OR(UIoptions!$P$19=PCdb[[#This Row],[THREAD_SZ]],UIoptions!$P$19=\"NA\"),1,0)","v":1},{"$f":"IF(UIoptions!$N$75=1,1,IF(AND(PCdb[[#This Row],[THREAD_L]]>UIoptions!$S$17,PCdb[[#This Row],[THREAD_L]]<UIoptions!$T$17),1,0))","v":1},{"$f":"IF(SUM(PCdb[[#This Row],[BDhit]:[THREAD_Lhit]])=11,1,0)","v":0},{"$f":"CONCATENATE(PCdb[[#This Row],[BCD]],PCdb[[#This Row],[PD]],PCdb[[#This Row],[PL (MAX)]],PCdb[[#This Row],[SD]],PCdb[[#This Row],[SL]],PCdb[[#This Row],[SQ_SZ]],PCdb[[#This Row],[ROUND_D]],PCdb[[#This Row],[FL]],PCdb[[#This Row],[THRU_SCREW]],PCdb[[#This Row],[THREAD_SZ]],PCdb[[#This Row],[THREAD_L]],PCdb[[#This Row],[NBR_HOLES]])","v":"46,722,0246,3524,840,9NA6,5M3NANA4"},{"$f":"SUM(PCdb[[#This Row],[BDhit]:[THREAD_Lhit]])","v":4}]
[54,66.7,38.1,4,9.51,31.9,57.3,"NA",9.1,"M5","NA","NA",4,"M5",null,null,null,null,null,null,null,null,null,null,null,null,null,null,null,null,null,null,null,null,null,null,null,null,null,null,null,null,null,null,null,null,null,null,null,null,null,null,null,{"$f":"IF(AND(PCdb[[#This Row],[BCD]]>UIoptions!$S$10,PCdb[[#This Row],[BCD]]<UIoptions!$T$10),1,0)","v":0},{"$f":"IF(AND(PCdb[[#This Row],[PD]]>UIoptions!$S$11,PCdb[[#This Row],[PD]]<UIoptions!$T$11),1,0)","v":0},{"$f":"IF(AND(UIoptions!$P$14<=PCdb[[#This Row],[PL (MAX)]],UIoptions!$P$14>UIoptions!$S$14),1,0)","v":1},{"$f":"IF(AND(PCdb[[#This Row],[SD]]>UIoptions!$S$12,PCdb[[#This Row],[SD]]<UIoptions!$T$12),1,0)","v":0},{"$f":"IF(AND(PCdb[[#This Row],[SL]]>UIoptions!$S$13,PCdb[[#This Row],[SL]]<UIoptions!$T$13),1,0)","v":0},{"$f":"IF(UIoptions!$N$35=1,IF(AND(PCdb[[#This Row],[SQ_SZ]]>UIoptions!$S$15,PCdb[[#This Row],[SQ_SZ]]<UIoptions!$T$15),1,0),1)","v":0},{"$f":"IF(UIoptions!$N$35=2,IF(AND(PCdb[[#This Row],[ROUND_D]]>UIoptions!$S$15,PCdb[[#This Row],[ROUND_D]]<UIoptions!$T$15),1,0),1)","v":1},{"$f":"IF(UIoptions!$N$75<>1,1,IF(AND(PCdb[[#This Row],[FL]]>UIoptions!$S$16,PCdb[[#This Row],[FL]]<UIoptions!$T$16),1,0))","v":0},{"$f":"IF(OR(UIoptions!$Q$18=PCdb[[#This Row],[THRU_SCREW]],UIoptions!$Q$18=\"NA\"),1,0)","v":0},{"$f":"IF(OR(UIoptions!$P$19=PCdb[[#This Row],[THREAD_SZ]],UIoptions!$P$19=\"NA\"),1,0)","v":1},{"$f":"IF(UIoptions!$N$75=1,1,IF(AND(PCdb[[#This Row],[THREAD_L]]>UIoptions!$S$17,PCdb[[#This Row],[THREAD_L]]<UIoptions!$T$17),1,0))","v":1},{"$f":"IF(SUM(PCdb[[#This Row],[BDhit]:[THREAD_Lhit]])=11,1,0)","v":0},{"$f":"CONCATENATE(PCdb[[#This Row],[BCD]],PCdb[[#This Row],[PD]],PCdb[[#This Row],[PL (MAX)]],PCdb[[#This Row],[SD]],PCdb[[#This Row],[SL]],PCdb[[#This Row],[SQ_SZ]],PCdb[[#This Row],[ROUND_D]],PCdb[[#This Row],[FL]],PCdb[[#This Row],[THRU_SCREW]],PCdb[[#This Row],[THREAD_SZ]],PCdb[[#This Row],[THREAD_L]],PCdb[[#This Row],[NBR_HOLES]])","v":"66,738,149,5131,957,3NA9,1M5NANA4"},{"$f":"SUM(PCdb[[#This Row],[BDhit]:[THREAD_Lhit]])","v":4}]
[55,98.4,73.03,4,12.7,30.3,84.9,"NA",7,"M5","NA","NA",4,"M5",null,null,null,null,null,null,null,null,null,null,null,null,null,null,null,null,null,null,null,null,null,null,null,null,null,null,null,null,null,null,null,null,null,39,"NA","Y","D",45,90,{"$f":"IF(AND(PCdb[[#This Row],[BCD]]>UIoptions!$S$10,PCdb[[#This Row],[BCD]]<UIoptions!$T$10),1,0)","v":0},{"$f":"IF(AND(PCdb[[#This Row],[PD]]>UIoptions!$S$11,PCdb[[#This Row],[PD]]<UIoptions!$T$11),1,0)","v":0},{"$f":"IF(AND(UIoptions!$P$14<=PCdb[[#This Row],[PL (MAX)]],UIoptions!$P$14>UIoptions!$S$14),1,0)","v":1},{"$f":"IF(AND(PCdb[[#This Row],[SD]]>UIoptions!$S$12,PCdb[[#This Row],[SD]]<UIoptions!$T$12),1,0)","v":0},{"$f":"IF(AND(PCdb[[#This Row],[SL]]>UIoptions!$S$13,PCdb[[#This Row],[SL]]<UIoptions!$T$13),1,0)","v":0},{"$f":"IF(UIoptions!$N$35=1,IF(AND(PCdb[[#This Row],[SQ_SZ]]>UIoptions!$S$15,PCdb[[#This Row],[SQ_SZ]]<UIoptions!$T$15),1,0),1)","v":0},{"$f":"IF(UIoptions!$N$35=2,IF(AND(PCdb[[#This Row],[ROUND_D]]>UIoptions!$S$15,PCdb[[#This Row],[ROUND_D]]<UIoptions!$T$15),1,0),1)","v":1},{"$f":"IF(UIoptions!$N$75<>1,1,IF(AND(PCdb[[#This Row],[FL]]>UIoptions!$S$16,PCdb[[#This Row],[FL]]<UIoptions!$T$16),1,0))","v":1},{"$f":"IF(OR(UIoptions!$Q$18=PCdb[[#This Row],[THRU_SCREW]],UIoptions!$Q$18=\"NA\"),1,0)","v":0},{"$f":"IF(OR(UIoptions!$P$19=PCdb[[#This Row],[THREAD_SZ]],UIoptions!$P$19=\"NA\"),1,0)","v":1},{"$f":"IF(UIoptions!$N$75=1,1,IF(AND(PCdb[[#This Row],[THREAD_L]]>UIoptions!$S$17,PCdb[[#This Row],[THREAD_L]]<UIoptions!$T$17),1,0))","v":1},{"$f":"IF(SUM(PCdb[[#This Row],[BDhit]:[THREAD_Lhit]])=11,1,0)","v":0},{"$f":"CONCATENATE(PCdb[[#This Row],[BCD]],PCdb[[#This Row],[PD]],PCdb[[#This Row],[PL (MAX)]],PCdb[[#This Row],[SD]],PCdb[[#This Row],[SL]],PCdb[[#This Row],[SQ_SZ]],PCdb[[#This Row],[ROUND_D]],PCdb[[#This Row],[FL]],PCdb[[#This Row],[THRU_SCREW]],PCdb[[#This Row],[THREAD_SZ]],PCdb[[#This Row],[THREAD_L]],PCdb[[#This Row],[NBR_HOLES]])","v":"98,473,03412,730,384,9NA7M5NANA4"},{"$f":"SUM(PCdb[[#This Row],[BDhit]:[THREAD_Lhit]])","v":5}]
[56,100,80,4,16,40,92.4,"NA",9.9,"M6","NA","NA",4,"M6",null,null,null,null,null,null,null,null,null,null,null,null,null,null,45.2,42,0,"Y","B",45,90,null,null,null,null,null,null,null,null,null,null,null,null,null,null,null,null,null,null,{"$f":"IF(AND(PCdb[[#This Row],[BCD]]>UIoptions!$S$10,PCdb[[#This Row],[BCD]]<UIoptions!$T$10),1,0)","v":0},{"$f":"IF(AND(PCdb[[#This Row],[PD]]>UIoptions!$S$11,PCdb[[#This Row],[PD]]<UIoptions!$T$11),1,0)","v":0},{"$f":"IF(AND(UIoptions!$P$14<=PCdb[[#This Row],[PL (MAX)]],UIoptions!$P$14>UIoptions!$S$14),1,0)","v":1},{"$f":"IF(AND(PCdb[[#This Row],[SD]]>UIoptions!$S$12,PCdb[[#This Row],[SD]]<UIoptions!$T$12),1,0)","v":0},{"$f":"IF(AND(PCdb[[#This Row],[SL]]>UIoptions!$S$13,PCdb[[#This Row],[SL]]<UIoptions!$T$13),1,0)","v":0},{"$f":"IF(UIoptions!$N$35=1,IF(AND(PCdb[[#This Row],[SQ_SZ]]>UIoptions!$S$15,PCdb[[#This Row],[SQ_SZ]]<UIoptions!$T$15),1,0),1)","v":0},{"$f":"IF(UIoptions!$N$35=2,IF(AND(PCdb[[#This Row],[ROUND_D]]>UIoptions!$S$15,PCdb[[#This Row],[ROUND_D]]<UIoptions!$T$15),1,0),1)","v":1},{"$f":"IF(UIoptions!$N$75<>1,1,IF(AND(PCdb[[#This Row],[FL]]>UIoptions!$S$16,PCdb[[#This Row],[FL]]<UIoptions!$T$16),1,0))","v":0},{"$f":"IF(OR(UIoptions!$Q$18=PCdb[[#This Row],[THRU_SCREW]],UIoptions!$Q$18=\"NA\"),1,0)","v":0},{"$f":"IF(OR(UIoptions!$P$19=PCdb[[#This Row],[THREAD_SZ]],UIoptions!$P$19=\"NA\"),1,0)","v":1},{"$f":"IF(UIoptions!$N$75=1,1,IF(AND(PCdb[[#This Row],[THREAD_L]]>UIoptions!$S$17,PCdb[[#This Row],[THREAD_L]]<UIoptions!$T$17),1,0))","v":1},{"$f":"IF(SUM(PCdb[[#This Row],[BDhit]:[THREAD_Lhit]])=11,1,0)","v":0},{"$f":"CONCATENATE(PCdb[[#This Row],[BCD]],PCdb[[#This Row],[PD]],PCdb[[#This Row],[PL (MAX)]],PCdb[[#This Row],[SD]],PCdb[[#This Row],[SL]],PCdb[[#This Row],[SQ_SZ]],PCdb[[#This Row],[ROUND_D]],PCdb[[#This Row],[FL]],PCdb[[#This Row],[THRU_SCREW]],PCdb[[#This Row],[THREAD_SZ]],PCdb[[#This Row],[THREAD_L]],PCdb[[#This Row],[NBR_HOLES]])","v":"100804164092,4NA9,9M6NANA4"},{"$f":"SUM(PCdb[[#This Row],[BDhit]:[THREAD_Lhit]])","v":4}]
[57,63,40,4,9,19.7,55,"NA","6.5","M5","NA","NA",4,"M5",null,null,null,null,null,null,null,38.700000000000003,"NA","NA","NO","B",45,90,null,null,null,null,null,null,null,23,0,"Y","D",45,90,24,"NA","Y","C",45,90,null,null,null,null,null,null,{"$f":"IF(AND(PCdb[[#This Row],[BCD]]>UIoptions!$S$10,PCdb[[#This Row],[BCD]]<UIoptions!$T$10),1,0)","v":1},{"$f":"IF(AND(PCdb[[#This Row],[PD]]>UIoptions!$S$11,PCdb[[#This Row],[PD]]<UIoptions!$T$11),1,0)","v":1},{"$f":"IF(AND(UIoptions!$P$14<=PCdb[[#This Row],[PL (MAX)]],UIoptions!$P$14>UIoptions!$S$14),1,0)","v":1},{"$f":"IF(AND(PCdb[[#This Row],[SD]]>UIoptions!$S$12,PCdb[[#This Row],[SD]]<UIoptions!$T$12),1,0)","v":0},{"$f":"IF(AND(PCdb[[#This Row],[SL]]>UIoptions!$S$13,PCdb[[#This Row],[SL]]<UIoptions!$T$13),1,0)","v":0},{"$f":"IF(UIoptions!$N$35=1,IF(AND(PCdb[[#This Row],[SQ_SZ]]>UIoptions!$S$15,PCdb[[#This Row],[SQ_SZ]]<UIoptions!$T$15),1,0),1)","v":0},{"$f":"IF(UIoptions!$N$35=2,IF(AND(PCdb[[#This Row],[ROUND_D]]>UIoptions!$S$15,PCdb[[#This Row],[ROUND_D]]<UIoptions!$T$15),1,0),1)","v":1},{"$f":"IF(UIoptions!$N$75<>1,1,IF(AND(PCdb[[#This Row],[FL]]>UIoptions!$S$16,PCdb[[#This Row],[FL]]<UIoptions!$T$16),1,0))","v":0},{"$f":"IF(OR(UIoptions!$Q$18=PCdb[[#This Row],[THRU_SCREW]],UIoptions!$Q$18=\"NA\"),1,0)","v":0},{"$f":"IF(OR(UIoptions!$P$19=PCdb[[#This Row],[THREAD_SZ]],UIoptions!$P$19=\"NA\"),1,0)","v":1},{"$f":"IF(UIoptions!$N$75=1,1,IF(AND(PCdb[[#This Row],[THREAD_L]]>UIoptions!$S$17,PCdb[[#This Row],[THREAD_L]]<UIoptions!$T$17),1,0))","v":1},{"$f":"IF(SUM(PCdb[[#This Row],[BDhit]:[THREAD_Lhit]])=11,1,0)","v":0},{"$f":"CONCATENATE(PCdb[[#This Row],[BCD]],PCdb[[#This Row],[PD]],PCdb[[#This Row],[PL (MAX)]],PCdb[[#This Row],[SD]],PCdb[[#This Row],[SL]],PCdb[[#This Row],[SQ_SZ]],PCdb[[#This Row],[ROUND_D]],PCdb[[#This Row],[FL]],PCdb[[#This Row],[THRU_SCREW]],PCdb[[#This Row],[THREAD_SZ]],PCdb[[#This Row],[THREAD_L]],PCdb[[#This Row],[NBR_HOLES]])","v":"63404919,755NA6.5M5NANA4"},{"$f":"SUM(PCdb[[#This Row],[BDhit]:[THREAD_Lhit]])","v":6}]
[58,75,60,4,11,22.7,70,"NA",9,"M5","NA","NA",4,"M5","NA","NA","NA","NA","NA","NA","NA",null,null,null,null,null,null,null,48.7,32,0,"Y","C",45,90,"NA","NA","NA","NA","NA","NA",32,0,"Y","D",45,90,32,"NA","Y","C",45,90,{"$f":"IF(AND(PCdb[[#This Row],[BCD]]>UIoptions!$S$10,PCdb[[#This Row],[BCD]]<UIoptions!$T$10),1,0)","v":0},{"$f":"IF(AND(PCdb[[#This Row],[PD]]>UIoptions!$S$11,PCdb[[#This Row],[PD]]<UIoptions!$T$11),1,0)","v":0},{"$f":"IF(AND(UIoptions!$P$14<=PCdb[[#This Row],[PL (MAX)]],UIoptions!$P$14>UIoptions!$S$14),1,0)","v":1},{"$f":"IF(AND(PCdb[[#This Row],[SD]]>UIoptions!$S$12,PCdb[[#This Row],[SD]]<UIoptions!$T$12),1,0)","v":0},{"$f":"IF(AND(PCdb[[#This Row],[SL]]>UIoptions!$S$13,PCdb[[#This Row],[SL]]<UIoptions!$T$13),1,0)","v":0},{"$f":"IF(UIoptions!$N$35=1,IF(AND(PCdb[[#This Row],[SQ_SZ]]>UIoptions!$S$15,PCdb[[#This Row],[SQ_SZ]]<UIoptions!$T$15),1,0),1)","v":0},{"$f":"IF(UIoptions!$N$35=2,IF(AND(PCdb[[#This Row],[ROUND_D]]>UIoptions!$S$15,PCdb[[#This Row],[ROUND_D]]<UIoptions!$T$15),1,0),1)","v":1},{"$f":"IF(UIoptions!$N$75<>1,1,IF(AND(PCdb[[#This Row],[FL]]>UIoptions!$S$16,PCdb[[#This Row],[FL]]<UIoptions!$T$16),1,0))","v":0},{"$f":"IF(OR(UIoptions!$Q$18=PCdb[[#This Row],[THRU_SCREW]],UIoptions!$Q$18=\"NA\"),1,0)","v":0},{"$f":"IF(OR(UIoptions!$P$19=PCdb[[#This Row],[THREAD_SZ]],UIoptions!$P$19=\"NA\"),1,0)","v":1},{"$f":"IF(UIoptions!$N$75=1,1,IF(AND(PCdb[[#This Row],[THREAD_L]]>UIoptions!$S$17,PCdb[[#This Row],[THREAD_L]]<UIoptions!$T$17),1,0))","v":1},{"$f":"IF(SUM(PCdb[[#This Row],[BDhit]:[THREAD_Lhit]])=11,1,0)","v":0},{"$f":"CONCATENATE(PCdb[[#This Row],[BCD]],PCdb[[#This Row],[PD]],PCdb[[#This Row],[PL (MAX)]],PCdb[[#This Row],[SD]],PCdb[[#This Row],[SL]],PCdb[[#This Row],[SQ_SZ]],PCdb[[#This Row],[ROUND_D]],PCdb[[#This Row],[FL]],PCdb[[#This Row],[THRU_SCREW]],PCdb[[#This Row],[THREAD_SZ]],PCdb[[#This Row],[THREAD_L]],PCdb[[#This Row],[NBR_HOLES]])","v":"756041122,770NA9M5NANA4"},{"$f":"SUM(PCdb[[#This Row],[BDhit]:[THREAD_Lhit]])","v":4}]
[59,70,50,4,12,30,60,"NA",6,"M5","NA","NA",4,"M5",null,null,null,null,null,null,null,null,null,null,null,null,null,null,null,null,null,null,null,null,null,null,null,null,null,null,null,null,null,null,null,null,null,null,null,null,null,null,null,{"$f":"IF(AND(PCdb[[#This Row],[BCD]]>UIoptions!$S$10,PCdb[[#This Row],[BCD]]<UIoptions!$T$10),1,0)","v":0},{"$f":"IF(AND(PCdb[[#This Row],[PD]]>UIoptions!$S$11,PCdb[[#This Row],[PD]]<UIoptions!$T$11),1,0)","v":0},{"$f":"IF(AND(UIoptions!$P$14<=PCdb[[#This Row],[PL (MAX)]],UIoptions!$P$14>UIoptions!$S$14),1,0)","v":1},{"$f":"IF(AND(PCdb[[#This Row],[SD]]>UIoptions!$S$12,PCdb[[#This Row],[SD]]<UIoptions!$T$12),1,0)","v":0},{"$f":"IF(AND(PCdb[[#This Row],[SL]]>UIoptions!$S$13,PCdb[[#This Row],[SL]]<UIoptions!$T$13),1,0)","v":0},{"$f":"IF(UIoptions!$N$35=1,IF(AND(PCdb[[#This Row],[SQ_SZ]]>UIoptions!$S$15,PCdb[[#This Row],[SQ_SZ]]<UIoptions!$T$15),1,0),1)","v":0},{"$f":"IF(UIoptions!$N$35=2,IF(AND(PCdb[[#This Row],[ROUND_D]]>UIoptions!$S$15,PCdb[[#This Row],[ROUND_D]]<UIoptions!$T$15),1,0),1)","v":1},{"$f":"IF(UIoptions!$N$75<>1,1,IF(AND(PCdb[[#This Row],[FL]]>UIoptions!$S$16,PCdb[[#This Row],[FL]]<UIoptions!$T$16),1,0))","v":0},{"$f":"IF(OR(UIoptions!$Q$18=PCdb[[#This Row],[THRU_SCREW]],UIoptions!$Q$18=\"NA\"),1,0)","v":0},{"$f":"IF(OR(UIoptions!$P$19=PCdb[[#This Row],[THREAD_SZ]],UIoptions!$P$19=\"NA\"),1,0)","v":1},{"$f":"IF(UIoptions!$N$75=1,1,IF(AND(PCdb[[#This Row],[THREAD_L]]>UIoptions!$S$17,PCdb[[#This Row],[THREAD_L]]<UIoptions!$T$17),1,0))","v":1},{"$f":"IF(SUM(PCdb[[#This Row],[BDhit]:[THREAD_Lhit]])=11,1,0)","v":0},{"$f":"CONCATENATE(PCdb[[#This Row],[BCD]],PCdb[[#This Row],[PD]],PCdb[[#This Row],[PL (MAX)]],PCdb[[#This Row],[SD]],PCdb[[#This Row],[SL]],PCdb[[#This Row],[SQ_SZ]],PCdb[[#This Row],[ROUND_D]],PCdb[[#This Row],[FL]],PCdb[[#This Row],[THRU_SCREW]],PCdb[[#This Row],[THREAD_SZ]],PCdb[[#This Row],[THREAD_L]],PCdb[[#This Row],[NBR_HOLES]])","v":"70504123060NA6M5NANA4"},{"$f":"SUM(PCdb[[#This Row],[BDhit]:[THREAD_Lhit]])","v":4}]
[60,66.7,38.1,4,12.7,38.1,60,"NA",6,"M5","NA","NA",4,"M5",null,null,null,null,null,null,null,null,null,null,null,null,null,null,null,null,null,null,null,null,null,null,null,null,null,null,null,null,null,null,null,null,null,null,null,null,null,null,null,{"$f":"IF(AND(PCdb[[#This Row],[BCD]]>UIoptions!$S$10,PCdb[[#This Row],[BCD]]<UIoptions!$T$10),1,0)","v":0},{"$f":"IF(AND(PCdb[[#This Row],[PD]]>UIoptions!$S$11,PCdb[[#This Row],[PD]]<UIoptions!$T$11),1,0)","v":0},{"$f":"IF(AND(UIoptions!$P$14<=PCdb[[#This Row],[PL (MAX)]],UIoptions!$P$14>UIoptions!$S$14),1,0)","v":1},{"$f":"IF(AND(PCdb[[#This Row],[SD]]>UIoptions!$S$12,PCdb[[#This Row],[SD]]<UIoptions!$T$12),1,0)","v":0},{"$f":"IF(AND(PCdb[[#This Row],[SL]]>UIoptions!$S$13,PCdb[[#This Row],[SL]]<UIoptions!$T$13),1,0)","v":0},{"$f":"IF(UIoptions!$N$35=1,IF(AND(PCdb[[#This Row],[SQ_SZ]]>UIoptions!$S$15,PCdb[[#This Row],[SQ_SZ]]<UIoptions!$T$15),1,0),1)","v":0},{"$f":"IF(UIoptions!$N$35=2,IF(AND(PCdb[[#This Row],[ROUND_D]]>UIoptions!$S$15,PCdb[[#This Row],[ROUND_D]]<UIoptions!$T$15),1,0),1)","v":1},{"$f":"IF(UIoptions!$N$75<>1,1,IF(AND(PCdb[[#This Row],[FL]]>UIoptions!$S$16,PCdb[[#This Row],[FL]]<UIoptions!$T$16),1,0))","v":0},{"$f":"IF(OR(UIoptions!$Q$18=PCdb[[#This Row],[THRU_SCREW]],UIoptions!$Q$18=\"NA\"),1,0)","v":0},{"$f":"IF(OR(UIoptions!$P$19=PCdb[[#This Row],[THREAD_SZ]],UIoptions!$P$19=\"NA\"),1,0)","v":1},{"$f":"IF(UIoptions!$N$75=1,1,IF(AND(PCdb[[#This Row],[THREAD_L]]>UIoptions!$S$17,PCdb[[#This Row],[THREAD_L]]<UIoptions!$T$17),1,0))","v":1},{"$f":"IF(SUM(PCdb[[#This Row],[BDhit]:[THREAD_Lhit]])=11,1,0)","v":0},{"$f":"CONCATENATE(PCdb[[#This Row],[BCD]],PCdb[[#This Row],[PD]],PCdb[[#This Row],[PL (MAX)]],PCdb[[#This Row],[SD]],PCdb[[#This Row],[SL]],PCdb[[#This Row],[SQ_SZ]],PCdb[[#This Row],[ROUND_D]],PCdb[[#This Row],[FL]],PCdb[[#This Row],[THRU_SCREW]],PCdb[[#This Row],[THREAD_SZ]],PCdb[[#This Row],[THREAD_L]],PCdb[[#This Row],[NBR_HOLES]])","v":"66,738,1412,738,160NA6M5NANA4"},{"$f":"SUM(PCdb[[#This Row],[BDhit]:[THREAD_Lhit]])","v":4}]
[61,66.7,38.1,4,6.35,20.6,56,"NA",5,"M4","NA","NA",4,"M4",38.700000000000003,22,0,"Y","B",45,90,null,null,null,null,null,null,null,null,null,null,null,null,null,null,22,0,"Y","D",45,90,22,"NA","Y","C",45,90,22,0,"Y","C",45,90,{"$f":"IF(AND(PCdb[[#This Row],[BCD]]>UIoptions!$S$10,PCdb[[#This Row],[BCD]]<UIoptions!$T$10),1,0)","v":0},{"$f":"IF(AND(PCdb[[#This Row],[PD]]>UIoptions!$S$11,PCdb[[#This Row],[PD]]<UIoptions!$T$11),1,0)","v":0},{"$f":"IF(AND(UIoptions!$P$14<=PCdb[[#This Row],[PL (MAX)]],UIoptions!$P$14>UIoptions!$S$14),1,0)","v":1},{"$f":"IF(AND(PCdb[[#This Row],[SD]]>UIoptions!$S$12,PCdb[[#This Row],[SD]]<UIoptions!$T$12),1,0)","v":0},{"$f":"IF(AND(PCdb[[#This Row],[SL]]>UIoptions!$S$13,PCdb[[#This Row],[SL]]<UIoptions!$T$13),1,0)","v":0},{"$f":"IF(UIoptions!$N$35=1,IF(AND(PCdb[[#This Row],[SQ_SZ]]>UIoptions!$S$15,PCdb[[#This Row],[SQ_SZ]]<UIoptions!$T$15),1,0),1)","v":0},{"$f":"IF(UIoptions!$N$35=2,IF(AND(PCdb[[#This Row],[ROUND_D]]>UIoptions!$S$15,PCdb[[#This Row],[ROUND_D]]<UIoptions!$T$15),1,0),1)","v":1},{"$f":"IF(UIoptions!$N$75<>1,1,IF(AND(PCdb[[#This Row],[FL]]>UIoptions!$S$16,PCdb[[#This Row],[FL]]<UIoptions!$T$16),1,0))","v":0},{"$f":"IF(OR(UIoptions!$Q$18=PCdb[[#This Row],[THRU_SCREW]],UIoptions!$Q$18=\"NA\"),1,0)","v":1},{"$f":"IF(OR(UIoptions!$P$19=PCdb[[#This Row],[THREAD_SZ]],UIoptions!$P$19=\"NA\"),1,0)","v":1},{"$f":"IF(UIoptions!$N$75=1,1,IF(AND(PCdb[[#This Row],[THREAD_L]]>UIoptions!$S$17,PCdb[[#This Row],[THREAD_L]]<UIoptions!$T$17),1,0))","v":1},{"$f":"IF(SUM(PCdb[[#This Row],[BDhit]:[THREAD_Lhit]])=11,1,0)","v":0},{"$f":"CONCATENATE(PCdb[[#This Row],[BCD]],PCdb[[#This Row],[PD]],PCdb[[#This Row],[PL (MAX)]],PCdb[[#This Row],[SD]],PCdb[[#This Row],[SL]],PCdb[[#This Row],[SQ_SZ]],PCdb[[#This Row],[ROUND_D]],PCdb[[#This Row],[FL]],PCdb[[#This Row],[THRU_SCREW]],PCdb[[#This Row],[THREAD_SZ]],PCdb[[#This Row],[THREAD_L]],PCdb[[#This Row],[NBR_HOLES]])","v":"66,738,146,3520,656NA5M4NANA4"},{"$f":"SUM(PCdb[[#This Row],[BDhit]:[THREAD_Lhit]])","v":5}]
[62,46,30,4,6,25,40,"NA",5,"M4","NA","NA",4,"M4",null,null,null,null,null,null,null,41.7,15.5,"NA","Y","A",45,90,null,null,null,null,null,null,null,null,null,null,null,null,null,null,null,null,null,null,null,null,null,null,null,null,null,{"$f":"IF(AND(PCdb[[#This Row],[BCD]]>UIoptions!$S$10,PCdb[[#This Row],[BCD]]<UIoptions!$T$10),1,0)","v":0},{"$f":"IF(AND(PCdb[[#This Row],[PD]]>UIoptions!$S$11,PCdb[[#This Row],[PD]]<UIoptions!$T$11),1,0)","v":0},{"$f":"IF(AND(UIoptions!$P$14<=PCdb[[#This Row],[PL (MAX)]],UIoptions!$P$14>UIoptions!$S$14),1,0)","v":1},{"$f":"IF(AND(PCdb[[#This Row],[SD]]>UIoptions!$S$12,PCdb[[#This Row],[SD]]<UIoptions!$T$12),1,0)","v":0},{"$f":"IF(AND(PCdb[[#This Row],[SL]]>UIoptions!$S$13,PCdb[[#This Row],[SL]]<UIoptions!$T$13),1,0)","v":0},{"$f":"IF(UIoptions!$N$35=1,IF(AND(PCdb[[#This Row],[SQ_SZ]]>UIoptions!$S$15,PCdb[[#This Row],[SQ_SZ]]<UIoptions!$T$15),1,0),1)","v":0},{"$f":"IF(UIoptions!$N$35=2,IF(AND(PCdb[[#This Row],[ROUND_D]]>UIoptions!$S$15,PCdb[[#This Row],[ROUND_D]]<UIoptions!$T$15),1,0),1)","v":1},{"$f":"IF(UIoptions!$N$75<>1,1,IF(AND(PCdb[[#This Row],[FL]]>UIoptions!$S$16,PCdb[[#This Row],[FL]]<UIoptions!$T$16),1,0))","v":0},{"$f":"IF(OR(UIoptions!$Q$18=PCdb[[#This Row],[THRU_SCREW]],UIoptions!$Q$18=\"NA\"),1,0)","v":1},{"$f":"IF(OR(UIoptions!$P$19=PCdb[[#This Row],[THREAD_SZ]],UIoptions!$P$19=\"NA\"),1,0)","v":1},{"$f":"IF(UIoptions!$N$75=1,1,IF(AND(PCdb[[#This Row],[THREAD_L]]>UIoptions!$S$17,PCdb[[#This Row],[THREAD_L]]<UIoptions!$T$17),1,0))","v":1},{"$f":"IF(SUM(PCdb[[#This Row],[BDhit]:[THREAD_Lhit]])=11,1,0)","v":0},{"$f":"CONCATENATE(PCdb[[#This Row],[BCD]],PCdb[[#This Row],[PD]],PCdb[[#This Row],[PL (MAX)]],PCdb[[#This Row],[SD]],PCdb[[#This Row],[SL]],PCdb[[#This Row],[SQ_SZ]],PCdb[[#This Row],[ROUND_D]],PCdb[[#This Row],[FL]],PCdb[[#This Row],[THRU_SCREW]],PCdb[[#This Row],[THREAD_SZ]],PCdb[[#This Row],[THREAD_L]],PCdb[[#This Row],[NBR_HOLES]])","v":"4630462540NA5M4NANA4"},{"$f":"SUM(PCdb[[#This Row],[BDhit]:[THREAD_Lhit]])","v":5}]
[63,70,50,4,14,30,60,"NA",6,"M5","NA","NA",4,"M5","NA","NA","NA","NA","NA","NA","NA",41.7,27,"NA","Y","B",45,90,48.7,"NA","NA","N","A",45,90,"NA","NA","NA","NA","NA","NA",28,0,"Y","C",45,90,28,0,"Y","C",45,90,{"$f":"IF(AND(PCdb[[#This Row],[BCD]]>UIoptions!$S$10,PCdb[[#This Row],[BCD]]<UIoptions!$T$10),1,0)","v":0},{"$f":"IF(AND(PCdb[[#This Row],[PD]]>UIoptions!$S$11,PCdb[[#This Row],[PD]]<UIoptions!$T$11),1,0)","v":0},{"$f":"IF(AND(UIoptions!$P$14<=PCdb[[#This Row],[PL (MAX)]],UIoptions!$P$14>UIoptions!$S$14),1,0)","v":1},{"$f":"IF(AND(PCdb[[#This Row],[SD]]>UIoptions!$S$12,PCdb[[#This Row],[SD]]<UIoptions!$T$12),1,0)","v":0},{"$f":"IF(AND(PCdb[[#This Row],[SL]]>UIoptions!$S$13,PCdb[[#This Row],[SL]]<UIoptions!$T$13),1,0)","v":0},{"$f":"IF(UIoptions!$N$35=1,IF(AND(PCdb[[#This Row],[SQ_SZ]]>UIoptions!$S$15,PCdb[[#This Row],[SQ_SZ]]<UIoptions!$T$15),1,0),1)","v":0},{"$f":"IF(UIoptions!$N$35=2,IF(AND(PCdb[[#This Row],[ROUND_D]]>UIoptions!$S$15,PCdb[[#This Row],[ROUND_D]]<UIoptions!$T$15),1,0),1)","v":1},{"$f":"IF(UIoptions!$N$75<>1,1,IF(AND(PCdb[[#This Row],[FL]]>UIoptions!$S$16,PCdb[[#This Row],[FL]]<UIoptions!$T$16),1,0))","v":0},{"$f":"IF(OR(UIoptions!$Q$18=PCdb[[#This Row],[THRU_SCREW]],UIoptions!$Q$18=\"NA\"),1,0)","v":0},{"$f":"IF(OR(UIoptions!$P$19=PCdb[[#This Row],[THREAD_SZ]],UIoptions!$P$19=\"NA\"),1,0)","v":1},{"$f":"IF(UIoptions!$N$75=1,1,IF(AND(PCdb[[#This Row],[THREAD_L]]>UIoptions!$S$17,PCdb[[#This Row],[THREAD_L]]<UIoptions!$T$17),1,0))","v":1},{"$f":"IF(SUM(PCdb[[#This Row],[BDhit]:[THREAD_Lhit]])=11,1,0)","v":0},{"$f":"CONCATENATE(PCdb[[#This Row],[BCD]],PCdb[[#This Row],[PD]],PCdb[[#This Row],[PL (MAX)]],PCdb[[#This Row],[SD]],PCdb[[#This Row],[SL]],PCdb[[#This Row],[SQ_SZ]],PCdb[[#This Row],[ROUND_D]],PCdb[[#This Row],[FL]],PCdb[[#This Row],[THRU_SCREW]],PCdb[[#This Row],[THREAD_SZ]],PCdb[[#This Row],[THREAD_L]],PCdb[[#This Row],[NBR_HOLES]])","v":"70504143060NA6M5NANA4"},{"$f":"SUM(PCdb[[#This Row],[BDhit]:[THREAD_Lhit]])","v":4}]
[64,90,70,4,16,40,76,"NA",8,"M5","NA","NA",4,"M5",null,null,null,null,null,null,null,null,null,null,null,null,null,null,null,null,null,null,null,null,null,null,null,null,null,null,null,null,null,null,null,null,null,null,null,null,null,null,null,{"$f":"IF(AND(PCdb[[#This Row],[BCD]]>UIoptions!$S$10,PCdb[[#This Row],[BCD]]<UIoptions!$T$10),1,0)","v":0},{"$f":"IF(AND(PCdb[[#This Row],[PD]]>UIoptions!$S$11,PCdb[[#This Row],[PD]]<UIoptions!$T$11),1,0)","v":0},{"$f":"IF(AND(UIoptions!$P$14<=PCdb[[#This Row],[PL (MAX)]],UIoptions!$P$14>UIoptions!$S$14),1,0)","v":1},{"$f":"IF(AND(PCdb[[#This Row],[SD]]>UIoptions!$S$12,PCdb[[#This Row],[SD]]<UIoptions!$T$12),1,0)","v":0},{"$f":"IF(AND(PCdb[[#This Row],[SL]]>UIoptions!$S$13,PCdb[[#This Row],[SL]]<UIoptions!$T$13),1,0)","v":0},{"$f":"IF(UIoptions!$N$35=1,IF(AND(PCdb[[#This Row],[SQ_SZ]]>UIoptions!$S$15,PCdb[[#This Row],[SQ_SZ]]<UIoptions!$T$15),1,0),1)","v":0},{"$f":"IF(UIoptions!$N$35=2,IF(AND(PCdb[[#This Row],[ROUND_D]]>UIoptions!$S$15,PCdb[[#This Row],[ROUND_D]]<UIoptions!$T$15),1,0),1)","v":1},{"$f":"IF(UIoptions!$N$75<>1,1,IF(AND(PCdb[[#This Row],[FL]]>UIoptions!$S$16,PCdb[[#This Row],[FL]]<UIoptions!$T$16),1,0))","v":0},{"$f":"IF(OR(UIoptions!$Q$18=PCdb[[#This Row],[THRU_SCREW]],UIoptions!$Q$18=\"NA\"),1,0)","v":0},{"$f":"IF(OR(UIoptions!$P$19=PCdb[[#This Row],[THREAD_SZ]],UIoptions!$P$19=\"NA\"),1,0)","v":1},{"$f":"IF(UIoptions!$N$75=1,1,IF(AND(PCdb[[#This Row],[THREAD_L]]>UIoptions!$S$17,PCdb[[#This Row],[THREAD_L]]<UIoptions!$T$17),1,0))","v":1},{"$f":"IF(SUM(PCdb[[#This Row],[BDhit]:[THREAD_Lhit]])=11,1,0)","v":0},{"$f":"CONCATENATE(PCdb[[#This Row],[BCD]],PCdb[[#This Row],[PD]],PCdb[[#This Row],[PL (MAX)]],PCdb[[#This Row],[SD]],PCdb[[#This Row],[SL]],PCdb[[#This Row],[SQ_SZ]],PCdb[[#This Row],[ROUND_D]],PCdb[[#This Row],[FL]],PCdb[[#This Row],[THRU_SCREW]],PCdb[[#This Row],[THREAD_SZ]],PCdb[[#This Row],[THREAD_L]],PCdb[[#This Row],[NBR_HOLES]])","v":"90704164076NA8M5NANA4"},{"$f":"SUM(PCdb[[#This Row],[BDhit]:[THREAD_Lhit]])","v":4}]
[65,90,70,4,16,40,80,"NA",8,"M6","NA","NA",4,"M6","NA","NA","NA","NA","NA","NA","NA",null,null,null,null,null,null,null,null,null,null,null,null,null,null,"NA","NA","NA","NA","NA","NA","NA","NA","NA","NA","NA","NA",37,0,"Y","D",45,90,{"$f":"IF(AND(PCdb[[#This Row],[BCD]]>UIoptions!$S$10,PCdb[[#This Row],[BCD]]<UIoptions!$T$10),1,0)","v":0},{"$f":"IF(AND(PCdb[[#This Row],[PD]]>UIoptions!$S$11,PCdb[[#This Row],[PD]]<UIoptions!$T$11),1,0)","v":0},{"$f":"IF(AND(UIoptions!$P$14<=PCdb[[#This Row],[PL (MAX)]],UIoptions!$P$14>UIoptions!$S$14),1,0)","v":1},{"$f":"IF(AND(PCdb[[#This Row],[SD]]>UIoptions!$S$12,PCdb[[#This Row],[SD]]<UIoptions!$T$12),1,0)","v":0},{"$f":"IF(AND(PCdb[[#This Row],[SL]]>UIoptions!$S$13,PCdb[[#This Row],[SL]]<UIoptions!$T$13),1,0)","v":0},{"$f":"IF(UIoptions!$N$35=1,IF(AND(PCdb[[#This Row],[SQ_SZ]]>UIoptions!$S$15,PCdb[[#This Row],[SQ_SZ]]<UIoptions!$T$15),1,0),1)","v":0},{"$f":"IF(UIoptions!$N$35=2,IF(AND(PCdb[[#This Row],[ROUND_D]]>UIoptions!$S$15,PCdb[[#This Row],[ROUND_D]]<UIoptions!$T$15),1,0),1)","v":1},{"$f":"IF(UIoptions!$N$75<>1,1,IF(AND(PCdb[[#This Row],[FL]]>UIoptions!$S$16,PCdb[[#This Row],[FL]]<UIoptions!$T$16),1,0))","v":0},{"$f":"IF(OR(UIoptions!$Q$18=PCdb[[#This Row],[THRU_SCREW]],UIoptions!$Q$18=\"NA\"),1,0)","v":0},{"$f":"IF(OR(UIoptions!$P$19=PCdb[[#This Row],[THREAD_SZ]],UIoptions!$P$19=\"NA\"),1,0)","v":1},{"$f":"IF(UIoptions!$N$75=1,1,IF(AND(PCdb[[#This Row],[THREAD_L]]>UIoptions!$S$17,PCdb[[#This Row],[THREAD_L]]<UIoptions!$T$17),1,0))","v":1},{"$f":"IF(SUM(PCdb[[#This Row],[BDhit]:[THREAD_Lhit]])=11,1,0)","v":0},{"$f":"CONCATENATE(PCdb[[#This Row],[BCD]],PCdb[[#This Row],[PD]],PCdb[[#This Row],[PL (MAX)]],PCdb[[#This Row],[SD]],PCdb[[#This Row],[SL]],PCdb[[#This Row],[SQ_SZ]],PCdb[[#This Row],[ROUND_D]],PCdb[[#This Row],[FL]],PCdb[[#This Row],[THRU_SCREW]],PCdb[[#This Row],[THREAD_SZ]],PCdb[[#This Row],[THREAD_L]],PCdb[[#This Row],[NBR_HOLES]])","v":"90704164080NA8M6NANA4"},{"$f":"SUM(PCdb[[#This Row],[BDhit]:[THREAD_Lhit]])","v":4}]
[66,48,34,4,7,24,42,"NA",5,"M3","NA","NA",4,"M3",null,null,null,null,null,null,null,null,null,null,null,null,null,null,null,null,null,null,null,null,null,null,null,null,null,null,null,null,null,null,null,null,null,null,null,null,null,null,null,{"$f":"IF(AND(PCdb[[#This Row],[BCD]]>UIoptions!$S$10,PCdb[[#This Row],[BCD]]<UIoptions!$T$10),1,0)","v":0},{"$f":"IF(AND(PCdb[[#This Row],[PD]]>UIoptions!$S$11,PCdb[[#This Row],[PD]]<UIoptions!$T$11),1,0)","v":0},{"$f":"IF(AND(UIoptions!$P$14<=PCdb[[#This Row],[PL (MAX)]],UIoptions!$P$14>UIoptions!$S$14),1,0)","v":1},{"$f":"IF(AND(PCdb[[#This Row],[SD]]>UIoptions!$S$12,PCdb[[#This Row],[SD]]<UIoptions!$T$12),1,0)","v":0},{"$f":"IF(AND(PCdb[[#This Row],[SL]]>UIoptions!$S$13,PCdb[[#This Row],[SL]]<UIoptions!$T$13),1,0)","v":0},{"$f":"IF(UIoptions!$N$35=1,IF(AND(PCdb[[#This Row],[SQ_SZ]]>UIoptions!$S$15,PCdb[[#This Row],[SQ_SZ]]<UIoptions!$T$15),1,0),1)","v":0},{"$f":"IF(UIoptions!$N$35=2,IF(AND(PCdb[[#This Row],[ROUND_D]]>UIoptions!$S$15,PCdb[[#This Row],[ROUND_D]]<UIoptions!$T$15),1,0),1)","v":1},{"$f":"IF(UIoptions!$N$75<>1,1,IF(AND(PCdb[[#This Row],[FL]]>UIoptions!$S$16,PCdb[[#This Row],[FL]]<UIoptions!$T$16),1,0))","v":0},{"$f":"IF(OR(UIoptions!$Q$18=PCdb[[#This Row],[THRU_SCREW]],UIoptions!$Q$18=\"NA\"),1,0)","v":0},{"$f":"IF(OR(UIoptions!$P$19=PCdb[[#This Row],[THREAD_SZ]],UIoptions!$P$19=\"NA\"),1,0)","v":1},{"$f":"IF(UIoptions!$N$75=1,1,IF(AND(PCdb[[#This Row],[THREAD_L]]>UIoptions!$S$17,PCdb[[#This Row],[THREAD_L]]<UIoptions!$T$17),1,0))","v":1},{"$f":"IF(SUM(PCdb[[#This Row],[BDhit]:[THREAD_Lhit]])=11,1,0)","v":0},{"$f":"CONCATENATE(PCdb[[#This Row],[BCD]],PCdb[[#This Row],[PD]],PCdb[[#This Row],[PL (MAX)]],PCdb[[#This Row],[SD]],PCdb[[#This Row],[SL]],PCdb[[#This Row],[SQ_SZ]],PCdb[[#This Row],[ROUND_D]],PCdb[[#This Row],[FL]],PCdb[[#This Row],[THRU_SCREW]],PCdb[[#This Row],[THREAD_SZ]],PCdb[[#This Row],[THREAD_L]],PCdb[[#This Row],[NBR_HOLES]])","v":"4834472442NA5M3NANA4"},{"$f":"SUM(PCdb[[#This Row],[BDhit]:[THREAD_Lhit]])","v":4}]
[67,60,50,4,8,24,54,"NA",5,"M4","NA","NA",4,"M4",null,null,null,null,null,null,null,null,null,null,null,null,null,null,null,null,null,null,null,null,null,null,null,null,null,null,null,null,null,null,null,null,null,null,null,null,null,null,null,{"$f":"IF(AND(PCdb[[#This Row],[BCD]]>UIoptions!$S$10,PCdb[[#This Row],[BCD]]<UIoptions!$T$10),1,0)","v":0},{"$f":"IF(AND(PCdb[[#This Row],[PD]]>UIoptions!$S$11,PCdb[[#This Row],[PD]]<UIoptions!$T$11),1,0)","v":0},{"$f":"IF(AND(UIoptions!$P$14<=PCdb[[#This Row],[PL (MAX)]],UIoptions!$P$14>UIoptions!$S$14),1,0)","v":1},{"$f":"IF(AND(PCdb[[#This Row],[SD]]>UIoptions!$S$12,PCdb[[#This Row],[SD]]<UIoptions!$T$12),1,0)","v":0},{"$f":"IF(AND(PCdb[[#This Row],[SL]]>UIoptions!$S$13,PCdb[[#This Row],[SL]]<UIoptions!$T$13),1,0)","v":0},{"$f":"IF(UIoptions!$N$35=1,IF(AND(PCdb[[#This Row],[SQ_SZ]]>UIoptions!$S$15,PCdb[[#This Row],[SQ_SZ]]<UIoptions!$T$15),1,0),1)","v":0},{"$f":"IF(UIoptions!$N$35=2,IF(AND(PCdb[[#This Row],[ROUND_D]]>UIoptions!$S$15,PCdb[[#This Row],[ROUND_D]]<UIoptions!$T$15),1,0),1)","v":1},{"$f":"IF(UIoptions!$N$75<>1,1,IF(AND(PCdb[[#This Row],[FL]]>UIoptions!$S$16,PCdb[[#This Row],[FL]]<UIoptions!$T$16),1,0))","v":0},{"$f":"IF(OR(UIoptions!$Q$18=PCdb[[#This Row],[THRU_SCREW]],UIoptions!$Q$18=\"NA\"),1,0)","v":1},{"$f":"IF(OR(UIoptions!$P$19=PCdb[[#This Row],[THREAD_SZ]],UIoptions!$P$19=\"NA\"),1,0)","v":1},{"$f":"IF(UIoptions!$N$75=1,1,IF(AND(PCdb[[#This Row],[THREAD_L]]>UIoptions!$S$17,PCdb[[#This Row],[THREAD_L]]<UIoptions!$T$17),1,0))","v":1},{"$f":"IF(SUM(PCdb[[#This Row],[BDhit]:[THREAD_Lhit]])=11,1,0)","v":0},{"$f":"CONCATENATE(PCdb[[#This Row],[BCD]],PCdb[[#This Row],[PD]],PCdb[[#This Row],[PL (MAX)]],PCdb[[#This Row],[SD]],PCdb[[#This Row],[SL]],PCdb[[#This Row],[SQ_SZ]],PCdb[[#This Row],[ROUND_D]],PCdb[[#This Row],[FL]],PCdb[[#This Row],[THRU_SCREW]],PCdb[[#This Row],[THREAD_SZ]],PCdb[[#This Row],[THREAD_L]],PCdb[[#This Row],[NBR_HOLES]])","v":"6050482454NA5M4NANA4"},{"$f":"SUM(PCdb[[#This Row],[BDhit]:[THREAD_Lhit]])","v":5}]
[68,90,70,4,14,30,76,"NA",8,"M5","NA","NA",4,"M5",null,null,null,null,null,null,null,null,null,null,null,null,null,null,null,null,null,null,null,null,null,null,null,null,null,null,null,null,null,null,null,null,null,null,null,null,null,null,null,{"$f":"IF(AND(PCdb[[#This Row],[BCD]]>UIoptions!$S$10,PCdb[[#This Row],[BCD]]<UIoptions!$T$10),1,0)","v":0},{"$f":"IF(AND(PCdb[[#This Row],[PD]]>UIoptions!$S$11,PCdb[[#This Row],[PD]]<UIoptions!$T$11),1,0)","v":0},{"$f":"IF(AND(UIoptions!$P$14<=PCdb[[#This Row],[PL (MAX)]],UIoptions!$P$14>UIoptions!$S$14),1,0)","v":1},{"$f":"IF(AND(PCdb[[#This Row],[SD]]>UIoptions!$S$12,PCdb[[#This Row],[SD]]<UIoptions!$T$12),1,0)","v":0},{"$f":"IF(AND(PCdb[[#This Row],[SL]]>UIoptions!$S$13,PCdb[[#This Row],[SL]]<UIoptions!$T$13),1,0)","v":0},{"$f":"IF(UIoptions!$N$35=1,IF(AND(PCdb[[#This Row],[SQ_SZ]]>UIoptions!$S$15,PCdb[[#This Row],[SQ_SZ]]<UIoptions!$T$15),1,0),1)","v":0},{"$f":"IF(UIoptions!$N$35=2,IF(AND(PCdb[[#This Row],[ROUND_D]]>UIoptions!$S$15,PCdb[[#This Row],[ROUND_D]]<UIoptions!$T$15),1,0),1)","v":1},{"$f":"IF(UIoptions!$N$75<>1,1,IF(AND(PCdb[[#This Row],[FL]]>UIoptions!$S$16,PCdb[[#This Row],[FL]]<UIoptions!$T$16),1,0))","v":0},{"$f":"IF(OR(UIoptions!$Q$18=PCdb[[#This Row],[THRU_SCREW]],UIoptions!$Q$18=\"NA\"),1,0)","v":0},{"$f":"IF(OR(UIoptions!$P$19=PCdb[[#This Row],[THREAD_SZ]],UIoptions!$P$19=\"NA\"),1,0)","v":1},{"$f":"IF(UIoptions!$N$75=1,1,IF(AND(PCdb[[#This Row],[THREAD_L]]>UIoptions!$S$17,PCdb[[#This Row],[THREAD_L]]<UIoptions!$T$17),1,0))","v":1},{"$f":"IF(SUM(PCdb[[#This Row],[BDhit]:[THREAD_Lhit]])=11,1,0)","v":0},{"$f":"CONCATENATE(PCdb[[#This Row],[BCD]],PCdb[[#This Row],[PD]],PCdb[[#This Row],[PL (MAX)]],PCdb[[#This Row],[SD]],PCdb[[#This Row],[SL]],PCdb[[#This Row],[SQ_SZ]],PCdb[[#This Row],[ROUND_D]],PCdb[[#This Row],[FL]],PCdb[[#This Row],[THRU_SCREW]],PCdb[[#This Row],[THREAD_SZ]],PCdb[[#This Row],[THREAD_L]],PCdb[[#This Row],[NBR_HOLES]])","v":"90704143076NA8M5NANA4"},{"$f":"SUM(PCdb[[#This Row],[BDhit]:[THREAD_Lhit]])","v":4}]
[69,100,80,4,16,35,86,"NA",8,"M6","NA","NA",4,"M6",null,null,null,null,null,null,null,null,null,null,null,null,null,null,48.7,41,"NA","Y","B",45,90,null,null,null,null,null,null,null,null,null,null,null,null,41.5,"NA","Y","D",45,90,{"$f":"IF(AND(PCdb[[#This Row],[BCD]]>UIoptions!$S$10,PCdb[[#This Row],[BCD]]<UIoptions!$T$10),1,0)","v":0},{"$f":"IF(AND(PCdb[[#This Row],[PD]]>UIoptions!$S$11,PCdb[[#This Row],[PD]]<UIoptions!$T$11),1,0)","v":0},{"$f":"IF(AND(UIoptions!$P$14<=PCdb[[#This Row],[PL (MAX)]],UIoptions!$P$14>UIoptions!$S$14),1,0)","v":1},{"$f":"IF(AND(PCdb[[#This Row],[SD]]>UIoptions!$S$12,PCdb[[#This Row],[SD]]<UIoptions!$T$12),1,0)","v":0},{"$f":"IF(AND(PCdb[[#This Row],[SL]]>UIoptions!$S$13,PCdb[[#This Row],[SL]]<UIoptions!$T$13),1,0)","v":0},{"$f":"IF(UIoptions!$N$35=1,IF(AND(PCdb[[#This Row],[SQ_SZ]]>UIoptions!$S$15,PCdb[[#This Row],[SQ_SZ]]<UIoptions!$T$15),1,0),1)","v":0},{"$f":"IF(UIoptions!$N$35=2,IF(AND(PCdb[[#This Row],[ROUND_D]]>UIoptions!$S$15,PCdb[[#This Row],[ROUND_D]]<UIoptions!$T$15),1,0),1)","v":1},{"$f":"IF(UIoptions!$N$75<>1,1,IF(AND(PCdb[[#This Row],[FL]]>UIoptions!$S$16,PCdb[[#This Row],[FL]]<UIoptions!$T$16),1,0))","v":0},{"$f":"IF(OR(UIoptions!$Q$18=PCdb[[#This Row],[THRU_SCREW]],UIoptions!$Q$18=\"NA\"),1,0)","v":0},{"$f":"IF(OR(UIoptions!$P$19=PCdb[[#This Row],[THREAD_SZ]],UIoptions!$P$19=\"NA\"),1,0)","v":1},{"$f":"IF(UIoptions!$N$75=1,1,IF(AND(PCdb[[#This Row],[THREAD_L]]>UIoptions!$S$17,PCdb[[#This Row],[THREAD_L]]<UIoptions!$T$17),1,0))","v":1},{"$f":"IF(SUM(PCdb[[#This Row],[BDhit]:[THREAD_Lhit]])=11,1,0)","v":0},{"$f":"CONCATENATE(PCdb[[#This Row],[BCD]],PCdb[[#This Row],[PD]],PCdb[[#This Row],[PL (MAX)]],PCdb[[#This Row],[SD]],PCdb[[#This Row],[SL]],PCdb[[#This Row],[SQ_SZ]],PCdb[[#This Row],[ROUND_D]],PCdb[[#This Row],[FL]],PCdb[[#This Row],[THRU_SCREW]],PCdb[[#This Row],[THREAD_SZ]],PCdb[[#This Row],[THREAD_L]],PCdb[[#This Row],[NBR_HOLES]])","v":"100804163586NA8M6NANA4"},{"$f":"SUM(PCdb[[#This Row],[BDhit]:[THREAD_Lhit]])","v":4}]
[70,98.4,73.03,4,14,30,85.5,"NA",8,"M5","NA","NA",4,"M5",null,null,null,null,null,null,null,null,null,null,null,null,null,null,null,null,null,null,null,null,null,null,null,null,null,null,null,null,null,null,null,null,null,null,null,null,null,null,null,{"$f":"IF(AND(PCdb[[#This Row],[BCD]]>UIoptions!$S$10,PCdb[[#This Row],[BCD]]<UIoptions!$T$10),1,0)","v":0},{"$f":"IF(AND(PCdb[[#This Row],[PD]]>UIoptions!$S$11,PCdb[[#This Row],[PD]]<UIoptions!$T$11),1,0)","v":0},{"$f":"IF(AND(UIoptions!$P$14<=PCdb[[#This Row],[PL (MAX)]],UIoptions!$P$14>UIoptions!$S$14),1,0)","v":1},{"$f":"IF(AND(PCdb[[#This Row],[SD]]>UIoptions!$S$12,PCdb[[#This Row],[SD]]<UIoptions!$T$12),1,0)","v":0},{"$f":"IF(AND(PCdb[[#This Row],[SL]]>UIoptions!$S$13,PCdb[[#This Row],[SL]]<UIoptions!$T$13),1,0)","v":0},{"$f":"IF(UIoptions!$N$35=1,IF(AND(PCdb[[#This Row],[SQ_SZ]]>UIoptions!$S$15,PCdb[[#This Row],[SQ_SZ]]<UIoptions!$T$15),1,0),1)","v":0},{"$f":"IF(UIoptions!$N$35=2,IF(AND(PCdb[[#This Row],[ROUND_D]]>UIoptions!$S$15,PCdb[[#This Row],[ROUND_D]]<UIoptions!$T$15),1,0),1)","v":1},{"$f":"IF(UIoptions!$N$75<>1,1,IF(AND(PCdb[[#This Row],[FL]]>UIoptions!$S$16,PCdb[[#This Row],[FL]]<UIoptions!$T$16),1,0))","v":0},{"$f":"IF(OR(UIoptions!$Q$18=PCdb[[#This Row],[THRU_SCREW]],UIoptions!$Q$18=\"NA\"),1,0)","v":0},{"$f":"IF(OR(UIoptions!$P$19=PCdb[[#This Row],[THREAD_SZ]],UIoptions!$P$19=\"NA\"),1,0)","v":1},{"$f":"IF(UIoptions!$N$75=1,1,IF(AND(PCdb[[#This Row],[THREAD_L]]>UIoptions!$S$17,PCdb[[#This Row],[THREAD_L]]<UIoptions!$T$17),1,0))","v":1},{"$f":"IF(SUM(PCdb[[#This Row],[BDhit]:[THREAD_Lhit]])=11,1,0)","v":0},{"$f":"CONCATENATE(PCdb[[#This Row],[BCD]],PCdb[[#This Row],[PD]],PCdb[[#This Row],[PL (MAX)]],PCdb[[#This Row],[SD]],PCdb[[#This Row],[SL]],PCdb[[#This Row],[SQ_SZ]],PCdb[[#This Row],[ROUND_D]],PCdb[[#This Row],[FL]],PCdb[[#This Row],[THRU_SCREW]],PCdb[[#This Row],[THREAD_SZ]],PCdb[[#This Row],[THREAD_L]],PCdb[[#This Row],[NBR_HOLES]])","v":"98,473,034143085,5NA8M5NANA4"},{"$f":"SUM(PCdb[[#This Row],[BDhit]:[THREAD_Lhit]])","v":4}]
[71,100,80,4,14,30,82,"NA",10.5,"M6","NA","NA",4,"M6",null,null,null,null,null,null,null,null,null,null,null,null,null,null,null,null,null,null,null,null,null,null,null,null,null,null,null,null,null,null,null,null,null,null,null,null,null,null,null,{"$f":"IF(AND(PCdb[[#This Row],[BCD]]>UIoptions!$S$10,PCdb[[#This Row],[BCD]]<UIoptions!$T$10),1,0)","v":0},{"$f":"IF(AND(PCdb[[#This Row],[PD]]>UIoptions!$S$11,PCdb[[#This Row],[PD]]<UIoptions!$T$11),1,0)","v":0},{"$f":"IF(AND(UIoptions!$P$14<=PCdb[[#This Row],[PL (MAX)]],UIoptions!$P$14>UIoptions!$S$14),1,0)","v":1},{"$f":"IF(AND(PCdb[[#This Row],[SD]]>UIoptions!$S$12,PCdb[[#This Row],[SD]]<UIoptions!$T$12),1,0)","v":0},{"$f":"IF(AND(PCdb[[#This Row],[SL]]>UIoptions!$S$13,PCdb[[#This Row],[SL]]<UIoptions!$T$13),1,0)","v":0},{"$f":"IF(UIoptions!$N$35=1,IF(AND(PCdb[[#This Row],[SQ_SZ]]>UIoptions!$S$15,PCdb[[#This Row],[SQ_SZ]]<UIoptions!$T$15),1,0),1)","v":0},{"$f":"IF(UIoptions!$N$35=2,IF(AND(PCdb[[#This Row],[ROUND_D]]>UIoptions!$S$15,PCdb[[#This Row],[ROUND_D]]<UIoptions!$T$15),1,0),1)","v":1},{"$f":"IF(UIoptions!$N$75<>1,1,IF(AND(PCdb[[#This Row],[FL]]>UIoptions!$S$16,PCdb[[#This Row],[FL]]<UIoptions!$T$16),1,0))","v":0},{"$f":"IF(OR(UIoptions!$Q$18=PCdb[[#This Row],[THRU_SCREW]],UIoptions!$Q$18=\"NA\"),1,0)","v":0},{"$f":"IF(OR(UIoptions!$P$19=PCdb[[#This Row],[THREAD_SZ]],UIoptions!$P$19=\"NA\"),1,0)","v":1},{"$f":"IF(UIoptions!$N$75=1,1,IF(AND(PCdb[[#This Row],[THREAD_L]]>UIoptions!$S$17,PCdb[[#This Row],[THREAD_L]]<UIoptions!$T$17),1,0))","v":1},{"$f":"IF(SUM(PCdb[[#This Row],[BDhit]:[THREAD_Lhit]])=11,1,0)","v":0},{"$f":"CONCATENATE(PCdb[[#This Row],[BCD]],PCdb[[#This Row],[PD]],PCdb[[#This Row],[PL (MAX)]],PCdb[[#This Row],[SD]],PCdb[[#This Row],[SL]],PCdb[[#This Row],[SQ_SZ]],PCdb[[#This Row],[ROUND_D]],PCdb[[#This Row],[FL]],PCdb[[#This Row],[THRU_SCREW]],PCdb[[#This Row],[THREAD_SZ]],PCdb[[#This Row],[THREAD_L]],PCdb[[#This Row],[NBR_HOLES]])","v":"100804143082NA10,5M6NANA4"},{"$f":"SUM(PCdb[[#This Row],[BDhit]:[THREAD_Lhit]])","v":4}]
[72,63,40,4,9,20,55,"NA",10,"M5","NA","NA",4,"M5",null,null,null,null,null,null,null,45.2,25.5,0,"Y","B",45,90,null,null,null,null,null,null,null,24,0,"Y","D",45,90,25.5,0,"Y","C",45,90,null,null,null,null,null,null,{"$f":"IF(AND(PCdb[[#This Row],[BCD]]>UIoptions!$S$10,PCdb[[#This Row],[BCD]]<UIoptions!$T$10),1,0)","v":1},{"$f":"IF(AND(PCdb[[#This Row],[PD]]>UIoptions!$S$11,PCdb[[#This Row],[PD]]<UIoptions!$T$11),1,0)","v":1},{"$f":"IF(AND(UIoptions!$P$14<=PCdb[[#This Row],[PL (MAX)]],UIoptions!$P$14>UIoptions!$S$14),1,0)","v":1},{"$f":"IF(AND(PCdb[[#This Row],[SD]]>UIoptions!$S$12,PCdb[[#This Row],[SD]]<UIoptions!$T$12),1,0)","v":0},{"$f":"IF(AND(PCdb[[#This Row],[SL]]>UIoptions!$S$13,PCdb[[#This Row],[SL]]<UIoptions!$T$13),1,0)","v":1},{"$f":"IF(UIoptions!$N$35=1,IF(AND(PCdb[[#This Row],[SQ_SZ]]>UIoptions!$S$15,PCdb[[#This Row],[SQ_SZ]]<UIoptions!$T$15),1,0),1)","v":0},{"$f":"IF(UIoptions!$N$35=2,IF(AND(PCdb[[#This Row],[ROUND_D]]>UIoptions!$S$15,PCdb[[#This Row],[ROUND_D]]<UIoptions!$T$15),1,0),1)","v":1},{"$f":"IF(UIoptions!$N$75<>1,1,IF(AND(PCdb[[#This Row],[FL]]>UIoptions!$S$16,PCdb[[#This Row],[FL]]<UIoptions!$T$16),1,0))","v":0},{"$f":"IF(OR(UIoptions!$Q$18=PCdb[[#This Row],[THRU_SCREW]],UIoptions!$Q$18=\"NA\"),1,0)","v":0},{"$f":"IF(OR(UIoptions!$P$19=PCdb[[#This Row],[THREAD_SZ]],UIoptions!$P$19=\"NA\"),1,0)","v":1},{"$f":"IF(UIoptions!$N$75=1,1,IF(AND(PCdb[[#This Row],[THREAD_L]]>UIoptions!$S$17,PCdb[[#This Row],[THREAD_L]]<UIoptions!$T$17),1,0))","v":1},{"$f":"IF(SUM(PCdb[[#This Row],[BDhit]:[THREAD_Lhit]])=11,1,0)","v":0},{"$f":"CONCATENATE(PCdb[[#This Row],[BCD]],PCdb[[#This Row],[PD]],PCdb[[#This Row],[PL (MAX)]],PCdb[[#This Row],[SD]],PCdb[[#This Row],[SL]],PCdb[[#This Row],[SQ_SZ]],PCdb[[#This Row],[ROUND_D]],PCdb[[#This Row],[FL]],PCdb[[#This Row],[THRU_SCREW]],PCdb[[#This Row],[THREAD_SZ]],PCdb[[#This Row],[THREAD_L]],PCdb[[#This Row],[NBR_HOLES]])","v":"6340492055NA10M5NANA4"},{"$f":"SUM(PCdb[[#This Row],[BDhit]:[THREAD_Lhit]])","v":7}]
[73,75,60,4,14,30,72,"NA",8,"M6","NA","NA",4,"M6",null,null,null,null,null,null,null,45.2,32,0,"Y","B",45,90,null,null,null,null,null,null,null,null,null,null,null,null,null,32,0,"Y","D",45,90,32,0,"Y","C",45,90,1,1,{"$f":"IF(AND(UIoptions!$P$14<=PCdb[[#This Row],[PL (MAX)]],UIoptions!$P$14>UIoptions!$S$14),1,0)","v":1},{"$f":"IF(AND(PCdb[[#This Row],[SD]]>UIoptions!$S$12,PCdb[[#This Row],[SD]]<UIoptions!$T$12),1,0)","v":0},{"$f":"IF(AND(PCdb[[#This Row],[SL]]>UIoptions!$S$13,PCdb[[#This Row],[SL]]<UIoptions!$T$13),1,0)","v":0},{"$f":"IF(UIoptions!$N$35=1,IF(AND(PCdb[[#This Row],[SQ_SZ]]>UIoptions!$S$15,PCdb[[#This Row],[SQ_SZ]]<UIoptions!$T$15),1,0),1)","v":0},{"$f":"IF(UIoptions!$N$35=2,IF(AND(PCdb[[#This Row],[ROUND_D]]>UIoptions!$S$15,PCdb[[#This Row],[ROUND_D]]<UIoptions!$T$15),1,0),1)","v":1},{"$f":"IF(UIoptions!$N$75<>1,1,IF(AND(PCdb[[#This Row],[FL]]>UIoptions!$S$16,PCdb[[#This Row],[FL]]<UIoptions!$T$16),1,0))","v":0},{"$f":"IF(OR(UIoptions!$Q$18=PCdb[[#This Row],[THRU_SCREW]],UIoptions!$Q$18=\"NA\"),1,0)","v":0},{"$f":"IF(OR(UIoptions!$P$19=PCdb[[#This Row],[THREAD_SZ]],UIoptions!$P$19=\"NA\"),1,0)","v":1},{"$f":"IF(UIoptions!$N$75=1,1,IF(AND(PCdb[[#This Row],[THREAD_L]]>UIoptions!$S$17,PCdb[[#This Row],[THREAD_L]]<UIoptions!$T$17),1,0))","v":1},{"$f":"IF(SUM(PCdb[[#This Row],[BDhit]:[THREAD_Lhit]])=11,1,0)","v":0},{"$f":"CONCATENATE(PCdb[[#This Row],[BCD]],PCdb[[#This Row],[PD]],PCdb[[#This Row],[PL (MAX)]],PCdb[[#This Row],[SD]],PCdb[[#This Row],[SL]],PCdb[[#This Row],[SQ_SZ]],PCdb[[#This Row],[ROUND_D]],PCdb[[#This Row],[FL]],PCdb[[#This Row],[THRU_SCREW]],PCdb[[#This Row],[THREAD_SZ]],PCdb[[#This Row],[THREAD_L]],PCdb[[#This Row],[NBR_HOLES]])","v":"75604143072NA8M6NANA4"},{"$f":"SUM(PCdb[[#This Row],[BDhit]:[THREAD_Lhit]])","v":6}]
[74,66.7,38.1,4,6.35,20.6,56.9,"NA",4.8,"M4","NA","NA",4,"M4",null,null,null,null,null,null,null,null,null,null,null,null,null,null,null,null,null,null,null,null,null,null,null,null,null,null,null,null,null,null,null,null,null,null,null,null,null,null,null,{"$f":"IF(AND(PCdb[[#This Row],[BCD]]>UIoptions!$S$10,PCdb[[#This Row],[BCD]]<UIoptions!$T$10),1,0)","v":0},{"$f":"IF(AND(PCdb[[#This Row],[PD]]>UIoptions!$S$11,PCdb[[#This Row],[PD]]<UIoptions!$T$11),1,0)","v":0},{"$f":"IF(AND(UIoptions!$P$14<=PCdb[[#This Row],[PL (MAX)]],UIoptions!$P$14>UIoptions!$S$14),1,0)","v":1},{"$f":"IF(AND(PCdb[[#This Row],[SD]]>UIoptions!$S$12,PCdb[[#This Row],[SD]]<UIoptions!$T$12),1,0)","v":0},{"$f":"IF(AND(PCdb[[#This Row],[SL]]>UIoptions!$S$13,PCdb[[#This Row],[SL]]<UIoptions!$T$13),1,0)","v":0},{"$f":"IF(UIoptions!$N$35=1,IF(AND(PCdb[[#This Row],[SQ_SZ]]>UIoptions!$S$15,PCdb[[#This Row],[SQ_SZ]]<UIoptions!$T$15),1,0),1)","v":0},{"$f":"IF(UIoptions!$N$35=2,IF(AND(PCdb[[#This Row],[ROUND_D]]>UIoptions!$S$15,PCdb[[#This Row],[ROUND_D]]<UIoptions!$T$15),1,0),1)","v":1},{"$f":"IF(UIoptions!$N$75<>1,1,IF(AND(PCdb[[#This Row],[FL]]>UIoptions!$S$16,PCdb[[#This Row],[FL]]<UIoptions!$T$16),1,0))","v":0},{"$f":"IF(OR(UIoptions!$Q$18=PCdb[[#This Row],[THRU_SCREW]],UIoptions!$Q$18=\"NA\"),1,0)","v":1},{"$f":"IF(OR(UIoptions!$P$19=PCdb[[#This Row],[THREAD_SZ]],UIoptions!$P$19=\"NA\"),1,0)","v":1},{"$f":"IF(UIoptions!$N$75=1,1,IF(AND(PCdb[[#This Row],[THREAD_L]]>UIoptions!$S$17,PCdb[[#This Row],[THREAD_L]]<UIoptions!$T$17),1,0))","v":1},{"$f":"IF(SUM(PCdb[[#This Row],[BDhit]:[THREAD_Lhit]])=11,1,0)","v":0},{"$f":"CONCATENATE(PCdb[[#This Row],[BCD]],PCdb[[#This Row],[PD]],PCdb[[#This Row],[PL (MAX)]],PCdb[[#This Row],[SD]],PCdb[[#This Row],[SL]],PCdb[[#This Row],[SQ_SZ]],PCdb[[#This Row],[ROUND_D]],PCdb[[#This Row],[FL]],PCdb[[#This Row],[THRU_SCREW]],PCdb[[#This Row],[THREAD_SZ]],PCdb[[#This Row],[THREAD_L]],PCdb[[#This Row],[NBR_HOLES]])","v":"66,738,146,3520,656,9NA4,8M4NANA4"},{"$f":"SUM(PCdb[[#This Row],[BDhit]:[THREAD_Lhit]])","v":5}]
[75,98.4,73.03,4,9.5299999999999994,30.2,86,"NA",4.8,"M5","NA","NA",4,"M5",null,null,null,null,null,null,null,null,null,null,null,null,null,null,null,null,null,null,null,null,null,null,null,null,null,null,null,null,null,null,null,null,null,null,null,null,null,null,null,{"$f":"IF(AND(PCdb[[#This Row],[BCD]]>UIoptions!$S$10,PCdb[[#This Row],[BCD]]<UIoptions!$T$10),1,0)","v":0},{"$f":"IF(AND(PCdb[[#This Row],[PD]]>UIoptions!$S$11,PCdb[[#This Row],[PD]]<UIoptions!$T$11),1,0)","v":0},{"$f":"IF(AND(UIoptions!$P$14<=PCdb[[#This Row],[PL (MAX)]],UIoptions!$P$14>UIoptions!$S$14),1,0)","v":1},{"$f":"IF(AND(PCdb[[#This Row],[SD]]>UIoptions!$S$12,PCdb[[#This Row],[SD]]<UIoptions!$T$12),1,0)","v":0},{"$f":"IF(AND(PCdb[[#This Row],[SL]]>UIoptions!$S$13,PCdb[[#This Row],[SL]]<UIoptions!$T$13),1,0)","v":0},{"$f":"IF(UIoptions!$N$35=1,IF(AND(PCdb[[#This Row],[SQ_SZ]]>UIoptions!$S$15,PCdb[[#This Row],[SQ_SZ]]<UIoptions!$T$15),1,0),1)","v":0},{"$f":"IF(UIoptions!$N$35=2,IF(AND(PCdb[[#This Row],[ROUND_D]]>UIoptions!$S$15,PCdb[[#This Row],[ROUND_D]]<UIoptions!$T$15),1,0),1)","v":1},{"$f":"IF(UIoptions!$N$75<>1,1,IF(AND(PCdb[[#This Row],[FL]]>UIoptions!$S$16,PCdb[[#This Row],[FL]]<UIoptions!$T$16),1,0))","v":0},{"$f":"IF(OR(UIoptions!$Q$18=PCdb[[#This Row],[THRU_SCREW]],UIoptions!$Q$18=\"NA\"),1,0)","v":0},{"$f":"IF(OR(UIoptions!$P$19=PCdb[[#This Row],[THREAD_SZ]],UIoptions!$P$19=\"NA\"),1,0)","v":1},{"$f":"IF(UIoptions!$N$75=1,1,IF(AND(PCdb[[#This Row],[THREAD_L]]>UIoptions!$S$17,PCdb[[#This Row],[THREAD_L]]<UIoptions!$T$17),1,0))","v":1},{"$f":"IF(SUM(PCdb[[#This Row],[BDhit]:[THREAD_Lhit]])=11,1,0)","v":0},{"$f":"CONCATENATE(PCdb[[#This Row],[BCD]],PCdb[[#This Row],[PD]],PCdb[[#This Row],[PL (MAX)]],PCdb[[#This Row],[SD]],PCdb[[#This Row],[SL]],PCdb[[#This Row],[SQ_SZ]],PCdb[[#This Row],[ROUND_D]],PCdb[[#This Row],[FL]],PCdb[[#This Row],[THRU_SCREW]],PCdb[[#This Row],[THREAD_SZ]],PCdb[[#This Row],[THREAD_L]],PCdb[[#This Row],[NBR_HOLES]])","v":"98,473,0349,5330,286NA4,8M5NANA4"},{"$f":"SUM(PCdb[[#This Row],[BDhit]:[THREAD_Lhit]])","v":4}]
[76,70,50,4,8,25,60,"NA",6,"M5","NA","NA",4,"M5",null,null,null,null,null,null,null,null,null,null,null,null,null,null,null,null,null,null,null,null,null,27,"NA","Y","D",45,90,null,null,null,null,null,null,null,null,null,null,null,null,{"$f":"IF(AND(PCdb[[#This Row],[BCD]]>UIoptions!$S$10,PCdb[[#This Row],[BCD]]<UIoptions!$T$10),1,0)","v":0},{"$f":"IF(AND(PCdb[[#This Row],[PD]]>UIoptions!$S$11,PCdb[[#This Row],[PD]]<UIoptions!$T$11),1,0)","v":0},{"$f":"IF(AND(UIoptions!$P$14<=PCdb[[#This Row],[PL (MAX)]],UIoptions!$P$14>UIoptions!$S$14),1,0)","v":1},{"$f":"IF(AND(PCdb[[#This Row],[SD]]>UIoptions!$S$12,PCdb[[#This Row],[SD]]<UIoptions!$T$12),1,0)","v":0},{"$f":"IF(AND(PCdb[[#This Row],[SL]]>UIoptions!$S$13,PCdb[[#This Row],[SL]]<UIoptions!$T$13),1,0)","v":0},{"$f":"IF(UIoptions!$N$35=1,IF(AND(PCdb[[#This Row],[SQ_SZ]]>UIoptions!$S$15,PCdb[[#This Row],[SQ_SZ]]<UIoptions!$T$15),1,0),1)","v":0},{"$f":"IF(UIoptions!$N$35=2,IF(AND(PCdb[[#This Row],[ROUND_D]]>UIoptions!$S$15,PCdb[[#This Row],[ROUND_D]]<UIoptions!$T$15),1,0),1)","v":1},{"$f":"IF(UIoptions!$N$75<>1,1,IF(AND(PCdb[[#This Row],[FL]]>UIoptions!$S$16,PCdb[[#This Row],[FL]]<UIoptions!$T$16),1,0))","v":0},{"$f":"IF(OR(UIoptions!$Q$18=PCdb[[#This Row],[THRU_SCREW]],UIoptions!$Q$18=\"NA\"),1,0)","v":0},{"$f":"IF(OR(UIoptions!$P$19=PCdb[[#This Row],[THREAD_SZ]],UIoptions!$P$19=\"NA\"),1,0)","v":1},{"$f":"IF(UIoptions!$N$75=1,1,IF(AND(PCdb[[#This Row],[THREAD_L]]>UIoptions!$S$17,PCdb[[#This Row],[THREAD_L]]<UIoptions!$T$17),1,0))","v":1},{"$f":"IF(SUM(PCdb[[#This Row],[BDhit]:[THREAD_Lhit]])=11,1,0)","v":0},{"$f":"CONCATENATE(PCdb[[#This Row],[BCD]],PCdb[[#This Row],[PD]],PCdb[[#This Row],[PL (MAX)]],PCdb[[#This Row],[SD]],PCdb[[#This Row],[SL]],PCdb[[#This Row],[SQ_SZ]],PCdb[[#This Row],[ROUND_D]],PCdb[[#This Row],[FL]],PCdb[[#This Row],[THRU_SCREW]],PCdb[[#This Row],[THREAD_SZ]],PCdb[[#This Row],[THREAD_L]],PCdb[[#This Row],[NBR_HOLES]])","v":"7050482560NA6M5NANA4"},{"$f":"SUM(PCdb[[#This Row],[BDhit]:[THREAD_Lhit]])","v":4}]
[77,90,70,4,14,30,80,"NA",8,"M6","NA","NA",4,"M6",null,null,null,null,null,null,null,null,null,null,null,null,null,null,null,null,null,null,null,null,null,null,null,null,null,null,null,null,null,null,null,null,null,40,0,"Y","D",45,90,{"$f":"IF(AND(PCdb[[#This Row],[BCD]]>UIoptions!$S$10,PCdb[[#This Row],[BCD]]<UIoptions!$T$10),1,0)","v":0},{"$f":"IF(AND(PCdb[[#This Row],[PD]]>UIoptions!$S$11,PCdb[[#This Row],[PD]]<UIoptions!$T$11),1,0)","v":0},{"$f":"IF(AND(UIoptions!$P$14<=PCdb[[#This Row],[PL (MAX)]],UIoptions!$P$14>UIoptions!$S$14),1,0)","v":1},{"$f":"IF(AND(PCdb[[#This Row],[SD]]>UIoptions!$S$12,PCdb[[#This Row],[SD]]<UIoptions!$T$12),1,0)","v":0},{"$f":"IF(AND(PCdb[[#This Row],[SL]]>UIoptions!$S$13,PCdb[[#This Row],[SL]]<UIoptions!$T$13),1,0)","v":0},{"$f":"IF(UIoptions!$N$35=1,IF(AND(PCdb[[#This Row],[SQ_SZ]]>UIoptions!$S$15,PCdb[[#This Row],[SQ_SZ]]<UIoptions!$T$15),1,0),1)","v":0},{"$f":"IF(UIoptions!$N$35=2,IF(AND(PCdb[[#This Row],[ROUND_D]]>UIoptions!$S$15,PCdb[[#This Row],[ROUND_D]]<UIoptions!$T$15),1,0),1)","v":1},{"$f":"IF(UIoptions!$N$75<>1,1,IF(AND(PCdb[[#This Row],[FL]]>UIoptions!$S$16,PCdb[[#This Row],[FL]]<UIoptions!$T$16),1,0))","v":0},{"$f":"IF(OR(UIoptions!$Q$18=PCdb[[#This Row],[THRU_SCREW]],UIoptions!$Q$18=\"NA\"),1,0)","v":0},{"$f":"IF(OR(UIoptions!$P$19=PCdb[[#This Row],[THREAD_SZ]],UIoptions!$P$19=\"NA\"),1,0)","v":1},{"$f":"IF(UIoptions!$N$75=1,1,IF(AND(PCdb[[#This Row],[THREAD_L]]>UIoptions!$S$17,PCdb[[#This Row],[THREAD_L]]<UIoptions!$T$17),1,0))","v":1},{"$f":"IF(SUM(PCdb[[#This Row],[BDhit]:[THREAD_Lhit]])=11,1,0)","v":0},{"$f":"CONCATENATE(PCdb[[#This Row],[BCD]],PCdb[[#This Row],[PD]],PCdb[[#This Row],[PL (MAX)]],PCdb[[#This Row],[SD]],PCdb[[#This Row],[SL]],PCdb[[#This Row],[SQ_SZ]],PCdb[[#This Row],[ROUND_D]],PCdb[[#This Row],[FL]],PCdb[[#This Row],[THRU_SCREW]],PCdb[[#This Row],[THREAD_SZ]],PCdb[[#This Row],[THREAD_L]],PCdb[[#This Row],[NBR_HOLES]])","v":"90704143080NA8M6NANA4"},{"$f":"SUM(PCdb[[#This Row],[BDhit]:[THREAD_Lhit]])","v":4}]
[78,34,25,4,8,25,42,"NA","NA","NA","M3",8,4,3.5,null,null,null,null,null,null,null,null,null,null,null,null,null,null,null,null,null,null,null,null,null,"NA","NA","Y","C2",45,90,null,null,null,null,null,null,null,null,null,null,null,null,{"$f":"IF(AND(PCdb[[#This Row],[BCD]]>UIoptions!$S$10,PCdb[[#This Row],[BCD]]<UIoptions!$T$10),1,0)","v":0},{"$f":"IF(AND(PCdb[[#This Row],[PD]]>UIoptions!$S$11,PCdb[[#This Row],[PD]]<UIoptions!$T$11),1,0)","v":0},{"$f":"IF(AND(UIoptions!$P$14<=PCdb[[#This Row],[PL (MAX)]],UIoptions!$P$14>UIoptions!$S$14),1,0)","v":1},{"$f":"IF(AND(PCdb[[#This Row],[SD]]>UIoptions!$S$12,PCdb[[#This Row],[SD]]<UIoptions!$T$12),1,0)","v":0},{"$f":"IF(AND(PCdb[[#This Row],[SL]]>UIoptions!$S$13,PCdb[[#This Row],[SL]]<UIoptions!$T$13),1,0)","v":0},{"$f":"IF(UIoptions!$N$35=1,IF(AND(PCdb[[#This Row],[SQ_SZ]]>UIoptions!$S$15,PCdb[[#This Row],[SQ_SZ]]<UIoptions!$T$15),1,0),1)","v":0},{"$f":"IF(UIoptions!$N$35=2,IF(AND(PCdb[[#This Row],[ROUND_D]]>UIoptions!$S$15,PCdb[[#This Row],[ROUND_D]]<UIoptions!$T$15),1,0),1)","v":1},{"$f":"IF(UIoptions!$N$75<>1,1,IF(AND(PCdb[[#This Row],[FL]]>UIoptions!$S$16,PCdb[[#This Row],[FL]]<UIoptions!$T$16),1,0))","v":0},{"$f":"IF(OR(UIoptions!$Q$18=PCdb[[#This Row],[THRU_SCREW]],UIoptions!$Q$18=\"NA\"),1,0)","v":0},{"$f":"IF(OR(UIoptions!$P$19=PCdb[[#This Row],[THREAD_SZ]],UIoptions!$P$19=\"NA\"),1,0)","v":1},{"$f":"IF(UIoptions!$N$75=1,1,IF(AND(PCdb[[#This Row],[THREAD_L]]>UIoptions!$S$17,PCdb[[#This Row],[THREAD_L]]<UIoptions!$T$17),1,0))","v":1},{"$f":"IF(SUM(PCdb[[#This Row],[BDhit]:[THREAD_Lhit]])=11,1,0)","v":0},{"$f":"CONCATENATE(PCdb[[#This Row],[BCD]],PCdb[[#This Row],[PD]],PCdb[[#This Row],[PL (MAX)]],PCdb[[#This Row],[SD]],PCdb[[#This Row],[SL]],PCdb[[#This Row],[SQ_SZ]],PCdb[[#This Row],[ROUND_D]],PCdb[[#This Row],[FL]],PCdb[[#This Row],[THRU_SCREW]],PCdb[[#This Row],[THREAD_SZ]],PCdb[[#This Row],[THREAD_L]],PCdb[[#This Row],[NBR_HOLES]])","v":"3425482542NANANAM384"},{"$f":"SUM(PCdb[[#This Row],[BDhit]:[THREAD_Lhit]])","v":4}]
[79,100,80,4,14,30,91.3,"NA",11,"M6","NA","NA",4,"M6",null,null,null,null,null,null,null,null,null,null,null,null,null,null,48.7,42,"NA","Y","B",45,90,null,null,null,null,null,null,null,null,null,null,null,null,null,null,null,null,null,null,{"$f":"IF(AND(PCdb[[#This Row],[BCD]]>UIoptions!$S$10,PCdb[[#This Row],[BCD]]<UIoptions!$T$10),1,0)","v":0},{"$f":"IF(AND(PCdb[[#This Row],[PD]]>UIoptions!$S$11,PCdb[[#This Row],[PD]]<UIoptions!$T$11),1,0)","v":0},{"$f":"IF(AND(UIoptions!$P$14<=PCdb[[#This Row],[PL (MAX)]],UIoptions!$P$14>UIoptions!$S$14),1,0)","v":1},{"$f":"IF(AND(PCdb[[#This Row],[SD]]>UIoptions!$S$12,PCdb[[#This Row],[SD]]<UIoptions!$T$12),1,0)","v":0},{"$f":"IF(AND(PCdb[[#This Row],[SL]]>UIoptions!$S$13,PCdb[[#This Row],[SL]]<UIoptions!$T$13),1,0)","v":0},{"$f":"IF(UIoptions!$N$35=1,IF(AND(PCdb[[#This Row],[SQ_SZ]]>UIoptions!$S$15,PCdb[[#This Row],[SQ_SZ]]<UIoptions!$T$15),1,0),1)","v":0},{"$f":"IF(UIoptions!$N$35=2,IF(AND(PCdb[[#This Row],[ROUND_D]]>UIoptions!$S$15,PCdb[[#This Row],[ROUND_D]]<UIoptions!$T$15),1,0),1)","v":1},{"$f":"IF(UIoptions!$N$75<>1,1,IF(AND(PCdb[[#This Row],[FL]]>UIoptions!$S$16,PCdb[[#This Row],[FL]]<UIoptions!$T$16),1,0))","v":0},{"$f":"IF(OR(UIoptions!$Q$18=PCdb[[#This Row],[THRU_SCREW]],UIoptions!$Q$18=\"NA\"),1,0)","v":0},{"$f":"IF(OR(UIoptions!$P$19=PCdb[[#This Row],[THREAD_SZ]],UIoptions!$P$19=\"NA\"),1,0)","v":1},{"$f":"IF(UIoptions!$N$75=1,1,IF(AND(PCdb[[#This Row],[THREAD_L]]>UIoptions!$S$17,PCdb[[#This Row],[THREAD_L]]<UIoptions!$T$17),1,0))","v":1},{"$f":"IF(SUM(PCdb[[#This Row],[BDhit]:[THREAD_Lhit]])=11,1,0)","v":0},{"$f":"CONCATENATE(PCdb[[#This Row],[BCD]],PCdb[[#This Row],[PD]],PCdb[[#This Row],[PL (MAX)]],PCdb[[#This Row],[SD]],PCdb[[#This Row],[SL]],PCdb[[#This Row],[SQ_SZ]],PCdb[[#This Row],[ROUND_D]],PCdb[[#This Row],[FL]],PCdb[[#This Row],[THRU_SCREW]],PCdb[[#This Row],[THREAD_SZ]],PCdb[[#This Row],[THREAD_L]],PCdb[[#This Row],[NBR_HOLES]])","v":"100804143091,3NA11M6NANA4"},{"$f":"SUM(PCdb[[#This Row],[BDhit]:[THREAD_Lhit]])","v":4}]
[80,46,30,4,8,25,40,"NA",6,"M4","NA","NA",4,"M4",38.700000000000003,3,32,"Y","A",45,90,null,null,null,null,null,null,null,null,null,null,null,null,null,null,18,0,"Y","C",45,90,null,null,null,null,null,null,null,null,null,null,null,null,{"$f":"IF(AND(PCdb[[#This Row],[BCD]]>UIoptions!$S$10,PCdb[[#This Row],[BCD]]<UIoptions!$T$10),1,0)","v":0},{"$f":"IF(AND(PCdb[[#This Row],[PD]]>UIoptions!$S$11,PCdb[[#This Row],[PD]]<UIoptions!$T$11),1,0)","v":0},{"$f":"IF(AND(UIoptions!$P$14<=PCdb[[#This Row],[PL (MAX)]],UIoptions!$P$14>UIoptions!$S$14),1,0)","v":1},{"$f":"IF(AND(PCdb[[#This Row],[SD]]>UIoptions!$S$12,PCdb[[#This Row],[SD]]<UIoptions!$T$12),1,0)","v":0},{"$f":"IF(AND(PCdb[[#This Row],[SL]]>UIoptions!$S$13,PCdb[[#This Row],[SL]]<UIoptions!$T$13),1,0)","v":0},{"$f":"IF(UIoptions!$N$35=1,IF(AND(PCdb[[#This Row],[SQ_SZ]]>UIoptions!$S$15,PCdb[[#This Row],[SQ_SZ]]<UIoptions!$T$15),1,0),1)","v":0},{"$f":"IF(UIoptions!$N$35=2,IF(AND(PCdb[[#This Row],[ROUND_D]]>UIoptions!$S$15,PCdb[[#This Row],[ROUND_D]]<UIoptions!$T$15),1,0),1)","v":1},{"$f":"IF(UIoptions!$N$75<>1,1,IF(AND(PCdb[[#This Row],[FL]]>UIoptions!$S$16,PCdb[[#This Row],[FL]]<UIoptions!$T$16),1,0))","v":0},{"$f":"IF(OR(UIoptions!$Q$18=PCdb[[#This Row],[THRU_SCREW]],UIoptions!$Q$18=\"NA\"),1,0)","v":1},{"$f":"IF(OR(UIoptions!$P$19=PCdb[[#This Row],[THREAD_SZ]],UIoptions!$P$19=\"NA\"),1,0)","v":1},{"$f":"IF(UIoptions!$N$75=1,1,IF(AND(PCdb[[#This Row],[THREAD_L]]>UIoptions!$S$17,PCdb[[#This Row],[THREAD_L]]<UIoptions!$T$17),1,0))","v":1},{"$f":"IF(SUM(PCdb[[#This Row],[BDhit]:[THREAD_Lhit]])=11,1,0)","v":0},{"$f":"CONCATENATE(PCdb[[#This Row],[BCD]],PCdb[[#This Row],[PD]],PCdb[[#This Row],[PL (MAX)]],PCdb[[#This Row],[SD]],PCdb[[#This Row],[SL]],PCdb[[#This Row],[SQ_SZ]],PCdb[[#This Row],[ROUND_D]],PCdb[[#This Row],[FL]],PCdb[[#This Row],[THRU_SCREW]],PCdb[[#This Row],[THREAD_SZ]],PCdb[[#This Row],[THREAD_L]],PCdb[[#This Row],[NBR_HOLES]])","v":"4630482540NA6M4NANA4"},{"$f":"SUM(PCdb[[#This Row],[BDhit]:[THREAD_Lhit]])","v":5}]
[81,70,50,4,14,30,58,"NA",6.1,"M5","NA","NA",4,"M5",null,null,null,null,null,null,null,null,null,null,null,null,null,null,null,null,null,null,null,null,null,null,null,null,null,null,null,null,null,null,null,null,null,null,null,null,null,null,null,{"$f":"IF(AND(PCdb[[#This Row],[BCD]]>UIoptions!$S$10,PCdb[[#This Row],[BCD]]<UIoptions!$T$10),1,0)","v":0},{"$f":"IF(AND(PCdb[[#This Row],[PD]]>UIoptions!$S$11,PCdb[[#This Row],[PD]]<UIoptions!$T$11),1,0)","v":0},{"$f":"IF(AND(UIoptions!$P$14<=PCdb[[#This Row],[PL (MAX)]],UIoptions!$P$14>UIoptions!$S$14),1,0)","v":1},{"$f":"IF(AND(PCdb[[#This Row],[SD]]>UIoptions!$S$12,PCdb[[#This Row],[SD]]<UIoptions!$T$12),1,0)","v":0},{"$f":"IF(AND(PCdb[[#This Row],[SL]]>UIoptions!$S$13,PCdb[[#This Row],[SL]]<UIoptions!$T$13),1,0)","v":0},{"$f":"IF(UIoptions!$N$35=1,IF(AND(PCdb[[#This Row],[SQ_SZ]]>UIoptions!$S$15,PCdb[[#This Row],[SQ_SZ]]<UIoptions!$T$15),1,0),1)","v":1},{"$f":"IF(UIoptions!$N$35=2,IF(AND(PCdb[[#This Row],[ROUND_D]]>UIoptions!$S$15,PCdb[[#This Row],[ROUND_D]]<UIoptions!$T$15),1,0),1)","v":1},{"$f":"IF(UIoptions!$N$75<>1,1,IF(AND(PCdb[[#This Row],[FL]]>UIoptions!$S$16,PCdb[[#This Row],[FL]]<UIoptions!$T$16),1,0))","v":0},{"$f":"IF(OR(UIoptions!$Q$18=PCdb[[#This Row],[THRU_SCREW]],UIoptions!$Q$18=\"NA\"),1,0)","v":0},{"$f":"IF(OR(UIoptions!$P$19=PCdb[[#This Row],[THREAD_SZ]],UIoptions!$P$19=\"NA\"),1,0)","v":1},{"$f":"IF(UIoptions!$N$75=1,1,IF(AND(PCdb[[#This Row],[THREAD_L]]>UIoptions!$S$17,PCdb[[#This Row],[THREAD_L]]<UIoptions!$T$17),1,0))","v":1},{"$f":"IF(SUM(PCdb[[#This Row],[BDhit]:[THREAD_Lhit]])=11,1,0)","v":0},{"$f":"CONCATENATE(PCdb[[#This Row],[BCD]],PCdb[[#This Row],[PD]],PCdb[[#This Row],[PL (MAX)]],PCdb[[#This Row],[SD]],PCdb[[#This Row],[SL]],PCdb[[#This Row],[SQ_SZ]],PCdb[[#This Row],[ROUND_D]],PCdb[[#This Row],[FL]],PCdb[[#This Row],[THRU_SCREW]],PCdb[[#This Row],[THREAD_SZ]],PCdb[[#This Row],[THREAD_L]],PCdb[[#This Row],[NBR_HOLES]])","v":"70504143058NA6,1M5NANA4"},{"$f":"SUM(PCdb[[#This Row],[BDhit]:[THREAD_Lhit]])","v":5}]
[82,66.7,38.1,4,9.5299999999999994,20.6,58,"NA",6.1,"M4","NA","NA",4,"M4",38.700000000000003,22,"NA","Y","B",45,90,null,null,null,null,null,null,null,null,null,null,null,null,null,null,null,null,null,null,null,null,null,null,null,null,null,null,null,null,null,null,null,null,{"$f":"IF(AND(PCdb[[#This Row],[BCD]]>UIoptions!$S$10,PCdb[[#This Row],[BCD]]<UIoptions!$T$10),1,0)","v":0},{"$f":"IF(AND(PCdb[[#This Row],[PD]]>UIoptions!$S$11,PCdb[[#This Row],[PD]]<UIoptions!$T$11),1,0)","v":0},{"$f":"IF(AND(UIoptions!$P$14<=PCdb[[#This Row],[PL (MAX)]],UIoptions!$P$14>UIoptions!$S$14),1,0)","v":1},{"$f":"IF(AND(PCdb[[#This Row],[SD]]>UIoptions!$S$12,PCdb[[#This Row],[SD]]<UIoptions!$T$12),1,0)","v":0},{"$f":"IF(AND(PCdb[[#This Row],[SL]]>UIoptions!$S$13,PCdb[[#This Row],[SL]]<UIoptions!$T$13),1,0)","v":0},{"$f":"IF(UIoptions!$N$35=1,IF(AND(PCdb[[#This Row],[SQ_SZ]]>UIoptions!$S$15,PCdb[[#This Row],[SQ_SZ]]<UIoptions!$T$15),1,0),1)","v":1},{"$f":"IF(UIoptions!$N$35=2,IF(AND(PCdb[[#This Row],[ROUND_D]]>UIoptions!$S$15,PCdb[[#This Row],[ROUND_D]]<UIoptions!$T$15),1,0),1)","v":1},{"$f":"IF(UIoptions!$N$75<>1,1,IF(AND(PCdb[[#This Row],[FL]]>UIoptions!$S$16,PCdb[[#This Row],[FL]]<UIoptions!$T$16),1,0))","v":0},{"$f":"IF(OR(UIoptions!$Q$18=PCdb[[#This Row],[THRU_SCREW]],UIoptions!$Q$18=\"NA\"),1,0)","v":1},{"$f":"IF(OR(UIoptions!$P$19=PCdb[[#This Row],[THREAD_SZ]],UIoptions!$P$19=\"NA\"),1,0)","v":1},{"$f":"IF(UIoptions!$N$75=1,1,IF(AND(PCdb[[#This Row],[THREAD_L]]>UIoptions!$S$17,PCdb[[#This Row],[THREAD_L]]<UIoptions!$T$17),1,0))","v":1},{"$f":"IF(SUM(PCdb[[#This Row],[BDhit]:[THREAD_Lhit]])=11,1,0)","v":0},{"$f":"CONCATENATE(PCdb[[#This Row],[BCD]],PCdb[[#This Row],[PD]],PCdb[[#This Row],[PL (MAX)]],PCdb[[#This Row],[SD]],PCdb[[#This Row],[SL]],PCdb[[#This Row],[SQ_SZ]],PCdb[[#This Row],[ROUND_D]],PCdb[[#This Row],[FL]],PCdb[[#This Row],[THRU_SCREW]],PCdb[[#This Row],[THREAD_SZ]],PCdb[[#This Row],[THREAD_L]],PCdb[[#This Row],[NBR_HOLES]])","v":"66,738,149,5320,658NA6,1M4NANA4"},{"$f":"SUM(PCdb[[#This Row],[BDhit]:[THREAD_Lhit]])","v":6}]
[83,66.7,38.1,4,6.35,20.6,57.9,"NA",6.1,"M4","NA","NA",4,"M4",null,null,null,null,null,null,null,null,null,null,null,null,null,null,null,null,null,null,null,null,null,null,null,null,null,null,null,null,null,null,null,null,null,null,null,null,null,null,null,{"$f":"IF(AND(PCdb[[#This Row],[BCD]]>UIoptions!$S$10,PCdb[[#This Row],[BCD]]<UIoptions!$T$10),1,0)","v":0},{"$f":"IF(AND(PCdb[[#This Row],[PD]]>UIoptions!$S$11,PCdb[[#This Row],[PD]]<UIoptions!$T$11),1,0)","v":0},{"$f":"IF(AND(UIoptions!$P$14<=PCdb[[#This Row],[PL (MAX)]],UIoptions!$P$14>UIoptions!$S$14),1,0)","v":1},{"$f":"IF(AND(PCdb[[#This Row],[SD]]>UIoptions!$S$12,PCdb[[#This Row],[SD]]<UIoptions!$T$12),1,0)","v":0},{"$f":"IF(AND(PCdb[[#This Row],[SL]]>UIoptions!$S$13,PCdb[[#This Row],[SL]]<UIoptions!$T$13),1,0)","v":0},{"$f":"IF(UIoptions!$N$35=1,IF(AND(PCdb[[#This Row],[SQ_SZ]]>UIoptions!$S$15,PCdb[[#This Row],[SQ_SZ]]<UIoptions!$T$15),1,0),1)","v":1},{"$f":"IF(UIoptions!$N$35=2,IF(AND(PCdb[[#This Row],[ROUND_D]]>UIoptions!$S$15,PCdb[[#This Row],[ROUND_D]]<UIoptions!$T$15),1,0),1)","v":1},{"$f":"IF(UIoptions!$N$75<>1,1,IF(AND(PCdb[[#This Row],[FL]]>UIoptions!$S$16,PCdb[[#This Row],[FL]]<UIoptions!$T$16),1,0))","v":0},{"$f":"IF(OR(UIoptions!$Q$18=PCdb[[#This Row],[THRU_SCREW]],UIoptions!$Q$18=\"NA\"),1,0)","v":1},{"$f":"IF(OR(UIoptions!$P$19=PCdb[[#This Row],[THREAD_SZ]],UIoptions!$P$19=\"NA\"),1,0)","v":1},{"$f":"IF(UIoptions!$N$75=1,1,IF(AND(PCdb[[#This Row],[THREAD_L]]>UIoptions!$S$17,PCdb[[#This Row],[THREAD_L]]<UIoptions!$T$17),1,0))","v":1},{"$f":"IF(SUM(PCdb[[#This Row],[BDhit]:[THREAD_Lhit]])=11,1,0)","v":0},{"$f":"CONCATENATE(PCdb[[#This Row],[BCD]],PCdb[[#This Row],[PD]],PCdb[[#This Row],[PL (MAX)]],PCdb[[#This Row],[SD]],PCdb[[#This Row],[SL]],PCdb[[#This Row],[SQ_SZ]],PCdb[[#This Row],[ROUND_D]],PCdb[[#This Row],[FL]],PCdb[[#This Row],[THRU_SCREW]],PCdb[[#This Row],[THREAD_SZ]],PCdb[[#This Row],[THREAD_L]],PCdb[[#This Row],[NBR_HOLES]])","v":"66,738,146,3520,657,9NA6,1M4NANA4"},{"$f":"SUM(PCdb[[#This Row],[BDhit]:[THREAD_Lhit]])","v":6}]
[84,100,80,4,14,30,86,"NA",8.4,"M6","NA","NA",4,"M6",null,null,null,null,null,null,null,null,null,null,null,null,null,null,null,null,null,null,null,null,null,null,null,null,null,null,null,null,null,null,null,null,null,null,null,null,null,null,null,{"$f":"IF(AND(PCdb[[#This Row],[BCD]]>UIoptions!$S$10,PCdb[[#This Row],[BCD]]<UIoptions!$T$10),1,0)","v":0},{"$f":"IF(AND(PCdb[[#This Row],[PD]]>UIoptions!$S$11,PCdb[[#This Row],[PD]]<UIoptions!$T$11),1,0)","v":0},{"$f":"IF(AND(UIoptions!$P$14<=PCdb[[#This Row],[PL (MAX)]],UIoptions!$P$14>UIoptions!$S$14),1,0)","v":1},{"$f":"IF(AND(PCdb[[#This Row],[SD]]>UIoptions!$S$12,PCdb[[#This Row],[SD]]<UIoptions!$T$12),1,0)","v":0},{"$f":"IF(AND(PCdb[[#This Row],[SL]]>UIoptions!$S$13,PCdb[[#This Row],[SL]]<UIoptions!$T$13),1,0)","v":0},{"$f":"IF(UIoptions!$N$35=1,IF(AND(PCdb[[#This Row],[SQ_SZ]]>UIoptions!$S$15,PCdb[[#This Row],[SQ_SZ]]<UIoptions!$T$15),1,0),1)","v":0},{"$f":"IF(UIoptions!$N$35=2,IF(AND(PCdb[[#This Row],[ROUND_D]]>UIoptions!$S$15,PCdb[[#This Row],[ROUND_D]]<UIoptions!$T$15),1,0),1)","v":1},{"$f":"IF(UIoptions!$N$75<>1,1,IF(AND(PCdb[[#This Row],[FL]]>UIoptions!$S$16,PCdb[[#This Row],[FL]]<UIoptions!$T$16),1,0))","v":0},{"$f":"IF(OR(UIoptions!$Q$18=PCdb[[#This Row],[THRU_SCREW]],UIoptions!$Q$18=\"NA\"),1,0)","v":0},{"$f":"IF(OR(UIoptions!$P$19=PCdb[[#This Row],[THREAD_SZ]],UIoptions!$P$19=\"NA\"),1,0)","v":1},{"$f":"IF(UIoptions!$N$75=1,1,IF(AND(PCdb[[#This Row],[THREAD_L]]>UIoptions!$S$17,PCdb[[#This Row],[THREAD_L]]<UIoptions!$T$17),1,0))","v":1},{"$f":"IF(SUM(PCdb[[#This Row],[BDhit]:[THREAD_Lhit]])=11,1,0)","v":0},{"$f":"CONCATENATE(PCdb[[#This Row],[BCD]],PCdb[[#This Row],[PD]],PCdb[[#This Row],[PL (MAX)]],PCdb[[#This Row],[SD]],PCdb[[#This Row],[SL]],PCdb[[#This Row],[SQ_SZ]],PCdb[[#This Row],[ROUND_D]],PCdb[[#This Row],[FL]],PCdb[[#This Row],[THRU_SCREW]],PCdb[[#This Row],[THREAD_SZ]],PCdb[[#This Row],[THREAD_L]],PCdb[[#This Row],[NBR_HOLES]])","v":"100804143086NA8,4M6NANA4"},{"$f":"SUM(PCdb[[#This Row],[BDhit]:[THREAD_Lhit]])","v":4}]
[85,98.4,73.03,4,12.7,31.8,85.9,"NA",8.4,"M5","NA","NA",4,"M5",null,null,null,null,null,null,null,null,null,null,null,null,null,null,null,null,null,null,null,null,null,null,null,null,null,null,null,null,null,null,null,null,null,40,"NA","Y","D",45,90,{"$f":"IF(AND(PCdb[[#This Row],[BCD]]>UIoptions!$S$10,PCdb[[#This Row],[BCD]]<UIoptions!$T$10),1,0)","v":0},{"$f":"IF(AND(PCdb[[#This Row],[PD]]>UIoptions!$S$11,PCdb[[#This Row],[PD]]<UIoptions!$T$11),1,0)","v":0},{"$f":"IF(AND(UIoptions!$P$14<=PCdb[[#This Row],[PL (MAX)]],UIoptions!$P$14>UIoptions!$S$14),1,0)","v":1},{"$f":"IF(AND(PCdb[[#This Row],[SD]]>UIoptions!$S$12,PCdb[[#This Row],[SD]]<UIoptions!$T$12),1,0)","v":0},{"$f":"IF(AND(PCdb[[#This Row],[SL]]>UIoptions!$S$13,PCdb[[#This Row],[SL]]<UIoptions!$T$13),1,0)","v":0},{"$f":"IF(UIoptions!$N$35=1,IF(AND(PCdb[[#This Row],[SQ_SZ]]>UIoptions!$S$15,PCdb[[#This Row],[SQ_SZ]]<UIoptions!$T$15),1,0),1)","v":0},{"$f":"IF(UIoptions!$N$35=2,IF(AND(PCdb[[#This Row],[ROUND_D]]>UIoptions!$S$15,PCdb[[#This Row],[ROUND_D]]<UIoptions!$T$15),1,0),1)","v":1},{"$f":"IF(UIoptions!$N$75<>1,1,IF(AND(PCdb[[#This Row],[FL]]>UIoptions!$S$16,PCdb[[#This Row],[FL]]<UIoptions!$T$16),1,0))","v":0},{"$f":"IF(OR(UIoptions!$Q$18=PCdb[[#This Row],[THRU_SCREW]],UIoptions!$Q$18=\"NA\"),1,0)","v":0},{"$f":"IF(OR(UIoptions!$P$19=PCdb[[#This Row],[THREAD_SZ]],UIoptions!$P$19=\"NA\"),1,0)","v":1},{"$f":"IF(UIoptions!$N$75=1,1,IF(AND(PCdb[[#This Row],[THREAD_L]]>UIoptions!$S$17,PCdb[[#This Row],[THREAD_L]]<UIoptions!$T$17),1,0))","v":1},{"$f":"IF(SUM(PCdb[[#This Row],[BDhit]:[THREAD_Lhit]])=11,1,0)","v":0},{"$f":"CONCATENATE(PCdb[[#This Row],[BCD]],PCdb[[#This Row],[PD]],PCdb[[#This Row],[PL (MAX)]],PCdb[[#This Row],[SD]],PCdb[[#This Row],[SL]],PCdb[[#This Row],[SQ_SZ]],PCdb[[#This Row],[ROUND_D]],PCdb[[#This Row],[FL]],PCdb[[#This Row],[THRU_SCREW]],PCdb[[#This Row],[THREAD_SZ]],PCdb[[#This Row],[THREAD_L]],PCdb[[#This Row],[NBR_HOLES]])","v":"98,473,03412,731,885,9NA8,4M5NANA4"},{"$f":"SUM(PCdb[[#This Row],[BDhit]:[THREAD_Lhit]])","v":4}]
[86,66.7,38.1,4,6.35,20.6,57.2,"NA",5.3,"M4","NA","NA",4,"M4",38.700000000000003,22,0,"Y","B",45,90,45.2,26,0,"Y","B",45,90,48.7,"NA","NA","NO","A",45,90,null,null,null,null,null,null,22,0,"Y","C",45,90,null,null,null,null,null,null,{"$f":"IF(AND(PCdb[[#This Row],[BCD]]>UIoptions!$S$10,PCdb[[#This Row],[BCD]]<UIoptions!$T$10),1,0)","v":0},{"$f":"IF(AND(PCdb[[#This Row],[PD]]>UIoptions!$S$11,PCdb[[#This Row],[PD]]<UIoptions!$T$11),1,0)","v":0},{"$f":"IF(AND(UIoptions!$P$14<=PCdb[[#This Row],[PL (MAX)]],UIoptions!$P$14>UIoptions!$S$14),1,0)","v":1},{"$f":"IF(AND(PCdb[[#This Row],[SD]]>UIoptions!$S$12,PCdb[[#This Row],[SD]]<UIoptions!$T$12),1,0)","v":0},{"$f":"IF(AND(PCdb[[#This Row],[SL]]>UIoptions!$S$13,PCdb[[#This Row],[SL]]<UIoptions!$T$13),1,0)","v":0},{"$f":"IF(UIoptions!$N$35=1,IF(AND(PCdb[[#This Row],[SQ_SZ]]>UIoptions!$S$15,PCdb[[#This Row],[SQ_SZ]]<UIoptions!$T$15),1,0),1)","v":0},{"$f":"IF(UIoptions!$N$35=2,IF(AND(PCdb[[#This Row],[ROUND_D]]>UIoptions!$S$15,PCdb[[#This Row],[ROUND_D]]<UIoptions!$T$15),1,0),1)","v":1},{"$f":"IF(UIoptions!$N$75<>1,1,IF(AND(PCdb[[#This Row],[FL]]>UIoptions!$S$16,PCdb[[#This Row],[FL]]<UIoptions!$T$16),1,0))","v":0},{"$f":"IF(OR(UIoptions!$Q$18=PCdb[[#This Row],[THRU_SCREW]],UIoptions!$Q$18=\"NA\"),1,0)","v":1},{"$f":"IF(OR(UIoptions!$P$19=PCdb[[#This Row],[THREAD_SZ]],UIoptions!$P$19=\"NA\"),1,0)","v":1},{"$f":"IF(UIoptions!$N$75=1,1,IF(AND(PCdb[[#This Row],[THREAD_L]]>UIoptions!$S$17,PCdb[[#This Row],[THREAD_L]]<UIoptions!$T$17),1,0))","v":1},{"$f":"IF(SUM(PCdb[[#This Row],[BDhit]:[THREAD_Lhit]])=11,1,0)","v":0},{"$f":"CONCATENATE(PCdb[[#This Row],[BCD]],PCdb[[#This Row],[PD]],PCdb[[#This Row],[PL (MAX)]],PCdb[[#This Row],[SD]],PCdb[[#This Row],[SL]],PCdb[[#This Row],[SQ_SZ]],PCdb[[#This Row],[ROUND_D]],PCdb[[#This Row],[FL]],PCdb[[#This Row],[THRU_SCREW]],PCdb[[#This Row],[THREAD_SZ]],PCdb[[#This Row],[THREAD_L]],PCdb[[#This Row],[NBR_HOLES]])","v":"66,738,146,3520,657,2NA5,3M4NANA4"},{"$f":"SUM(PCdb[[#This Row],[BDhit]:[THREAD_Lhit]])","v":5}]
[87,98.4,73.03,4,12.7,31.8,87.1,"NA",9.9,"M5","NA","NA",4,"M5","NA","NA","NA","NA","NA","NA","NA",null,null,null,null,null,null,null,null,null,null,null,null,null,null,"NA","NA","NA","NA","NA","NA","NA","NA","NA","NA","NA","NA",39,"NA","Y","D",45,90,{"$f":"IF(AND(PCdb[[#This Row],[BCD]]>UIoptions!$S$10,PCdb[[#This Row],[BCD]]<UIoptions!$T$10),1,0)","v":0},{"$f":"IF(AND(PCdb[[#This Row],[PD]]>UIoptions!$S$11,PCdb[[#This Row],[PD]]<UIoptions!$T$11),1,0)","v":0},{"$f":"IF(AND(UIoptions!$P$14<=PCdb[[#This Row],[PL (MAX)]],UIoptions!$P$14>UIoptions!$S$14),1,0)","v":1},{"$f":"IF(AND(PCdb[[#This Row],[SD]]>UIoptions!$S$12,PCdb[[#This Row],[SD]]<UIoptions!$T$12),1,0)","v":0},{"$f":"IF(AND(PCdb[[#This Row],[SL]]>UIoptions!$S$13,PCdb[[#This Row],[SL]]<UIoptions!$T$13),1,0)","v":0},{"$f":"IF(UIoptions!$N$35=1,IF(AND(PCdb[[#This Row],[SQ_SZ]]>UIoptions!$S$15,PCdb[[#This Row],[SQ_SZ]]<UIoptions!$T$15),1,0),1)","v":0},{"$f":"IF(UIoptions!$N$35=2,IF(AND(PCdb[[#This Row],[ROUND_D]]>UIoptions!$S$15,PCdb[[#This Row],[ROUND_D]]<UIoptions!$T$15),1,0),1)","v":1},{"$f":"IF(UIoptions!$N$75<>1,1,IF(AND(PCdb[[#This Row],[FL]]>UIoptions!$S$16,PCdb[[#This Row],[FL]]<UIoptions!$T$16),1,0))","v":0},{"$f":"IF(OR(UIoptions!$Q$18=PCdb[[#This Row],[THRU_SCREW]],UIoptions!$Q$18=\"NA\"),1,0)","v":0},{"$f":"IF(OR(UIoptions!$P$19=PCdb[[#This Row],[THREAD_SZ]],UIoptions!$P$19=\"NA\"),1,0)","v":1},{"$f":"IF(UIoptions!$N$75=1,1,IF(AND(PCdb[[#This Row],[THREAD_L]]>UIoptions!$S$17,PCdb[[#This Row],[THREAD_L]]<UIoptions!$T$17),1,0))","v":1},{"$f":"IF(SUM(PCdb[[#This Row],[BDhit]:[THREAD_Lhit]])=11,1,0)","v":0},{"$f":"CONCATENATE(PCdb[[#This Row],[BCD]],PCdb[[#This Row],[PD]],PCdb[[#This Row],[PL (MAX)]],PCdb[[#This Row],[SD]],PCdb[[#This Row],[SL]],PCdb[[#This Row],[SQ_SZ]],PCdb[[#This Row],[ROUND_D]],PCdb[[#This Row],[FL]],PCdb[[#This Row],[THRU_SCREW]],PCdb[[#This Row],[THREAD_SZ]],PCdb[[#This Row],[THREAD_L]],PCdb[[#This Row],[NBR_HOLES]])","v":"98,473,03412,731,887,1NA9,9M5NANA4"},{"$f":"SUM(PCdb[[#This Row],[BDhit]:[THREAD_Lhit]])","v":4}]
[88,46,30,4,8,25,40.9,"NA",5,"M4","NA","NA",4,"M4",38.700000000000003,3,32,"Y","A",45,90,41.7,15.5,0,"?","A",45,90,48.7,17,0,"?","A",45,90,17.5,0,"Y","C",45,90,17.5,0,"Y","C",45,90,17.5,0,"Y","C",45,90,{"$f":"IF(AND(PCdb[[#This Row],[BCD]]>UIoptions!$S$10,PCdb[[#This Row],[BCD]]<UIoptions!$T$10),1,0)","v":0},{"$f":"IF(AND(PCdb[[#This Row],[PD]]>UIoptions!$S$11,PCdb[[#This Row],[PD]]<UIoptions!$T$11),1,0)","v":0},{"$f":"IF(AND(UIoptions!$P$14<=PCdb[[#This Row],[PL (MAX)]],UIoptions!$P$14>UIoptions!$S$14),1,0)","v":1},{"$f":"IF(AND(PCdb[[#This Row],[SD]]>UIoptions!$S$12,PCdb[[#This Row],[SD]]<UIoptions!$T$12),1,0)","v":0},{"$f":"IF(AND(PCdb[[#This Row],[SL]]>UIoptions!$S$13,PCdb[[#This Row],[SL]]<UIoptions!$T$13),1,0)","v":0},{"$f":"IF(UIoptions!$N$35=1,IF(AND(PCdb[[#This Row],[SQ_SZ]]>UIoptions!$S$15,PCdb[[#This Row],[SQ_SZ]]<UIoptions!$T$15),1,0),1)","v":0},{"$f":"IF(UIoptions!$N$35=2,IF(AND(PCdb[[#This Row],[ROUND_D]]>UIoptions!$S$15,PCdb[[#This Row],[ROUND_D]]<UIoptions!$T$15),1,0),1)","v":1},{"$f":"IF(UIoptions!$N$75<>1,1,IF(AND(PCdb[[#This Row],[FL]]>UIoptions!$S$16,PCdb[[#This Row],[FL]]<UIoptions!$T$16),1,0))","v":0},{"$f":"IF(OR(UIoptions!$Q$18=PCdb[[#This Row],[THRU_SCREW]],UIoptions!$Q$18=\"NA\"),1,0)","v":1},{"$f":"IF(OR(UIoptions!$P$19=PCdb[[#This Row],[THREAD_SZ]],UIoptions!$P$19=\"NA\"),1,0)","v":1},{"$f":"IF(UIoptions!$N$75=1,1,IF(AND(PCdb[[#This Row],[THREAD_L]]>UIoptions!$S$17,PCdb[[#This Row],[THREAD_L]]<UIoptions!$T$17),1,0))","v":1},{"$f":"IF(SUM(PCdb[[#This Row],[BDhit]:[THREAD_Lhit]])=11,1,0)","v":0},{"$f":"CONCATENATE(PCdb[[#This Row],[BCD]],PCdb[[#This Row],[PD]],PCdb[[#This Row],[PL (MAX)]],PCdb[[#This Row],[SD]],PCdb[[#This Row],[SL]],PCdb[[#This Row],[SQ_SZ]],PCdb[[#This Row],[ROUND_D]],PCdb[[#This Row],[FL]],PCdb[[#This Row],[THRU_SCREW]],PCdb[[#This Row],[THREAD_SZ]],PCdb[[#This Row],[THREAD_L]],PCdb[[#This Row],[NBR_HOLES]])","v":"4630482540,9NA5M4NANA4"},{"$f":"SUM(PCdb[[#This Row],[BDhit]:[THREAD_Lhit]])","v":5}]
[89,75,60,4,14,30,70,"NA",5.8,"M5","NA","NA",4,"M5",null,null,null,null,null,null,null,null,null,null,null,null,null,null,48.7,32,"NA","Y","B",45,90,null,null,null,null,null,null,32,"NA","Y","D",45,90,32,0,"Y","C",45,90,{"$f":"IF(AND(PCdb[[#This Row],[BCD]]>UIoptions!$S$10,PCdb[[#This Row],[BCD]]<UIoptions!$T$10),1,0)","v":0},{"$f":"IF(AND(PCdb[[#This Row],[PD]]>UIoptions!$S$11,PCdb[[#This Row],[PD]]<UIoptions!$T$11),1,0)","v":0},{"$f":"IF(AND(UIoptions!$P$14<=PCdb[[#This Row],[PL (MAX)]],UIoptions!$P$14>UIoptions!$S$14),1,0)","v":1},{"$f":"IF(AND(PCdb[[#This Row],[SD]]>UIoptions!$S$12,PCdb[[#This Row],[SD]]<UIoptions!$T$12),1,0)","v":0},{"$f":"IF(AND(PCdb[[#This Row],[SL]]>UIoptions!$S$13,PCdb[[#This Row],[SL]]<UIoptions!$T$13),1,0)","v":0},{"$f":"IF(UIoptions!$N$35=1,IF(AND(PCdb[[#This Row],[SQ_SZ]]>UIoptions!$S$15,PCdb[[#This Row],[SQ_SZ]]<UIoptions!$T$15),1,0),1)","v":0},{"$f":"IF(UIoptions!$N$35=2,IF(AND(PCdb[[#This Row],[ROUND_D]]>UIoptions!$S$15,PCdb[[#This Row],[ROUND_D]]<UIoptions!$T$15),1,0),1)","v":1},{"$f":"IF(UIoptions!$N$75<>1,1,IF(AND(PCdb[[#This Row],[FL]]>UIoptions!$S$16,PCdb[[#This Row],[FL]]<UIoptions!$T$16),1,0))","v":0},{"$f":"IF(OR(UIoptions!$Q$18=PCdb[[#This Row],[THRU_SCREW]],UIoptions!$Q$18=\"NA\"),1,0)","v":0},{"$f":"IF(OR(UIoptions!$P$19=PCdb[[#This Row],[THREAD_SZ]],UIoptions!$P$19=\"NA\"),1,0)","v":1},{"$f":"IF(UIoptions!$N$75=1,1,IF(AND(PCdb[[#This Row],[THREAD_L]]>UIoptions!$S$17,PCdb[[#This Row],[THREAD_L]]<UIoptions!$T$17),1,0))","v":1},{"$f":"IF(SUM(PCdb[[#This Row],[BDhit]:[THREAD_Lhit]])=11,1,0)","v":0},{"$f":"CONCATENATE(PCdb[[#This Row],[BCD]],PCdb[[#This Row],[PD]],PCdb[[#This Row],[PL (MAX)]],PCdb[[#This Row],[SD]],PCdb[[#This Row],[SL]],PCdb[[#This Row],[SQ_SZ]],PCdb[[#This Row],[ROUND_D]],PCdb[[#This Row],[FL]],PCdb[[#This Row],[THRU_SCREW]],PCdb[[#This Row],[THREAD_SZ]],PCdb[[#This Row],[THREAD_L]],PCdb[[#This Row],[NBR_HOLES]])","v":"75604143070NA5,8M5NANA4"},{"$f":"SUM(PCdb[[#This Row],[BDhit]:[THREAD_Lhit]])","v":4}]
[90,66.7,38.1,4,6.35,20.6,57.2,"NA",6.4,"M4","NA","NA",4,"M4",null,null,null,null,null,null,null,null,null,null,null,null,null,null,null,null,null,null,null,null,null,22,0,"Y","D",45,90,22,0,"Y","C",45,90,22,0,"Y","C",45,90,{"$f":"IF(AND(PCdb[[#This Row],[BCD]]>UIoptions!$S$10,PCdb[[#This Row],[BCD]]<UIoptions!$T$10),1,0)","v":0},{"$f":"IF(AND(PCdb[[#This Row],[PD]]>UIoptions!$S$11,PCdb[[#This Row],[PD]]<UIoptions!$T$11),1,0)","v":0},{"$f":"IF(AND(UIoptions!$P$14<=PCdb[[#This Row],[PL (MAX)]],UIoptions!$P$14>UIoptions!$S$14),1,0)","v":1},{"$f":"IF(AND(PCdb[[#This Row],[SD]]>UIoptions!$S$12,PCdb[[#This Row],[SD]]<UIoptions!$T$12),1,0)","v":0},{"$f":"IF(AND(PCdb[[#This Row],[SL]]>UIoptions!$S$13,PCdb[[#This Row],[SL]]<UIoptions!$T$13),1,0)","v":0},{"$f":"IF(UIoptions!$N$35=1,IF(AND(PCdb[[#This Row],[SQ_SZ]]>UIoptions!$S$15,PCdb[[#This Row],[SQ_SZ]]<UIoptions!$T$15),1,0),1)","v":0},{"$f":"IF(UIoptions!$N$35=2,IF(AND(PCdb[[#This Row],[ROUND_D]]>UIoptions!$S$15,PCdb[[#This Row],[ROUND_D]]<UIoptions!$T$15),1,0),1)","v":1},{"$f":"IF(UIoptions!$N$75<>1,1,IF(AND(PCdb[[#This Row],[FL]]>UIoptions!$S$16,PCdb[[#This Row],[FL]]<UIoptions!$T$16),1,0))","v":0},{"$f":"IF(OR(UIoptions!$Q$18=PCdb[[#This Row],[THRU_SCREW]],UIoptions!$Q$18=\"NA\"),1,0)","v":1},{"$f":"IF(OR(UIoptions!$P$19=PCdb[[#This Row],[THREAD_SZ]],UIoptions!$P$19=\"NA\"),1,0)","v":1},{"$f":"IF(UIoptions!$N$75=1,1,IF(AND(PCdb[[#This Row],[THREAD_L]]>UIoptions!$S$17,PCdb[[#This Row],[THREAD_L]]<UIoptions!$T$17),1,0))","v":1},{"$f":"IF(SUM(PCdb[[#This Row],[BDhit]:[THREAD_Lhit]])=11,1,0)","v":0},{"$f":"CONCATENATE(PCdb[[#This Row],[BCD]],PCdb[[#This Row],[PD]],PCdb[[#This Row],[PL (MAX)]],PCdb[[#This Row],[SD]],PCdb[[#This Row],[SL]],PCdb[[#This Row],[SQ_SZ]],PCdb[[#This Row],[ROUND_D]],PCdb[[#This Row],[FL]],PCdb[[#This Row],[THRU_SCREW]],PCdb[[#This Row],[THREAD_SZ]],PCdb[[#This Row],[THREAD_L]],PCdb[[#This Row],[NBR_HOLES]])","v":"66,738,146,3520,657,2NA6,4M4NANA4"},{"$f":"SUM(PCdb[[#This Row],[BDhit]:[THREAD_Lhit]])","v":5}]
[91,66.7,38.1,4,9.5299999999999994,20.6,59.1,"NA",4.7,"M4","NA","NA",4,"M4",38.700000000000003,22,0,"Y","B",45,90,45.2,26,0,"Y","B",45,90,48.7,4,47,"Y","A",45,90,22,0,"Y","D",45,90,22,0,"Y","C",45,90,22,0,"Y","C",45,90,{"$f":"IF(AND(PCdb[[#This Row],[BCD]]>UIoptions!$S$10,PCdb[[#This Row],[BCD]]<UIoptions!$T$10),1,0)","v":0},{"$f":"IF(AND(PCdb[[#This Row],[PD]]>UIoptions!$S$11,PCdb[[#This Row],[PD]]<UIoptions!$T$11),1,0)","v":0},{"$f":"IF(AND(UIoptions!$P$14<=PCdb[[#This Row],[PL (MAX)]],UIoptions!$P$14>UIoptions!$S$14),1,0)","v":1},{"$f":"IF(AND(PCdb[[#This Row],[SD]]>UIoptions!$S$12,PCdb[[#This Row],[SD]]<UIoptions!$T$12),1,0)","v":0},{"$f":"IF(AND(PCdb[[#This Row],[SL]]>UIoptions!$S$13,PCdb[[#This Row],[SL]]<UIoptions!$T$13),1,0)","v":0},{"$f":"IF(UIoptions!$N$35=1,IF(AND(PCdb[[#This Row],[SQ_SZ]]>UIoptions!$S$15,PCdb[[#This Row],[SQ_SZ]]<UIoptions!$T$15),1,0),1)","v":0},{"$f":"IF(UIoptions!$N$35=2,IF(AND(PCdb[[#This Row],[ROUND_D]]>UIoptions!$S$15,PCdb[[#This Row],[ROUND_D]]<UIoptions!$T$15),1,0),1)","v":1},{"$f":"IF(UIoptions!$N$75<>1,1,IF(AND(PCdb[[#This Row],[FL]]>UIoptions!$S$16,PCdb[[#This Row],[FL]]<UIoptions!$T$16),1,0))","v":0},{"$f":"IF(OR(UIoptions!$Q$18=PCdb[[#This Row],[THRU_SCREW]],UIoptions!$Q$18=\"NA\"),1,0)","v":1},{"$f":"IF(OR(UIoptions!$P$19=PCdb[[#This Row],[THREAD_SZ]],UIoptions!$P$19=\"NA\"),1,0)","v":1},{"$f":"IF(UIoptions!$N$75=1,1,IF(AND(PCdb[[#This Row],[THREAD_L]]>UIoptions!$S$17,PCdb[[#This Row],[THREAD_L]]<UIoptions!$T$17),1,0))","v":1},{"$f":"IF(SUM(PCdb[[#This Row],[BDhit]:[THREAD_Lhit]])=11,1,0)","v":0},{"$f":"CONCATENATE(PCdb[[#This Row],[BCD]],PCdb[[#This Row],[PD]],PCdb[[#This Row],[PL (MAX)]],PCdb[[#This Row],[SD]],PCdb[[#This Row],[SL]],PCdb[[#This Row],[SQ_SZ]],PCdb[[#This Row],[ROUND_D]],PCdb[[#This Row],[FL]],PCdb[[#This Row],[THRU_SCREW]],PCdb[[#This Row],[THREAD_SZ]],PCdb[[#This Row],[THREAD_L]],PCdb[[#This Row],[NBR_HOLES]])","v":"66,738,149,5320,659,1NA4,7M4NANA4"},{"$f":"SUM(PCdb[[#This Row],[BDhit]:[THREAD_Lhit]])","v":5}]
[197,100,80,4,14,30,84,"NA",8,"M6","NA","NA",4,"M6",null,null,null,null,null,null,null,null,null,null,null,null,null,null,48.7,41,"NA","Y","B",45,90,null,null,null,null,null,null,null,null,null,null,null,null,41,0,"Y","D",45,90,{"$f":"IF(AND(PCdb[[#This Row],[BCD]]>UIoptions!$S$10,PCdb[[#This Row],[BCD]]<UIoptions!$T$10),1,0)","v":0},{"$f":"IF(AND(PCdb[[#This Row],[PD]]>UIoptions!$S$11,PCdb[[#This Row],[PD]]<UIoptions!$T$11),1,0)","v":0},{"$f":"IF(AND(UIoptions!$P$14<=PCdb[[#This Row],[PL (MAX)]],UIoptions!$P$14>UIoptions!$S$14),1,0)","v":1},{"$f":"IF(AND(PCdb[[#This Row],[SD]]>UIoptions!$S$12,PCdb[[#This Row],[SD]]<UIoptions!$T$12),1,0)","v":0},{"$f":"IF(AND(PCdb[[#This Row],[SL]]>UIoptions!$S$13,PCdb[[#This Row],[SL]]<UIoptions!$T$13),1,0)","v":0},{"$f":"IF(UIoptions!$N$35=1,IF(AND(PCdb[[#This Row],[SQ_SZ]]>UIoptions!$S$15,PCdb[[#This Row],[SQ_SZ]]<UIoptions!$T$15),1,0),1)","v":0},{"$f":"IF(UIoptions!$N$35=2,IF(AND(PCdb[[#This Row],[ROUND_D]]>UIoptions!$S$15,PCdb[[#This Row],[ROUND_D]]<UIoptions!$T$15),1,0),1)","v":1},{"$f":"IF(UIoptions!$N$75<>1,1,IF(AND(PCdb[[#This Row],[FL]]>UIoptions!$S$16,PCdb[[#This Row],[FL]]<UIoptions!$T$16),1,0))","v":0},{"$f":"IF(OR(UIoptions!$Q$18=PCdb[[#This Row],[THRU_SCREW]],UIoptions!$Q$18=\"NA\"),1,0)","v":0},{"$f":"IF(OR(UIoptions!$P$19=PCdb[[#This Row],[THREAD_SZ]],UIoptions!$P$19=\"NA\"),1,0)","v":1},{"$f":"IF(UIoptions!$N$75=1,1,IF(AND(PCdb[[#This Row],[THREAD_L]]>UIoptions!$S$17,PCdb[[#This Row],[THREAD_L]]<UIoptions!$T$17),1,0))","v":1},{"$f":"IF(SUM(PCdb[[#This Row],[BDhit]:[THREAD_Lhit]])=11,1,0)","v":0},{"$f":"CONCATENATE(PCdb[[#This Row],[BCD]],PCdb[[#This Row],[PD]],PCdb[[#This Row],[PL (MAX)]],PCdb[[#This Row],[SD]],PCdb[[#This Row],[SL]],PCdb[[#This Row],[SQ_SZ]],PCdb[[#This Row],[ROUND_D]],PCdb[[#This Row],[FL]],PCdb[[#This Row],[THRU_SCREW]],PCdb[[#This Row],[THREAD_SZ]],PCdb[[#This Row],[THREAD_L]],PCdb[[#This Row],[NBR_HOLES]])","v":"100804143084NA8M6NANA4"},{"$f":"SUM(PCdb[[#This Row],[BDhit]:[THREAD_Lhit]])","v":4}]
[367,46,30,4,8,25,40,"NA",4,"M4","NA","NA",4,"M4",38.700000000000003,2.2000000000000002,32.53,"Y",null,45,90,41.7,15.5,"NA","Y","A",45,90,null,null,null,null,null,null,null,17.5,0,"Y","C",45,90,"?","?","?",null,null,null,null,null,null,null,null,null,{"$f":"IF(AND(PCdb[[#This Row],[BCD]]>UIoptions!$S$10,PCdb[[#This Row],[BCD]]<UIoptions!$T$10),1,0)","v":0},{"$f":"IF(AND(PCdb[[#This Row],[PD]]>UIoptions!$S$11,PCdb[[#This Row],[PD]]<UIoptions!$T$11),1,0)","v":0},{"$f":"IF(AND(UIoptions!$P$14<=PCdb[[#This Row],[PL (MAX)]],UIoptions!$P$14>UIoptions!$S$14),1,0)","v":1},{"$f":"IF(AND(PCdb[[#This Row],[SD]]>UIoptions!$S$12,PCdb[[#This Row],[SD]]<UIoptions!$T$12),1,0)","v":0},{"$f":"IF(AND(PCdb[[#This Row],[SL]]>UIoptions!$S$13,PCdb[[#This Row],[SL]]<UIoptions!$T$13),1,0)","v":0},{"$f":"IF(UIoptions!$N$35=1,IF(AND(PCdb[[#This Row],[SQ_SZ]]>UIoptions!$S$15,PCdb[[#This Row],[SQ_SZ]]<UIoptions!$T$15),1,0),1)","v":0},{"$f":"IF(UIoptions!$N$35=2,IF(AND(PCdb[[#This Row],[ROUND_D]]>UIoptions!$S$15,PCdb[[#This Row],[ROUND_D]]<UIoptions!$T$15),1,0),1)","v":1},{"$f":"IF(UIoptions!$N$75<>1,1,IF(AND(PCdb[[#This Row],[FL]]>UIoptions!$S$16,PCdb[[#This Row],[FL]]<UIoptions!$T$16),1,0))","v":0},{"$f":"IF(OR(UIoptions!$Q$18=PCdb[[#This Row],[THRU_SCREW]],UIoptions!$Q$18=\"NA\"),1,0)","v":1},{"$f":"IF(OR(UIoptions!$P$19=PCdb[[#This Row],[THREAD_SZ]],UIoptions!$P$19=\"NA\"),1,0)","v":1},{"$f":"IF(UIoptions!$N$75=1,1,IF(AND(PCdb[[#This Row],[THREAD_L]]>UIoptions!$S$17,PCdb[[#This Row],[THREAD_L]]<UIoptions!$T$17),1,0))","v":1},{"$f":"IF(SUM(PCdb[[#This Row],[BDhit]:[THREAD_Lhit]])=11,1,0)","v":0},{"$f":"CONCATENATE(PCdb[[#This Row],[BCD]],PCdb[[#This Row],[PD]],PCdb[[#This Row],[PL (MAX)]],PCdb[[#This Row],[SD]],PCdb[[#This Row],[SL]],PCdb[[#This Row],[SQ_SZ]],PCdb[[#This Row],[ROUND_D]],PCdb[[#This Row],[FL]],PCdb[[#This Row],[THRU_SCREW]],PCdb[[#This Row],[THREAD_SZ]],PCdb[[#This Row],[THREAD_L]],PCdb[[#This Row],[NBR_HOLES]])","v":"4630482540NA4M4NANA4"},{"$f":"SUM(PCdb[[#This Row],[BDhit]:[THREAD_Lhit]])","v":5}]
[92,32,25.5,4,10,22,"NA",44,"NA","NA","M4",8,3,5,null,null,null,null,null,null,null,null,null,null,null,null,null,null,null,null,null,null,null,null,null,0,0,"Y","SPLC2-092",null,null,null,null,null,null,null,null,null,null,null,null,null,null,{"$f":"IF(AND(PCdb[[#This Row],[BCD]]>UIoptions!$S$10,PCdb[[#This Row],[BCD]]<UIoptions!$T$10),1,0)","v":0},{"$f":"IF(AND(PCdb[[#This Row],[PD]]>UIoptions!$S$11,PCdb[[#This Row],[PD]]<UIoptions!$T$11),1,0)","v":0},{"$f":"IF(AND(UIoptions!$P$14<=PCdb[[#This Row],[PL (MAX)]],UIoptions!$P$14>UIoptions!$S$14),1,0)","v":1},{"$f":"IF(AND(PCdb[[#This Row],[SD]]>UIoptions!$S$12,PCdb[[#This Row],[SD]]<UIoptions!$T$12),1,0)","v":0},{"$f":"IF(AND(PCdb[[#This Row],[SL]]>UIoptions!$S$13,PCdb[[#This Row],[SL]]<UIoptions!$T$13),1,0)","v":0},{"$f":"IF(UIoptions!$N$35=1,IF(AND(PCdb[[#This Row],[SQ_SZ]]>UIoptions!$S$15,PCdb[[#This Row],[SQ_SZ]]<UIoptions!$T$15),1,0),1)","v":0},{"$f":"IF(UIoptions!$N$35=2,IF(AND(PCdb[[#This Row],[ROUND_D]]>UIoptions!$S$15,PCdb[[#This Row],[ROUND_D]]<UIoptions!$T$15),1,0),1)","v":1},{"$f":"IF(UIoptions!$N$75<>1,1,IF(AND(PCdb[[#This Row],[FL]]>UIoptions!$S$16,PCdb[[#This Row],[FL]]<UIoptions!$T$16),1,0))","v":0},{"$f":"IF(OR(UIoptions!$Q$18=PCdb[[#This Row],[THRU_SCREW]],UIoptions!$Q$18=\"NA\"),1,0)","v":0},{"$f":"IF(OR(UIoptions!$P$19=PCdb[[#This Row],[THREAD_SZ]],UIoptions!$P$19=\"NA\"),1,0)","v":1},{"$f":"IF(UIoptions!$N$75=1,1,IF(AND(PCdb[[#This Row],[THREAD_L]]>UIoptions!$S$17,PCdb[[#This Row],[THREAD_L]]<UIoptions!$T$17),1,0))","v":1},{"$f":"IF(SUM(PCdb[[#This Row],[BDhit]:[THREAD_Lhit]])=11,1,0)","v":0},{"$f":"CONCATENATE(PCdb[[#This Row],[BCD]],PCdb[[#This Row],[PD]],PCdb[[#This Row],[PL (MAX)]],PCdb[[#This Row],[SD]],PCdb[[#This Row],[SL]],PCdb[[#This Row],[SQ_SZ]],PCdb[[#This Row],[ROUND_D]],PCdb[[#This Row],[FL]],PCdb[[#This Row],[THRU_SCREW]],PCdb[[#This Row],[THREAD_SZ]],PCdb[[#This Row],[THREAD_L]],PCdb[[#This Row],[NBR_HOLES]])","v":"3225,541022NA44NANAM483"},{"$f":"SUM(PCdb[[#This Row],[BDhit]:[THREAD_Lhit]])","v":4}]
[93,66.7,38.1,4,6.35,20.6,56.4,"NA",5.0999999999999996,"M4","NA","NA",4,"M4",null,null,null,null,null,null,null,null,null,null,null,null,null,null,null,null,null,null,null,null,null,null,null,null,null,null,null,25,0,"Y*","C",45,90,null,null,null,null,null,null,{"$f":"IF(AND(PCdb[[#This Row],[BCD]]>UIoptions!$S$10,PCdb[[#This Row],[BCD]]<UIoptions!$T$10),1,0)","v":0},{"$f":"IF(AND(PCdb[[#This Row],[PD]]>UIoptions!$S$11,PCdb[[#This Row],[PD]]<UIoptions!$T$11),1,0)","v":0},{"$f":"IF(AND(UIoptions!$P$14<=PCdb[[#This Row],[PL (MAX)]],UIoptions!$P$14>UIoptions!$S$14),1,0)","v":1},{"$f":"IF(AND(PCdb[[#This Row],[SD]]>UIoptions!$S$12,PCdb[[#This Row],[SD]]<UIoptions!$T$12),1,0)","v":0},{"$f":"IF(AND(PCdb[[#This Row],[SL]]>UIoptions!$S$13,PCdb[[#This Row],[SL]]<UIoptions!$T$13),1,0)","v":0},{"$f":"IF(UIoptions!$N$35=1,IF(AND(PCdb[[#This Row],[SQ_SZ]]>UIoptions!$S$15,PCdb[[#This Row],[SQ_SZ]]<UIoptions!$T$15),1,0),1)","v":0},{"$f":"IF(UIoptions!$N$35=2,IF(AND(PCdb[[#This Row],[ROUND_D]]>UIoptions!$S$15,PCdb[[#This Row],[ROUND_D]]<UIoptions!$T$15),1,0),1)","v":1},{"$f":"IF(UIoptions!$N$75<>1,1,IF(AND(PCdb[[#This Row],[FL]]>UIoptions!$S$16,PCdb[[#This Row],[FL]]<UIoptions!$T$16),1,0))","v":0},{"$f":"IF(OR(UIoptions!$Q$18=PCdb[[#This Row],[THRU_SCREW]],UIoptions!$Q$18=\"NA\"),1,0)","v":1},{"$f":"IF(OR(UIoptions!$P$19=PCdb[[#This Row],[THREAD_SZ]],UIoptions!$P$19=\"NA\"),1,0)","v":1},{"$f":"IF(UIoptions!$N$75=1,1,IF(AND(PCdb[[#This Row],[THREAD_L]]>UIoptions!$S$17,PCdb[[#This Row],[THREAD_L]]<UIoptions!$T$17),1,0))","v":1},{"$f":"IF(SUM(PCdb[[#This Row],[BDhit]:[THREAD_Lhit]])=11,1,0)","v":0},{"$f":"CONCATENATE(PCdb[[#This Row],[BCD]],PCdb[[#This Row],[PD]],PCdb[[#This Row],[PL (MAX)]],PCdb[[#This Row],[SD]],PCdb[[#This Row],[SL]],PCdb[[#This Row],[SQ_SZ]],PCdb[[#This Row],[ROUND_D]],PCdb[[#This Row],[FL]],PCdb[[#This Row],[THRU_SCREW]],PCdb[[#This Row],[THREAD_SZ]],PCdb[[#This Row],[THREAD_L]],PCdb[[#This Row],[NBR_HOLES]])","v":"66,738,146,3520,656,4NA5,1M4NANA4"},{"$f":"SUM(PCdb[[#This Row],[BDhit]:[THREAD_Lhit]])","v":5}]
[94,98.3,73.03,4,14,37,85.9,"NA",8.5,"M6","NA","NA",4,"M6","NA","NA","NA","NA","NA","NA","NA",45.2,38,0,"Y","B",45,90,null,null,null,null,null,null,null,"NA","NA","NA","NA","NA","NA","NA","NA","NA","NA","NA","NA",null,null,null,null,null,null,{"$f":"IF(AND(PCdb[[#This Row],[BCD]]>UIoptions!$S$10,PCdb[[#This Row],[BCD]]<UIoptions!$T$10),1,0)","v":0},{"$f":"IF(AND(PCdb[[#This Row],[PD]]>UIoptions!$S$11,PCdb[[#This Row],[PD]]<UIoptions!$T$11),1,0)","v":0},{"$f":"IF(AND(UIoptions!$P$14<=PCdb[[#This Row],[PL (MAX)]],UIoptions!$P$14>UIoptions!$S$14),1,0)","v":1},{"$f":"IF(AND(PCdb[[#This Row],[SD]]>UIoptions!$S$12,PCdb[[#This Row],[SD]]<UIoptions!$T$12),1,0)","v":0},{"$f":"IF(AND(PCdb[[#This Row],[SL]]>UIoptions!$S$13,PCdb[[#This Row],[SL]]<UIoptions!$T$13),1,0)","v":0},{"$f":"IF(UIoptions!$N$35=1,IF(AND(PCdb[[#This Row],[SQ_SZ]]>UIoptions!$S$15,PCdb[[#This Row],[SQ_SZ]]<UIoptions!$T$15),1,0),1)","v":0},{"$f":"IF(UIoptions!$N$35=2,IF(AND(PCdb[[#This Row],[ROUND_D]]>UIoptions!$S$15,PCdb[[#This Row],[ROUND_D]]<UIoptions!$T$15),1,0),1)","v":1},{"$f":"IF(UIoptions!$N$75<>1,1,IF(AND(PCdb[[#This Row],[FL]]>UIoptions!$S$16,PCdb[[#This Row],[FL]]<UIoptions!$T$16),1,0))","v":0},{"$f":"IF(OR(UIoptions!$Q$18=PCdb[[#This Row],[THRU_SCREW]],UIoptions!$Q$18=\"NA\"),1,0)","v":0},{"$f":"IF(OR(UIoptions!$P$19=PCdb[[#This Row],[THREAD_SZ]],UIoptions!$P$19=\"NA\"),1,0)","v":1},{"$f":"IF(UIoptions!$N$75=1,1,IF(AND(PCdb[[#This Row],[THREAD_L]]>UIoptions!$S$17,PCdb[[#This Row],[THREAD_L]]<UIoptions!$T$17),1,0))","v":1},{"$f":"IF(SUM(PCdb[[#This Row],[BDhit]:[THREAD_Lhit]])=11,1,0)","v":0},{"$f":"CONCATENATE(PCdb[[#This Row],[BCD]],PCdb[[#This Row],[PD]],PCdb[[#This Row],[PL (MAX)]],PCdb[[#This Row],[SD]],PCdb[[#This Row],[SL]],PCdb[[#This Row],[SQ_SZ]],PCdb[[#This Row],[ROUND_D]],PCdb[[#This Row],[FL]],PCdb[[#This Row],[THRU_SCREW]],PCdb[[#This Row],[THREAD_SZ]],PCdb[[#This Row],[THREAD_L]],PCdb[[#This Row],[NBR_HOLES]])","v":"98,373,034143785,9NA8,5M6NANA4"},{"$f":"SUM(PCdb[[#This Row],[BDhit]:[THREAD_Lhit]])","v":4}]
[95,66.7,38.1,4,9.5299999999999994,20.6,59.1,"NA",4.8,"M4","NA","NA",4,"M4",38.700000000000003,24,0,"Y","B",45,90,45.2,26,0,"Y","B",45,90,null,null,null,null,null,null,null,22,0,"Y","D",45,90,24,0,"Y","C",45,90,25,"NA","Y","C",45,90,{"$f":"IF(AND(PCdb[[#This Row],[BCD]]>UIoptions!$S$10,PCdb[[#This Row],[BCD]]<UIoptions!$T$10),1,0)","v":0},{"$f":"IF(AND(PCdb[[#This Row],[PD]]>UIoptions!$S$11,PCdb[[#This Row],[PD]]<UIoptions!$T$11),1,0)","v":0},{"$f":"IF(AND(UIoptions!$P$14<=PCdb[[#This Row],[PL (MAX)]],UIoptions!$P$14>UIoptions!$S$14),1,0)","v":1},{"$f":"IF(AND(PCdb[[#This Row],[SD]]>UIoptions!$S$12,PCdb[[#This Row],[SD]]<UIoptions!$T$12),1,0)","v":0},{"$f":"IF(AND(PCdb[[#This Row],[SL]]>UIoptions!$S$13,PCdb[[#This Row],[SL]]<UIoptions!$T$13),1,0)","v":0},{"$f":"IF(UIoptions!$N$35=1,IF(AND(PCdb[[#This Row],[SQ_SZ]]>UIoptions!$S$15,PCdb[[#This Row],[SQ_SZ]]<UIoptions!$T$15),1,0),1)","v":0},{"$f":"IF(UIoptions!$N$35=2,IF(AND(PCdb[[#This Row],[ROUND_D]]>UIoptions!$S$15,PCdb[[#This Row],[ROUND_D]]<UIoptions!$T$15),1,0),1)","v":1},{"$f":"IF(UIoptions!$N$75<>1,1,IF(AND(PCdb[[#This Row],[FL]]>UIoptions!$S$16,PCdb[[#This Row],[FL]]<UIoptions!$T$16),1,0))","v":0},{"$f":"IF(OR(UIoptions!$Q$18=PCdb[[#This Row],[THRU_SCREW]],UIoptions!$Q$18=\"NA\"),1,0)","v":1},{"$f":"IF(OR(UIoptions!$P$19=PCdb[[#This Row],[THREAD_SZ]],UIoptions!$P$19=\"NA\"),1,0)","v":1},{"$f":"IF(UIoptions!$N$75=1,1,IF(AND(PCdb[[#This Row],[THREAD_L]]>UIoptions!$S$17,PCdb[[#This Row],[THREAD_L]]<UIoptions!$T$17),1,0))","v":1},{"$f":"IF(SUM(PCdb[[#This Row],[BDhit]:[THREAD_Lhit]])=11,1,0)","v":0},{"$f":"CONCATENATE(PCdb[[#This Row],[BCD]],PCdb[[#This Row],[PD]],PCdb[[#This Row],[PL (MAX)]],PCdb[[#This Row],[SD]],PCdb[[#This Row],[SL]],PCdb[[#This Row],[SQ_SZ]],PCdb[[#This Row],[ROUND_D]],PCdb[[#This Row],[FL]],PCdb[[#This Row],[THRU_SCREW]],PCdb[[#This Row],[THREAD_SZ]],PCdb[[#This Row],[THREAD_L]],PCdb[[#This Row],[NBR_HOLES]])","v":"66,738,149,5320,659,1NA4,8M4NANA4"},{"$f":"SUM(PCdb[[#This Row],[BDhit]:[THREAD_Lhit]])","v":5}]
[96,98.4,73.03,4,12.7,32.5,86.9,"NA",6.4,"M5","NA","NA",4,"M5","NA","NA","NA","NA","NA","NA","NA",41.7,38,0,"Y","B",45,90,45.2,38,0,"Y","B",45,90,"NA","NA","NA","NA","NA","NA","NA","NA","NA","NA","NA","NA",null,null,null,null,null,null,{"$f":"IF(AND(PCdb[[#This Row],[BCD]]>UIoptions!$S$10,PCdb[[#This Row],[BCD]]<UIoptions!$T$10),1,0)","v":0},{"$f":"IF(AND(PCdb[[#This Row],[PD]]>UIoptions!$S$11,PCdb[[#This Row],[PD]]<UIoptions!$T$11),1,0)","v":0},{"$f":"IF(AND(UIoptions!$P$14<=PCdb[[#This Row],[PL (MAX)]],UIoptions!$P$14>UIoptions!$S$14),1,0)","v":1},{"$f":"IF(AND(PCdb[[#This Row],[SD]]>UIoptions!$S$12,PCdb[[#This Row],[SD]]<UIoptions!$T$12),1,0)","v":0},{"$f":"IF(AND(PCdb[[#This Row],[SL]]>UIoptions!$S$13,PCdb[[#This Row],[SL]]<UIoptions!$T$13),1,0)","v":0},{"$f":"IF(UIoptions!$N$35=1,IF(AND(PCdb[[#This Row],[SQ_SZ]]>UIoptions!$S$15,PCdb[[#This Row],[SQ_SZ]]<UIoptions!$T$15),1,0),1)","v":0},{"$f":"IF(UIoptions!$N$35=2,IF(AND(PCdb[[#This Row],[ROUND_D]]>UIoptions!$S$15,PCdb[[#This Row],[ROUND_D]]<UIoptions!$T$15),1,0),1)","v":1},{"$f":"IF(UIoptions!$N$75<>1,1,IF(AND(PCdb[[#This Row],[FL]]>UIoptions!$S$16,PCdb[[#This Row],[FL]]<UIoptions!$T$16),1,0))","v":0},{"$f":"IF(OR(UIoptions!$Q$18=PCdb[[#This Row],[THRU_SCREW]],UIoptions!$Q$18=\"NA\"),1,0)","v":0},{"$f":"IF(OR(UIoptions!$P$19=PCdb[[#This Row],[THREAD_SZ]],UIoptions!$P$19=\"NA\"),1,0)","v":1},{"$f":"IF(UIoptions!$N$75=1,1,IF(AND(PCdb[[#This Row],[THREAD_L]]>UIoptions!$S$17,PCdb[[#This Row],[THREAD_L]]<UIoptions!$T$17),1,0))","v":1},{"$f":"IF(SUM(PCdb[[#This Row],[BDhit]:[THREAD_Lhit]])=11,1,0)","v":0},{"$f":"CONCATENATE(PCdb[[#This Row],[BCD]],PCdb[[#This Row],[PD]],PCdb[[#This Row],[PL (MAX)]],PCdb[[#This Row],[SD]],PCdb[[#This Row],[SL]],PCdb[[#This Row],[SQ_SZ]],PCdb[[#This Row],[ROUND_D]],PCdb[[#This Row],[FL]],PCdb[[#This Row],[THRU_SCREW]],PCdb[[#This Row],[THREAD_SZ]],PCdb[[#This Row],[THREAD_L]],PCdb[[#This Row],[NBR_HOLES]])","v":"98,473,03412,732,586,9NA6,4M5NANA4"},{"$f":"SUM(PCdb[[#This Row],[BDhit]:[THREAD_Lhit]])","v":4}]
[97,70,40,4,11,23,55,"NA",7,"M5","NA","NA",4,"M5",36.200000000000003,23,0,"Y","B",45,90,null,null,null,null,null,null,null,null,null,null,null,null,null,null,"NA","NA","NA","NA","NA","NA",null,null,null,null,null,null,null,null,null,null,null,null,{"$f":"IF(AND(PCdb[[#This Row],[BCD]]>UIoptions!$S$10,PCdb[[#This Row],[BCD]]<UIoptions!$T$10),1,0)","v":0},{"$f":"IF(AND(PCdb[[#This Row],[PD]]>UIoptions!$S$11,PCdb[[#This Row],[PD]]<UIoptions!$T$11),1,0)","v":1},{"$f":"IF(AND(UIoptions!$P$14<=PCdb[[#This Row],[PL (MAX)]],UIoptions!$P$14>UIoptions!$S$14),1,0)","v":1},{"$f":"IF(AND(PCdb[[#This Row],[SD]]>UIoptions!$S$12,PCdb[[#This Row],[SD]]<UIoptions!$T$12),1,0)","v":0},{"$f":"IF(AND(PCdb[[#This Row],[SL]]>UIoptions!$S$13,PCdb[[#This Row],[SL]]<UIoptions!$T$13),1,0)","v":0},{"$f":"IF(UIoptions!$N$35=1,IF(AND(PCdb[[#This Row],[SQ_SZ]]>UIoptions!$S$15,PCdb[[#This Row],[SQ_SZ]]<UIoptions!$T$15),1,0),1)","v":0},{"$f":"IF(UIoptions!$N$35=2,IF(AND(PCdb[[#This Row],[ROUND_D]]>UIoptions!$S$15,PCdb[[#This Row],[ROUND_D]]<UIoptions!$T$15),1,0),1)","v":1},{"$f":"IF(UIoptions!$N$75<>1,1,IF(AND(PCdb[[#This Row],[FL]]>UIoptions!$S$16,PCdb[[#This Row],[FL]]<UIoptions!$T$16),1,0))","v":1},{"$f":"IF(OR(UIoptions!$Q$18=PCdb[[#This Row],[THRU_SCREW]],UIoptions!$Q$18=\"NA\"),1,0)","v":0},{"$f":"IF(OR(UIoptions!$P$19=PCdb[[#This Row],[THREAD_SZ]],UIoptions!$P$19=\"NA\"),1,0)","v":1},{"$f":"IF(UIoptions!$N$75=1,1,IF(AND(PCdb[[#This Row],[THREAD_L]]>UIoptions!$S$17,PCdb[[#This Row],[THREAD_L]]<UIoptions!$T$17),1,0))","v":1},{"$f":"IF(SUM(PCdb[[#This Row],[BDhit]:[THREAD_Lhit]])=11,1,0)","v":0},{"$f":"CONCATENATE(PCdb[[#This Row],[BCD]],PCdb[[#This Row],[PD]],PCdb[[#This Row],[PL (MAX)]],PCdb[[#This Row],[SD]],PCdb[[#This Row],[SL]],PCdb[[#This Row],[SQ_SZ]],PCdb[[#This Row],[ROUND_D]],PCdb[[#This Row],[FL]],PCdb[[#This Row],[THRU_SCREW]],PCdb[[#This Row],[THREAD_SZ]],PCdb[[#This Row],[THREAD_L]],PCdb[[#This Row],[NBR_HOLES]])","v":"70404112355NA7M5NANA4"},{"$f":"SUM(PCdb[[#This Row],[BDhit]:[THREAD_Lhit]])","v":6}]
[98,50.8,21,4,10,33,"NA","NA","NA","NA","M6",14,3,"M6",null,null,null,null,null,null,null,41.7,"NA","NA","N","B2",45,120,null,null,null,null,null,null,null,null,null,null,null,null,null,null,null,null,null,null,null,null,null,null,null,null,null,{"$f":"IF(AND(PCdb[[#This Row],[BCD]]>UIoptions!$S$10,PCdb[[#This Row],[BCD]]<UIoptions!$T$10),1,0)","v":0},{"$f":"IF(AND(PCdb[[#This Row],[PD]]>UIoptions!$S$11,PCdb[[#This Row],[PD]]<UIoptions!$T$11),1,0)","v":0},{"$f":"IF(AND(UIoptions!$P$14<=PCdb[[#This Row],[PL (MAX)]],UIoptions!$P$14>UIoptions!$S$14),1,0)","v":1},{"$f":"IF(AND(PCdb[[#This Row],[SD]]>UIoptions!$S$12,PCdb[[#This Row],[SD]]<UIoptions!$T$12),1,0)","v":0},{"$f":"IF(AND(PCdb[[#This Row],[SL]]>UIoptions!$S$13,PCdb[[#This Row],[SL]]<UIoptions!$T$13),1,0)","v":0},{"$f":"IF(UIoptions!$N$35=1,IF(AND(PCdb[[#This Row],[SQ_SZ]]>UIoptions!$S$15,PCdb[[#This Row],[SQ_SZ]]<UIoptions!$T$15),1,0),1)","v":0},{"$f":"IF(UIoptions!$N$35=2,IF(AND(PCdb[[#This Row],[ROUND_D]]>UIoptions!$S$15,PCdb[[#This Row],[ROUND_D]]<UIoptions!$T$15),1,0),1)","v":1},{"$f":"IF(UIoptions!$N$75<>1,1,IF(AND(PCdb[[#This Row],[FL]]>UIoptions!$S$16,PCdb[[#This Row],[FL]]<UIoptions!$T$16),1,0))","v":0},{"$f":"IF(OR(UIoptions!$Q$18=PCdb[[#This Row],[THRU_SCREW]],UIoptions!$Q$18=\"NA\"),1,0)","v":0},{"$f":"IF(OR(UIoptions!$P$19=PCdb[[#This Row],[THREAD_SZ]],UIoptions!$P$19=\"NA\"),1,0)","v":1},{"$f":"IF(UIoptions!$N$75=1,1,IF(AND(PCdb[[#This Row],[THREAD_L]]>UIoptions!$S$17,PCdb[[#This Row],[THREAD_L]]<UIoptions!$T$17),1,0))","v":1},{"$f":"IF(SUM(PCdb[[#This Row],[BDhit]:[THREAD_Lhit]])=11,1,0)","v":0},{"$f":"CONCATENATE(PCdb[[#This Row],[BCD]],PCdb[[#This Row],[PD]],PCdb[[#This Row],[PL (MAX)]],PCdb[[#This Row],[SD]],PCdb[[#This Row],[SL]],PCdb[[#This Row],[SQ_SZ]],PCdb[[#This Row],[ROUND_D]],PCdb[[#This Row],[FL]],PCdb[[#This Row],[THRU_SCREW]],PCdb[[#This Row],[THREAD_SZ]],PCdb[[#This Row],[THREAD_L]],PCdb[[#This Row],[NBR_HOLES]])","v":"50,82141033NANANANAM6143"},{"$f":"SUM(PCdb[[#This Row],[BDhit]:[THREAD_Lhit]])","v":4}]
[99,75,60,4,14,30,70,"NA",7.5,5.8,"NA","NA",4,"M5",null,null,null,null,null,null,null,null,null,null,null,null,null,null,null,null,null,null,null,null,null,null,null,null,null,null,null,null,null,null,null,null,null,32.5,0,"Y","C",45,90,{"$f":"IF(AND(PCdb[[#This Row],[BCD]]>UIoptions!$S$10,PCdb[[#This Row],[BCD]]<UIoptions!$T$10),1,0)","v":0},{"$f":"IF(AND(PCdb[[#This Row],[PD]]>UIoptions!$S$11,PCdb[[#This Row],[PD]]<UIoptions!$T$11),1,0)","v":0},{"$f":"IF(AND(UIoptions!$P$14<=PCdb[[#This Row],[PL (MAX)]],UIoptions!$P$14>UIoptions!$S$14),1,0)","v":1},{"$f":"IF(AND(PCdb[[#This Row],[SD]]>UIoptions!$S$12,PCdb[[#This Row],[SD]]<UIoptions!$T$12),1,0)","v":0},{"$f":"IF(AND(PCdb[[#This Row],[SL]]>UIoptions!$S$13,PCdb[[#This Row],[SL]]<UIoptions!$T$13),1,0)","v":0},{"$f":"IF(UIoptions!$N$35=1,IF(AND(PCdb[[#This Row],[SQ_SZ]]>UIoptions!$S$15,PCdb[[#This Row],[SQ_SZ]]<UIoptions!$T$15),1,0),1)","v":0},{"$f":"IF(UIoptions!$N$35=2,IF(AND(PCdb[[#This Row],[ROUND_D]]>UIoptions!$S$15,PCdb[[#This Row],[ROUND_D]]<UIoptions!$T$15),1,0),1)","v":1},{"$f":"IF(UIoptions!$N$75<>1,1,IF(AND(PCdb[[#This Row],[FL]]>UIoptions!$S$16,PCdb[[#This Row],[FL]]<UIoptions!$T$16),1,0))","v":0},{"$f":"IF(OR(UIoptions!$Q$18=PCdb[[#This Row],[THRU_SCREW]],UIoptions!$Q$18=\"NA\"),1,0)","v":0},{"$f":"IF(OR(UIoptions!$P$19=PCdb[[#This Row],[THREAD_SZ]],UIoptions!$P$19=\"NA\"),1,0)","v":1},{"$f":"IF(UIoptions!$N$75=1,1,IF(AND(PCdb[[#This Row],[THREAD_L]]>UIoptions!$S$17,PCdb[[#This Row],[THREAD_L]]<UIoptions!$T$17),1,0))","v":1},{"$f":"IF(SUM(PCdb[[#This Row],[BDhit]:[THREAD_Lhit]])=11,1,0)","v":0},{"$f":"CONCATENATE(PCdb[[#This Row],[BCD]],PCdb[[#This Row],[PD]],PCdb[[#This Row],[PL (MAX)]],PCdb[[#This Row],[SD]],PCdb[[#This Row],[SL]],PCdb[[#This Row],[SQ_SZ]],PCdb[[#This Row],[ROUND_D]],PCdb[[#This Row],[FL]],PCdb[[#This Row],[THRU_SCREW]],PCdb[[#This Row],[THREAD_SZ]],PCdb[[#This Row],[THREAD_L]],PCdb[[#This Row],[NBR_HOLES]])","v":"75604143070NA7,55,8NANA4"},{"$f":"SUM(PCdb[[#This Row],[BDhit]:[THREAD_Lhit]])","v":4}]
[100,46,30,4,8,25,40,"NA",10,4.5,"NA","NA",4,"M4",null,null,null,null,null,null,null,null,null,null,null,null,null,null,null,null,null,null,null,null,null,17.5,0,"Y","C",45,90,null,null,null,null,null,null,null,null,null,null,null,null,{"$f":"IF(AND(PCdb[[#This Row],[BCD]]>UIoptions!$S$10,PCdb[[#This Row],[BCD]]<UIoptions!$T$10),1,0)","v":0},{"$f":"IF(AND(PCdb[[#This Row],[PD]]>UIoptions!$S$11,PCdb[[#This Row],[PD]]<UIoptions!$T$11),1,0)","v":0},{"$f":"IF(AND(UIoptions!$P$14<=PCdb[[#This Row],[PL (MAX)]],UIoptions!$P$14>UIoptions!$S$14),1,0)","v":1},{"$f":"IF(AND(PCdb[[#This Row],[SD]]>UIoptions!$S$12,PCdb[[#This Row],[SD]]<UIoptions!$T$12),1,0)","v":0},{"$f":"IF(AND(PCdb[[#This Row],[SL]]>UIoptions!$S$13,PCdb[[#This Row],[SL]]<UIoptions!$T$13),1,0)","v":0},{"$f":"IF(UIoptions!$N$35=1,IF(AND(PCdb[[#This Row],[SQ_SZ]]>UIoptions!$S$15,PCdb[[#This Row],[SQ_SZ]]<UIoptions!$T$15),1,0),1)","v":0},{"$f":"IF(UIoptions!$N$35=2,IF(AND(PCdb[[#This Row],[ROUND_D]]>UIoptions!$S$15,PCdb[[#This Row],[ROUND_D]]<UIoptions!$T$15),1,0),1)","v":1},{"$f":"IF(UIoptions!$N$75<>1,1,IF(AND(PCdb[[#This Row],[FL]]>UIoptions!$S$16,PCdb[[#This Row],[FL]]<UIoptions!$T$16),1,0))","v":0},{"$f":"IF(OR(UIoptions!$Q$18=PCdb[[#This Row],[THRU_SCREW]],UIoptions!$Q$18=\"NA\"),1,0)","v":0},{"$f":"IF(OR(UIoptions!$P$19=PCdb[[#This Row],[THREAD_SZ]],UIoptions!$P$19=\"NA\"),1,0)","v":1},{"$f":"IF(UIoptions!$N$75=1,1,IF(AND(PCdb[[#This Row],[THREAD_L]]>UIoptions!$S$17,PCdb[[#This Row],[THREAD_L]]<UIoptions!$T$17),1,0))","v":1},{"$f":"IF(SUM(PCdb[[#This Row],[BDhit]:[THREAD_Lhit]])=11,1,0)","v":0},{"$f":"CONCATENATE(PCdb[[#This Row],[BCD]],PCdb[[#This Row],[PD]],PCdb[[#This Row],[PL (MAX)]],PCdb[[#This Row],[SD]],PCdb[[#This Row],[SL]],PCdb[[#This Row],[SQ_SZ]],PCdb[[#This Row],[ROUND_D]],PCdb[[#This Row],[FL]],PCdb[[#This Row],[THRU_SCREW]],PCdb[[#This Row],[THREAD_SZ]],PCdb[[#This Row],[THREAD_L]],PCdb[[#This Row],[NBR_HOLES]])","v":"4630482540NA104,5NANA4"},{"$f":"SUM(PCdb[[#This Row],[BDhit]:[THREAD_Lhit]])","v":4}]
[101,75,60,4,11,23,"NA",130,"NA","NA","M5",9,4,6,null,null,null,null,null,null,null,null,null,null,null,null,null,null,null,null,null,null,null,null,null,null,null,null,null,null,null,null,null,null,null,null,null,"NA","NA","NA","NA","NA","NA",{"$f":"IF(AND(PCdb[[#This Row],[BCD]]>UIoptions!$S$10,PCdb[[#This Row],[BCD]]<UIoptions!$T$10),1,0)","v":0},{"$f":"IF(AND(PCdb[[#This Row],[PD]]>UIoptions!$S$11,PCdb[[#This Row],[PD]]<UIoptions!$T$11),1,0)","v":0},{"$f":"IF(AND(UIoptions!$P$14<=PCdb[[#This Row],[PL (MAX)]],UIoptions!$P$14>UIoptions!$S$14),1,0)","v":1},{"$f":"IF(AND(PCdb[[#This Row],[SD]]>UIoptions!$S$12,PCdb[[#This Row],[SD]]<UIoptions!$T$12),1,0)","v":0},{"$f":"IF(AND(PCdb[[#This Row],[SL]]>UIoptions!$S$13,PCdb[[#This Row],[SL]]<UIoptions!$T$13),1,0)","v":0},{"$f":"IF(UIoptions!$N$35=1,IF(AND(PCdb[[#This Row],[SQ_SZ]]>UIoptions!$S$15,PCdb[[#This Row],[SQ_SZ]]<UIoptions!$T$15),1,0),1)","v":0},{"$f":"IF(UIoptions!$N$35=2,IF(AND(PCdb[[#This Row],[ROUND_D]]>UIoptions!$S$15,PCdb[[#This Row],[ROUND_D]]<UIoptions!$T$15),1,0),1)","v":1},{"$f":"IF(UIoptions!$N$75<>1,1,IF(AND(PCdb[[#This Row],[FL]]>UIoptions!$S$16,PCdb[[#This Row],[FL]]<UIoptions!$T$16),1,0))","v":0},{"$f":"IF(OR(UIoptions!$Q$18=PCdb[[#This Row],[THRU_SCREW]],UIoptions!$Q$18=\"NA\"),1,0)","v":0},{"$f":"IF(OR(UIoptions!$P$19=PCdb[[#This Row],[THREAD_SZ]],UIoptions!$P$19=\"NA\"),1,0)","v":1},{"$f":"IF(UIoptions!$N$75=1,1,IF(AND(PCdb[[#This Row],[THREAD_L]]>UIoptions!$S$17,PCdb[[#This Row],[THREAD_L]]<UIoptions!$T$17),1,0))","v":1},{"$f":"IF(SUM(PCdb[[#This Row],[BDhit]:[THREAD_Lhit]])=11,1,0)","v":0},{"$f":"CONCATENATE(PCdb[[#This Row],[BCD]],PCdb[[#This Row],[PD]],PCdb[[#This Row],[PL (MAX)]],PCdb[[#This Row],[SD]],PCdb[[#This Row],[SL]],PCdb[[#This Row],[SQ_SZ]],PCdb[[#This Row],[ROUND_D]],PCdb[[#This Row],[FL]],PCdb[[#This Row],[THRU_SCREW]],PCdb[[#This Row],[THREAD_SZ]],PCdb[[#This Row],[THREAD_L]],PCdb[[#This Row],[NBR_HOLES]])","v":"756041123NA130NANAM594"},{"$f":"SUM(PCdb[[#This Row],[BDhit]:[THREAD_Lhit]])","v":4}]
[102,66.7,38.1,4,6.35,15,56.4,"NA",8,"M4","NA","NA",4,"NA","NA","NA","NA","NA","NA","NA","NA","NA","NA","NA","NA","NA","NA","NA","NA","NA","NA","NA","NA","NA","NA",null,null,null,null,null,null,null,null,null,null,null,null,null,null,null,null,null,null,{"$f":"IF(AND(PCdb[[#This Row],[BCD]]>UIoptions!$S$10,PCdb[[#This Row],[BCD]]<UIoptions!$T$10),1,0)","v":0},{"$f":"IF(AND(PCdb[[#This Row],[PD]]>UIoptions!$S$11,PCdb[[#This Row],[PD]]<UIoptions!$T$11),1,0)","v":0},{"$f":"IF(AND(UIoptions!$P$14<=PCdb[[#This Row],[PL (MAX)]],UIoptions!$P$14>UIoptions!$S$14),1,0)","v":1},{"$f":"IF(AND(PCdb[[#This Row],[SD]]>UIoptions!$S$12,PCdb[[#This Row],[SD]]<UIoptions!$T$12),1,0)","v":0},{"$f":"IF(AND(PCdb[[#This Row],[SL]]>UIoptions!$S$13,PCdb[[#This Row],[SL]]<UIoptions!$T$13),1,0)","v":0},{"$f":"IF(UIoptions!$N$35=1,IF(AND(PCdb[[#This Row],[SQ_SZ]]>UIoptions!$S$15,PCdb[[#This Row],[SQ_SZ]]<UIoptions!$T$15),1,0),1)","v":0},{"$f":"IF(UIoptions!$N$35=2,IF(AND(PCdb[[#This Row],[ROUND_D]]>UIoptions!$S$15,PCdb[[#This Row],[ROUND_D]]<UIoptions!$T$15),1,0),1)","v":1},{"$f":"IF(UIoptions!$N$75<>1,1,IF(AND(PCdb[[#This Row],[FL]]>UIoptions!$S$16,PCdb[[#This Row],[FL]]<UIoptions!$T$16),1,0))","v":0},{"$f":"IF(OR(UIoptions!$Q$18=PCdb[[#This Row],[THRU_SCREW]],UIoptions!$Q$18=\"NA\"),1,0)","v":1},{"$f":"IF(OR(UIoptions!$P$19=PCdb[[#This Row],[THREAD_SZ]],UIoptions!$P$19=\"NA\"),1,0)","v":1},{"$f":"IF(UIoptions!$N$75=1,1,IF(AND(PCdb[[#This Row],[THREAD_L]]>UIoptions!$S$17,PCdb[[#This Row],[THREAD_L]]<UIoptions!$T$17),1,0))","v":1},{"$f":"IF(SUM(PCdb[[#This Row],[BDhit]:[THREAD_Lhit]])=11,1,0)","v":0},{"$f":"CONCATENATE(PCdb[[#This Row],[BCD]],PCdb[[#This Row],[PD]],PCdb[[#This Row],[PL (MAX)]],PCdb[[#This Row],[SD]],PCdb[[#This Row],[SL]],PCdb[[#This Row],[SQ_SZ]],PCdb[[#This Row],[ROUND_D]],PCdb[[#This Row],[FL]],PCdb[[#This Row],[THRU_SCREW]],PCdb[[#This Row],[THREAD_SZ]],PCdb[[#This Row],[THREAD_L]],PCdb[[#This Row],[NBR_HOLES]])","v":"66,738,146,351556,4NA8M4NANA4"},{"$f":"SUM(PCdb[[#This Row],[BDhit]:[THREAD_Lhit]])","v":5}]
[103,43.8,22,4,5,21.9,52.3,"NA","NA","NA","M3",0.5,4,"NA","NA","NA","NA","NA","NA","NA","NA",null,null,null,null,null,null,null,null,null,null,null,null,null,null,"NA","NA","Y","D2",45,90,null,null,null,null,null,null,null,null,null,null,null,null,{"$f":"IF(AND(PCdb[[#This Row],[BCD]]>UIoptions!$S$10,PCdb[[#This Row],[BCD]]<UIoptions!$T$10),1,0)","v":0},{"$f":"IF(AND(PCdb[[#This Row],[PD]]>UIoptions!$S$11,PCdb[[#This Row],[PD]]<UIoptions!$T$11),1,0)","v":0},{"$f":"IF(AND(UIoptions!$P$14<=PCdb[[#This Row],[PL (MAX)]],UIoptions!$P$14>UIoptions!$S$14),1,0)","v":1},{"$f":"IF(AND(PCdb[[#This Row],[SD]]>UIoptions!$S$12,PCdb[[#This Row],[SD]]<UIoptions!$T$12),1,0)","v":0},{"$f":"IF(AND(PCdb[[#This Row],[SL]]>UIoptions!$S$13,PCdb[[#This Row],[SL]]<UIoptions!$T$13),1,0)","v":0},{"$f":"IF(UIoptions!$N$35=1,IF(AND(PCdb[[#This Row],[SQ_SZ]]>UIoptions!$S$15,PCdb[[#This Row],[SQ_SZ]]<UIoptions!$T$15),1,0),1)","v":0},{"$f":"IF(UIoptions!$N$35=2,IF(AND(PCdb[[#This Row],[ROUND_D]]>UIoptions!$S$15,PCdb[[#This Row],[ROUND_D]]<UIoptions!$T$15),1,0),1)","v":1},{"$f":"IF(UIoptions!$N$75<>1,1,IF(AND(PCdb[[#This Row],[FL]]>UIoptions!$S$16,PCdb[[#This Row],[FL]]<UIoptions!$T$16),1,0))","v":0},{"$f":"IF(OR(UIoptions!$Q$18=PCdb[[#This Row],[THRU_SCREW]],UIoptions!$Q$18=\"NA\"),1,0)","v":0},{"$f":"IF(OR(UIoptions!$P$19=PCdb[[#This Row],[THREAD_SZ]],UIoptions!$P$19=\"NA\"),1,0)","v":1},{"$f":"IF(UIoptions!$N$75=1,1,IF(AND(PCdb[[#This Row],[THREAD_L]]>UIoptions!$S$17,PCdb[[#This Row],[THREAD_L]]<UIoptions!$T$17),1,0))","v":1},{"$f":"IF(SUM(PCdb[[#This Row],[BDhit]:[THREAD_Lhit]])=11,1,0)","v":0},{"$f":"CONCATENATE(PCdb[[#This Row],[BCD]],PCdb[[#This Row],[PD]],PCdb[[#This Row],[PL (MAX)]],PCdb[[#This Row],[SD]],PCdb[[#This Row],[SL]],PCdb[[#This Row],[SQ_SZ]],PCdb[[#This Row],[ROUND_D]],PCdb[[#This Row],[FL]],PCdb[[#This Row],[THRU_SCREW]],PCdb[[#This Row],[THREAD_SZ]],PCdb[[#This Row],[THREAD_L]],PCdb[[#This Row],[NBR_HOLES]])","v":"43,8224521,952,3NANANAM30,54"},{"$f":"SUM(PCdb[[#This Row],[BDhit]:[THREAD_Lhit]])","v":4}]
[104,66.599999999999994,38.1,4,8,20.6,60,"NA",7,"M4","NA","NA",4,"M4",null,null,null,null,null,null,{"$f":"IF(U96>4,\"\",4)","v":""},null,null,null,null,null,null,null,null,null,null,null,null,null,null,23,0,"Y","D",45,90,null,null,null,null,null,null,null,null,null,null,null,null,{"$f":"IF(AND(PCdb[[#This Row],[BCD]]>UIoptions!$S$10,PCdb[[#This Row],[BCD]]<UIoptions!$T$10),1,0)","v":0},{"$f":"IF(AND(PCdb[[#This Row],[PD]]>UIoptions!$S$11,PCdb[[#This Row],[PD]]<UIoptions!$T$11),1,0)","v":0},{"$f":"IF(AND(UIoptions!$P$14<=PCdb[[#This Row],[PL (MAX)]],UIoptions!$P$14>UIoptions!$S$14),1,0)","v":1},{"$f":"IF(AND(PCdb[[#This Row],[SD]]>UIoptions!$S$12,PCdb[[#This Row],[SD]]<UIoptions!$T$12),1,0)","v":0},{"$f":"IF(AND(PCdb[[#This Row],[SL]]>UIoptions!$S$13,PCdb[[#This Row],[SL]]<UIoptions!$T$13),1,0)","v":0},{"$f":"IF(UIoptions!$N$35=1,IF(AND(PCdb[[#This Row],[SQ_SZ]]>UIoptions!$S$15,PCdb[[#This Row],[SQ_SZ]]<UIoptions!$T$15),1,0),1)","v":0},{"$f":"IF(UIoptions!$N$35=2,IF(AND(PCdb[[#This Row],[ROUND_D]]>UIoptions!$S$15,PCdb[[#This Row],[ROUND_D]]<UIoptions!$T$15),1,0),1)","v":1},{"$f":"IF(UIoptions!$N$75<>1,1,IF(AND(PCdb[[#This Row],[FL]]>UIoptions!$S$16,PCdb[[#This Row],[FL]]<UIoptions!$T$16),1,0))","v":1},{"$f":"IF(OR(UIoptions!$Q$18=PCdb[[#This Row],[THRU_SCREW]],UIoptions!$Q$18=\"NA\"),1,0)","v":1},{"$f":"IF(OR(UIoptions!$P$19=PCdb[[#This Row],[THREAD_SZ]],UIoptions!$P$19=\"NA\"),1,0)","v":1},{"$f":"IF(UIoptions!$N$75=1,1,IF(AND(PCdb[[#This Row],[THREAD_L]]>UIoptions!$S$17,PCdb[[#This Row],[THREAD_L]]<UIoptions!$T$17),1,0))","v":1},{"$f":"IF(SUM(PCdb[[#This Row],[BDhit]:[THREAD_Lhit]])=11,1,0)","v":0},{"$f":"CONCATENATE(PCdb[[#This Row],[BCD]],PCdb[[#This Row],[PD]],PCdb[[#This Row],[PL (MAX)]],PCdb[[#This Row],[SD]],PCdb[[#This Row],[SL]],PCdb[[#This Row],[SQ_SZ]],PCdb[[#This Row],[ROUND_D]],PCdb[[#This Row],[FL]],PCdb[[#This Row],[THRU_SCREW]],PCdb[[#This Row],[THREAD_SZ]],PCdb[[#This Row],[THREAD_L]],PCdb[[#This Row],[NBR_HOLES]])","v":"66,638,14820,660NA7M4NANA4"},{"$f":"SUM(PCdb[[#This Row],[BDhit]:[THREAD_Lhit]])","v":6}]
[105,70,50,4,14,27,62,"NA",6,"M5","NA","NA",4,"M5","NA","NA","NA","NA","NA","NA","NA",null,null,null,null,null,null,null,null,null,null,null,null,null,null,"NA","NA","NA","NA","NA","NA",27,0,"Y","C",45,90,null,null,null,null,null,null,{"$f":"IF(AND(PCdb[[#This Row],[BCD]]>UIoptions!$S$10,PCdb[[#This Row],[BCD]]<UIoptions!$T$10),1,0)","v":0},{"$f":"IF(AND(PCdb[[#This Row],[PD]]>UIoptions!$S$11,PCdb[[#This Row],[PD]]<UIoptions!$T$11),1,0)","v":0},{"$f":"IF(AND(UIoptions!$P$14<=PCdb[[#This Row],[PL (MAX)]],UIoptions!$P$14>UIoptions!$S$14),1,0)","v":1},{"$f":"IF(AND(PCdb[[#This Row],[SD]]>UIoptions!$S$12,PCdb[[#This Row],[SD]]<UIoptions!$T$12),1,0)","v":0},{"$f":"IF(AND(PCdb[[#This Row],[SL]]>UIoptions!$S$13,PCdb[[#This Row],[SL]]<UIoptions!$T$13),1,0)","v":0},{"$f":"IF(UIoptions!$N$35=1,IF(AND(PCdb[[#This Row],[SQ_SZ]]>UIoptions!$S$15,PCdb[[#This Row],[SQ_SZ]]<UIoptions!$T$15),1,0),1)","v":0},{"$f":"IF(UIoptions!$N$35=2,IF(AND(PCdb[[#This Row],[ROUND_D]]>UIoptions!$S$15,PCdb[[#This Row],[ROUND_D]]<UIoptions!$T$15),1,0),1)","v":1},{"$f":"IF(UIoptions!$N$75<>1,1,IF(AND(PCdb[[#This Row],[FL]]>UIoptions!$S$16,PCdb[[#This Row],[FL]]<UIoptions!$T$16),1,0))","v":0},{"$f":"IF(OR(UIoptions!$Q$18=PCdb[[#This Row],[THRU_SCREW]],UIoptions!$Q$18=\"NA\"),1,0)","v":0},{"$f":"IF(OR(UIoptions!$P$19=PCdb[[#This Row],[THREAD_SZ]],UIoptions!$P$19=\"NA\"),1,0)","v":1},{"$f":"IF(UIoptions!$N$75=1,1,IF(AND(PCdb[[#This Row],[THREAD_L]]>UIoptions!$S$17,PCdb[[#This Row],[THREAD_L]]<UIoptions!$T$17),1,0))","v":1},{"$f":"IF(SUM(PCdb[[#This Row],[BDhit]:[THREAD_Lhit]])=11,1,0)","v":0},{"$f":"CONCATENATE(PCdb[[#This Row],[BCD]],PCdb[[#This Row],[PD]],PCdb[[#This Row],[PL (MAX)]],PCdb[[#This Row],[SD]],PCdb[[#This Row],[SL]],PCdb[[#This Row],[SQ_SZ]],PCdb[[#This Row],[ROUND_D]],PCdb[[#This Row],[FL]],PCdb[[#This Row],[THRU_SCREW]],PCdb[[#This Row],[THREAD_SZ]],PCdb[[#This Row],[THREAD_L]],PCdb[[#This Row],[NBR_HOLES]])","v":"70504142762NA6M5NANA4"},{"$f":"SUM(PCdb[[#This Row],[BDhit]:[THREAD_Lhit]])","v":4}]
[106,35,28,4,12,29.5,42,"NA","NA","NA","M4",6,4,5,null,null,null,null,null,null,null,null,null,35,28,4,12,29.5,42,"NA","NA","NA","M4",6,4,null,null,null,null,null,null,"NA","NA","Y","SPLC2-106",45,90,null,null,null,null,null,null,{"$f":"IF(AND(PCdb[[#This Row],[BCD]]>UIoptions!$S$10,PCdb[[#This Row],[BCD]]<UIoptions!$T$10),1,0)","v":0},{"$f":"IF(AND(PCdb[[#This Row],[PD]]>UIoptions!$S$11,PCdb[[#This Row],[PD]]<UIoptions!$T$11),1,0)","v":0},{"$f":"IF(AND(UIoptions!$P$14<=PCdb[[#This Row],[PL (MAX)]],UIoptions!$P$14>UIoptions!$S$14),1,0)","v":1},{"$f":"IF(AND(PCdb[[#This Row],[SD]]>UIoptions!$S$12,PCdb[[#This Row],[SD]]<UIoptions!$T$12),1,0)","v":0},{"$f":"IF(AND(PCdb[[#This Row],[SL]]>UIoptions!$S$13,PCdb[[#This Row],[SL]]<UIoptions!$T$13),1,0)","v":0},{"$f":"IF(UIoptions!$N$35=1,IF(AND(PCdb[[#This Row],[SQ_SZ]]>UIoptions!$S$15,PCdb[[#This Row],[SQ_SZ]]<UIoptions!$T$15),1,0),1)","v":0},{"$f":"IF(UIoptions!$N$35=2,IF(AND(PCdb[[#This Row],[ROUND_D]]>UIoptions!$S$15,PCdb[[#This Row],[ROUND_D]]<UIoptions!$T$15),1,0),1)","v":1},{"$f":"IF(UIoptions!$N$75<>1,1,IF(AND(PCdb[[#This Row],[FL]]>UIoptions!$S$16,PCdb[[#This Row],[FL]]<UIoptions!$T$16),1,0))","v":0},{"$f":"IF(OR(UIoptions!$Q$18=PCdb[[#This Row],[THRU_SCREW]],UIoptions!$Q$18=\"NA\"),1,0)","v":0},{"$f":"IF(OR(UIoptions!$P$19=PCdb[[#This Row],[THREAD_SZ]],UIoptions!$P$19=\"NA\"),1,0)","v":1},{"$f":"IF(UIoptions!$N$75=1,1,IF(AND(PCdb[[#This Row],[THREAD_L]]>UIoptions!$S$17,PCdb[[#This Row],[THREAD_L]]<UIoptions!$T$17),1,0))","v":1},{"$f":"IF(SUM(PCdb[[#This Row],[BDhit]:[THREAD_Lhit]])=11,1,0)","v":0},{"$f":"CONCATENATE(PCdb[[#This Row],[BCD]],PCdb[[#This Row],[PD]],PCdb[[#This Row],[PL (MAX)]],PCdb[[#This Row],[SD]],PCdb[[#This Row],[SL]],PCdb[[#This Row],[SQ_SZ]],PCdb[[#This Row],[ROUND_D]],PCdb[[#This Row],[FL]],PCdb[[#This Row],[THRU_SCREW]],PCdb[[#This Row],[THREAD_SZ]],PCdb[[#This Row],[THREAD_L]],PCdb[[#This Row],[NBR_HOLES]])","v":"352841229,542NANANAM464"},{"$f":"SUM(PCdb[[#This Row],[BDhit]:[THREAD_Lhit]])","v":4}]
[107,62,52,5,16,36,"NA",70,"NA","NA","M5",10,4,6,null,null,null,null,null,null,null,41.7,"NA","NA","N","SPLB2-107",45,90,38.700000000000003,"NA","NA","Y","SPLB2-107",45,90,null,null,null,null,null,null,null,null,null,null,null,null,"NA","NA","Y","SPLD2-107",0,90,{"$f":"IF(AND(PCdb[[#This Row],[BCD]]>UIoptions!$S$10,PCdb[[#This Row],[BCD]]<UIoptions!$T$10),1,0)","v":0},{"$f":"IF(AND(PCdb[[#This Row],[PD]]>UIoptions!$S$11,PCdb[[#This Row],[PD]]<UIoptions!$T$11),1,0)","v":0},{"$f":"IF(AND(UIoptions!$P$14<=PCdb[[#This Row],[PL (MAX)]],UIoptions!$P$14>UIoptions!$S$14),1,0)","v":1},{"$f":"IF(AND(PCdb[[#This Row],[SD]]>UIoptions!$S$12,PCdb[[#This Row],[SD]]<UIoptions!$T$12),1,0)","v":0},{"$f":"IF(AND(PCdb[[#This Row],[SL]]>UIoptions!$S$13,PCdb[[#This Row],[SL]]<UIoptions!$T$13),1,0)","v":0},{"$f":"IF(UIoptions!$N$35=1,IF(AND(PCdb[[#This Row],[SQ_SZ]]>UIoptions!$S$15,PCdb[[#This Row],[SQ_SZ]]<UIoptions!$T$15),1,0),1)","v":0},{"$f":"IF(UIoptions!$N$35=2,IF(AND(PCdb[[#This Row],[ROUND_D]]>UIoptions!$S$15,PCdb[[#This Row],[ROUND_D]]<UIoptions!$T$15),1,0),1)","v":1},{"$f":"IF(UIoptions!$N$75<>1,1,IF(AND(PCdb[[#This Row],[FL]]>UIoptions!$S$16,PCdb[[#This Row],[FL]]<UIoptions!$T$16),1,0))","v":0},{"$f":"IF(OR(UIoptions!$Q$18=PCdb[[#This Row],[THRU_SCREW]],UIoptions!$Q$18=\"NA\"),1,0)","v":0},{"$f":"IF(OR(UIoptions!$P$19=PCdb[[#This Row],[THREAD_SZ]],UIoptions!$P$19=\"NA\"),1,0)","v":1},{"$f":"IF(UIoptions!$N$75=1,1,IF(AND(PCdb[[#This Row],[THREAD_L]]>UIoptions!$S$17,PCdb[[#This Row],[THREAD_L]]<UIoptions!$T$17),1,0))","v":1},{"$f":"IF(SUM(PCdb[[#This Row],[BDhit]:[THREAD_Lhit]])=11,1,0)","v":0},{"$f":"CONCATENATE(PCdb[[#This Row],[BCD]],PCdb[[#This Row],[PD]],PCdb[[#This Row],[PL (MAX)]],PCdb[[#This Row],[SD]],PCdb[[#This Row],[SL]],PCdb[[#This Row],[SQ_SZ]],PCdb[[#This Row],[ROUND_D]],PCdb[[#This Row],[FL]],PCdb[[#This Row],[THRU_SCREW]],PCdb[[#This Row],[THREAD_SZ]],PCdb[[#This Row],[THREAD_L]],PCdb[[#This Row],[NBR_HOLES]])","v":"625251636NA70NANAM5104"},{"$f":"SUM(PCdb[[#This Row],[BDhit]:[THREAD_Lhit]])","v":4}]
[108,100,80,4,16,40,89.4,"NA",9.9,"M4","NA","NA",4,"M4","NA","NA","NA","NA","NA","NA","NA","NA","NA","NA","NA","NA","NA","NA",45.2,42,0,"Y","B",45,90,"NA","NA","NA","NA","NA","NA","NA","NA","NA","NA","NA","NA",null,null,null,null,null,null,{"$f":"IF(AND(PCdb[[#This Row],[BCD]]>UIoptions!$S$10,PCdb[[#This Row],[BCD]]<UIoptions!$T$10),1,0)","v":0},{"$f":"IF(AND(PCdb[[#This Row],[PD]]>UIoptions!$S$11,PCdb[[#This Row],[PD]]<UIoptions!$T$11),1,0)","v":0},{"$f":"IF(AND(UIoptions!$P$14<=PCdb[[#This Row],[PL (MAX)]],UIoptions!$P$14>UIoptions!$S$14),1,0)","v":1},{"$f":"IF(AND(PCdb[[#This Row],[SD]]>UIoptions!$S$12,PCdb[[#This Row],[SD]]<UIoptions!$T$12),1,0)","v":0},{"$f":"IF(AND(PCdb[[#This Row],[SL]]>UIoptions!$S$13,PCdb[[#This Row],[SL]]<UIoptions!$T$13),1,0)","v":0},{"$f":"IF(UIoptions!$N$35=1,IF(AND(PCdb[[#This Row],[SQ_SZ]]>UIoptions!$S$15,PCdb[[#This Row],[SQ_SZ]]<UIoptions!$T$15),1,0),1)","v":0},{"$f":"IF(UIoptions!$N$35=2,IF(AND(PCdb[[#This Row],[ROUND_D]]>UIoptions!$S$15,PCdb[[#This Row],[ROUND_D]]<UIoptions!$T$15),1,0),1)","v":1},{"$f":"IF(UIoptions!$N$75<>1,1,IF(AND(PCdb[[#This Row],[FL]]>UIoptions!$S$16,PCdb[[#This Row],[FL]]<UIoptions!$T$16),1,0))","v":0},{"$f":"IF(OR(UIoptions!$Q$18=PCdb[[#This Row],[THRU_SCREW]],UIoptions!$Q$18=\"NA\"),1,0)","v":1},{"$f":"IF(OR(UIoptions!$P$19=PCdb[[#This Row],[THREAD_SZ]],UIoptions!$P$19=\"NA\"),1,0)","v":1},{"$f":"IF(UIoptions!$N$75=1,1,IF(AND(PCdb[[#This Row],[THREAD_L]]>UIoptions!$S$17,PCdb[[#This Row],[THREAD_L]]<UIoptions!$T$17),1,0))","v":1},{"$f":"IF(SUM(PCdb[[#This Row],[BDhit]:[THREAD_Lhit]])=11,1,0)","v":0},{"$f":"CONCATENATE(PCdb[[#This Row],[BCD]],PCdb[[#This Row],[PD]],PCdb[[#This Row],[PL (MAX)]],PCdb[[#This Row],[SD]],PCdb[[#This Row],[SL]],PCdb[[#This Row],[SQ_SZ]],PCdb[[#This Row],[ROUND_D]],PCdb[[#This Row],[FL]],PCdb[[#This Row],[THRU_SCREW]],PCdb[[#This Row],[THREAD_SZ]],PCdb[[#This Row],[THREAD_L]],PCdb[[#This Row],[NBR_HOLES]])","v":"100804164089,4NA9,9M4NANA4"},{"$f":"SUM(PCdb[[#This Row],[BDhit]:[THREAD_Lhit]])","v":5}]
[109,52,40,4,14,35,"NA",60,"NA","NA","M5",8,4,6,"NA","NA","NA","NA","NA","NA","NA",null,null,null,null,null,null,null,48.7,"NA",0,"Y","B2",45,90,"NA","NA","NA","NA","NA","NA","NA","NA","Y","D2",45,90,"NA","NA","Y","D2",45,90,{"$f":"IF(AND(PCdb[[#This Row],[BCD]]>UIoptions!$S$10,PCdb[[#This Row],[BCD]]<UIoptions!$T$10),1,0)","v":0},{"$f":"IF(AND(PCdb[[#This Row],[PD]]>UIoptions!$S$11,PCdb[[#This Row],[PD]]<UIoptions!$T$11),1,0)","v":1},{"$f":"IF(AND(UIoptions!$P$14<=PCdb[[#This Row],[PL (MAX)]],UIoptions!$P$14>UIoptions!$S$14),1,0)","v":1},{"$f":"IF(AND(PCdb[[#This Row],[SD]]>UIoptions!$S$12,PCdb[[#This Row],[SD]]<UIoptions!$T$12),1,0)","v":0},{"$f":"IF(AND(PCdb[[#This Row],[SL]]>UIoptions!$S$13,PCdb[[#This Row],[SL]]<UIoptions!$T$13),1,0)","v":0},{"$f":"IF(UIoptions!$N$35=1,IF(AND(PCdb[[#This Row],[SQ_SZ]]>UIoptions!$S$15,PCdb[[#This Row],[SQ_SZ]]<UIoptions!$T$15),1,0),1)","v":0},{"$f":"IF(UIoptions!$N$35=2,IF(AND(PCdb[[#This Row],[ROUND_D]]>UIoptions!$S$15,PCdb[[#This Row],[ROUND_D]]<UIoptions!$T$15),1,0),1)","v":1},{"$f":"IF(UIoptions!$N$75<>1,1,IF(AND(PCdb[[#This Row],[FL]]>UIoptions!$S$16,PCdb[[#This Row],[FL]]<UIoptions!$T$16),1,0))","v":0},{"$f":"IF(OR(UIoptions!$Q$18=PCdb[[#This Row],[THRU_SCREW]],UIoptions!$Q$18=\"NA\"),1,0)","v":0},{"$f":"IF(OR(UIoptions!$P$19=PCdb[[#This Row],[THREAD_SZ]],UIoptions!$P$19=\"NA\"),1,0)","v":1},{"$f":"IF(UIoptions!$N$75=1,1,IF(AND(PCdb[[#This Row],[THREAD_L]]>UIoptions!$S$17,PCdb[[#This Row],[THREAD_L]]<UIoptions!$T$17),1,0))","v":1},{"$f":"IF(SUM(PCdb[[#This Row],[BDhit]:[THREAD_Lhit]])=11,1,0)","v":0},{"$f":"CONCATENATE(PCdb[[#This Row],[BCD]],PCdb[[#This Row],[PD]],PCdb[[#This Row],[PL (MAX)]],PCdb[[#This Row],[SD]],PCdb[[#This Row],[SL]],PCdb[[#This Row],[SQ_SZ]],PCdb[[#This Row],[ROUND_D]],PCdb[[#This Row],[FL]],PCdb[[#This Row],[THRU_SCREW]],PCdb[[#This Row],[THREAD_SZ]],PCdb[[#This Row],[THREAD_L]],PCdb[[#This Row],[NBR_HOLES]])","v":"524041435NA60NANAM584"},{"$f":"SUM(PCdb[[#This Row],[BDhit]:[THREAD_Lhit]])","v":5}]
[110,45,19.5,4,8,15,"NA",45,5.5,"M3","NA","NA",4,"M3","NA","NA","NA","NA","NA","NA","NA","NA","NA","NA","NA","NA","NA","NA","NA","NA","NA","NA","NA","NA","NA",15,0,"Y","C",45,90,null,null,null,null,null,null,null,null,null,null,null,null,{"$f":"IF(AND(PCdb[[#This Row],[BCD]]>UIoptions!$S$10,PCdb[[#This Row],[BCD]]<UIoptions!$T$10),1,0)","v":0},{"$f":"IF(AND(PCdb[[#This Row],[PD]]>UIoptions!$S$11,PCdb[[#This Row],[PD]]<UIoptions!$T$11),1,0)","v":0},{"$f":"IF(AND(UIoptions!$P$14<=PCdb[[#This Row],[PL (MAX)]],UIoptions!$P$14>UIoptions!$S$14),1,0)","v":1},{"$f":"IF(AND(PCdb[[#This Row],[SD]]>UIoptions!$S$12,PCdb[[#This Row],[SD]]<UIoptions!$T$12),1,0)","v":0},{"$f":"IF(AND(PCdb[[#This Row],[SL]]>UIoptions!$S$13,PCdb[[#This Row],[SL]]<UIoptions!$T$13),1,0)","v":0},{"$f":"IF(UIoptions!$N$35=1,IF(AND(PCdb[[#This Row],[SQ_SZ]]>UIoptions!$S$15,PCdb[[#This Row],[SQ_SZ]]<UIoptions!$T$15),1,0),1)","v":0},{"$f":"IF(UIoptions!$N$35=2,IF(AND(PCdb[[#This Row],[ROUND_D]]>UIoptions!$S$15,PCdb[[#This Row],[ROUND_D]]<UIoptions!$T$15),1,0),1)","v":1},{"$f":"IF(UIoptions!$N$75<>1,1,IF(AND(PCdb[[#This Row],[FL]]>UIoptions!$S$16,PCdb[[#This Row],[FL]]<UIoptions!$T$16),1,0))","v":0},{"$f":"IF(OR(UIoptions!$Q$18=PCdb[[#This Row],[THRU_SCREW]],UIoptions!$Q$18=\"NA\"),1,0)","v":0},{"$f":"IF(OR(UIoptions!$P$19=PCdb[[#This Row],[THREAD_SZ]],UIoptions!$P$19=\"NA\"),1,0)","v":1},{"$f":"IF(UIoptions!$N$75=1,1,IF(AND(PCdb[[#This Row],[THREAD_L]]>UIoptions!$S$17,PCdb[[#This Row],[THREAD_L]]<UIoptions!$T$17),1,0))","v":1},{"$f":"IF(SUM(PCdb[[#This Row],[BDhit]:[THREAD_Lhit]])=11,1,0)","v":0},{"$f":"CONCATENATE(PCdb[[#This Row],[BCD]],PCdb[[#This Row],[PD]],PCdb[[#This Row],[PL (MAX)]],PCdb[[#This Row],[SD]],PCdb[[#This Row],[SL]],PCdb[[#This Row],[SQ_SZ]],PCdb[[#This Row],[ROUND_D]],PCdb[[#This Row],[FL]],PCdb[[#This Row],[THRU_SCREW]],PCdb[[#This Row],[THREAD_SZ]],PCdb[[#This Row],[THREAD_L]],PCdb[[#This Row],[NBR_HOLES]])","v":"4519,54815NA455,5M3NANA4"},{"$f":"SUM(PCdb[[#This Row],[BDhit]:[THREAD_Lhit]])","v":4}]
[111,65,50,4,9,20,"NA",80,"NA","NA","M5",8,4,6,"NA","NA","NA","NA","NA","NA","NA","NA","NA","NA","NA","NA","NA",null,null,null,null,null,null,null,null,"NA","NA","NA","NA","NA","NA","NA","NA","N*","D2",45,90,null,null,null,null,null,null,{"$f":"IF(AND(PCdb[[#This Row],[BCD]]>UIoptions!$S$10,PCdb[[#This Row],[BCD]]<UIoptions!$T$10),1,0)","v":0},{"$f":"IF(AND(PCdb[[#This Row],[PD]]>UIoptions!$S$11,PCdb[[#This Row],[PD]]<UIoptions!$T$11),1,0)","v":0},{"$f":"IF(AND(UIoptions!$P$14<=PCdb[[#This Row],[PL (MAX)]],UIoptions!$P$14>UIoptions!$S$14),1,0)","v":1},{"$f":"IF(AND(PCdb[[#This Row],[SD]]>UIoptions!$S$12,PCdb[[#This Row],[SD]]<UIoptions!$T$12),1,0)","v":0},{"$f":"IF(AND(PCdb[[#This Row],[SL]]>UIoptions!$S$13,PCdb[[#This Row],[SL]]<UIoptions!$T$13),1,0)","v":1},{"$f":"IF(UIoptions!$N$35=1,IF(AND(PCdb[[#This Row],[SQ_SZ]]>UIoptions!$S$15,PCdb[[#This Row],[SQ_SZ]]<UIoptions!$T$15),1,0),1)","v":0},{"$f":"IF(UIoptions!$N$35=2,IF(AND(PCdb[[#This Row],[ROUND_D]]>UIoptions!$S$15,PCdb[[#This Row],[ROUND_D]]<UIoptions!$T$15),1,0),1)","v":1},{"$f":"IF(UIoptions!$N$75<>1,1,IF(AND(PCdb[[#This Row],[FL]]>UIoptions!$S$16,PCdb[[#This Row],[FL]]<UIoptions!$T$16),1,0))","v":0},{"$f":"IF(OR(UIoptions!$Q$18=PCdb[[#This Row],[THRU_SCREW]],UIoptions!$Q$18=\"NA\"),1,0)","v":0},{"$f":"IF(OR(UIoptions!$P$19=PCdb[[#This Row],[THREAD_SZ]],UIoptions!$P$19=\"NA\"),1,0)","v":1},{"$f":"IF(UIoptions!$N$75=1,1,IF(AND(PCdb[[#This Row],[THREAD_L]]>UIoptions!$S$17,PCdb[[#This Row],[THREAD_L]]<UIoptions!$T$17),1,0))","v":1},{"$f":"IF(SUM(PCdb[[#This Row],[BDhit]:[THREAD_Lhit]])=11,1,0)","v":0},{"$f":"CONCATENATE(PCdb[[#This Row],[BCD]],PCdb[[#This Row],[PD]],PCdb[[#This Row],[PL (MAX)]],PCdb[[#This Row],[SD]],PCdb[[#This Row],[SL]],PCdb[[#This Row],[SQ_SZ]],PCdb[[#This Row],[ROUND_D]],PCdb[[#This Row],[FL]],PCdb[[#This Row],[THRU_SCREW]],PCdb[[#This Row],[THREAD_SZ]],PCdb[[#This Row],[THREAD_L]],PCdb[[#This Row],[NBR_HOLES]])","v":"65504920NA80NANAM584"},{"$f":"SUM(PCdb[[#This Row],[BDhit]:[THREAD_Lhit]])","v":5}]
[112,70,60,4,11,23,"NA",95,"NA","NA","M5",15,4,6,null,null,null,null,null,null,null,null,null,null,null,null,null,null,null,null,null,null,null,null,null,null,null,null,null,null,null,null,null,null,null,null,null,null,null,null,null,null,null,{"$f":"IF(AND(PCdb[[#This Row],[BCD]]>UIoptions!$S$10,PCdb[[#This Row],[BCD]]<UIoptions!$T$10),1,0)","v":0},{"$f":"IF(AND(PCdb[[#This Row],[PD]]>UIoptions!$S$11,PCdb[[#This Row],[PD]]<UIoptions!$T$11),1,0)","v":0},{"$f":"IF(AND(UIoptions!$P$14<=PCdb[[#This Row],[PL (MAX)]],UIoptions!$P$14>UIoptions!$S$14),1,0)","v":1},{"$f":"IF(AND(PCdb[[#This Row],[SD]]>UIoptions!$S$12,PCdb[[#This Row],[SD]]<UIoptions!$T$12),1,0)","v":0},{"$f":"IF(AND(PCdb[[#This Row],[SL]]>UIoptions!$S$13,PCdb[[#This Row],[SL]]<UIoptions!$T$13),1,0)","v":0},{"$f":"IF(UIoptions!$N$35=1,IF(AND(PCdb[[#This Row],[SQ_SZ]]>UIoptions!$S$15,PCdb[[#This Row],[SQ_SZ]]<UIoptions!$T$15),1,0),1)","v":0},{"$f":"IF(UIoptions!$N$35=2,IF(AND(PCdb[[#This Row],[ROUND_D]]>UIoptions!$S$15,PCdb[[#This Row],[ROUND_D]]<UIoptions!$T$15),1,0),1)","v":1},{"$f":"IF(UIoptions!$N$75<>1,1,IF(AND(PCdb[[#This Row],[FL]]>UIoptions!$S$16,PCdb[[#This Row],[FL]]<UIoptions!$T$16),1,0))","v":0},{"$f":"IF(OR(UIoptions!$Q$18=PCdb[[#This Row],[THRU_SCREW]],UIoptions!$Q$18=\"NA\"),1,0)","v":0},{"$f":"IF(OR(UIoptions!$P$19=PCdb[[#This Row],[THREAD_SZ]],UIoptions!$P$19=\"NA\"),1,0)","v":1},{"$f":"IF(UIoptions!$N$75=1,1,IF(AND(PCdb[[#This Row],[THREAD_L]]>UIoptions!$S$17,PCdb[[#This Row],[THREAD_L]]<UIoptions!$T$17),1,0))","v":1},{"$f":"IF(SUM(PCdb[[#This Row],[BDhit]:[THREAD_Lhit]])=11,1,0)","v":0},{"$f":"CONCATENATE(PCdb[[#This Row],[BCD]],PCdb[[#This Row],[PD]],PCdb[[#This Row],[PL (MAX)]],PCdb[[#This Row],[SD]],PCdb[[#This Row],[SL]],PCdb[[#This Row],[SQ_SZ]],PCdb[[#This Row],[ROUND_D]],PCdb[[#This Row],[FL]],PCdb[[#This Row],[THRU_SCREW]],PCdb[[#This Row],[THREAD_SZ]],PCdb[[#This Row],[THREAD_L]],PCdb[[#This Row],[NBR_HOLES]])","v":"706041123NA95NANAM5154"},{"$f":"SUM(PCdb[[#This Row],[BDhit]:[THREAD_Lhit]])","v":4}]
[113,90,70,4,16,40,80,"NA",11,"M6","NA","NA",4,"M6","NA","NA","NA","NA","NA","NA","NA","NA",null,null,null,null,null,null,null,null,null,null,null,null,null,"NA","NA","NA","NA","NA","NA","NA","NA","NA","NA","NA","NA",39,0,"Y","D",45,90,{"$f":"IF(AND(PCdb[[#This Row],[BCD]]>UIoptions!$S$10,PCdb[[#This Row],[BCD]]<UIoptions!$T$10),1,0)","v":0},{"$f":"IF(AND(PCdb[[#This Row],[PD]]>UIoptions!$S$11,PCdb[[#This Row],[PD]]<UIoptions!$T$11),1,0)","v":0},{"$f":"IF(AND(UIoptions!$P$14<=PCdb[[#This Row],[PL (MAX)]],UIoptions!$P$14>UIoptions!$S$14),1,0)","v":1},{"$f":"IF(AND(PCdb[[#This Row],[SD]]>UIoptions!$S$12,PCdb[[#This Row],[SD]]<UIoptions!$T$12),1,0)","v":0},{"$f":"IF(AND(PCdb[[#This Row],[SL]]>UIoptions!$S$13,PCdb[[#This Row],[SL]]<UIoptions!$T$13),1,0)","v":0},{"$f":"IF(UIoptions!$N$35=1,IF(AND(PCdb[[#This Row],[SQ_SZ]]>UIoptions!$S$15,PCdb[[#This Row],[SQ_SZ]]<UIoptions!$T$15),1,0),1)","v":0},{"$f":"IF(UIoptions!$N$35=2,IF(AND(PCdb[[#This Row],[ROUND_D]]>UIoptions!$S$15,PCdb[[#This Row],[ROUND_D]]<UIoptions!$T$15),1,0),1)","v":1},{"$f":"IF(UIoptions!$N$75<>1,1,IF(AND(PCdb[[#This Row],[FL]]>UIoptions!$S$16,PCdb[[#This Row],[FL]]<UIoptions!$T$16),1,0))","v":0},{"$f":"IF(OR(UIoptions!$Q$18=PCdb[[#This Row],[THRU_SCREW]],UIoptions!$Q$18=\"NA\"),1,0)","v":0},{"$f":"IF(OR(UIoptions!$P$19=PCdb[[#This Row],[THREAD_SZ]],UIoptions!$P$19=\"NA\"),1,0)","v":1},{"$f":"IF(UIoptions!$N$75=1,1,IF(AND(PCdb[[#This Row],[THREAD_L]]>UIoptions!$S$17,PCdb[[#This Row],[THREAD_L]]<UIoptions!$T$17),1,0))","v":1},{"$f":"IF(SUM(PCdb[[#This Row],[BDhit]:[THREAD_Lhit]])=11,1,0)","v":0},{"$f":"CONCATENATE(PCdb[[#This Row],[BCD]],PCdb[[#This Row],[PD]],PCdb[[#This Row],[PL (MAX)]],PCdb[[#This Row],[SD]],PCdb[[#This Row],[SL]],PCdb[[#This Row],[SQ_SZ]],PCdb[[#This Row],[ROUND_D]],PCdb[[#This Row],[FL]],PCdb[[#This Row],[THRU_SCREW]],PCdb[[#This Row],[THREAD_SZ]],PCdb[[#This Row],[THREAD_L]],PCdb[[#This Row],[NBR_HOLES]])","v":"90704164080NA11M6NANA4"},{"$f":"SUM(PCdb[[#This Row],[BDhit]:[THREAD_Lhit]])","v":4}]
[114,98.3,73,4,14,37,86,"NA",10,"M6","NA","NA",4,"M6","NA","NA","NA","NA","NA","NA","NA",45.2,38,0,"Y","B",45,90,null,null,null,null,null,null,null,"NA","NA","NA","NA","NA","NA","NA","NA","NA","NA","NA","NA",null,null,null,null,null,null,{"$f":"IF(AND(PCdb[[#This Row],[BCD]]>UIoptions!$S$10,PCdb[[#This Row],[BCD]]<UIoptions!$T$10),1,0)","v":0},{"$f":"IF(AND(PCdb[[#This Row],[PD]]>UIoptions!$S$11,PCdb[[#This Row],[PD]]<UIoptions!$T$11),1,0)","v":0},{"$f":"IF(AND(UIoptions!$P$14<=PCdb[[#This Row],[PL (MAX)]],UIoptions!$P$14>UIoptions!$S$14),1,0)","v":1},{"$f":"IF(AND(PCdb[[#This Row],[SD]]>UIoptions!$S$12,PCdb[[#This Row],[SD]]<UIoptions!$T$12),1,0)","v":0},{"$f":"IF(AND(PCdb[[#This Row],[SL]]>UIoptions!$S$13,PCdb[[#This Row],[SL]]<UIoptions!$T$13),1,0)","v":0},{"$f":"IF(UIoptions!$N$35=1,IF(AND(PCdb[[#This Row],[SQ_SZ]]>UIoptions!$S$15,PCdb[[#This Row],[SQ_SZ]]<UIoptions!$T$15),1,0),1)","v":0},{"$f":"IF(UIoptions!$N$35=2,IF(AND(PCdb[[#This Row],[ROUND_D]]>UIoptions!$S$15,PCdb[[#This Row],[ROUND_D]]<UIoptions!$T$15),1,0),1)","v":1},{"$f":"IF(UIoptions!$N$75<>1,1,IF(AND(PCdb[[#This Row],[FL]]>UIoptions!$S$16,PCdb[[#This Row],[FL]]<UIoptions!$T$16),1,0))","v":0},{"$f":"IF(OR(UIoptions!$Q$18=PCdb[[#This Row],[THRU_SCREW]],UIoptions!$Q$18=\"NA\"),1,0)","v":0},{"$f":"IF(OR(UIoptions!$P$19=PCdb[[#This Row],[THREAD_SZ]],UIoptions!$P$19=\"NA\"),1,0)","v":1},{"$f":"IF(UIoptions!$N$75=1,1,IF(AND(PCdb[[#This Row],[THREAD_L]]>UIoptions!$S$17,PCdb[[#This Row],[THREAD_L]]<UIoptions!$T$17),1,0))","v":1},{"$f":"IF(SUM(PCdb[[#This Row],[BDhit]:[THREAD_Lhit]])=11,1,0)","v":0},{"$f":"CONCATENATE(PCdb[[#This Row],[BCD]],PCdb[[#This Row],[PD]],PCdb[[#This Row],[PL (MAX)]],PCdb[[#This Row],[SD]],PCdb[[#This Row],[SL]],PCdb[[#This Row],[SQ_SZ]],PCdb[[#This Row],[ROUND_D]],PCdb[[#This Row],[FL]],PCdb[[#This Row],[THRU_SCREW]],PCdb[[#This Row],[THREAD_SZ]],PCdb[[#This Row],[THREAD_L]],PCdb[[#This Row],[NBR_HOLES]])","v":"98,3734143786NA10M6NANA4"},{"$f":"SUM(PCdb[[#This Row],[BDhit]:[THREAD_Lhit]])","v":4}]
[115,66.7,38.1,4,6.35,20.6,59.1,"NA",4.8,"M4","NA","NA",4,"M5",38.700000000000003,25,0,"Y","B",45,90,null,null,null,null,null,null,null,null,null,null,null,null,null,null,null,null,null,null,null,null,null,null,null,null,null,null,null,null,null,null,null,null,{"$f":"IF(AND(PCdb[[#This Row],[BCD]]>UIoptions!$S$10,PCdb[[#This Row],[BCD]]<UIoptions!$T$10),1,0)","v":0},{"$f":"IF(AND(PCdb[[#This Row],[PD]]>UIoptions!$S$11,PCdb[[#This Row],[PD]]<UIoptions!$T$11),1,0)","v":0},{"$f":"IF(AND(UIoptions!$P$14<=PCdb[[#This Row],[PL (MAX)]],UIoptions!$P$14>UIoptions!$S$14),1,0)","v":1},{"$f":"IF(AND(PCdb[[#This Row],[SD]]>UIoptions!$S$12,PCdb[[#This Row],[SD]]<UIoptions!$T$12),1,0)","v":0},{"$f":"IF(AND(PCdb[[#This Row],[SL]]>UIoptions!$S$13,PCdb[[#This Row],[SL]]<UIoptions!$T$13),1,0)","v":0},{"$f":"IF(UIoptions!$N$35=1,IF(AND(PCdb[[#This Row],[SQ_SZ]]>UIoptions!$S$15,PCdb[[#This Row],[SQ_SZ]]<UIoptions!$T$15),1,0),1)","v":0},{"$f":"IF(UIoptions!$N$35=2,IF(AND(PCdb[[#This Row],[ROUND_D]]>UIoptions!$S$15,PCdb[[#This Row],[ROUND_D]]<UIoptions!$T$15),1,0),1)","v":1},{"$f":"IF(UIoptions!$N$75<>1,1,IF(AND(PCdb[[#This Row],[FL]]>UIoptions!$S$16,PCdb[[#This Row],[FL]]<UIoptions!$T$16),1,0))","v":0},{"$f":"IF(OR(UIoptions!$Q$18=PCdb[[#This Row],[THRU_SCREW]],UIoptions!$Q$18=\"NA\"),1,0)","v":1},{"$f":"IF(OR(UIoptions!$P$19=PCdb[[#This Row],[THREAD_SZ]],UIoptions!$P$19=\"NA\"),1,0)","v":1},{"$f":"IF(UIoptions!$N$75=1,1,IF(AND(PCdb[[#This Row],[THREAD_L]]>UIoptions!$S$17,PCdb[[#This Row],[THREAD_L]]<UIoptions!$T$17),1,0))","v":1},{"$f":"IF(SUM(PCdb[[#This Row],[BDhit]:[THREAD_Lhit]])=11,1,0)","v":0},{"$f":"CONCATENATE(PCdb[[#This Row],[BCD]],PCdb[[#This Row],[PD]],PCdb[[#This Row],[PL (MAX)]],PCdb[[#This Row],[SD]],PCdb[[#This Row],[SL]],PCdb[[#This Row],[SQ_SZ]],PCdb[[#This Row],[ROUND_D]],PCdb[[#This Row],[FL]],PCdb[[#This Row],[THRU_SCREW]],PCdb[[#This Row],[THREAD_SZ]],PCdb[[#This Row],[THREAD_L]],PCdb[[#This Row],[NBR_HOLES]])","v":"66,738,146,3520,659,1NA4,8M4NANA4"},{"$f":"SUM(PCdb[[#This Row],[BDhit]:[THREAD_Lhit]])","v":5}]
[116,34,26,4,10,26,"NA",44,"NA","NA","M4",9,4,5,38.700000000000003,"NA","NA","Y","B2",45,90,null,null,null,null,null,null,null,null,null,null,null,null,null,null,"NA","NA","Y","D2",45,90,null,null,null,null,null,null,null,null,null,null,null,null,{"$f":"IF(AND(PCdb[[#This Row],[BCD]]>UIoptions!$S$10,PCdb[[#This Row],[BCD]]<UIoptions!$T$10),1,0)","v":0},{"$f":"IF(AND(PCdb[[#This Row],[PD]]>UIoptions!$S$11,PCdb[[#This Row],[PD]]<UIoptions!$T$11),1,0)","v":0},{"$f":"IF(AND(UIoptions!$P$14<=PCdb[[#This Row],[PL (MAX)]],UIoptions!$P$14>UIoptions!$S$14),1,0)","v":1},{"$f":"IF(AND(PCdb[[#This Row],[SD]]>UIoptions!$S$12,PCdb[[#This Row],[SD]]<UIoptions!$T$12),1,0)","v":0},{"$f":"IF(AND(PCdb[[#This Row],[SL]]>UIoptions!$S$13,PCdb[[#This Row],[SL]]<UIoptions!$T$13),1,0)","v":0},{"$f":"IF(UIoptions!$N$35=1,IF(AND(PCdb[[#This Row],[SQ_SZ]]>UIoptions!$S$15,PCdb[[#This Row],[SQ_SZ]]<UIoptions!$T$15),1,0),1)","v":0},{"$f":"IF(UIoptions!$N$35=2,IF(AND(PCdb[[#This Row],[ROUND_D]]>UIoptions!$S$15,PCdb[[#This Row],[ROUND_D]]<UIoptions!$T$15),1,0),1)","v":1},{"$f":"IF(UIoptions!$N$75<>1,1,IF(AND(PCdb[[#This Row],[FL]]>UIoptions!$S$16,PCdb[[#This Row],[FL]]<UIoptions!$T$16),1,0))","v":0},{"$f":"IF(OR(UIoptions!$Q$18=PCdb[[#This Row],[THRU_SCREW]],UIoptions!$Q$18=\"NA\"),1,0)","v":0},{"$f":"IF(OR(UIoptions!$P$19=PCdb[[#This Row],[THREAD_SZ]],UIoptions!$P$19=\"NA\"),1,0)","v":1},{"$f":"IF(UIoptions!$N$75=1,1,IF(AND(PCdb[[#This Row],[THREAD_L]]>UIoptions!$S$17,PCdb[[#This Row],[THREAD_L]]<UIoptions!$T$17),1,0))","v":1},{"$f":"IF(SUM(PCdb[[#This Row],[BDhit]:[THREAD_Lhit]])=11,1,0)","v":0},{"$f":"CONCATENATE(PCdb[[#This Row],[BCD]],PCdb[[#This Row],[PD]],PCdb[[#This Row],[PL (MAX)]],PCdb[[#This Row],[SD]],PCdb[[#This Row],[SL]],PCdb[[#This Row],[SQ_SZ]],PCdb[[#This Row],[ROUND_D]],PCdb[[#This Row],[FL]],PCdb[[#This Row],[THRU_SCREW]],PCdb[[#This Row],[THREAD_SZ]],PCdb[[#This Row],[THREAD_L]],PCdb[[#This Row],[NBR_HOLES]])","v":"342641026NA44NANAM494"},{"$f":"SUM(PCdb[[#This Row],[BDhit]:[THREAD_Lhit]])","v":4}]
[117,35,23,4,8,22,"NA",44.6,"NA","NA","M4",6,4,5,36.200000000000003,"NA","NA","Y","B2",45,90,null,null,null,null,null,null,null,null,null,null,null,null,null,null,null,null,null,null,null,null,null,null,null,null,null,null,null,null,null,null,null,null,{"$f":"IF(AND(PCdb[[#This Row],[BCD]]>UIoptions!$S$10,PCdb[[#This Row],[BCD]]<UIoptions!$T$10),1,0)","v":0},{"$f":"IF(AND(PCdb[[#This Row],[PD]]>UIoptions!$S$11,PCdb[[#This Row],[PD]]<UIoptions!$T$11),1,0)","v":0},{"$f":"IF(AND(UIoptions!$P$14<=PCdb[[#This Row],[PL (MAX)]],UIoptions!$P$14>UIoptions!$S$14),1,0)","v":1},{"$f":"IF(AND(PCdb[[#This Row],[SD]]>UIoptions!$S$12,PCdb[[#This Row],[SD]]<UIoptions!$T$12),1,0)","v":0},{"$f":"IF(AND(PCdb[[#This Row],[SL]]>UIoptions!$S$13,PCdb[[#This Row],[SL]]<UIoptions!$T$13),1,0)","v":0},{"$f":"IF(UIoptions!$N$35=1,IF(AND(PCdb[[#This Row],[SQ_SZ]]>UIoptions!$S$15,PCdb[[#This Row],[SQ_SZ]]<UIoptions!$T$15),1,0),1)","v":0},{"$f":"IF(UIoptions!$N$35=2,IF(AND(PCdb[[#This Row],[ROUND_D]]>UIoptions!$S$15,PCdb[[#This Row],[ROUND_D]]<UIoptions!$T$15),1,0),1)","v":1},{"$f":"IF(UIoptions!$N$75<>1,1,IF(AND(PCdb[[#This Row],[FL]]>UIoptions!$S$16,PCdb[[#This Row],[FL]]<UIoptions!$T$16),1,0))","v":0},{"$f":"IF(OR(UIoptions!$Q$18=PCdb[[#This Row],[THRU_SCREW]],UIoptions!$Q$18=\"NA\"),1,0)","v":0},{"$f":"IF(OR(UIoptions!$P$19=PCdb[[#This Row],[THREAD_SZ]],UIoptions!$P$19=\"NA\"),1,0)","v":1},{"$f":"IF(UIoptions!$N$75=1,1,IF(AND(PCdb[[#This Row],[THREAD_L]]>UIoptions!$S$17,PCdb[[#This Row],[THREAD_L]]<UIoptions!$T$17),1,0))","v":1},{"$f":"IF(SUM(PCdb[[#This Row],[BDhit]:[THREAD_Lhit]])=11,1,0)","v":0},{"$f":"CONCATENATE(PCdb[[#This Row],[BCD]],PCdb[[#This Row],[PD]],PCdb[[#This Row],[PL (MAX)]],PCdb[[#This Row],[SD]],PCdb[[#This Row],[SL]],PCdb[[#This Row],[SQ_SZ]],PCdb[[#This Row],[ROUND_D]],PCdb[[#This Row],[FL]],PCdb[[#This Row],[THRU_SCREW]],PCdb[[#This Row],[THREAD_SZ]],PCdb[[#This Row],[THREAD_L]],PCdb[[#This Row],[NBR_HOLES]])","v":"35234822NA44,6NANAM464"},{"$f":"SUM(PCdb[[#This Row],[BDhit]:[THREAD_Lhit]])","v":4}]
[118,66.5,38.1,4,6.35,21,56.5,"NA",9,"M5","NA","NA",4,"M5",null,null,null,null,null,null,null,null,null,null,null,null,null,null,null,null,null,null,null,null,null,null,null,null,null,null,null,24,0,"Y","C",45,90,null,null,null,null,null,null,{"$f":"IF(AND(PCdb[[#This Row],[BCD]]>UIoptions!$S$10,PCdb[[#This Row],[BCD]]<UIoptions!$T$10),1,0)","v":0},{"$f":"IF(AND(PCdb[[#This Row],[PD]]>UIoptions!$S$11,PCdb[[#This Row],[PD]]<UIoptions!$T$11),1,0)","v":0},{"$f":"IF(AND(UIoptions!$P$14<=PCdb[[#This Row],[PL (MAX)]],UIoptions!$P$14>UIoptions!$S$14),1,0)","v":1},{"$f":"IF(AND(PCdb[[#This Row],[SD]]>UIoptions!$S$12,PCdb[[#This Row],[SD]]<UIoptions!$T$12),1,0)","v":0},{"$f":"IF(AND(PCdb[[#This Row],[SL]]>UIoptions!$S$13,PCdb[[#This Row],[SL]]<UIoptions!$T$13),1,0)","v":0},{"$f":"IF(UIoptions!$N$35=1,IF(AND(PCdb[[#This Row],[SQ_SZ]]>UIoptions!$S$15,PCdb[[#This Row],[SQ_SZ]]<UIoptions!$T$15),1,0),1)","v":0},{"$f":"IF(UIoptions!$N$35=2,IF(AND(PCdb[[#This Row],[ROUND_D]]>UIoptions!$S$15,PCdb[[#This Row],[ROUND_D]]<UIoptions!$T$15),1,0),1)","v":1},{"$f":"IF(UIoptions!$N$75<>1,1,IF(AND(PCdb[[#This Row],[FL]]>UIoptions!$S$16,PCdb[[#This Row],[FL]]<UIoptions!$T$16),1,0))","v":0},{"$f":"IF(OR(UIoptions!$Q$18=PCdb[[#This Row],[THRU_SCREW]],UIoptions!$Q$18=\"NA\"),1,0)","v":0},{"$f":"IF(OR(UIoptions!$P$19=PCdb[[#This Row],[THREAD_SZ]],UIoptions!$P$19=\"NA\"),1,0)","v":1},{"$f":"IF(UIoptions!$N$75=1,1,IF(AND(PCdb[[#This Row],[THREAD_L]]>UIoptions!$S$17,PCdb[[#This Row],[THREAD_L]]<UIoptions!$T$17),1,0))","v":1},{"$f":"IF(SUM(PCdb[[#This Row],[BDhit]:[THREAD_Lhit]])=11,1,0)","v":0},{"$f":"CONCATENATE(PCdb[[#This Row],[BCD]],PCdb[[#This Row],[PD]],PCdb[[#This Row],[PL (MAX)]],PCdb[[#This Row],[SD]],PCdb[[#This Row],[SL]],PCdb[[#This Row],[SQ_SZ]],PCdb[[#This Row],[ROUND_D]],PCdb[[#This Row],[FL]],PCdb[[#This Row],[THRU_SCREW]],PCdb[[#This Row],[THREAD_SZ]],PCdb[[#This Row],[THREAD_L]],PCdb[[#This Row],[NBR_HOLES]])","v":"66,538,146,352156,5NA9M5NANA4"},{"$f":"SUM(PCdb[[#This Row],[BDhit]:[THREAD_Lhit]])","v":4}]
[119,75,60,4,11,23,60,"NA",7,"M5","NA","NA",4,"M5",null,null,null,null,null,null,null,null,null,null,null,null,null,null,null,null,null,null,null,null,null,null,null,null,null,null,null,32,"NA","Y","D",45,90,null,null,null,null,null,null,{"$f":"IF(AND(PCdb[[#This Row],[BCD]]>UIoptions!$S$10,PCdb[[#This Row],[BCD]]<UIoptions!$T$10),1,0)","v":0},{"$f":"IF(AND(PCdb[[#This Row],[PD]]>UIoptions!$S$11,PCdb[[#This Row],[PD]]<UIoptions!$T$11),1,0)","v":0},{"$f":"IF(AND(UIoptions!$P$14<=PCdb[[#This Row],[PL (MAX)]],UIoptions!$P$14>UIoptions!$S$14),1,0)","v":1},{"$f":"IF(AND(PCdb[[#This Row],[SD]]>UIoptions!$S$12,PCdb[[#This Row],[SD]]<UIoptions!$T$12),1,0)","v":0},{"$f":"IF(AND(PCdb[[#This Row],[SL]]>UIoptions!$S$13,PCdb[[#This Row],[SL]]<UIoptions!$T$13),1,0)","v":0},{"$f":"IF(UIoptions!$N$35=1,IF(AND(PCdb[[#This Row],[SQ_SZ]]>UIoptions!$S$15,PCdb[[#This Row],[SQ_SZ]]<UIoptions!$T$15),1,0),1)","v":0},{"$f":"IF(UIoptions!$N$35=2,IF(AND(PCdb[[#This Row],[ROUND_D]]>UIoptions!$S$15,PCdb[[#This Row],[ROUND_D]]<UIoptions!$T$15),1,0),1)","v":1},{"$f":"IF(UIoptions!$N$75<>1,1,IF(AND(PCdb[[#This Row],[FL]]>UIoptions!$S$16,PCdb[[#This Row],[FL]]<UIoptions!$T$16),1,0))","v":1},{"$f":"IF(OR(UIoptions!$Q$18=PCdb[[#This Row],[THRU_SCREW]],UIoptions!$Q$18=\"NA\"),1,0)","v":0},{"$f":"IF(OR(UIoptions!$P$19=PCdb[[#This Row],[THREAD_SZ]],UIoptions!$P$19=\"NA\"),1,0)","v":1},{"$f":"IF(UIoptions!$N$75=1,1,IF(AND(PCdb[[#This Row],[THREAD_L]]>UIoptions!$S$17,PCdb[[#This Row],[THREAD_L]]<UIoptions!$T$17),1,0))","v":1},{"$f":"IF(SUM(PCdb[[#This Row],[BDhit]:[THREAD_Lhit]])=11,1,0)","v":0},{"$f":"CONCATENATE(PCdb[[#This Row],[BCD]],PCdb[[#This Row],[PD]],PCdb[[#This Row],[PL (MAX)]],PCdb[[#This Row],[SD]],PCdb[[#This Row],[SL]],PCdb[[#This Row],[SQ_SZ]],PCdb[[#This Row],[ROUND_D]],PCdb[[#This Row],[FL]],PCdb[[#This Row],[THRU_SCREW]],PCdb[[#This Row],[THREAD_SZ]],PCdb[[#This Row],[THREAD_L]],PCdb[[#This Row],[NBR_HOLES]])","v":"75604112360NA7M5NANA4"},{"$f":"SUM(PCdb[[#This Row],[BDhit]:[THREAD_Lhit]])","v":5}]
[120,62,52,11,16,36.5,"NA",70,"NA","NA","M5",10,4,6,null,null,null,null,null,null,null,null,null,null,null,null,null,null,48.7,"NA","NA","Y","SPLB2-120",0,90,null,null,null,null,null,null,null,null,null,null,null,null,null,null,null,null,null,null,{"$f":"IF(AND(PCdb[[#This Row],[BCD]]>UIoptions!$S$10,PCdb[[#This Row],[BCD]]<UIoptions!$T$10),1,0)","v":0},{"$f":"IF(AND(PCdb[[#This Row],[PD]]>UIoptions!$S$11,PCdb[[#This Row],[PD]]<UIoptions!$T$11),1,0)","v":0},{"$f":"IF(AND(UIoptions!$P$14<=PCdb[[#This Row],[PL (MAX)]],UIoptions!$P$14>UIoptions!$S$14),1,0)","v":1},{"$f":"IF(AND(PCdb[[#This Row],[SD]]>UIoptions!$S$12,PCdb[[#This Row],[SD]]<UIoptions!$T$12),1,0)","v":0},{"$f":"IF(AND(PCdb[[#This Row],[SL]]>UIoptions!$S$13,PCdb[[#This Row],[SL]]<UIoptions!$T$13),1,0)","v":0},{"$f":"IF(UIoptions!$N$35=1,IF(AND(PCdb[[#This Row],[SQ_SZ]]>UIoptions!$S$15,PCdb[[#This Row],[SQ_SZ]]<UIoptions!$T$15),1,0),1)","v":0},{"$f":"IF(UIoptions!$N$35=2,IF(AND(PCdb[[#This Row],[ROUND_D]]>UIoptions!$S$15,PCdb[[#This Row],[ROUND_D]]<UIoptions!$T$15),1,0),1)","v":1},{"$f":"IF(UIoptions!$N$75<>1,1,IF(AND(PCdb[[#This Row],[FL]]>UIoptions!$S$16,PCdb[[#This Row],[FL]]<UIoptions!$T$16),1,0))","v":0},{"$f":"IF(OR(UIoptions!$Q$18=PCdb[[#This Row],[THRU_SCREW]],UIoptions!$Q$18=\"NA\"),1,0)","v":0},{"$f":"IF(OR(UIoptions!$P$19=PCdb[[#This Row],[THREAD_SZ]],UIoptions!$P$19=\"NA\"),1,0)","v":1},{"$f":"IF(UIoptions!$N$75=1,1,IF(AND(PCdb[[#This Row],[THREAD_L]]>UIoptions!$S$17,PCdb[[#This Row],[THREAD_L]]<UIoptions!$T$17),1,0))","v":1},{"$f":"IF(SUM(PCdb[[#This Row],[BDhit]:[THREAD_Lhit]])=11,1,0)","v":0},{"$f":"CONCATENATE(PCdb[[#This Row],[BCD]],PCdb[[#This Row],[PD]],PCdb[[#This Row],[PL (MAX)]],PCdb[[#This Row],[SD]],PCdb[[#This Row],[SL]],PCdb[[#This Row],[SQ_SZ]],PCdb[[#This Row],[ROUND_D]],PCdb[[#This Row],[FL]],PCdb[[#This Row],[THRU_SCREW]],PCdb[[#This Row],[THREAD_SZ]],PCdb[[#This Row],[THREAD_L]],PCdb[[#This Row],[NBR_HOLES]])","v":"6252111636,5NA70NANAM5104"},{"$f":"SUM(PCdb[[#This Row],[BDhit]:[THREAD_Lhit]])","v":4}]
[121,66.7,38.1,4,6.35,20.6,56.4,"NA",5,"M4","NA","NA",4,"M4",38.700000000000003,22,0,"Y","B",45,90,45.2,26,0,"Y","B",45,90,null,null,null,null,null,null,null,22,"NA","Y","D",45,90,22,0,"Y","C",45,90,null,null,null,null,null,null,{"$f":"IF(AND(PCdb[[#This Row],[BCD]]>UIoptions!$S$10,PCdb[[#This Row],[BCD]]<UIoptions!$T$10),1,0)","v":0},{"$f":"IF(AND(PCdb[[#This Row],[PD]]>UIoptions!$S$11,PCdb[[#This Row],[PD]]<UIoptions!$T$11),1,0)","v":0},{"$f":"IF(AND(UIoptions!$P$14<=PCdb[[#This Row],[PL (MAX)]],UIoptions!$P$14>UIoptions!$S$14),1,0)","v":1},{"$f":"IF(AND(PCdb[[#This Row],[SD]]>UIoptions!$S$12,PCdb[[#This Row],[SD]]<UIoptions!$T$12),1,0)","v":0},{"$f":"IF(AND(PCdb[[#This Row],[SL]]>UIoptions!$S$13,PCdb[[#This Row],[SL]]<UIoptions!$T$13),1,0)","v":0},{"$f":"IF(UIoptions!$N$35=1,IF(AND(PCdb[[#This Row],[SQ_SZ]]>UIoptions!$S$15,PCdb[[#This Row],[SQ_SZ]]<UIoptions!$T$15),1,0),1)","v":0},{"$f":"IF(UIoptions!$N$35=2,IF(AND(PCdb[[#This Row],[ROUND_D]]>UIoptions!$S$15,PCdb[[#This Row],[ROUND_D]]<UIoptions!$T$15),1,0),1)","v":1},{"$f":"IF(UIoptions!$N$75<>1,1,IF(AND(PCdb[[#This Row],[FL]]>UIoptions!$S$16,PCdb[[#This Row],[FL]]<UIoptions!$T$16),1,0))","v":0},{"$f":"IF(OR(UIoptions!$Q$18=PCdb[[#This Row],[THRU_SCREW]],UIoptions!$Q$18=\"NA\"),1,0)","v":1},{"$f":"IF(OR(UIoptions!$P$19=PCdb[[#This Row],[THREAD_SZ]],UIoptions!$P$19=\"NA\"),1,0)","v":1},{"$f":"IF(UIoptions!$N$75=1,1,IF(AND(PCdb[[#This Row],[THREAD_L]]>UIoptions!$S$17,PCdb[[#This Row],[THREAD_L]]<UIoptions!$T$17),1,0))","v":1},{"$f":"IF(SUM(PCdb[[#This Row],[BDhit]:[THREAD_Lhit]])=11,1,0)","v":0},{"$f":"CONCATENATE(PCdb[[#This Row],[BCD]],PCdb[[#This Row],[PD]],PCdb[[#This Row],[PL (MAX)]],PCdb[[#This Row],[SD]],PCdb[[#This Row],[SL]],PCdb[[#This Row],[SQ_SZ]],PCdb[[#This Row],[ROUND_D]],PCdb[[#This Row],[FL]],PCdb[[#This Row],[THRU_SCREW]],PCdb[[#This Row],[THREAD_SZ]],PCdb[[#This Row],[THREAD_L]],PCdb[[#This Row],[NBR_HOLES]])","v":"66,738,146,3520,656,4NA5M4NANA4"},{"$f":"SUM(PCdb[[#This Row],[BDhit]:[THREAD_Lhit]])","v":5}]
[122,66.7,38.1,4,12.7,25.4,57.2,"NA",6.4,"M4","NA","NA",4,"M4",null,null,null,null,null,null,null,null,null,null,null,null,null,null,null,null,null,null,null,null,null,null,null,null,null,null,null,23,0,"Y","C",45,90,null,null,null,null,null,null,{"$f":"IF(AND(PCdb[[#This Row],[BCD]]>UIoptions!$S$10,PCdb[[#This Row],[BCD]]<UIoptions!$T$10),1,0)","v":0},{"$f":"IF(AND(PCdb[[#This Row],[PD]]>UIoptions!$S$11,PCdb[[#This Row],[PD]]<UIoptions!$T$11),1,0)","v":0},{"$f":"IF(AND(UIoptions!$P$14<=PCdb[[#This Row],[PL (MAX)]],UIoptions!$P$14>UIoptions!$S$14),1,0)","v":1},{"$f":"IF(AND(PCdb[[#This Row],[SD]]>UIoptions!$S$12,PCdb[[#This Row],[SD]]<UIoptions!$T$12),1,0)","v":0},{"$f":"IF(AND(PCdb[[#This Row],[SL]]>UIoptions!$S$13,PCdb[[#This Row],[SL]]<UIoptions!$T$13),1,0)","v":0},{"$f":"IF(UIoptions!$N$35=1,IF(AND(PCdb[[#This Row],[SQ_SZ]]>UIoptions!$S$15,PCdb[[#This Row],[SQ_SZ]]<UIoptions!$T$15),1,0),1)","v":0},{"$f":"IF(UIoptions!$N$35=2,IF(AND(PCdb[[#This Row],[ROUND_D]]>UIoptions!$S$15,PCdb[[#This Row],[ROUND_D]]<UIoptions!$T$15),1,0),1)","v":1},{"$f":"IF(UIoptions!$N$75<>1,1,IF(AND(PCdb[[#This Row],[FL]]>UIoptions!$S$16,PCdb[[#This Row],[FL]]<UIoptions!$T$16),1,0))","v":0},{"$f":"IF(OR(UIoptions!$Q$18=PCdb[[#This Row],[THRU_SCREW]],UIoptions!$Q$18=\"NA\"),1,0)","v":1},{"$f":"IF(OR(UIoptions!$P$19=PCdb[[#This Row],[THREAD_SZ]],UIoptions!$P$19=\"NA\"),1,0)","v":1},{"$f":"IF(UIoptions!$N$75=1,1,IF(AND(PCdb[[#This Row],[THREAD_L]]>UIoptions!$S$17,PCdb[[#This Row],[THREAD_L]]<UIoptions!$T$17),1,0))","v":1},{"$f":"IF(SUM(PCdb[[#This Row],[BDhit]:[THREAD_Lhit]])=11,1,0)","v":0},{"$f":"CONCATENATE(PCdb[[#This Row],[BCD]],PCdb[[#This Row],[PD]],PCdb[[#This Row],[PL (MAX)]],PCdb[[#This Row],[SD]],PCdb[[#This Row],[SL]],PCdb[[#This Row],[SQ_SZ]],PCdb[[#This Row],[ROUND_D]],PCdb[[#This Row],[FL]],PCdb[[#This Row],[THRU_SCREW]],PCdb[[#This Row],[THREAD_SZ]],PCdb[[#This Row],[THREAD_L]],PCdb[[#This Row],[NBR_HOLES]])","v":"66,738,1412,725,457,2NA6,4M4NANA4"},{"$f":"SUM(PCdb[[#This Row],[BDhit]:[THREAD_Lhit]])","v":5}]
[123,98.4,73,4,14,37.1,"NA",91.2,10,"M6","NA","NA",4,"M6","NA","NA","NA","NA","NA","NA","NA",45.2,38,0,"Y","B",45,90,null,null,null,null,null,null,null,"NA","NA","NA","NA","NA","NA","NA","NA","NA","NA","NA","NA",null,null,null,null,null,null,{"$f":"IF(AND(PCdb[[#This Row],[BCD]]>UIoptions!$S$10,PCdb[[#This Row],[BCD]]<UIoptions!$T$10),1,0)","v":0},{"$f":"IF(AND(PCdb[[#This Row],[PD]]>UIoptions!$S$11,PCdb[[#This Row],[PD]]<UIoptions!$T$11),1,0)","v":0},{"$f":"IF(AND(UIoptions!$P$14<=PCdb[[#This Row],[PL (MAX)]],UIoptions!$P$14>UIoptions!$S$14),1,0)","v":1},{"$f":"IF(AND(PCdb[[#This Row],[SD]]>UIoptions!$S$12,PCdb[[#This Row],[SD]]<UIoptions!$T$12),1,0)","v":0},{"$f":"IF(AND(PCdb[[#This Row],[SL]]>UIoptions!$S$13,PCdb[[#This Row],[SL]]<UIoptions!$T$13),1,0)","v":0},{"$f":"IF(UIoptions!$N$35=1,IF(AND(PCdb[[#This Row],[SQ_SZ]]>UIoptions!$S$15,PCdb[[#This Row],[SQ_SZ]]<UIoptions!$T$15),1,0),1)","v":0},{"$f":"IF(UIoptions!$N$35=2,IF(AND(PCdb[[#This Row],[ROUND_D]]>UIoptions!$S$15,PCdb[[#This Row],[ROUND_D]]<UIoptions!$T$15),1,0),1)","v":1},{"$f":"IF(UIoptions!$N$75<>1,1,IF(AND(PCdb[[#This Row],[FL]]>UIoptions!$S$16,PCdb[[#This Row],[FL]]<UIoptions!$T$16),1,0))","v":0},{"$f":"IF(OR(UIoptions!$Q$18=PCdb[[#This Row],[THRU_SCREW]],UIoptions!$Q$18=\"NA\"),1,0)","v":0},{"$f":"IF(OR(UIoptions!$P$19=PCdb[[#This Row],[THREAD_SZ]],UIoptions!$P$19=\"NA\"),1,0)","v":1},{"$f":"IF(UIoptions!$N$75=1,1,IF(AND(PCdb[[#This Row],[THREAD_L]]>UIoptions!$S$17,PCdb[[#This Row],[THREAD_L]]<UIoptions!$T$17),1,0))","v":1},{"$f":"IF(SUM(PCdb[[#This Row],[BDhit]:[THREAD_Lhit]])=11,1,0)","v":0},{"$f":"CONCATENATE(PCdb[[#This Row],[BCD]],PCdb[[#This Row],[PD]],PCdb[[#This Row],[PL (MAX)]],PCdb[[#This Row],[SD]],PCdb[[#This Row],[SL]],PCdb[[#This Row],[SQ_SZ]],PCdb[[#This Row],[ROUND_D]],PCdb[[#This Row],[FL]],PCdb[[#This Row],[THRU_SCREW]],PCdb[[#This Row],[THREAD_SZ]],PCdb[[#This Row],[THREAD_L]],PCdb[[#This Row],[NBR_HOLES]])","v":"98,47341437,1NA91,210M6NANA4"},{"$f":"SUM(PCdb[[#This Row],[BDhit]:[THREAD_Lhit]])","v":4}]
[124,70.7,36,1.5,8,20.6,60,"NA",6.3,"M4","NA","NA",4,"M4",null,null,null,null,null,null,null,null,null,null,null,null,null,null,null,null,null,null,null,null,null,23,0,"Y","D",45,90,22,"NA","Y","C",45,90,null,null,null,null,null,null,{"$f":"IF(AND(PCdb[[#This Row],[BCD]]>UIoptions!$S$10,PCdb[[#This Row],[BCD]]<UIoptions!$T$10),1,0)","v":0},{"$f":"IF(AND(PCdb[[#This Row],[PD]]>UIoptions!$S$11,PCdb[[#This Row],[PD]]<UIoptions!$T$11),1,0)","v":0},{"$f":"IF(AND(UIoptions!$P$14<=PCdb[[#This Row],[PL (MAX)]],UIoptions!$P$14>UIoptions!$S$14),1,0)","v":0},{"$f":"IF(AND(PCdb[[#This Row],[SD]]>UIoptions!$S$12,PCdb[[#This Row],[SD]]<UIoptions!$T$12),1,0)","v":0},{"$f":"IF(AND(PCdb[[#This Row],[SL]]>UIoptions!$S$13,PCdb[[#This Row],[SL]]<UIoptions!$T$13),1,0)","v":0},{"$f":"IF(UIoptions!$N$35=1,IF(AND(PCdb[[#This Row],[SQ_SZ]]>UIoptions!$S$15,PCdb[[#This Row],[SQ_SZ]]<UIoptions!$T$15),1,0),1)","v":0},{"$f":"IF(UIoptions!$N$35=2,IF(AND(PCdb[[#This Row],[ROUND_D]]>UIoptions!$S$15,PCdb[[#This Row],[ROUND_D]]<UIoptions!$T$15),1,0),1)","v":1},{"$f":"IF(UIoptions!$N$75<>1,1,IF(AND(PCdb[[#This Row],[FL]]>UIoptions!$S$16,PCdb[[#This Row],[FL]]<UIoptions!$T$16),1,0))","v":0},{"$f":"IF(OR(UIoptions!$Q$18=PCdb[[#This Row],[THRU_SCREW]],UIoptions!$Q$18=\"NA\"),1,0)","v":1},{"$f":"IF(OR(UIoptions!$P$19=PCdb[[#This Row],[THREAD_SZ]],UIoptions!$P$19=\"NA\"),1,0)","v":1},{"$f":"IF(UIoptions!$N$75=1,1,IF(AND(PCdb[[#This Row],[THREAD_L]]>UIoptions!$S$17,PCdb[[#This Row],[THREAD_L]]<UIoptions!$T$17),1,0))","v":1},{"$f":"IF(SUM(PCdb[[#This Row],[BDhit]:[THREAD_Lhit]])=11,1,0)","v":0},{"$f":"CONCATENATE(PCdb[[#This Row],[BCD]],PCdb[[#This Row],[PD]],PCdb[[#This Row],[PL (MAX)]],PCdb[[#This Row],[SD]],PCdb[[#This Row],[SL]],PCdb[[#This Row],[SQ_SZ]],PCdb[[#This Row],[ROUND_D]],PCdb[[#This Row],[FL]],PCdb[[#This Row],[THRU_SCREW]],PCdb[[#This Row],[THREAD_SZ]],PCdb[[#This Row],[THREAD_L]],PCdb[[#This Row],[NBR_HOLES]])","v":"70,7361,5820,660NA6,3M4NANA4"},{"$f":"SUM(PCdb[[#This Row],[BDhit]:[THREAD_Lhit]])","v":4}]
[125,70,50,7,16,37,60,"NA",6,"M5","NA","NA",4,"M5",null,null,null,null,null,null,null,41.7,"NA","NA","Y","SPLB-125",45,90,45.2,"NA","NA","Y","SPLA-125",45,90,null,null,null,null,null,null,null,null,null,null,null,null,"NA","NA","Y","SPLD2-125",45,90,{"$f":"IF(AND(PCdb[[#This Row],[BCD]]>UIoptions!$S$10,PCdb[[#This Row],[BCD]]<UIoptions!$T$10),1,0)","v":0},{"$f":"IF(AND(PCdb[[#This Row],[PD]]>UIoptions!$S$11,PCdb[[#This Row],[PD]]<UIoptions!$T$11),1,0)","v":0},{"$f":"IF(AND(UIoptions!$P$14<=PCdb[[#This Row],[PL (MAX)]],UIoptions!$P$14>UIoptions!$S$14),1,0)","v":1},{"$f":"IF(AND(PCdb[[#This Row],[SD]]>UIoptions!$S$12,PCdb[[#This Row],[SD]]<UIoptions!$T$12),1,0)","v":0},{"$f":"IF(AND(PCdb[[#This Row],[SL]]>UIoptions!$S$13,PCdb[[#This Row],[SL]]<UIoptions!$T$13),1,0)","v":0},{"$f":"IF(UIoptions!$N$35=1,IF(AND(PCdb[[#This Row],[SQ_SZ]]>UIoptions!$S$15,PCdb[[#This Row],[SQ_SZ]]<UIoptions!$T$15),1,0),1)","v":0},{"$f":"IF(UIoptions!$N$35=2,IF(AND(PCdb[[#This Row],[ROUND_D]]>UIoptions!$S$15,PCdb[[#This Row],[ROUND_D]]<UIoptions!$T$15),1,0),1)","v":1},{"$f":"IF(UIoptions!$N$75<>1,1,IF(AND(PCdb[[#This Row],[FL]]>UIoptions!$S$16,PCdb[[#This Row],[FL]]<UIoptions!$T$16),1,0))","v":0},{"$f":"IF(OR(UIoptions!$Q$18=PCdb[[#This Row],[THRU_SCREW]],UIoptions!$Q$18=\"NA\"),1,0)","v":0},{"$f":"IF(OR(UIoptions!$P$19=PCdb[[#This Row],[THREAD_SZ]],UIoptions!$P$19=\"NA\"),1,0)","v":1},{"$f":"IF(UIoptions!$N$75=1,1,IF(AND(PCdb[[#This Row],[THREAD_L]]>UIoptions!$S$17,PCdb[[#This Row],[THREAD_L]]<UIoptions!$T$17),1,0))","v":1},{"$f":"IF(SUM(PCdb[[#This Row],[BDhit]:[THREAD_Lhit]])=11,1,0)","v":0},{"$f":"CONCATENATE(PCdb[[#This Row],[BCD]],PCdb[[#This Row],[PD]],PCdb[[#This Row],[PL (MAX)]],PCdb[[#This Row],[SD]],PCdb[[#This Row],[SL]],PCdb[[#This Row],[SQ_SZ]],PCdb[[#This Row],[ROUND_D]],PCdb[[#This Row],[FL]],PCdb[[#This Row],[THRU_SCREW]],PCdb[[#This Row],[THREAD_SZ]],PCdb[[#This Row],[THREAD_L]],PCdb[[#This Row],[NBR_HOLES]])","v":"70507163760NA6M5NANA4"},{"$f":"SUM(PCdb[[#This Row],[BDhit]:[THREAD_Lhit]])","v":4}]
[126,98.4,73.02,4,15.875,31.8,86,"NA",8.5,"M5","NA","NA",4,"M5","NA","NA","NA","NA","NA","NA","NA",41.7,38,0,"Y","B",45,90,null,null,null,null,null,null,null,"NA","NA","NA","NA","NA","NA","NA","NA","NA","NA","NA","NA",40,0,"Y","D",45,90,{"$f":"IF(AND(PCdb[[#This Row],[BCD]]>UIoptions!$S$10,PCdb[[#This Row],[BCD]]<UIoptions!$T$10),1,0)","v":0},{"$f":"IF(AND(PCdb[[#This Row],[PD]]>UIoptions!$S$11,PCdb[[#This Row],[PD]]<UIoptions!$T$11),1,0)","v":0},{"$f":"IF(AND(UIoptions!$P$14<=PCdb[[#This Row],[PL (MAX)]],UIoptions!$P$14>UIoptions!$S$14),1,0)","v":1},{"$f":"IF(AND(PCdb[[#This Row],[SD]]>UIoptions!$S$12,PCdb[[#This Row],[SD]]<UIoptions!$T$12),1,0)","v":0},{"$f":"IF(AND(PCdb[[#This Row],[SL]]>UIoptions!$S$13,PCdb[[#This Row],[SL]]<UIoptions!$T$13),1,0)","v":0},{"$f":"IF(UIoptions!$N$35=1,IF(AND(PCdb[[#This Row],[SQ_SZ]]>UIoptions!$S$15,PCdb[[#This Row],[SQ_SZ]]<UIoptions!$T$15),1,0),1)","v":0},{"$f":"IF(UIoptions!$N$35=2,IF(AND(PCdb[[#This Row],[ROUND_D]]>UIoptions!$S$15,PCdb[[#This Row],[ROUND_D]]<UIoptions!$T$15),1,0),1)","v":1},{"$f":"IF(UIoptions!$N$75<>1,1,IF(AND(PCdb[[#This Row],[FL]]>UIoptions!$S$16,PCdb[[#This Row],[FL]]<UIoptions!$T$16),1,0))","v":0},{"$f":"IF(OR(UIoptions!$Q$18=PCdb[[#This Row],[THRU_SCREW]],UIoptions!$Q$18=\"NA\"),1,0)","v":0},{"$f":"IF(OR(UIoptions!$P$19=PCdb[[#This Row],[THREAD_SZ]],UIoptions!$P$19=\"NA\"),1,0)","v":1},{"$f":"IF(UIoptions!$N$75=1,1,IF(AND(PCdb[[#This Row],[THREAD_L]]>UIoptions!$S$17,PCdb[[#This Row],[THREAD_L]]<UIoptions!$T$17),1,0))","v":1},{"$f":"IF(SUM(PCdb[[#This Row],[BDhit]:[THREAD_Lhit]])=11,1,0)","v":0},{"$f":"CONCATENATE(PCdb[[#This Row],[BCD]],PCdb[[#This Row],[PD]],PCdb[[#This Row],[PL (MAX)]],PCdb[[#This Row],[SD]],PCdb[[#This Row],[SL]],PCdb[[#This Row],[SQ_SZ]],PCdb[[#This Row],[ROUND_D]],PCdb[[#This Row],[FL]],PCdb[[#This Row],[THRU_SCREW]],PCdb[[#This Row],[THREAD_SZ]],PCdb[[#This Row],[THREAD_L]],PCdb[[#This Row],[NBR_HOLES]])","v":"98,473,02415,87531,886NA8,5M5NANA4"},{"$f":"SUM(PCdb[[#This Row],[BDhit]:[THREAD_Lhit]])","v":4}]
[127,66.7,38.1,4,9.5299999999999994,25.4,60,"NA",6.4,"M4","NA","NA",4,"M4",null,null,null,null,null,null,null,41.7,26,"NA","Y","B",45,90,45.2,"NA",55,"Y","A",45,90,24,0,"Y","D",45,90,24,0,"Y","C",45,90,27,"NA","Y","C",45,90,{"$f":"IF(AND(PCdb[[#This Row],[BCD]]>UIoptions!$S$10,PCdb[[#This Row],[BCD]]<UIoptions!$T$10),1,0)","v":0},{"$f":"IF(AND(PCdb[[#This Row],[PD]]>UIoptions!$S$11,PCdb[[#This Row],[PD]]<UIoptions!$T$11),1,0)","v":0},{"$f":"IF(AND(UIoptions!$P$14<=PCdb[[#This Row],[PL (MAX)]],UIoptions!$P$14>UIoptions!$S$14),1,0)","v":1},{"$f":"IF(AND(PCdb[[#This Row],[SD]]>UIoptions!$S$12,PCdb[[#This Row],[SD]]<UIoptions!$T$12),1,0)","v":0},{"$f":"IF(AND(PCdb[[#This Row],[SL]]>UIoptions!$S$13,PCdb[[#This Row],[SL]]<UIoptions!$T$13),1,0)","v":0},{"$f":"IF(UIoptions!$N$35=1,IF(AND(PCdb[[#This Row],[SQ_SZ]]>UIoptions!$S$15,PCdb[[#This Row],[SQ_SZ]]<UIoptions!$T$15),1,0),1)","v":0},{"$f":"IF(UIoptions!$N$35=2,IF(AND(PCdb[[#This Row],[ROUND_D]]>UIoptions!$S$15,PCdb[[#This Row],[ROUND_D]]<UIoptions!$T$15),1,0),1)","v":1},{"$f":"IF(UIoptions!$N$75<>1,1,IF(AND(PCdb[[#This Row],[FL]]>UIoptions!$S$16,PCdb[[#This Row],[FL]]<UIoptions!$T$16),1,0))","v":0},{"$f":"IF(OR(UIoptions!$Q$18=PCdb[[#This Row],[THRU_SCREW]],UIoptions!$Q$18=\"NA\"),1,0)","v":1},{"$f":"IF(OR(UIoptions!$P$19=PCdb[[#This Row],[THREAD_SZ]],UIoptions!$P$19=\"NA\"),1,0)","v":1},{"$f":"IF(UIoptions!$N$75=1,1,IF(AND(PCdb[[#This Row],[THREAD_L]]>UIoptions!$S$17,PCdb[[#This Row],[THREAD_L]]<UIoptions!$T$17),1,0))","v":1},{"$f":"IF(SUM(PCdb[[#This Row],[BDhit]:[THREAD_Lhit]])=11,1,0)","v":0},{"$f":"CONCATENATE(PCdb[[#This Row],[BCD]],PCdb[[#This Row],[PD]],PCdb[[#This Row],[PL (MAX)]],PCdb[[#This Row],[SD]],PCdb[[#This Row],[SL]],PCdb[[#This Row],[SQ_SZ]],PCdb[[#This Row],[ROUND_D]],PCdb[[#This Row],[FL]],PCdb[[#This Row],[THRU_SCREW]],PCdb[[#This Row],[THREAD_SZ]],PCdb[[#This Row],[THREAD_L]],PCdb[[#This Row],[NBR_HOLES]])","v":"66,738,149,5325,460NA6,4M4NANA4"},{"$f":"SUM(PCdb[[#This Row],[BDhit]:[THREAD_Lhit]])","v":5}]
[128,75,60,4,11,23,73,"NA",8,"M5","NA","NA",4,"M5",null,null,null,null,null,null,null,45.2,32,0,"Y","B",45,90,48.7,33,"NA","Y","B",45,90,null,null,null,null,null,null,null,null,null,null,null,null,32,"NA","Y","C",45,90,{"$f":"IF(AND(PCdb[[#This Row],[BCD]]>UIoptions!$S$10,PCdb[[#This Row],[BCD]]<UIoptions!$T$10),1,0)","v":0},{"$f":"IF(AND(PCdb[[#This Row],[PD]]>UIoptions!$S$11,PCdb[[#This Row],[PD]]<UIoptions!$T$11),1,0)","v":0},{"$f":"IF(AND(UIoptions!$P$14<=PCdb[[#This Row],[PL (MAX)]],UIoptions!$P$14>UIoptions!$S$14),1,0)","v":1},{"$f":"IF(AND(PCdb[[#This Row],[SD]]>UIoptions!$S$12,PCdb[[#This Row],[SD]]<UIoptions!$T$12),1,0)","v":0},{"$f":"IF(AND(PCdb[[#This Row],[SL]]>UIoptions!$S$13,PCdb[[#This Row],[SL]]<UIoptions!$T$13),1,0)","v":0},{"$f":"IF(UIoptions!$N$35=1,IF(AND(PCdb[[#This Row],[SQ_SZ]]>UIoptions!$S$15,PCdb[[#This Row],[SQ_SZ]]<UIoptions!$T$15),1,0),1)","v":0},{"$f":"IF(UIoptions!$N$35=2,IF(AND(PCdb[[#This Row],[ROUND_D]]>UIoptions!$S$15,PCdb[[#This Row],[ROUND_D]]<UIoptions!$T$15),1,0),1)","v":1},{"$f":"IF(UIoptions!$N$75<>1,1,IF(AND(PCdb[[#This Row],[FL]]>UIoptions!$S$16,PCdb[[#This Row],[FL]]<UIoptions!$T$16),1,0))","v":0},{"$f":"IF(OR(UIoptions!$Q$18=PCdb[[#This Row],[THRU_SCREW]],UIoptions!$Q$18=\"NA\"),1,0)","v":0},{"$f":"IF(OR(UIoptions!$P$19=PCdb[[#This Row],[THREAD_SZ]],UIoptions!$P$19=\"NA\"),1,0)","v":1},{"$f":"IF(UIoptions!$N$75=1,1,IF(AND(PCdb[[#This Row],[THREAD_L]]>UIoptions!$S$17,PCdb[[#This Row],[THREAD_L]]<UIoptions!$T$17),1,0))","v":1},{"$f":"IF(SUM(PCdb[[#This Row],[BDhit]:[THREAD_Lhit]])=11,1,0)","v":0},{"$f":"CONCATENATE(PCdb[[#This Row],[BCD]],PCdb[[#This Row],[PD]],PCdb[[#This Row],[PL (MAX)]],PCdb[[#This Row],[SD]],PCdb[[#This Row],[SL]],PCdb[[#This Row],[SQ_SZ]],PCdb[[#This Row],[ROUND_D]],PCdb[[#This Row],[FL]],PCdb[[#This Row],[THRU_SCREW]],PCdb[[#This Row],[THREAD_SZ]],PCdb[[#This Row],[THREAD_L]],PCdb[[#This Row],[NBR_HOLES]])","v":"75604112373NA8M5NANA4"},{"$f":"SUM(PCdb[[#This Row],[BDhit]:[THREAD_Lhit]])","v":4}]
[129,75,60,4,11,23,70,"NA",6,"M5","NA","NA",4,"M5","NA","NA","NA","NA","NA","NA","NA",45.2,32,0,"Y","B",45,90,null,null,null,null,null,null,null,"NA","NA","NA","NA","NA","NA",32,0,"Y","B",45,90,32,"NA","Y","C",45,90,{"$f":"IF(AND(PCdb[[#This Row],[BCD]]>UIoptions!$S$10,PCdb[[#This Row],[BCD]]<UIoptions!$T$10),1,0)","v":0},{"$f":"IF(AND(PCdb[[#This Row],[PD]]>UIoptions!$S$11,PCdb[[#This Row],[PD]]<UIoptions!$T$11),1,0)","v":0},{"$f":"IF(AND(UIoptions!$P$14<=PCdb[[#This Row],[PL (MAX)]],UIoptions!$P$14>UIoptions!$S$14),1,0)","v":1},{"$f":"IF(AND(PCdb[[#This Row],[SD]]>UIoptions!$S$12,PCdb[[#This Row],[SD]]<UIoptions!$T$12),1,0)","v":0},{"$f":"IF(AND(PCdb[[#This Row],[SL]]>UIoptions!$S$13,PCdb[[#This Row],[SL]]<UIoptions!$T$13),1,0)","v":0},{"$f":"IF(UIoptions!$N$35=1,IF(AND(PCdb[[#This Row],[SQ_SZ]]>UIoptions!$S$15,PCdb[[#This Row],[SQ_SZ]]<UIoptions!$T$15),1,0),1)","v":0},{"$f":"IF(UIoptions!$N$35=2,IF(AND(PCdb[[#This Row],[ROUND_D]]>UIoptions!$S$15,PCdb[[#This Row],[ROUND_D]]<UIoptions!$T$15),1,0),1)","v":1},{"$f":"IF(UIoptions!$N$75<>1,1,IF(AND(PCdb[[#This Row],[FL]]>UIoptions!$S$16,PCdb[[#This Row],[FL]]<UIoptions!$T$16),1,0))","v":0},{"$f":"IF(OR(UIoptions!$Q$18=PCdb[[#This Row],[THRU_SCREW]],UIoptions!$Q$18=\"NA\"),1,0)","v":0},{"$f":"IF(OR(UIoptions!$P$19=PCdb[[#This Row],[THREAD_SZ]],UIoptions!$P$19=\"NA\"),1,0)","v":1},{"$f":"IF(UIoptions!$N$75=1,1,IF(AND(PCdb[[#This Row],[THREAD_L]]>UIoptions!$S$17,PCdb[[#This Row],[THREAD_L]]<UIoptions!$T$17),1,0))","v":1},{"$f":"IF(SUM(PCdb[[#This Row],[BDhit]:[THREAD_Lhit]])=11,1,0)","v":0},{"$f":"CONCATENATE(PCdb[[#This Row],[BCD]],PCdb[[#This Row],[PD]],PCdb[[#This Row],[PL (MAX)]],PCdb[[#This Row],[SD]],PCdb[[#This Row],[SL]],PCdb[[#This Row],[SQ_SZ]],PCdb[[#This Row],[ROUND_D]],PCdb[[#This Row],[FL]],PCdb[[#This Row],[THRU_SCREW]],PCdb[[#This Row],[THREAD_SZ]],PCdb[[#This Row],[THREAD_L]],PCdb[[#This Row],[NBR_HOLES]])","v":"75604112370NA6M5NANA4"},{"$f":"SUM(PCdb[[#This Row],[BDhit]:[THREAD_Lhit]])","v":4}]
[130,70,50,4,14,31,60,"NA",8,"M5","NA","NA",4,"M5",null,null,null,null,null,null,null,41.7,27,"NA","Y","B",45,90,null,null,null,null,null,null,null,null,null,null,null,null,null,27,"NA","Y","C",45,90,null,null,null,null,null,null,{"$f":"IF(AND(PCdb[[#This Row],[BCD]]>UIoptions!$S$10,PCdb[[#This Row],[BCD]]<UIoptions!$T$10),1,0)","v":0},{"$f":"IF(AND(PCdb[[#This Row],[PD]]>UIoptions!$S$11,PCdb[[#This Row],[PD]]<UIoptions!$T$11),1,0)","v":0},{"$f":"IF(AND(UIoptions!$P$14<=PCdb[[#This Row],[PL (MAX)]],UIoptions!$P$14>UIoptions!$S$14),1,0)","v":1},{"$f":"IF(AND(PCdb[[#This Row],[SD]]>UIoptions!$S$12,PCdb[[#This Row],[SD]]<UIoptions!$T$12),1,0)","v":0},{"$f":"IF(AND(PCdb[[#This Row],[SL]]>UIoptions!$S$13,PCdb[[#This Row],[SL]]<UIoptions!$T$13),1,0)","v":0},{"$f":"IF(UIoptions!$N$35=1,IF(AND(PCdb[[#This Row],[SQ_SZ]]>UIoptions!$S$15,PCdb[[#This Row],[SQ_SZ]]<UIoptions!$T$15),1,0),1)","v":0},{"$f":"IF(UIoptions!$N$35=2,IF(AND(PCdb[[#This Row],[ROUND_D]]>UIoptions!$S$15,PCdb[[#This Row],[ROUND_D]]<UIoptions!$T$15),1,0),1)","v":1},{"$f":"IF(UIoptions!$N$75<>1,1,IF(AND(PCdb[[#This Row],[FL]]>UIoptions!$S$16,PCdb[[#This Row],[FL]]<UIoptions!$T$16),1,0))","v":0},{"$f":"IF(OR(UIoptions!$Q$18=PCdb[[#This Row],[THRU_SCREW]],UIoptions!$Q$18=\"NA\"),1,0)","v":0},{"$f":"IF(OR(UIoptions!$P$19=PCdb[[#This Row],[THREAD_SZ]],UIoptions!$P$19=\"NA\"),1,0)","v":1},{"$f":"IF(UIoptions!$N$75=1,1,IF(AND(PCdb[[#This Row],[THREAD_L]]>UIoptions!$S$17,PCdb[[#This Row],[THREAD_L]]<UIoptions!$T$17),1,0))","v":1},{"$f":"IF(SUM(PCdb[[#This Row],[BDhit]:[THREAD_Lhit]])=11,1,0)","v":0},{"$f":"CONCATENATE(PCdb[[#This Row],[BCD]],PCdb[[#This Row],[PD]],PCdb[[#This Row],[PL (MAX)]],PCdb[[#This Row],[SD]],PCdb[[#This Row],[SL]],PCdb[[#This Row],[SQ_SZ]],PCdb[[#This Row],[ROUND_D]],PCdb[[#This Row],[FL]],PCdb[[#This Row],[THRU_SCREW]],PCdb[[#This Row],[THREAD_SZ]],PCdb[[#This Row],[THREAD_L]],PCdb[[#This Row],[NBR_HOLES]])","v":"70504143160NA8M5NANA4"},{"$f":"SUM(PCdb[[#This Row],[BDhit]:[THREAD_Lhit]])","v":4}]
[131,66.7,38.1,1.9,6.35,20.6,59.1,"NA",4.8,"M4","NA","NA",4,"M4",null,null,null,null,null,null,null,null,null,null,null,null,null,null,null,null,null,null,null,null,null,null,null,null,null,null,null,null,null,null,null,null,null,null,null,null,null,null,null,{"$f":"IF(AND(PCdb[[#This Row],[BCD]]>UIoptions!$S$10,PCdb[[#This Row],[BCD]]<UIoptions!$T$10),1,0)","v":0},{"$f":"IF(AND(PCdb[[#This Row],[PD]]>UIoptions!$S$11,PCdb[[#This Row],[PD]]<UIoptions!$T$11),1,0)","v":0},{"$f":"IF(AND(UIoptions!$P$14<=PCdb[[#This Row],[PL (MAX)]],UIoptions!$P$14>UIoptions!$S$14),1,0)","v":0},{"$f":"IF(AND(PCdb[[#This Row],[SD]]>UIoptions!$S$12,PCdb[[#This Row],[SD]]<UIoptions!$T$12),1,0)","v":0},{"$f":"IF(AND(PCdb[[#This Row],[SL]]>UIoptions!$S$13,PCdb[[#This Row],[SL]]<UIoptions!$T$13),1,0)","v":0},{"$f":"IF(UIoptions!$N$35=1,IF(AND(PCdb[[#This Row],[SQ_SZ]]>UIoptions!$S$15,PCdb[[#This Row],[SQ_SZ]]<UIoptions!$T$15),1,0),1)","v":0},{"$f":"IF(UIoptions!$N$35=2,IF(AND(PCdb[[#This Row],[ROUND_D]]>UIoptions!$S$15,PCdb[[#This Row],[ROUND_D]]<UIoptions!$T$15),1,0),1)","v":1},{"$f":"IF(UIoptions!$N$75<>1,1,IF(AND(PCdb[[#This Row],[FL]]>UIoptions!$S$16,PCdb[[#This Row],[FL]]<UIoptions!$T$16),1,0))","v":0},{"$f":"IF(OR(UIoptions!$Q$18=PCdb[[#This Row],[THRU_SCREW]],UIoptions!$Q$18=\"NA\"),1,0)","v":1},{"$f":"IF(OR(UIoptions!$P$19=PCdb[[#This Row],[THREAD_SZ]],UIoptions!$P$19=\"NA\"),1,0)","v":1},{"$f":"IF(UIoptions!$N$75=1,1,IF(AND(PCdb[[#This Row],[THREAD_L]]>UIoptions!$S$17,PCdb[[#This Row],[THREAD_L]]<UIoptions!$T$17),1,0))","v":1},{"$f":"IF(SUM(PCdb[[#This Row],[BDhit]:[THREAD_Lhit]])=11,1,0)","v":0},{"$f":"CONCATENATE(PCdb[[#This Row],[BCD]],PCdb[[#This Row],[PD]],PCdb[[#This Row],[PL (MAX)]],PCdb[[#This Row],[SD]],PCdb[[#This Row],[SL]],PCdb[[#This Row],[SQ_SZ]],PCdb[[#This Row],[ROUND_D]],PCdb[[#This Row],[FL]],PCdb[[#This Row],[THRU_SCREW]],PCdb[[#This Row],[THREAD_SZ]],PCdb[[#This Row],[THREAD_L]],PCdb[[#This Row],[NBR_HOLES]])","v":"66,738,11,96,3520,659,1NA4,8M4NANA4"},{"$f":"SUM(PCdb[[#This Row],[BDhit]:[THREAD_Lhit]])","v":4}]
[132,98.4,73.03,2,12.7,32.5,86.9,"NA",4.8,"M5","NA","NA",4,"M5","NA","NA","NA","NA","NA","NA","NA",41.7,37.5,0,"Y","B",45,90,45.2,39,0,"Y","B",45,90,"NA","NA","NA","NA","NA","NA","NA","NA","NA","NA","NA","NA",40,0,"Y","D",45,90,{"$f":"IF(AND(PCdb[[#This Row],[BCD]]>UIoptions!$S$10,PCdb[[#This Row],[BCD]]<UIoptions!$T$10),1,0)","v":0},{"$f":"IF(AND(PCdb[[#This Row],[PD]]>UIoptions!$S$11,PCdb[[#This Row],[PD]]<UIoptions!$T$11),1,0)","v":0},{"$f":"IF(AND(UIoptions!$P$14<=PCdb[[#This Row],[PL (MAX)]],UIoptions!$P$14>UIoptions!$S$14),1,0)","v":0},{"$f":"IF(AND(PCdb[[#This Row],[SD]]>UIoptions!$S$12,PCdb[[#This Row],[SD]]<UIoptions!$T$12),1,0)","v":0},{"$f":"IF(AND(PCdb[[#This Row],[SL]]>UIoptions!$S$13,PCdb[[#This Row],[SL]]<UIoptions!$T$13),1,0)","v":0},{"$f":"IF(UIoptions!$N$35=1,IF(AND(PCdb[[#This Row],[SQ_SZ]]>UIoptions!$S$15,PCdb[[#This Row],[SQ_SZ]]<UIoptions!$T$15),1,0),1)","v":0},{"$f":"IF(UIoptions!$N$35=2,IF(AND(PCdb[[#This Row],[ROUND_D]]>UIoptions!$S$15,PCdb[[#This Row],[ROUND_D]]<UIoptions!$T$15),1,0),1)","v":1},{"$f":"IF(UIoptions!$N$75<>1,1,IF(AND(PCdb[[#This Row],[FL]]>UIoptions!$S$16,PCdb[[#This Row],[FL]]<UIoptions!$T$16),1,0))","v":0},{"$f":"IF(OR(UIoptions!$Q$18=PCdb[[#This Row],[THRU_SCREW]],UIoptions!$Q$18=\"NA\"),1,0)","v":0},{"$f":"IF(OR(UIoptions!$P$19=PCdb[[#This Row],[THREAD_SZ]],UIoptions!$P$19=\"NA\"),1,0)","v":1},{"$f":"IF(UIoptions!$N$75=1,1,IF(AND(PCdb[[#This Row],[THREAD_L]]>UIoptions!$S$17,PCdb[[#This Row],[THREAD_L]]<UIoptions!$T$17),1,0))","v":1},{"$f":"IF(SUM(PCdb[[#This Row],[BDhit]:[THREAD_Lhit]])=11,1,0)","v":0},{"$f":"CONCATENATE(PCdb[[#This Row],[BCD]],PCdb[[#This Row],[PD]],PCdb[[#This Row],[PL (MAX)]],PCdb[[#This Row],[SD]],PCdb[[#This Row],[SL]],PCdb[[#This Row],[SQ_SZ]],PCdb[[#This Row],[ROUND_D]],PCdb[[#This Row],[FL]],PCdb[[#This Row],[THRU_SCREW]],PCdb[[#This Row],[THREAD_SZ]],PCdb[[#This Row],[THREAD_L]],PCdb[[#This Row],[NBR_HOLES]])","v":"98,473,03212,732,586,9NA4,8M5NANA4"},{"$f":"SUM(PCdb[[#This Row],[BDhit]:[THREAD_Lhit]])","v":3}]
[133,52,40,4,15,32,"NA",63,"NA","NA","M5",10,4,6,"NA","NA","NA","NA","NA","NA","NA",null,null,null,null,null,null,null,null,null,null,null,null,null,null,"NA","NA","NA","NA","NA","NA",null,null,null,null,null,null,"NA","NA","Y","D2",45,90,{"$f":"IF(AND(PCdb[[#This Row],[BCD]]>UIoptions!$S$10,PCdb[[#This Row],[BCD]]<UIoptions!$T$10),1,0)","v":0},{"$f":"IF(AND(PCdb[[#This Row],[PD]]>UIoptions!$S$11,PCdb[[#This Row],[PD]]<UIoptions!$T$11),1,0)","v":1},{"$f":"IF(AND(UIoptions!$P$14<=PCdb[[#This Row],[PL (MAX)]],UIoptions!$P$14>UIoptions!$S$14),1,0)","v":1},{"$f":"IF(AND(PCdb[[#This Row],[SD]]>UIoptions!$S$12,PCdb[[#This Row],[SD]]<UIoptions!$T$12),1,0)","v":1},{"$f":"IF(AND(PCdb[[#This Row],[SL]]>UIoptions!$S$13,PCdb[[#This Row],[SL]]<UIoptions!$T$13),1,0)","v":0},{"$f":"IF(UIoptions!$N$35=1,IF(AND(PCdb[[#This Row],[SQ_SZ]]>UIoptions!$S$15,PCdb[[#This Row],[SQ_SZ]]<UIoptions!$T$15),1,0),1)","v":0},{"$f":"IF(UIoptions!$N$35=2,IF(AND(PCdb[[#This Row],[ROUND_D]]>UIoptions!$S$15,PCdb[[#This Row],[ROUND_D]]<UIoptions!$T$15),1,0),1)","v":1},{"$f":"IF(UIoptions!$N$75<>1,1,IF(AND(PCdb[[#This Row],[FL]]>UIoptions!$S$16,PCdb[[#This Row],[FL]]<UIoptions!$T$16),1,0))","v":0},{"$f":"IF(OR(UIoptions!$Q$18=PCdb[[#This Row],[THRU_SCREW]],UIoptions!$Q$18=\"NA\"),1,0)","v":0},{"$f":"IF(OR(UIoptions!$P$19=PCdb[[#This Row],[THREAD_SZ]],UIoptions!$P$19=\"NA\"),1,0)","v":1},{"$f":"IF(UIoptions!$N$75=1,1,IF(AND(PCdb[[#This Row],[THREAD_L]]>UIoptions!$S$17,PCdb[[#This Row],[THREAD_L]]<UIoptions!$T$17),1,0))","v":1},{"$f":"IF(SUM(PCdb[[#This Row],[BDhit]:[THREAD_Lhit]])=11,1,0)","v":0},{"$f":"CONCATENATE(PCdb[[#This Row],[BCD]],PCdb[[#This Row],[PD]],PCdb[[#This Row],[PL (MAX)]],PCdb[[#This Row],[SD]],PCdb[[#This Row],[SL]],PCdb[[#This Row],[SQ_SZ]],PCdb[[#This Row],[ROUND_D]],PCdb[[#This Row],[FL]],PCdb[[#This Row],[THRU_SCREW]],PCdb[[#This Row],[THREAD_SZ]],PCdb[[#This Row],[THREAD_L]],PCdb[[#This Row],[NBR_HOLES]])","v":"524041532NA63NANAM5104"},{"$f":"SUM(PCdb[[#This Row],[BDhit]:[THREAD_Lhit]])","v":6}]
[134,63,40,4,9,20,55,"NA",6.5,"M4","NA","NA",4,"M4",null,null,null,null,null,null,null,null,null,null,null,null,null,null,null,null,null,null,null,null,null,24,0,"Y","D",45,90,null,null,null,null,null,null,36,0,"Y","C",45,90,{"$f":"IF(AND(PCdb[[#This Row],[BCD]]>UIoptions!$S$10,PCdb[[#This Row],[BCD]]<UIoptions!$T$10),1,0)","v":1},{"$f":"IF(AND(PCdb[[#This Row],[PD]]>UIoptions!$S$11,PCdb[[#This Row],[PD]]<UIoptions!$T$11),1,0)","v":1},{"$f":"IF(AND(UIoptions!$P$14<=PCdb[[#This Row],[PL (MAX)]],UIoptions!$P$14>UIoptions!$S$14),1,0)","v":1},{"$f":"IF(AND(PCdb[[#This Row],[SD]]>UIoptions!$S$12,PCdb[[#This Row],[SD]]<UIoptions!$T$12),1,0)","v":0},{"$f":"IF(AND(PCdb[[#This Row],[SL]]>UIoptions!$S$13,PCdb[[#This Row],[SL]]<UIoptions!$T$13),1,0)","v":1},{"$f":"IF(UIoptions!$N$35=1,IF(AND(PCdb[[#This Row],[SQ_SZ]]>UIoptions!$S$15,PCdb[[#This Row],[SQ_SZ]]<UIoptions!$T$15),1,0),1)","v":0},{"$f":"IF(UIoptions!$N$35=2,IF(AND(PCdb[[#This Row],[ROUND_D]]>UIoptions!$S$15,PCdb[[#This Row],[ROUND_D]]<UIoptions!$T$15),1,0),1)","v":1},{"$f":"IF(UIoptions!$N$75<>1,1,IF(AND(PCdb[[#This Row],[FL]]>UIoptions!$S$16,PCdb[[#This Row],[FL]]<UIoptions!$T$16),1,0))","v":0},{"$f":"IF(OR(UIoptions!$Q$18=PCdb[[#This Row],[THRU_SCREW]],UIoptions!$Q$18=\"NA\"),1,0)","v":1},{"$f":"IF(OR(UIoptions!$P$19=PCdb[[#This Row],[THREAD_SZ]],UIoptions!$P$19=\"NA\"),1,0)","v":1},{"$f":"IF(UIoptions!$N$75=1,1,IF(AND(PCdb[[#This Row],[THREAD_L]]>UIoptions!$S$17,PCdb[[#This Row],[THREAD_L]]<UIoptions!$T$17),1,0))","v":1},{"$f":"IF(SUM(PCdb[[#This Row],[BDhit]:[THREAD_Lhit]])=11,1,0)","v":0},{"$f":"CONCATENATE(PCdb[[#This Row],[BCD]],PCdb[[#This Row],[PD]],PCdb[[#This Row],[PL (MAX)]],PCdb[[#This Row],[SD]],PCdb[[#This Row],[SL]],PCdb[[#This Row],[SQ_SZ]],PCdb[[#This Row],[ROUND_D]],PCdb[[#This Row],[FL]],PCdb[[#This Row],[THRU_SCREW]],PCdb[[#This Row],[THREAD_SZ]],PCdb[[#This Row],[THREAD_L]],PCdb[[#This Row],[NBR_HOLES]])","v":"6340492055NA6,5M4NANA4"},{"$f":"SUM(PCdb[[#This Row],[BDhit]:[THREAD_Lhit]])","v":8}]
[135,40,32,6,12,25,"NA",52,"NA","NA","M5",7.5,4,6,null,null,null,null,null,null,null,45.2,"NA","NA","Y","SPLB2-135",45,90,null,null,null,null,null,null,null,null,null,null,null,null,null,null,null,null,null,null,null,"NA","NA","Y","SPLA2-135",45,90,{"$f":"IF(AND(PCdb[[#This Row],[BCD]]>UIoptions!$S$10,PCdb[[#This Row],[BCD]]<UIoptions!$T$10),1,0)","v":0},{"$f":"IF(AND(PCdb[[#This Row],[PD]]>UIoptions!$S$11,PCdb[[#This Row],[PD]]<UIoptions!$T$11),1,0)","v":0},{"$f":"IF(AND(UIoptions!$P$14<=PCdb[[#This Row],[PL (MAX)]],UIoptions!$P$14>UIoptions!$S$14),1,0)","v":1},{"$f":"IF(AND(PCdb[[#This Row],[SD]]>UIoptions!$S$12,PCdb[[#This Row],[SD]]<UIoptions!$T$12),1,0)","v":0},{"$f":"IF(AND(PCdb[[#This Row],[SL]]>UIoptions!$S$13,PCdb[[#This Row],[SL]]<UIoptions!$T$13),1,0)","v":0},{"$f":"IF(UIoptions!$N$35=1,IF(AND(PCdb[[#This Row],[SQ_SZ]]>UIoptions!$S$15,PCdb[[#This Row],[SQ_SZ]]<UIoptions!$T$15),1,0),1)","v":0},{"$f":"IF(UIoptions!$N$35=2,IF(AND(PCdb[[#This Row],[ROUND_D]]>UIoptions!$S$15,PCdb[[#This Row],[ROUND_D]]<UIoptions!$T$15),1,0),1)","v":1},{"$f":"IF(UIoptions!$N$75<>1,1,IF(AND(PCdb[[#This Row],[FL]]>UIoptions!$S$16,PCdb[[#This Row],[FL]]<UIoptions!$T$16),1,0))","v":0},{"$f":"IF(OR(UIoptions!$Q$18=PCdb[[#This Row],[THRU_SCREW]],UIoptions!$Q$18=\"NA\"),1,0)","v":0},{"$f":"IF(OR(UIoptions!$P$19=PCdb[[#This Row],[THREAD_SZ]],UIoptions!$P$19=\"NA\"),1,0)","v":1},{"$f":"IF(UIoptions!$N$75=1,1,IF(AND(PCdb[[#This Row],[THREAD_L]]>UIoptions!$S$17,PCdb[[#This Row],[THREAD_L]]<UIoptions!$T$17),1,0))","v":1},{"$f":"IF(SUM(PCdb[[#This Row],[BDhit]:[THREAD_Lhit]])=11,1,0)","v":0},{"$f":"CONCATENATE(PCdb[[#This Row],[BCD]],PCdb[[#This Row],[PD]],PCdb[[#This Row],[PL (MAX)]],PCdb[[#This Row],[SD]],PCdb[[#This Row],[SL]],PCdb[[#This Row],[SQ_SZ]],PCdb[[#This Row],[ROUND_D]],PCdb[[#This Row],[FL]],PCdb[[#This Row],[THRU_SCREW]],PCdb[[#This Row],[THREAD_SZ]],PCdb[[#This Row],[THREAD_L]],PCdb[[#This Row],[NBR_HOLES]])","v":"403261225NA52NANAM57,54"},{"$f":"SUM(PCdb[[#This Row],[BDhit]:[THREAD_Lhit]])","v":4}]
[136,36,25,4,10,30,50,"NA","NA","NA","M4",8,4,5,null,null,null,null,null,null,null,null,null,null,null,null,null,null,48.7,"NA","NA","Y","B2",45,90,null,null,null,null,null,null,null,null,null,null,null,null,null,null,null,null,null,null,{"$f":"IF(AND(PCdb[[#This Row],[BCD]]>UIoptions!$S$10,PCdb[[#This Row],[BCD]]<UIoptions!$T$10),1,0)","v":0},{"$f":"IF(AND(PCdb[[#This Row],[PD]]>UIoptions!$S$11,PCdb[[#This Row],[PD]]<UIoptions!$T$11),1,0)","v":0},{"$f":"IF(AND(UIoptions!$P$14<=PCdb[[#This Row],[PL (MAX)]],UIoptions!$P$14>UIoptions!$S$14),1,0)","v":1},{"$f":"IF(AND(PCdb[[#This Row],[SD]]>UIoptions!$S$12,PCdb[[#This Row],[SD]]<UIoptions!$T$12),1,0)","v":0},{"$f":"IF(AND(PCdb[[#This Row],[SL]]>UIoptions!$S$13,PCdb[[#This Row],[SL]]<UIoptions!$T$13),1,0)","v":0},{"$f":"IF(UIoptions!$N$35=1,IF(AND(PCdb[[#This Row],[SQ_SZ]]>UIoptions!$S$15,PCdb[[#This Row],[SQ_SZ]]<UIoptions!$T$15),1,0),1)","v":0},{"$f":"IF(UIoptions!$N$35=2,IF(AND(PCdb[[#This Row],[ROUND_D]]>UIoptions!$S$15,PCdb[[#This Row],[ROUND_D]]<UIoptions!$T$15),1,0),1)","v":1},{"$f":"IF(UIoptions!$N$75<>1,1,IF(AND(PCdb[[#This Row],[FL]]>UIoptions!$S$16,PCdb[[#This Row],[FL]]<UIoptions!$T$16),1,0))","v":0},{"$f":"IF(OR(UIoptions!$Q$18=PCdb[[#This Row],[THRU_SCREW]],UIoptions!$Q$18=\"NA\"),1,0)","v":0},{"$f":"IF(OR(UIoptions!$P$19=PCdb[[#This Row],[THREAD_SZ]],UIoptions!$P$19=\"NA\"),1,0)","v":1},{"$f":"IF(UIoptions!$N$75=1,1,IF(AND(PCdb[[#This Row],[THREAD_L]]>UIoptions!$S$17,PCdb[[#This Row],[THREAD_L]]<UIoptions!$T$17),1,0))","v":1},{"$f":"IF(SUM(PCdb[[#This Row],[BDhit]:[THREAD_Lhit]])=11,1,0)","v":0},{"$f":"CONCATENATE(PCdb[[#This Row],[BCD]],PCdb[[#This Row],[PD]],PCdb[[#This Row],[PL (MAX)]],PCdb[[#This Row],[SD]],PCdb[[#This Row],[SL]],PCdb[[#This Row],[SQ_SZ]],PCdb[[#This Row],[ROUND_D]],PCdb[[#This Row],[FL]],PCdb[[#This Row],[THRU_SCREW]],PCdb[[#This Row],[THREAD_SZ]],PCdb[[#This Row],[THREAD_L]],PCdb[[#This Row],[NBR_HOLES]])","v":"36254103050NANANAM484"},{"$f":"SUM(PCdb[[#This Row],[BDhit]:[THREAD_Lhit]])","v":4}]
[137,70,50,5.5,16,37,60,"NA",10,"M5","NA","NA",4,"M5",null,null,null,null,null,null,null,null,null,null,null,null,null,null,45.2,"NA","NA","Y","SPLA-137",45,90,null,null,null,null,null,null,null,null,null,null,null,null,null,null,null,null,null,null,{"$f":"IF(AND(PCdb[[#This Row],[BCD]]>UIoptions!$S$10,PCdb[[#This Row],[BCD]]<UIoptions!$T$10),1,0)","v":0},{"$f":"IF(AND(PCdb[[#This Row],[PD]]>UIoptions!$S$11,PCdb[[#This Row],[PD]]<UIoptions!$T$11),1,0)","v":0},{"$f":"IF(AND(UIoptions!$P$14<=PCdb[[#This Row],[PL (MAX)]],UIoptions!$P$14>UIoptions!$S$14),1,0)","v":1},{"$f":"IF(AND(PCdb[[#This Row],[SD]]>UIoptions!$S$12,PCdb[[#This Row],[SD]]<UIoptions!$T$12),1,0)","v":0},{"$f":"IF(AND(PCdb[[#This Row],[SL]]>UIoptions!$S$13,PCdb[[#This Row],[SL]]<UIoptions!$T$13),1,0)","v":0},{"$f":"IF(UIoptions!$N$35=1,IF(AND(PCdb[[#This Row],[SQ_SZ]]>UIoptions!$S$15,PCdb[[#This Row],[SQ_SZ]]<UIoptions!$T$15),1,0),1)","v":0},{"$f":"IF(UIoptions!$N$35=2,IF(AND(PCdb[[#This Row],[ROUND_D]]>UIoptions!$S$15,PCdb[[#This Row],[ROUND_D]]<UIoptions!$T$15),1,0),1)","v":1},{"$f":"IF(UIoptions!$N$75<>1,1,IF(AND(PCdb[[#This Row],[FL]]>UIoptions!$S$16,PCdb[[#This Row],[FL]]<UIoptions!$T$16),1,0))","v":0},{"$f":"IF(OR(UIoptions!$Q$18=PCdb[[#This Row],[THRU_SCREW]],UIoptions!$Q$18=\"NA\"),1,0)","v":0},{"$f":"IF(OR(UIoptions!$P$19=PCdb[[#This Row],[THREAD_SZ]],UIoptions!$P$19=\"NA\"),1,0)","v":1},{"$f":"IF(UIoptions!$N$75=1,1,IF(AND(PCdb[[#This Row],[THREAD_L]]>UIoptions!$S$17,PCdb[[#This Row],[THREAD_L]]<UIoptions!$T$17),1,0))","v":1},{"$f":"IF(SUM(PCdb[[#This Row],[BDhit]:[THREAD_Lhit]])=11,1,0)","v":0},{"$f":"CONCATENATE(PCdb[[#This Row],[BCD]],PCdb[[#This Row],[PD]],PCdb[[#This Row],[PL (MAX)]],PCdb[[#This Row],[SD]],PCdb[[#This Row],[SL]],PCdb[[#This Row],[SQ_SZ]],PCdb[[#This Row],[ROUND_D]],PCdb[[#This Row],[FL]],PCdb[[#This Row],[THRU_SCREW]],PCdb[[#This Row],[THREAD_SZ]],PCdb[[#This Row],[THREAD_L]],PCdb[[#This Row],[NBR_HOLES]])","v":"70505,5163760NA10M5NANA4"},{"$f":"SUM(PCdb[[#This Row],[BDhit]:[THREAD_Lhit]])","v":4}]
[138,43.8,22,4,6.35,25.4,42,"NA",4.8,"M3","NA","NA",4,"M3",null,null,null,null,null,null,null,null,null,null,null,null,null,null,null,null,null,null,null,null,null,null,null,null,null,null,null,null,null,null,null,null,null,null,null,null,null,null,null,{"$f":"IF(AND(PCdb[[#This Row],[BCD]]>UIoptions!$S$10,PCdb[[#This Row],[BCD]]<UIoptions!$T$10),1,0)","v":0},{"$f":"IF(AND(PCdb[[#This Row],[PD]]>UIoptions!$S$11,PCdb[[#This Row],[PD]]<UIoptions!$T$11),1,0)","v":0},{"$f":"IF(AND(UIoptions!$P$14<=PCdb[[#This Row],[PL (MAX)]],UIoptions!$P$14>UIoptions!$S$14),1,0)","v":1},{"$f":"IF(AND(PCdb[[#This Row],[SD]]>UIoptions!$S$12,PCdb[[#This Row],[SD]]<UIoptions!$T$12),1,0)","v":0},{"$f":"IF(AND(PCdb[[#This Row],[SL]]>UIoptions!$S$13,PCdb[[#This Row],[SL]]<UIoptions!$T$13),1,0)","v":0},{"$f":"IF(UIoptions!$N$35=1,IF(AND(PCdb[[#This Row],[SQ_SZ]]>UIoptions!$S$15,PCdb[[#This Row],[SQ_SZ]]<UIoptions!$T$15),1,0),1)","v":0},{"$f":"IF(UIoptions!$N$35=2,IF(AND(PCdb[[#This Row],[ROUND_D]]>UIoptions!$S$15,PCdb[[#This Row],[ROUND_D]]<UIoptions!$T$15),1,0),1)","v":1},{"$f":"IF(UIoptions!$N$75<>1,1,IF(AND(PCdb[[#This Row],[FL]]>UIoptions!$S$16,PCdb[[#This Row],[FL]]<UIoptions!$T$16),1,0))","v":0},{"$f":"IF(OR(UIoptions!$Q$18=PCdb[[#This Row],[THRU_SCREW]],UIoptions!$Q$18=\"NA\"),1,0)","v":0},{"$f":"IF(OR(UIoptions!$P$19=PCdb[[#This Row],[THREAD_SZ]],UIoptions!$P$19=\"NA\"),1,0)","v":1},{"$f":"IF(UIoptions!$N$75=1,1,IF(AND(PCdb[[#This Row],[THREAD_L]]>UIoptions!$S$17,PCdb[[#This Row],[THREAD_L]]<UIoptions!$T$17),1,0))","v":1},{"$f":"IF(SUM(PCdb[[#This Row],[BDhit]:[THREAD_Lhit]])=11,1,0)","v":0},{"$f":"CONCATENATE(PCdb[[#This Row],[BCD]],PCdb[[#This Row],[PD]],PCdb[[#This Row],[PL (MAX)]],PCdb[[#This Row],[SD]],PCdb[[#This Row],[SL]],PCdb[[#This Row],[SQ_SZ]],PCdb[[#This Row],[ROUND_D]],PCdb[[#This Row],[FL]],PCdb[[#This Row],[THRU_SCREW]],PCdb[[#This Row],[THREAD_SZ]],PCdb[[#This Row],[THREAD_L]],PCdb[[#This Row],[NBR_HOLES]])","v":"43,82246,3525,442NA4,8M3NANA4"},{"$f":"SUM(PCdb[[#This Row],[BDhit]:[THREAD_Lhit]])","v":4}]
[139,70,50,4,16,25,60,"NA",10,"M4","NA","NA",4,"M4",null,null,null,null,null,null,null,41.7,27,"NA","Y","B",45,90,null,null,null,null,null,null,null,null,null,null,null,null,null,null,null,null,null,null,null,27,0,"Y","C",45,90,{"$f":"IF(AND(PCdb[[#This Row],[BCD]]>UIoptions!$S$10,PCdb[[#This Row],[BCD]]<UIoptions!$T$10),1,0)","v":0},{"$f":"IF(AND(PCdb[[#This Row],[PD]]>UIoptions!$S$11,PCdb[[#This Row],[PD]]<UIoptions!$T$11),1,0)","v":0},{"$f":"IF(AND(UIoptions!$P$14<=PCdb[[#This Row],[PL (MAX)]],UIoptions!$P$14>UIoptions!$S$14),1,0)","v":1},{"$f":"IF(AND(PCdb[[#This Row],[SD]]>UIoptions!$S$12,PCdb[[#This Row],[SD]]<UIoptions!$T$12),1,0)","v":0},{"$f":"IF(AND(PCdb[[#This Row],[SL]]>UIoptions!$S$13,PCdb[[#This Row],[SL]]<UIoptions!$T$13),1,0)","v":0},{"$f":"IF(UIoptions!$N$35=1,IF(AND(PCdb[[#This Row],[SQ_SZ]]>UIoptions!$S$15,PCdb[[#This Row],[SQ_SZ]]<UIoptions!$T$15),1,0),1)","v":0},{"$f":"IF(UIoptions!$N$35=2,IF(AND(PCdb[[#This Row],[ROUND_D]]>UIoptions!$S$15,PCdb[[#This Row],[ROUND_D]]<UIoptions!$T$15),1,0),1)","v":1},{"$f":"IF(UIoptions!$N$75<>1,1,IF(AND(PCdb[[#This Row],[FL]]>UIoptions!$S$16,PCdb[[#This Row],[FL]]<UIoptions!$T$16),1,0))","v":0},{"$f":"IF(OR(UIoptions!$Q$18=PCdb[[#This Row],[THRU_SCREW]],UIoptions!$Q$18=\"NA\"),1,0)","v":1},{"$f":"IF(OR(UIoptions!$P$19=PCdb[[#This Row],[THREAD_SZ]],UIoptions!$P$19=\"NA\"),1,0)","v":1},{"$f":"IF(UIoptions!$N$75=1,1,IF(AND(PCdb[[#This Row],[THREAD_L]]>UIoptions!$S$17,PCdb[[#This Row],[THREAD_L]]<UIoptions!$T$17),1,0))","v":1},{"$f":"IF(SUM(PCdb[[#This Row],[BDhit]:[THREAD_Lhit]])=11,1,0)","v":0},{"$f":"CONCATENATE(PCdb[[#This Row],[BCD]],PCdb[[#This Row],[PD]],PCdb[[#This Row],[PL (MAX)]],PCdb[[#This Row],[SD]],PCdb[[#This Row],[SL]],PCdb[[#This Row],[SQ_SZ]],PCdb[[#This Row],[ROUND_D]],PCdb[[#This Row],[FL]],PCdb[[#This Row],[THRU_SCREW]],PCdb[[#This Row],[THREAD_SZ]],PCdb[[#This Row],[THREAD_L]],PCdb[[#This Row],[NBR_HOLES]])","v":"70504162560NA10M4NANA4"},{"$f":"SUM(PCdb[[#This Row],[BDhit]:[THREAD_Lhit]])","v":5}]
[140,52,40,4,14,35,61,"NA","NA","NA","M5",8,4,6,"NA","NA","NA","NA","NA","NA","NA",45.2,"NA","NA","N","B2",45,90,48.7,"NA","NA","NA","B2",45,90,"NA","NA","NA","NA","NA","NA","NA","NA","Y","D2",45,90,"NA","NA","Y","D2",45,90,{"$f":"IF(AND(PCdb[[#This Row],[BCD]]>UIoptions!$S$10,PCdb[[#This Row],[BCD]]<UIoptions!$T$10),1,0)","v":0},{"$f":"IF(AND(PCdb[[#This Row],[PD]]>UIoptions!$S$11,PCdb[[#This Row],[PD]]<UIoptions!$T$11),1,0)","v":1},{"$f":"IF(AND(UIoptions!$P$14<=PCdb[[#This Row],[PL (MAX)]],UIoptions!$P$14>UIoptions!$S$14),1,0)","v":1},{"$f":"IF(AND(PCdb[[#This Row],[SD]]>UIoptions!$S$12,PCdb[[#This Row],[SD]]<UIoptions!$T$12),1,0)","v":0},{"$f":"IF(AND(PCdb[[#This Row],[SL]]>UIoptions!$S$13,PCdb[[#This Row],[SL]]<UIoptions!$T$13),1,0)","v":0},{"$f":"IF(UIoptions!$N$35=1,IF(AND(PCdb[[#This Row],[SQ_SZ]]>UIoptions!$S$15,PCdb[[#This Row],[SQ_SZ]]<UIoptions!$T$15),1,0),1)","v":0},{"$f":"IF(UIoptions!$N$35=2,IF(AND(PCdb[[#This Row],[ROUND_D]]>UIoptions!$S$15,PCdb[[#This Row],[ROUND_D]]<UIoptions!$T$15),1,0),1)","v":1},{"$f":"IF(UIoptions!$N$75<>1,1,IF(AND(PCdb[[#This Row],[FL]]>UIoptions!$S$16,PCdb[[#This Row],[FL]]<UIoptions!$T$16),1,0))","v":0},{"$f":"IF(OR(UIoptions!$Q$18=PCdb[[#This Row],[THRU_SCREW]],UIoptions!$Q$18=\"NA\"),1,0)","v":0},{"$f":"IF(OR(UIoptions!$P$19=PCdb[[#This Row],[THREAD_SZ]],UIoptions!$P$19=\"NA\"),1,0)","v":1},{"$f":"IF(UIoptions!$N$75=1,1,IF(AND(PCdb[[#This Row],[THREAD_L]]>UIoptions!$S$17,PCdb[[#This Row],[THREAD_L]]<UIoptions!$T$17),1,0))","v":1},{"$f":"IF(SUM(PCdb[[#This Row],[BDhit]:[THREAD_Lhit]])=11,1,0)","v":0},{"$f":"CONCATENATE(PCdb[[#This Row],[BCD]],PCdb[[#This Row],[PD]],PCdb[[#This Row],[PL (MAX)]],PCdb[[#This Row],[SD]],PCdb[[#This Row],[SL]],PCdb[[#This Row],[SQ_SZ]],PCdb[[#This Row],[ROUND_D]],PCdb[[#This Row],[FL]],PCdb[[#This Row],[THRU_SCREW]],PCdb[[#This Row],[THREAD_SZ]],PCdb[[#This Row],[THREAD_L]],PCdb[[#This Row],[NBR_HOLES]])","v":"52404143561NANANAM584"},{"$f":"SUM(PCdb[[#This Row],[BDhit]:[THREAD_Lhit]])","v":5}]
[141,66.7,38.1,4,6.35,24,56.4,"NA",5,"M4","NA","NA",4,"M4",null,null,null,null,null,null,null,null,null,null,null,null,null,null,null,null,null,null,null,null,null,23,0,"Y","D",45,90,null,null,null,null,null,null,null,null,null,null,null,null,{"$f":"IF(AND(PCdb[[#This Row],[BCD]]>UIoptions!$S$10,PCdb[[#This Row],[BCD]]<UIoptions!$T$10),1,0)","v":0},{"$f":"IF(AND(PCdb[[#This Row],[PD]]>UIoptions!$S$11,PCdb[[#This Row],[PD]]<UIoptions!$T$11),1,0)","v":0},{"$f":"IF(AND(UIoptions!$P$14<=PCdb[[#This Row],[PL (MAX)]],UIoptions!$P$14>UIoptions!$S$14),1,0)","v":1},{"$f":"IF(AND(PCdb[[#This Row],[SD]]>UIoptions!$S$12,PCdb[[#This Row],[SD]]<UIoptions!$T$12),1,0)","v":0},{"$f":"IF(AND(PCdb[[#This Row],[SL]]>UIoptions!$S$13,PCdb[[#This Row],[SL]]<UIoptions!$T$13),1,0)","v":0},{"$f":"IF(UIoptions!$N$35=1,IF(AND(PCdb[[#This Row],[SQ_SZ]]>UIoptions!$S$15,PCdb[[#This Row],[SQ_SZ]]<UIoptions!$T$15),1,0),1)","v":0},{"$f":"IF(UIoptions!$N$35=2,IF(AND(PCdb[[#This Row],[ROUND_D]]>UIoptions!$S$15,PCdb[[#This Row],[ROUND_D]]<UIoptions!$T$15),1,0),1)","v":1},{"$f":"IF(UIoptions!$N$75<>1,1,IF(AND(PCdb[[#This Row],[FL]]>UIoptions!$S$16,PCdb[[#This Row],[FL]]<UIoptions!$T$16),1,0))","v":0},{"$f":"IF(OR(UIoptions!$Q$18=PCdb[[#This Row],[THRU_SCREW]],UIoptions!$Q$18=\"NA\"),1,0)","v":1},{"$f":"IF(OR(UIoptions!$P$19=PCdb[[#This Row],[THREAD_SZ]],UIoptions!$P$19=\"NA\"),1,0)","v":1},{"$f":"IF(UIoptions!$N$75=1,1,IF(AND(PCdb[[#This Row],[THREAD_L]]>UIoptions!$S$17,PCdb[[#This Row],[THREAD_L]]<UIoptions!$T$17),1,0))","v":1},{"$f":"IF(SUM(PCdb[[#This Row],[BDhit]:[THREAD_Lhit]])=11,1,0)","v":0},{"$f":"CONCATENATE(PCdb[[#This Row],[BCD]],PCdb[[#This Row],[PD]],PCdb[[#This Row],[PL (MAX)]],PCdb[[#This Row],[SD]],PCdb[[#This Row],[SL]],PCdb[[#This Row],[SQ_SZ]],PCdb[[#This Row],[ROUND_D]],PCdb[[#This Row],[FL]],PCdb[[#This Row],[THRU_SCREW]],PCdb[[#This Row],[THREAD_SZ]],PCdb[[#This Row],[THREAD_L]],PCdb[[#This Row],[NBR_HOLES]])","v":"66,738,146,352456,4NA5M4NANA4"},{"$f":"SUM(PCdb[[#This Row],[BDhit]:[THREAD_Lhit]])","v":5}]
[142,40,25,4,8,25,"NA",63,"NA","NA","M5",7,4,6,null,null,null,null,null,null,null,null,null,null,null,null,null,null,null,null,null,null,null,null,null,null,null,null,null,null,null,null,null,null,null,null,null,null,null,null,null,null,null,{"$f":"IF(AND(PCdb[[#This Row],[BCD]]>UIoptions!$S$10,PCdb[[#This Row],[BCD]]<UIoptions!$T$10),1,0)","v":0},{"$f":"IF(AND(PCdb[[#This Row],[PD]]>UIoptions!$S$11,PCdb[[#This Row],[PD]]<UIoptions!$T$11),1,0)","v":0},{"$f":"IF(AND(UIoptions!$P$14<=PCdb[[#This Row],[PL (MAX)]],UIoptions!$P$14>UIoptions!$S$14),1,0)","v":1},{"$f":"IF(AND(PCdb[[#This Row],[SD]]>UIoptions!$S$12,PCdb[[#This Row],[SD]]<UIoptions!$T$12),1,0)","v":0},{"$f":"IF(AND(PCdb[[#This Row],[SL]]>UIoptions!$S$13,PCdb[[#This Row],[SL]]<UIoptions!$T$13),1,0)","v":0},{"$f":"IF(UIoptions!$N$35=1,IF(AND(PCdb[[#This Row],[SQ_SZ]]>UIoptions!$S$15,PCdb[[#This Row],[SQ_SZ]]<UIoptions!$T$15),1,0),1)","v":0},{"$f":"IF(UIoptions!$N$35=2,IF(AND(PCdb[[#This Row],[ROUND_D]]>UIoptions!$S$15,PCdb[[#This Row],[ROUND_D]]<UIoptions!$T$15),1,0),1)","v":1},{"$f":"IF(UIoptions!$N$75<>1,1,IF(AND(PCdb[[#This Row],[FL]]>UIoptions!$S$16,PCdb[[#This Row],[FL]]<UIoptions!$T$16),1,0))","v":0},{"$f":"IF(OR(UIoptions!$Q$18=PCdb[[#This Row],[THRU_SCREW]],UIoptions!$Q$18=\"NA\"),1,0)","v":0},{"$f":"IF(OR(UIoptions!$P$19=PCdb[[#This Row],[THREAD_SZ]],UIoptions!$P$19=\"NA\"),1,0)","v":1},{"$f":"IF(UIoptions!$N$75=1,1,IF(AND(PCdb[[#This Row],[THREAD_L]]>UIoptions!$S$17,PCdb[[#This Row],[THREAD_L]]<UIoptions!$T$17),1,0))","v":1},{"$f":"IF(SUM(PCdb[[#This Row],[BDhit]:[THREAD_Lhit]])=11,1,0)","v":0},{"$f":"CONCATENATE(PCdb[[#This Row],[BCD]],PCdb[[#This Row],[PD]],PCdb[[#This Row],[PL (MAX)]],PCdb[[#This Row],[SD]],PCdb[[#This Row],[SL]],PCdb[[#This Row],[SQ_SZ]],PCdb[[#This Row],[ROUND_D]],PCdb[[#This Row],[FL]],PCdb[[#This Row],[THRU_SCREW]],PCdb[[#This Row],[THREAD_SZ]],PCdb[[#This Row],[THREAD_L]],PCdb[[#This Row],[NBR_HOLES]])","v":"40254825NA63NANAM574"},{"$f":"SUM(PCdb[[#This Row],[BDhit]:[THREAD_Lhit]])","v":4}]
[143,70,50,4,14,26,60,"NA",7,"M5","NA","NA",4,"M5",null,null,null,null,null,null,null,41.7,28,0,"Y","B",45,90,null,null,null,null,null,null,null,null,null,null,null,null,null,null,null,null,null,null,null,null,null,null,null,null,null,{"$f":"IF(AND(PCdb[[#This Row],[BCD]]>UIoptions!$S$10,PCdb[[#This Row],[BCD]]<UIoptions!$T$10),1,0)","v":0},{"$f":"IF(AND(PCdb[[#This Row],[PD]]>UIoptions!$S$11,PCdb[[#This Row],[PD]]<UIoptions!$T$11),1,0)","v":0},{"$f":"IF(AND(UIoptions!$P$14<=PCdb[[#This Row],[PL (MAX)]],UIoptions!$P$14>UIoptions!$S$14),1,0)","v":1},{"$f":"IF(AND(PCdb[[#This Row],[SD]]>UIoptions!$S$12,PCdb[[#This Row],[SD]]<UIoptions!$T$12),1,0)","v":0},{"$f":"IF(AND(PCdb[[#This Row],[SL]]>UIoptions!$S$13,PCdb[[#This Row],[SL]]<UIoptions!$T$13),1,0)","v":0},{"$f":"IF(UIoptions!$N$35=1,IF(AND(PCdb[[#This Row],[SQ_SZ]]>UIoptions!$S$15,PCdb[[#This Row],[SQ_SZ]]<UIoptions!$T$15),1,0),1)","v":0},{"$f":"IF(UIoptions!$N$35=2,IF(AND(PCdb[[#This Row],[ROUND_D]]>UIoptions!$S$15,PCdb[[#This Row],[ROUND_D]]<UIoptions!$T$15),1,0),1)","v":1},{"$f":"IF(UIoptions!$N$75<>1,1,IF(AND(PCdb[[#This Row],[FL]]>UIoptions!$S$16,PCdb[[#This Row],[FL]]<UIoptions!$T$16),1,0))","v":1},{"$f":"IF(OR(UIoptions!$Q$18=PCdb[[#This Row],[THRU_SCREW]],UIoptions!$Q$18=\"NA\"),1,0)","v":0},{"$f":"IF(OR(UIoptions!$P$19=PCdb[[#This Row],[THREAD_SZ]],UIoptions!$P$19=\"NA\"),1,0)","v":1},{"$f":"IF(UIoptions!$N$75=1,1,IF(AND(PCdb[[#This Row],[THREAD_L]]>UIoptions!$S$17,PCdb[[#This Row],[THREAD_L]]<UIoptions!$T$17),1,0))","v":1},{"$f":"IF(SUM(PCdb[[#This Row],[BDhit]:[THREAD_Lhit]])=11,1,0)","v":0},{"$f":"CONCATENATE(PCdb[[#This Row],[BCD]],PCdb[[#This Row],[PD]],PCdb[[#This Row],[PL (MAX)]],PCdb[[#This Row],[SD]],PCdb[[#This Row],[SL]],PCdb[[#This Row],[SQ_SZ]],PCdb[[#This Row],[ROUND_D]],PCdb[[#This Row],[FL]],PCdb[[#This Row],[THRU_SCREW]],PCdb[[#This Row],[THREAD_SZ]],PCdb[[#This Row],[THREAD_L]],PCdb[[#This Row],[NBR_HOLES]])","v":"70504142660NA7M5NANA4"},{"$f":"SUM(PCdb[[#This Row],[BDhit]:[THREAD_Lhit]])","v":5}]
[144,52,40,4,14,35,60,"NA","NA","NA","M5",10,4,6,null,null,null,null,null,null,null,null,null,null,null,null,null,null,null,null,null,null,null,null,null,null,null,null,null,null,null,null,null,null,null,null,null,"NA","NA","N/Y","D2",45,90,{"$f":"IF(AND(PCdb[[#This Row],[BCD]]>UIoptions!$S$10,PCdb[[#This Row],[BCD]]<UIoptions!$T$10),1,0)","v":0},{"$f":"IF(AND(PCdb[[#This Row],[PD]]>UIoptions!$S$11,PCdb[[#This Row],[PD]]<UIoptions!$T$11),1,0)","v":1},{"$f":"IF(AND(UIoptions!$P$14<=PCdb[[#This Row],[PL (MAX)]],UIoptions!$P$14>UIoptions!$S$14),1,0)","v":1},{"$f":"IF(AND(PCdb[[#This Row],[SD]]>UIoptions!$S$12,PCdb[[#This Row],[SD]]<UIoptions!$T$12),1,0)","v":0},{"$f":"IF(AND(PCdb[[#This Row],[SL]]>UIoptions!$S$13,PCdb[[#This Row],[SL]]<UIoptions!$T$13),1,0)","v":0},{"$f":"IF(UIoptions!$N$35=1,IF(AND(PCdb[[#This Row],[SQ_SZ]]>UIoptions!$S$15,PCdb[[#This Row],[SQ_SZ]]<UIoptions!$T$15),1,0),1)","v":0},{"$f":"IF(UIoptions!$N$35=2,IF(AND(PCdb[[#This Row],[ROUND_D]]>UIoptions!$S$15,PCdb[[#This Row],[ROUND_D]]<UIoptions!$T$15),1,0),1)","v":1},{"$f":"IF(UIoptions!$N$75<>1,1,IF(AND(PCdb[[#This Row],[FL]]>UIoptions!$S$16,PCdb[[#This Row],[FL]]<UIoptions!$T$16),1,0))","v":0},{"$f":"IF(OR(UIoptions!$Q$18=PCdb[[#This Row],[THRU_SCREW]],UIoptions!$Q$18=\"NA\"),1,0)","v":0},{"$f":"IF(OR(UIoptions!$P$19=PCdb[[#This Row],[THREAD_SZ]],UIoptions!$P$19=\"NA\"),1,0)","v":1},{"$f":"IF(UIoptions!$N$75=1,1,IF(AND(PCdb[[#This Row],[THREAD_L]]>UIoptions!$S$17,PCdb[[#This Row],[THREAD_L]]<UIoptions!$T$17),1,0))","v":1},{"$f":"IF(SUM(PCdb[[#This Row],[BDhit]:[THREAD_Lhit]])=11,1,0)","v":0},{"$f":"CONCATENATE(PCdb[[#This Row],[BCD]],PCdb[[#This Row],[PD]],PCdb[[#This Row],[PL (MAX)]],PCdb[[#This Row],[SD]],PCdb[[#This Row],[SL]],PCdb[[#This Row],[SQ_SZ]],PCdb[[#This Row],[ROUND_D]],PCdb[[#This Row],[FL]],PCdb[[#This Row],[THRU_SCREW]],PCdb[[#This Row],[THREAD_SZ]],PCdb[[#This Row],[THREAD_L]],PCdb[[#This Row],[NBR_HOLES]])","v":"52404143560NANANAM5104"},{"$f":"SUM(PCdb[[#This Row],[BDhit]:[THREAD_Lhit]])","v":5}]
[145,66.7,38.1,4,9.5299999999999994,30.7,57.7,"NA",7.5,"M4","NA","NA",4,"M4",null,null,null,null,null,null,null,41.7,26,0,"Y","B",45,90,null,null,null,null,null,null,null,null,null,null,null,null,null,23,0,"Y","C",45,90,null,null,null,null,null,null,{"$f":"IF(AND(PCdb[[#This Row],[BCD]]>UIoptions!$S$10,PCdb[[#This Row],[BCD]]<UIoptions!$T$10),1,0)","v":0},{"$f":"IF(AND(PCdb[[#This Row],[PD]]>UIoptions!$S$11,PCdb[[#This Row],[PD]]<UIoptions!$T$11),1,0)","v":0},{"$f":"IF(AND(UIoptions!$P$14<=PCdb[[#This Row],[PL (MAX)]],UIoptions!$P$14>UIoptions!$S$14),1,0)","v":1},{"$f":"IF(AND(PCdb[[#This Row],[SD]]>UIoptions!$S$12,PCdb[[#This Row],[SD]]<UIoptions!$T$12),1,0)","v":0},{"$f":"IF(AND(PCdb[[#This Row],[SL]]>UIoptions!$S$13,PCdb[[#This Row],[SL]]<UIoptions!$T$13),1,0)","v":0},{"$f":"IF(UIoptions!$N$35=1,IF(AND(PCdb[[#This Row],[SQ_SZ]]>UIoptions!$S$15,PCdb[[#This Row],[SQ_SZ]]<UIoptions!$T$15),1,0),1)","v":0},{"$f":"IF(UIoptions!$N$35=2,IF(AND(PCdb[[#This Row],[ROUND_D]]>UIoptions!$S$15,PCdb[[#This Row],[ROUND_D]]<UIoptions!$T$15),1,0),1)","v":1},{"$f":"IF(UIoptions!$N$75<>1,1,IF(AND(PCdb[[#This Row],[FL]]>UIoptions!$S$16,PCdb[[#This Row],[FL]]<UIoptions!$T$16),1,0))","v":0},{"$f":"IF(OR(UIoptions!$Q$18=PCdb[[#This Row],[THRU_SCREW]],UIoptions!$Q$18=\"NA\"),1,0)","v":1},{"$f":"IF(OR(UIoptions!$P$19=PCdb[[#This Row],[THREAD_SZ]],UIoptions!$P$19=\"NA\"),1,0)","v":1},{"$f":"IF(UIoptions!$N$75=1,1,IF(AND(PCdb[[#This Row],[THREAD_L]]>UIoptions!$S$17,PCdb[[#This Row],[THREAD_L]]<UIoptions!$T$17),1,0))","v":1},{"$f":"IF(SUM(PCdb[[#This Row],[BDhit]:[THREAD_Lhit]])=11,1,0)","v":0},{"$f":"CONCATENATE(PCdb[[#This Row],[BCD]],PCdb[[#This Row],[PD]],PCdb[[#This Row],[PL (MAX)]],PCdb[[#This Row],[SD]],PCdb[[#This Row],[SL]],PCdb[[#This Row],[SQ_SZ]],PCdb[[#This Row],[ROUND_D]],PCdb[[#This Row],[FL]],PCdb[[#This Row],[THRU_SCREW]],PCdb[[#This Row],[THREAD_SZ]],PCdb[[#This Row],[THREAD_L]],PCdb[[#This Row],[NBR_HOLES]])","v":"66,738,149,5330,757,7NA7,5M4NANA4"},{"$f":"SUM(PCdb[[#This Row],[BDhit]:[THREAD_Lhit]])","v":5}]
[146,70,50,4,14,30,60,"NA",8,"M5","NA","NA",4,"M5",null,null,null,null,null,null,null,null,null,null,null,null,null,null,null,null,null,null,null,null,null,null,null,null,null,null,null,27,0,"Y","C",45,90,28,"NA","Y","C",45,90,{"$f":"IF(AND(PCdb[[#This Row],[BCD]]>UIoptions!$S$10,PCdb[[#This Row],[BCD]]<UIoptions!$T$10),1,0)","v":0},{"$f":"IF(AND(PCdb[[#This Row],[PD]]>UIoptions!$S$11,PCdb[[#This Row],[PD]]<UIoptions!$T$11),1,0)","v":0},{"$f":"IF(AND(UIoptions!$P$14<=PCdb[[#This Row],[PL (MAX)]],UIoptions!$P$14>UIoptions!$S$14),1,0)","v":1},{"$f":"IF(AND(PCdb[[#This Row],[SD]]>UIoptions!$S$12,PCdb[[#This Row],[SD]]<UIoptions!$T$12),1,0)","v":0},{"$f":"IF(AND(PCdb[[#This Row],[SL]]>UIoptions!$S$13,PCdb[[#This Row],[SL]]<UIoptions!$T$13),1,0)","v":0},{"$f":"IF(UIoptions!$N$35=1,IF(AND(PCdb[[#This Row],[SQ_SZ]]>UIoptions!$S$15,PCdb[[#This Row],[SQ_SZ]]<UIoptions!$T$15),1,0),1)","v":0},{"$f":"IF(UIoptions!$N$35=2,IF(AND(PCdb[[#This Row],[ROUND_D]]>UIoptions!$S$15,PCdb[[#This Row],[ROUND_D]]<UIoptions!$T$15),1,0),1)","v":1},{"$f":"IF(UIoptions!$N$75<>1,1,IF(AND(PCdb[[#This Row],[FL]]>UIoptions!$S$16,PCdb[[#This Row],[FL]]<UIoptions!$T$16),1,0))","v":0},{"$f":"IF(OR(UIoptions!$Q$18=PCdb[[#This Row],[THRU_SCREW]],UIoptions!$Q$18=\"NA\"),1,0)","v":0},{"$f":"IF(OR(UIoptions!$P$19=PCdb[[#This Row],[THREAD_SZ]],UIoptions!$P$19=\"NA\"),1,0)","v":1},{"$f":"IF(UIoptions!$N$75=1,1,IF(AND(PCdb[[#This Row],[THREAD_L]]>UIoptions!$S$17,PCdb[[#This Row],[THREAD_L]]<UIoptions!$T$17),1,0))","v":1},{"$f":"IF(SUM(PCdb[[#This Row],[BDhit]:[THREAD_Lhit]])=11,1,0)","v":0},{"$f":"CONCATENATE(PCdb[[#This Row],[BCD]],PCdb[[#This Row],[PD]],PCdb[[#This Row],[PL (MAX)]],PCdb[[#This Row],[SD]],PCdb[[#This Row],[SL]],PCdb[[#This Row],[SQ_SZ]],PCdb[[#This Row],[ROUND_D]],PCdb[[#This Row],[FL]],PCdb[[#This Row],[THRU_SCREW]],PCdb[[#This Row],[THREAD_SZ]],PCdb[[#This Row],[THREAD_L]],PCdb[[#This Row],[NBR_HOLES]])","v":"70504143060NA8M5NANA4"},{"$f":"SUM(PCdb[[#This Row],[BDhit]:[THREAD_Lhit]])","v":4}]
[147,66.7,38.1,4,6.35,20.6,56.4,"NA",4.8,"M4","NA","NA",4,"M4",38.700000000000003,25,0,"Y","B",45,90,45.2,26,"NA","Y","B",45,90,null,null,null,null,null,null,null,null,null,null,null,null,null,null,null,null,null,null,null,null,null,null,null,null,null,{"$f":"IF(AND(PCdb[[#This Row],[BCD]]>UIoptions!$S$10,PCdb[[#This Row],[BCD]]<UIoptions!$T$10),1,0)","v":0},{"$f":"IF(AND(PCdb[[#This Row],[PD]]>UIoptions!$S$11,PCdb[[#This Row],[PD]]<UIoptions!$T$11),1,0)","v":0},{"$f":"IF(AND(UIoptions!$P$14<=PCdb[[#This Row],[PL (MAX)]],UIoptions!$P$14>UIoptions!$S$14),1,0)","v":1},{"$f":"IF(AND(PCdb[[#This Row],[SD]]>UIoptions!$S$12,PCdb[[#This Row],[SD]]<UIoptions!$T$12),1,0)","v":0},{"$f":"IF(AND(PCdb[[#This Row],[SL]]>UIoptions!$S$13,PCdb[[#This Row],[SL]]<UIoptions!$T$13),1,0)","v":0},{"$f":"IF(UIoptions!$N$35=1,IF(AND(PCdb[[#This Row],[SQ_SZ]]>UIoptions!$S$15,PCdb[[#This Row],[SQ_SZ]]<UIoptions!$T$15),1,0),1)","v":0},{"$f":"IF(UIoptions!$N$35=2,IF(AND(PCdb[[#This Row],[ROUND_D]]>UIoptions!$S$15,PCdb[[#This Row],[ROUND_D]]<UIoptions!$T$15),1,0),1)","v":1},{"$f":"IF(UIoptions!$N$75<>1,1,IF(AND(PCdb[[#This Row],[FL]]>UIoptions!$S$16,PCdb[[#This Row],[FL]]<UIoptions!$T$16),1,0))","v":0},{"$f":"IF(OR(UIoptions!$Q$18=PCdb[[#This Row],[THRU_SCREW]],UIoptions!$Q$18=\"NA\"),1,0)","v":1},{"$f":"IF(OR(UIoptions!$P$19=PCdb[[#This Row],[THREAD_SZ]],UIoptions!$P$19=\"NA\"),1,0)","v":1},{"$f":"IF(UIoptions!$N$75=1,1,IF(AND(PCdb[[#This Row],[THREAD_L]]>UIoptions!$S$17,PCdb[[#This Row],[THREAD_L]]<UIoptions!$T$17),1,0))","v":1},{"$f":"IF(SUM(PCdb[[#This Row],[BDhit]:[THREAD_Lhit]])=11,1,0)","v":0},{"$f":"CONCATENATE(PCdb[[#This Row],[BCD]],PCdb[[#This Row],[PD]],PCdb[[#This Row],[PL (MAX)]],PCdb[[#This Row],[SD]],PCdb[[#This Row],[SL]],PCdb[[#This Row],[SQ_SZ]],PCdb[[#This Row],[ROUND_D]],PCdb[[#This Row],[FL]],PCdb[[#This Row],[THRU_SCREW]],PCdb[[#This Row],[THREAD_SZ]],PCdb[[#This Row],[THREAD_L]],PCdb[[#This Row],[NBR_HOLES]])","v":"66,738,146,3520,656,4NA4,8M4NANA4"},{"$f":"SUM(PCdb[[#This Row],[BDhit]:[THREAD_Lhit]])","v":5}]
[148,100,80,4,14,30,86,"NA",11,"M6","NA","NA",4,"M6",null,null,null,null,null,null,null,null,null,null,null,null,null,null,null,null,null,null,null,null,null,null,null,null,null,null,null,null,null,null,null,null,null,"41.2",0,"Y","D",45,90,{"$f":"IF(AND(PCdb[[#This Row],[BCD]]>UIoptions!$S$10,PCdb[[#This Row],[BCD]]<UIoptions!$T$10),1,0)","v":0},{"$f":"IF(AND(PCdb[[#This Row],[PD]]>UIoptions!$S$11,PCdb[[#This Row],[PD]]<UIoptions!$T$11),1,0)","v":0},{"$f":"IF(AND(UIoptions!$P$14<=PCdb[[#This Row],[PL (MAX)]],UIoptions!$P$14>UIoptions!$S$14),1,0)","v":1},{"$f":"IF(AND(PCdb[[#This Row],[SD]]>UIoptions!$S$12,PCdb[[#This Row],[SD]]<UIoptions!$T$12),1,0)","v":0},{"$f":"IF(AND(PCdb[[#This Row],[SL]]>UIoptions!$S$13,PCdb[[#This Row],[SL]]<UIoptions!$T$13),1,0)","v":0},{"$f":"IF(UIoptions!$N$35=1,IF(AND(PCdb[[#This Row],[SQ_SZ]]>UIoptions!$S$15,PCdb[[#This Row],[SQ_SZ]]<UIoptions!$T$15),1,0),1)","v":0},{"$f":"IF(UIoptions!$N$35=2,IF(AND(PCdb[[#This Row],[ROUND_D]]>UIoptions!$S$15,PCdb[[#This Row],[ROUND_D]]<UIoptions!$T$15),1,0),1)","v":1},{"$f":"IF(UIoptions!$N$75<>1,1,IF(AND(PCdb[[#This Row],[FL]]>UIoptions!$S$16,PCdb[[#This Row],[FL]]<UIoptions!$T$16),1,0))","v":0},{"$f":"IF(OR(UIoptions!$Q$18=PCdb[[#This Row],[THRU_SCREW]],UIoptions!$Q$18=\"NA\"),1,0)","v":0},{"$f":"IF(OR(UIoptions!$P$19=PCdb[[#This Row],[THREAD_SZ]],UIoptions!$P$19=\"NA\"),1,0)","v":1},{"$f":"IF(UIoptions!$N$75=1,1,IF(AND(PCdb[[#This Row],[THREAD_L]]>UIoptions!$S$17,PCdb[[#This Row],[THREAD_L]]<UIoptions!$T$17),1,0))","v":1},{"$f":"IF(SUM(PCdb[[#This Row],[BDhit]:[THREAD_Lhit]])=11,1,0)","v":0},{"$f":"CONCATENATE(PCdb[[#This Row],[BCD]],PCdb[[#This Row],[PD]],PCdb[[#This Row],[PL (MAX)]],PCdb[[#This Row],[SD]],PCdb[[#This Row],[SL]],PCdb[[#This Row],[SQ_SZ]],PCdb[[#This Row],[ROUND_D]],PCdb[[#This Row],[FL]],PCdb[[#This Row],[THRU_SCREW]],PCdb[[#This Row],[THREAD_SZ]],PCdb[[#This Row],[THREAD_L]],PCdb[[#This Row],[NBR_HOLES]])","v":"100804143086NA11M6NANA4"},{"$f":"SUM(PCdb[[#This Row],[BDhit]:[THREAD_Lhit]])","v":4}]
[149,63,40,4,9,20,58,"NA",7,"M5","NA","NA",4,"M5",38.700000000000003,23,"NA","Y","B",45,90,45.2,26,0,"Y","B",45,90,null,null,null,null,null,null,null,22,0,"Y","D",45,90,25,"NA","Y","C",45,90,null,null,null,null,null,null,{"$f":"IF(AND(PCdb[[#This Row],[BCD]]>UIoptions!$S$10,PCdb[[#This Row],[BCD]]<UIoptions!$T$10),1,0)","v":1},{"$f":"IF(AND(PCdb[[#This Row],[PD]]>UIoptions!$S$11,PCdb[[#This Row],[PD]]<UIoptions!$T$11),1,0)","v":1},{"$f":"IF(AND(UIoptions!$P$14<=PCdb[[#This Row],[PL (MAX)]],UIoptions!$P$14>UIoptions!$S$14),1,0)","v":1},{"$f":"IF(AND(PCdb[[#This Row],[SD]]>UIoptions!$S$12,PCdb[[#This Row],[SD]]<UIoptions!$T$12),1,0)","v":0},{"$f":"IF(AND(PCdb[[#This Row],[SL]]>UIoptions!$S$13,PCdb[[#This Row],[SL]]<UIoptions!$T$13),1,0)","v":1},{"$f":"IF(UIoptions!$N$35=1,IF(AND(PCdb[[#This Row],[SQ_SZ]]>UIoptions!$S$15,PCdb[[#This Row],[SQ_SZ]]<UIoptions!$T$15),1,0),1)","v":1},{"$f":"IF(UIoptions!$N$35=2,IF(AND(PCdb[[#This Row],[ROUND_D]]>UIoptions!$S$15,PCdb[[#This Row],[ROUND_D]]<UIoptions!$T$15),1,0),1)","v":1},{"$f":"IF(UIoptions!$N$75<>1,1,IF(AND(PCdb[[#This Row],[FL]]>UIoptions!$S$16,PCdb[[#This Row],[FL]]<UIoptions!$T$16),1,0))","v":1},{"$f":"IF(OR(UIoptions!$Q$18=PCdb[[#This Row],[THRU_SCREW]],UIoptions!$Q$18=\"NA\"),1,0)","v":0},{"$f":"IF(OR(UIoptions!$P$19=PCdb[[#This Row],[THREAD_SZ]],UIoptions!$P$19=\"NA\"),1,0)","v":1},{"$f":"IF(UIoptions!$N$75=1,1,IF(AND(PCdb[[#This Row],[THREAD_L]]>UIoptions!$S$17,PCdb[[#This Row],[THREAD_L]]<UIoptions!$T$17),1,0))","v":1},{"$f":"IF(SUM(PCdb[[#This Row],[BDhit]:[THREAD_Lhit]])=11,1,0)","v":0},{"$f":"CONCATENATE(PCdb[[#This Row],[BCD]],PCdb[[#This Row],[PD]],PCdb[[#This Row],[PL (MAX)]],PCdb[[#This Row],[SD]],PCdb[[#This Row],[SL]],PCdb[[#This Row],[SQ_SZ]],PCdb[[#This Row],[ROUND_D]],PCdb[[#This Row],[FL]],PCdb[[#This Row],[THRU_SCREW]],PCdb[[#This Row],[THREAD_SZ]],PCdb[[#This Row],[THREAD_L]],PCdb[[#This Row],[NBR_HOLES]])","v":"6340492058NA7M5NANA4"},{"$f":"SUM(PCdb[[#This Row],[BDhit]:[THREAD_Lhit]])","v":9}]
[150,66.7,38.1,4,9.5299999999999994,20.6,57.2,"NA",7.9,"M4","NA","NA",4,"M4",null,null,null,null,null,null,null,45.2,"NA","NA","N","B",45,90,null,null,null,null,null,null,null,null,null,null,null,null,null,null,null,null,null,null,null,null,null,null,null,null,null,{"$f":"IF(AND(PCdb[[#This Row],[BCD]]>UIoptions!$S$10,PCdb[[#This Row],[BCD]]<UIoptions!$T$10),1,0)","v":0},{"$f":"IF(AND(PCdb[[#This Row],[PD]]>UIoptions!$S$11,PCdb[[#This Row],[PD]]<UIoptions!$T$11),1,0)","v":0},{"$f":"IF(AND(UIoptions!$P$14<=PCdb[[#This Row],[PL (MAX)]],UIoptions!$P$14>UIoptions!$S$14),1,0)","v":1},{"$f":"IF(AND(PCdb[[#This Row],[SD]]>UIoptions!$S$12,PCdb[[#This Row],[SD]]<UIoptions!$T$12),1,0)","v":0},{"$f":"IF(AND(PCdb[[#This Row],[SL]]>UIoptions!$S$13,PCdb[[#This Row],[SL]]<UIoptions!$T$13),1,0)","v":0},{"$f":"IF(UIoptions!$N$35=1,IF(AND(PCdb[[#This Row],[SQ_SZ]]>UIoptions!$S$15,PCdb[[#This Row],[SQ_SZ]]<UIoptions!$T$15),1,0),1)","v":0},{"$f":"IF(UIoptions!$N$35=2,IF(AND(PCdb[[#This Row],[ROUND_D]]>UIoptions!$S$15,PCdb[[#This Row],[ROUND_D]]<UIoptions!$T$15),1,0),1)","v":1},{"$f":"IF(UIoptions!$N$75<>1,1,IF(AND(PCdb[[#This Row],[FL]]>UIoptions!$S$16,PCdb[[#This Row],[FL]]<UIoptions!$T$16),1,0))","v":0},{"$f":"IF(OR(UIoptions!$Q$18=PCdb[[#This Row],[THRU_SCREW]],UIoptions!$Q$18=\"NA\"),1,0)","v":1},{"$f":"IF(OR(UIoptions!$P$19=PCdb[[#This Row],[THREAD_SZ]],UIoptions!$P$19=\"NA\"),1,0)","v":1},{"$f":"IF(UIoptions!$N$75=1,1,IF(AND(PCdb[[#This Row],[THREAD_L]]>UIoptions!$S$17,PCdb[[#This Row],[THREAD_L]]<UIoptions!$T$17),1,0))","v":1},{"$f":"IF(SUM(PCdb[[#This Row],[BDhit]:[THREAD_Lhit]])=11,1,0)","v":0},{"$f":"CONCATENATE(PCdb[[#This Row],[BCD]],PCdb[[#This Row],[PD]],PCdb[[#This Row],[PL (MAX)]],PCdb[[#This Row],[SD]],PCdb[[#This Row],[SL]],PCdb[[#This Row],[SQ_SZ]],PCdb[[#This Row],[ROUND_D]],PCdb[[#This Row],[FL]],PCdb[[#This Row],[THRU_SCREW]],PCdb[[#This Row],[THREAD_SZ]],PCdb[[#This Row],[THREAD_L]],PCdb[[#This Row],[NBR_HOLES]])","v":"66,738,149,5320,657,2NA7,9M4NANA4"},{"$f":"SUM(PCdb[[#This Row],[BDhit]:[THREAD_Lhit]])","v":5}]
[151,68,60,18,16,48,65,"NA",8,"M5","NA","NA",4,"M5",null,null,null,null,null,null,null,null,null,null,null,null,null,null,null,null,null,null,null,null,null,null,null,null,null,null,null,null,null,null,null,null,null,null,null,null,null,null,null,{"$f":"IF(AND(PCdb[[#This Row],[BCD]]>UIoptions!$S$10,PCdb[[#This Row],[BCD]]<UIoptions!$T$10),1,0)","v":0},{"$f":"IF(AND(PCdb[[#This Row],[PD]]>UIoptions!$S$11,PCdb[[#This Row],[PD]]<UIoptions!$T$11),1,0)","v":0},{"$f":"IF(AND(UIoptions!$P$14<=PCdb[[#This Row],[PL (MAX)]],UIoptions!$P$14>UIoptions!$S$14),1,0)","v":1},{"$f":"IF(AND(PCdb[[#This Row],[SD]]>UIoptions!$S$12,PCdb[[#This Row],[SD]]<UIoptions!$T$12),1,0)","v":0},{"$f":"IF(AND(PCdb[[#This Row],[SL]]>UIoptions!$S$13,PCdb[[#This Row],[SL]]<UIoptions!$T$13),1,0)","v":0},{"$f":"IF(UIoptions!$N$35=1,IF(AND(PCdb[[#This Row],[SQ_SZ]]>UIoptions!$S$15,PCdb[[#This Row],[SQ_SZ]]<UIoptions!$T$15),1,0),1)","v":0},{"$f":"IF(UIoptions!$N$35=2,IF(AND(PCdb[[#This Row],[ROUND_D]]>UIoptions!$S$15,PCdb[[#This Row],[ROUND_D]]<UIoptions!$T$15),1,0),1)","v":1},{"$f":"IF(UIoptions!$N$75<>1,1,IF(AND(PCdb[[#This Row],[FL]]>UIoptions!$S$16,PCdb[[#This Row],[FL]]<UIoptions!$T$16),1,0))","v":0},{"$f":"IF(OR(UIoptions!$Q$18=PCdb[[#This Row],[THRU_SCREW]],UIoptions!$Q$18=\"NA\"),1,0)","v":0},{"$f":"IF(OR(UIoptions!$P$19=PCdb[[#This Row],[THREAD_SZ]],UIoptions!$P$19=\"NA\"),1,0)","v":1},{"$f":"IF(UIoptions!$N$75=1,1,IF(AND(PCdb[[#This Row],[THREAD_L]]>UIoptions!$S$17,PCdb[[#This Row],[THREAD_L]]<UIoptions!$T$17),1,0))","v":1},{"$f":"IF(SUM(PCdb[[#This Row],[BDhit]:[THREAD_Lhit]])=11,1,0)","v":0},{"$f":"CONCATENATE(PCdb[[#This Row],[BCD]],PCdb[[#This Row],[PD]],PCdb[[#This Row],[PL (MAX)]],PCdb[[#This Row],[SD]],PCdb[[#This Row],[SL]],PCdb[[#This Row],[SQ_SZ]],PCdb[[#This Row],[ROUND_D]],PCdb[[#This Row],[FL]],PCdb[[#This Row],[THRU_SCREW]],PCdb[[#This Row],[THREAD_SZ]],PCdb[[#This Row],[THREAD_L]],PCdb[[#This Row],[NBR_HOLES]])","v":"686018164865NA8M5NANA4"},{"$f":"SUM(PCdb[[#This Row],[BDhit]:[THREAD_Lhit]])","v":4}]
[152,100,80,4,14,30,82,"NA",10,"M6","NA","NA",4,"M6","NA","NA","NA","NA","NA","NA","NA","NA","NA","NA","NA","NA","NA","NA",null,null,null,null,null,null,null,"NA","NA","NA","NA","NA","NA","NA","NA","NA","NA","NA","NA","NA","NA","N","D",45,90,{"$f":"IF(AND(PCdb[[#This Row],[BCD]]>UIoptions!$S$10,PCdb[[#This Row],[BCD]]<UIoptions!$T$10),1,0)","v":0},{"$f":"IF(AND(PCdb[[#This Row],[PD]]>UIoptions!$S$11,PCdb[[#This Row],[PD]]<UIoptions!$T$11),1,0)","v":0},{"$f":"IF(AND(UIoptions!$P$14<=PCdb[[#This Row],[PL (MAX)]],UIoptions!$P$14>UIoptions!$S$14),1,0)","v":1},{"$f":"IF(AND(PCdb[[#This Row],[SD]]>UIoptions!$S$12,PCdb[[#This Row],[SD]]<UIoptions!$T$12),1,0)","v":0},{"$f":"IF(AND(PCdb[[#This Row],[SL]]>UIoptions!$S$13,PCdb[[#This Row],[SL]]<UIoptions!$T$13),1,0)","v":0},{"$f":"IF(UIoptions!$N$35=1,IF(AND(PCdb[[#This Row],[SQ_SZ]]>UIoptions!$S$15,PCdb[[#This Row],[SQ_SZ]]<UIoptions!$T$15),1,0),1)","v":0},{"$f":"IF(UIoptions!$N$35=2,IF(AND(PCdb[[#This Row],[ROUND_D]]>UIoptions!$S$15,PCdb[[#This Row],[ROUND_D]]<UIoptions!$T$15),1,0),1)","v":1},{"$f":"IF(UIoptions!$N$75<>1,1,IF(AND(PCdb[[#This Row],[FL]]>UIoptions!$S$16,PCdb[[#This Row],[FL]]<UIoptions!$T$16),1,0))","v":0},{"$f":"IF(OR(UIoptions!$Q$18=PCdb[[#This Row],[THRU_SCREW]],UIoptions!$Q$18=\"NA\"),1,0)","v":0},{"$f":"IF(OR(UIoptions!$P$19=PCdb[[#This Row],[THREAD_SZ]],UIoptions!$P$19=\"NA\"),1,0)","v":1},{"$f":"IF(UIoptions!$N$75=1,1,IF(AND(PCdb[[#This Row],[THREAD_L]]>UIoptions!$S$17,PCdb[[#This Row],[THREAD_L]]<UIoptions!$T$17),1,0))","v":1},{"$f":"IF(SUM(PCdb[[#This Row],[BDhit]:[THREAD_Lhit]])=11,1,0)","v":0},{"$f":"CONCATENATE(PCdb[[#This Row],[BCD]],PCdb[[#This Row],[PD]],PCdb[[#This Row],[PL (MAX)]],PCdb[[#This Row],[SD]],PCdb[[#This Row],[SL]],PCdb[[#This Row],[SQ_SZ]],PCdb[[#This Row],[ROUND_D]],PCdb[[#This Row],[FL]],PCdb[[#This Row],[THRU_SCREW]],PCdb[[#This Row],[THREAD_SZ]],PCdb[[#This Row],[THREAD_L]],PCdb[[#This Row],[NBR_HOLES]])","v":"100804143082NA10M6NANA4"},{"$f":"SUM(PCdb[[#This Row],[BDhit]:[THREAD_Lhit]])","v":4}]
[153,43.8,22,4,5,23.9,42.2,"NA","NA","NA","M3",3.8,4,4,36.200000000000003,"NA","NA","Y","B2",45,90,null,null,null,null,null,null,null,null,null,null,null,null,null,null,"NA","NA","Y","D2",45,90,null,null,null,null,null,null,null,null,null,null,null,null,{"$f":"IF(AND(PCdb[[#This Row],[BCD]]>UIoptions!$S$10,PCdb[[#This Row],[BCD]]<UIoptions!$T$10),1,0)","v":0},{"$f":"IF(AND(PCdb[[#This Row],[PD]]>UIoptions!$S$11,PCdb[[#This Row],[PD]]<UIoptions!$T$11),1,0)","v":0},{"$f":"IF(AND(UIoptions!$P$14<=PCdb[[#This Row],[PL (MAX)]],UIoptions!$P$14>UIoptions!$S$14),1,0)","v":1},{"$f":"IF(AND(PCdb[[#This Row],[SD]]>UIoptions!$S$12,PCdb[[#This Row],[SD]]<UIoptions!$T$12),1,0)","v":0},{"$f":"IF(AND(PCdb[[#This Row],[SL]]>UIoptions!$S$13,PCdb[[#This Row],[SL]]<UIoptions!$T$13),1,0)","v":0},{"$f":"IF(UIoptions!$N$35=1,IF(AND(PCdb[[#This Row],[SQ_SZ]]>UIoptions!$S$15,PCdb[[#This Row],[SQ_SZ]]<UIoptions!$T$15),1,0),1)","v":0},{"$f":"IF(UIoptions!$N$35=2,IF(AND(PCdb[[#This Row],[ROUND_D]]>UIoptions!$S$15,PCdb[[#This Row],[ROUND_D]]<UIoptions!$T$15),1,0),1)","v":1},{"$f":"IF(UIoptions!$N$75<>1,1,IF(AND(PCdb[[#This Row],[FL]]>UIoptions!$S$16,PCdb[[#This Row],[FL]]<UIoptions!$T$16),1,0))","v":0},{"$f":"IF(OR(UIoptions!$Q$18=PCdb[[#This Row],[THRU_SCREW]],UIoptions!$Q$18=\"NA\"),1,0)","v":0},{"$f":"IF(OR(UIoptions!$P$19=PCdb[[#This Row],[THREAD_SZ]],UIoptions!$P$19=\"NA\"),1,0)","v":1},{"$f":"IF(UIoptions!$N$75=1,1,IF(AND(PCdb[[#This Row],[THREAD_L]]>UIoptions!$S$17,PCdb[[#This Row],[THREAD_L]]<UIoptions!$T$17),1,0))","v":1},{"$f":"IF(SUM(PCdb[[#This Row],[BDhit]:[THREAD_Lhit]])=11,1,0)","v":0},{"$f":"CONCATENATE(PCdb[[#This Row],[BCD]],PCdb[[#This Row],[PD]],PCdb[[#This Row],[PL (MAX)]],PCdb[[#This Row],[SD]],PCdb[[#This Row],[SL]],PCdb[[#This Row],[SQ_SZ]],PCdb[[#This Row],[ROUND_D]],PCdb[[#This Row],[FL]],PCdb[[#This Row],[THRU_SCREW]],PCdb[[#This Row],[THREAD_SZ]],PCdb[[#This Row],[THREAD_L]],PCdb[[#This Row],[NBR_HOLES]])","v":"43,8224523,942,2NANANAM33,84"},{"$f":"SUM(PCdb[[#This Row],[BDhit]:[THREAD_Lhit]])","v":4}]
[154,66.7,38.1,4,8,20.6,60.5,"NA",7,"M4","NA","NA",4,"M4",38.700000000000003,22,0,"Y","B",45,90,null,null,null,null,null,null,null,null,null,null,null,null,null,null,23,0,"Y","D",45,90,null,null,null,null,null,null,null,null,null,null,null,null,{"$f":"IF(AND(PCdb[[#This Row],[BCD]]>UIoptions!$S$10,PCdb[[#This Row],[BCD]]<UIoptions!$T$10),1,0)","v":0},{"$f":"IF(AND(PCdb[[#This Row],[PD]]>UIoptions!$S$11,PCdb[[#This Row],[PD]]<UIoptions!$T$11),1,0)","v":0},{"$f":"IF(AND(UIoptions!$P$14<=PCdb[[#This Row],[PL (MAX)]],UIoptions!$P$14>UIoptions!$S$14),1,0)","v":1},{"$f":"IF(AND(PCdb[[#This Row],[SD]]>UIoptions!$S$12,PCdb[[#This Row],[SD]]<UIoptions!$T$12),1,0)","v":0},{"$f":"IF(AND(PCdb[[#This Row],[SL]]>UIoptions!$S$13,PCdb[[#This Row],[SL]]<UIoptions!$T$13),1,0)","v":0},{"$f":"IF(UIoptions!$N$35=1,IF(AND(PCdb[[#This Row],[SQ_SZ]]>UIoptions!$S$15,PCdb[[#This Row],[SQ_SZ]]<UIoptions!$T$15),1,0),1)","v":0},{"$f":"IF(UIoptions!$N$35=2,IF(AND(PCdb[[#This Row],[ROUND_D]]>UIoptions!$S$15,PCdb[[#This Row],[ROUND_D]]<UIoptions!$T$15),1,0),1)","v":1},{"$f":"IF(UIoptions!$N$75<>1,1,IF(AND(PCdb[[#This Row],[FL]]>UIoptions!$S$16,PCdb[[#This Row],[FL]]<UIoptions!$T$16),1,0))","v":1},{"$f":"IF(OR(UIoptions!$Q$18=PCdb[[#This Row],[THRU_SCREW]],UIoptions!$Q$18=\"NA\"),1,0)","v":1},{"$f":"IF(OR(UIoptions!$P$19=PCdb[[#This Row],[THREAD_SZ]],UIoptions!$P$19=\"NA\"),1,0)","v":1},{"$f":"IF(UIoptions!$N$75=1,1,IF(AND(PCdb[[#This Row],[THREAD_L]]>UIoptions!$S$17,PCdb[[#This Row],[THREAD_L]]<UIoptions!$T$17),1,0))","v":1},{"$f":"IF(SUM(PCdb[[#This Row],[BDhit]:[THREAD_Lhit]])=11,1,0)","v":0},{"$f":"CONCATENATE(PCdb[[#This Row],[BCD]],PCdb[[#This Row],[PD]],PCdb[[#This Row],[PL (MAX)]],PCdb[[#This Row],[SD]],PCdb[[#This Row],[SL]],PCdb[[#This Row],[SQ_SZ]],PCdb[[#This Row],[ROUND_D]],PCdb[[#This Row],[FL]],PCdb[[#This Row],[THRU_SCREW]],PCdb[[#This Row],[THREAD_SZ]],PCdb[[#This Row],[THREAD_L]],PCdb[[#This Row],[NBR_HOLES]])","v":"66,738,14820,660,5NA7M4NANA4"},{"$f":"SUM(PCdb[[#This Row],[BDhit]:[THREAD_Lhit]])","v":6}]
[155,66.7,38.1,4,8,24,50,"NA",5,"M4","NA","NA",4,"M4",null,null,null,null,null,null,null,null,null,null,null,null,null,null,null,null,null,null,null,null,null,null,null,null,null,null,null,null,null,null,null,null,null,null,null,null,null,null,null,{"$f":"IF(AND(PCdb[[#This Row],[BCD]]>UIoptions!$S$10,PCdb[[#This Row],[BCD]]<UIoptions!$T$10),1,0)","v":0},{"$f":"IF(AND(PCdb[[#This Row],[PD]]>UIoptions!$S$11,PCdb[[#This Row],[PD]]<UIoptions!$T$11),1,0)","v":0},{"$f":"IF(AND(UIoptions!$P$14<=PCdb[[#This Row],[PL (MAX)]],UIoptions!$P$14>UIoptions!$S$14),1,0)","v":1},{"$f":"IF(AND(PCdb[[#This Row],[SD]]>UIoptions!$S$12,PCdb[[#This Row],[SD]]<UIoptions!$T$12),1,0)","v":0},{"$f":"IF(AND(PCdb[[#This Row],[SL]]>UIoptions!$S$13,PCdb[[#This Row],[SL]]<UIoptions!$T$13),1,0)","v":0},{"$f":"IF(UIoptions!$N$35=1,IF(AND(PCdb[[#This Row],[SQ_SZ]]>UIoptions!$S$15,PCdb[[#This Row],[SQ_SZ]]<UIoptions!$T$15),1,0),1)","v":0},{"$f":"IF(UIoptions!$N$35=2,IF(AND(PCdb[[#This Row],[ROUND_D]]>UIoptions!$S$15,PCdb[[#This Row],[ROUND_D]]<UIoptions!$T$15),1,0),1)","v":1},{"$f":"IF(UIoptions!$N$75<>1,1,IF(AND(PCdb[[#This Row],[FL]]>UIoptions!$S$16,PCdb[[#This Row],[FL]]<UIoptions!$T$16),1,0))","v":0},{"$f":"IF(OR(UIoptions!$Q$18=PCdb[[#This Row],[THRU_SCREW]],UIoptions!$Q$18=\"NA\"),1,0)","v":1},{"$f":"IF(OR(UIoptions!$P$19=PCdb[[#This Row],[THREAD_SZ]],UIoptions!$P$19=\"NA\"),1,0)","v":1},{"$f":"IF(UIoptions!$N$75=1,1,IF(AND(PCdb[[#This Row],[THREAD_L]]>UIoptions!$S$17,PCdb[[#This Row],[THREAD_L]]<UIoptions!$T$17),1,0))","v":1},{"$f":"IF(SUM(PCdb[[#This Row],[BDhit]:[THREAD_Lhit]])=11,1,0)","v":0},{"$f":"CONCATENATE(PCdb[[#This Row],[BCD]],PCdb[[#This Row],[PD]],PCdb[[#This Row],[PL (MAX)]],PCdb[[#This Row],[SD]],PCdb[[#This Row],[SL]],PCdb[[#This Row],[SQ_SZ]],PCdb[[#This Row],[ROUND_D]],PCdb[[#This Row],[FL]],PCdb[[#This Row],[THRU_SCREW]],PCdb[[#This Row],[THREAD_SZ]],PCdb[[#This Row],[THREAD_L]],PCdb[[#This Row],[NBR_HOLES]])","v":"66,738,1482450NA5M4NANA4"},{"$f":"SUM(PCdb[[#This Row],[BDhit]:[THREAD_Lhit]])","v":5}]
[156,50.8,21,4,10,31,"NA","NA","NA","NA","M6",16,3,"M6",null,null,null,null,null,null,null,41.7,"NA","NA","N","B2",0,120,null,null,null,null,null,null,null,null,null,null,null,null,null,null,null,null,null,null,null,null,null,null,null,null,null,{"$f":"IF(AND(PCdb[[#This Row],[BCD]]>UIoptions!$S$10,PCdb[[#This Row],[BCD]]<UIoptions!$T$10),1,0)","v":0},{"$f":"IF(AND(PCdb[[#This Row],[PD]]>UIoptions!$S$11,PCdb[[#This Row],[PD]]<UIoptions!$T$11),1,0)","v":0},{"$f":"IF(AND(UIoptions!$P$14<=PCdb[[#This Row],[PL (MAX)]],UIoptions!$P$14>UIoptions!$S$14),1,0)","v":1},{"$f":"IF(AND(PCdb[[#This Row],[SD]]>UIoptions!$S$12,PCdb[[#This Row],[SD]]<UIoptions!$T$12),1,0)","v":0},{"$f":"IF(AND(PCdb[[#This Row],[SL]]>UIoptions!$S$13,PCdb[[#This Row],[SL]]<UIoptions!$T$13),1,0)","v":0},{"$f":"IF(UIoptions!$N$35=1,IF(AND(PCdb[[#This Row],[SQ_SZ]]>UIoptions!$S$15,PCdb[[#This Row],[SQ_SZ]]<UIoptions!$T$15),1,0),1)","v":0},{"$f":"IF(UIoptions!$N$35=2,IF(AND(PCdb[[#This Row],[ROUND_D]]>UIoptions!$S$15,PCdb[[#This Row],[ROUND_D]]<UIoptions!$T$15),1,0),1)","v":1},{"$f":"IF(UIoptions!$N$75<>1,1,IF(AND(PCdb[[#This Row],[FL]]>UIoptions!$S$16,PCdb[[#This Row],[FL]]<UIoptions!$T$16),1,0))","v":0},{"$f":"IF(OR(UIoptions!$Q$18=PCdb[[#This Row],[THRU_SCREW]],UIoptions!$Q$18=\"NA\"),1,0)","v":0},{"$f":"IF(OR(UIoptions!$P$19=PCdb[[#This Row],[THREAD_SZ]],UIoptions!$P$19=\"NA\"),1,0)","v":1},{"$f":"IF(UIoptions!$N$75=1,1,IF(AND(PCdb[[#This Row],[THREAD_L]]>UIoptions!$S$17,PCdb[[#This Row],[THREAD_L]]<UIoptions!$T$17),1,0))","v":1},{"$f":"IF(SUM(PCdb[[#This Row],[BDhit]:[THREAD_Lhit]])=11,1,0)","v":0},{"$f":"CONCATENATE(PCdb[[#This Row],[BCD]],PCdb[[#This Row],[PD]],PCdb[[#This Row],[PL (MAX)]],PCdb[[#This Row],[SD]],PCdb[[#This Row],[SL]],PCdb[[#This Row],[SQ_SZ]],PCdb[[#This Row],[ROUND_D]],PCdb[[#This Row],[FL]],PCdb[[#This Row],[THRU_SCREW]],PCdb[[#This Row],[THREAD_SZ]],PCdb[[#This Row],[THREAD_L]],PCdb[[#This Row],[NBR_HOLES]])","v":"50,82141031NANANANAM6163"},{"$f":"SUM(PCdb[[#This Row],[BDhit]:[THREAD_Lhit]])","v":4}]
[157,43.8,22,4,5,20,39,"NA","NA","NA","M3",4.5,4,4,38.700000000000003,"NA","NA","Y","B2",45,90,null,null,null,null,null,null,null,null,null,null,null,null,null,null,null,null,null,null,null,null,null,null,null,null,null,null,null,null,null,null,null,null,{"$f":"IF(AND(PCdb[[#This Row],[BCD]]>UIoptions!$S$10,PCdb[[#This Row],[BCD]]<UIoptions!$T$10),1,0)","v":0},{"$f":"IF(AND(PCdb[[#This Row],[PD]]>UIoptions!$S$11,PCdb[[#This Row],[PD]]<UIoptions!$T$11),1,0)","v":0},{"$f":"IF(AND(UIoptions!$P$14<=PCdb[[#This Row],[PL (MAX)]],UIoptions!$P$14>UIoptions!$S$14),1,0)","v":1},{"$f":"IF(AND(PCdb[[#This Row],[SD]]>UIoptions!$S$12,PCdb[[#This Row],[SD]]<UIoptions!$T$12),1,0)","v":0},{"$f":"IF(AND(PCdb[[#This Row],[SL]]>UIoptions!$S$13,PCdb[[#This Row],[SL]]<UIoptions!$T$13),1,0)","v":1},{"$f":"IF(UIoptions!$N$35=1,IF(AND(PCdb[[#This Row],[SQ_SZ]]>UIoptions!$S$15,PCdb[[#This Row],[SQ_SZ]]<UIoptions!$T$15),1,0),1)","v":0},{"$f":"IF(UIoptions!$N$35=2,IF(AND(PCdb[[#This Row],[ROUND_D]]>UIoptions!$S$15,PCdb[[#This Row],[ROUND_D]]<UIoptions!$T$15),1,0),1)","v":1},{"$f":"IF(UIoptions!$N$75<>1,1,IF(AND(PCdb[[#This Row],[FL]]>UIoptions!$S$16,PCdb[[#This Row],[FL]]<UIoptions!$T$16),1,0))","v":0},{"$f":"IF(OR(UIoptions!$Q$18=PCdb[[#This Row],[THRU_SCREW]],UIoptions!$Q$18=\"NA\"),1,0)","v":0},{"$f":"IF(OR(UIoptions!$P$19=PCdb[[#This Row],[THREAD_SZ]],UIoptions!$P$19=\"NA\"),1,0)","v":1},{"$f":"IF(UIoptions!$N$75=1,1,IF(AND(PCdb[[#This Row],[THREAD_L]]>UIoptions!$S$17,PCdb[[#This Row],[THREAD_L]]<UIoptions!$T$17),1,0))","v":1},{"$f":"IF(SUM(PCdb[[#This Row],[BDhit]:[THREAD_Lhit]])=11,1,0)","v":0},{"$f":"CONCATENATE(PCdb[[#This Row],[BCD]],PCdb[[#This Row],[PD]],PCdb[[#This Row],[PL (MAX)]],PCdb[[#This Row],[SD]],PCdb[[#This Row],[SL]],PCdb[[#This Row],[SQ_SZ]],PCdb[[#This Row],[ROUND_D]],PCdb[[#This Row],[FL]],PCdb[[#This Row],[THRU_SCREW]],PCdb[[#This Row],[THREAD_SZ]],PCdb[[#This Row],[THREAD_L]],PCdb[[#This Row],[NBR_HOLES]])","v":"43,822452039NANANAM34,54"},{"$f":"SUM(PCdb[[#This Row],[BDhit]:[THREAD_Lhit]])","v":5}]
[158,98.4,73.03,4,12.7,25.4,82.6,"NA",6.4,"M5","NA","NA",4,"M5",null,null,null,null,null,null,null,"41.7",37.5,0,"Yes","B",45,90,null,null,null,null,null,null,null,null,null,null,null,null,null,null,null,null,null,null,null,null,null,null,null,null,null,{"$f":"IF(AND(PCdb[[#This Row],[BCD]]>UIoptions!$S$10,PCdb[[#This Row],[BCD]]<UIoptions!$T$10),1,0)","v":0},{"$f":"IF(AND(PCdb[[#This Row],[PD]]>UIoptions!$S$11,PCdb[[#This Row],[PD]]<UIoptions!$T$11),1,0)","v":0},{"$f":"IF(AND(UIoptions!$P$14<=PCdb[[#This Row],[PL (MAX)]],UIoptions!$P$14>UIoptions!$S$14),1,0)","v":1},{"$f":"IF(AND(PCdb[[#This Row],[SD]]>UIoptions!$S$12,PCdb[[#This Row],[SD]]<UIoptions!$T$12),1,0)","v":0},{"$f":"IF(AND(PCdb[[#This Row],[SL]]>UIoptions!$S$13,PCdb[[#This Row],[SL]]<UIoptions!$T$13),1,0)","v":0},{"$f":"IF(UIoptions!$N$35=1,IF(AND(PCdb[[#This Row],[SQ_SZ]]>UIoptions!$S$15,PCdb[[#This Row],[SQ_SZ]]<UIoptions!$T$15),1,0),1)","v":0},{"$f":"IF(UIoptions!$N$35=2,IF(AND(PCdb[[#This Row],[ROUND_D]]>UIoptions!$S$15,PCdb[[#This Row],[ROUND_D]]<UIoptions!$T$15),1,0),1)","v":1},{"$f":"IF(UIoptions!$N$75<>1,1,IF(AND(PCdb[[#This Row],[FL]]>UIoptions!$S$16,PCdb[[#This Row],[FL]]<UIoptions!$T$16),1,0))","v":0},{"$f":"IF(OR(UIoptions!$Q$18=PCdb[[#This Row],[THRU_SCREW]],UIoptions!$Q$18=\"NA\"),1,0)","v":0},{"$f":"IF(OR(UIoptions!$P$19=PCdb[[#This Row],[THREAD_SZ]],UIoptions!$P$19=\"NA\"),1,0)","v":1},{"$f":"IF(UIoptions!$N$75=1,1,IF(AND(PCdb[[#This Row],[THREAD_L]]>UIoptions!$S$17,PCdb[[#This Row],[THREAD_L]]<UIoptions!$T$17),1,0))","v":1},{"$f":"IF(SUM(PCdb[[#This Row],[BDhit]:[THREAD_Lhit]])=11,1,0)","v":0},{"$f":"CONCATENATE(PCdb[[#This Row],[BCD]],PCdb[[#This Row],[PD]],PCdb[[#This Row],[PL (MAX)]],PCdb[[#This Row],[SD]],PCdb[[#This Row],[SL]],PCdb[[#This Row],[SQ_SZ]],PCdb[[#This Row],[ROUND_D]],PCdb[[#This Row],[FL]],PCdb[[#This Row],[THRU_SCREW]],PCdb[[#This Row],[THREAD_SZ]],PCdb[[#This Row],[THREAD_L]],PCdb[[#This Row],[NBR_HOLES]])","v":"98,473,03412,725,482,6NA6,4M5NANA4"},{"$f":"SUM(PCdb[[#This Row],[BDhit]:[THREAD_Lhit]])","v":4}]
[159,100,80,4,14,30,88,"NA",7.5,"M6","NA","NA",4,"M6","NA","NA","NA","NA","NA","NA","NA","NA","NA","NA","NA","NA","NA","NA",48.7,42,0,"YES","B",45,90,"NA","NA","NA","NA","NA","NA","NA","NA","NA","NA","NA","NA",42,"NA","Y","D",45,90,{"$f":"IF(AND(PCdb[[#This Row],[BCD]]>UIoptions!$S$10,PCdb[[#This Row],[BCD]]<UIoptions!$T$10),1,0)","v":0},{"$f":"IF(AND(PCdb[[#This Row],[PD]]>UIoptions!$S$11,PCdb[[#This Row],[PD]]<UIoptions!$T$11),1,0)","v":0},{"$f":"IF(AND(UIoptions!$P$14<=PCdb[[#This Row],[PL (MAX)]],UIoptions!$P$14>UIoptions!$S$14),1,0)","v":1},{"$f":"IF(AND(PCdb[[#This Row],[SD]]>UIoptions!$S$12,PCdb[[#This Row],[SD]]<UIoptions!$T$12),1,0)","v":0},{"$f":"IF(AND(PCdb[[#This Row],[SL]]>UIoptions!$S$13,PCdb[[#This Row],[SL]]<UIoptions!$T$13),1,0)","v":0},{"$f":"IF(UIoptions!$N$35=1,IF(AND(PCdb[[#This Row],[SQ_SZ]]>UIoptions!$S$15,PCdb[[#This Row],[SQ_SZ]]<UIoptions!$T$15),1,0),1)","v":0},{"$f":"IF(UIoptions!$N$35=2,IF(AND(PCdb[[#This Row],[ROUND_D]]>UIoptions!$S$15,PCdb[[#This Row],[ROUND_D]]<UIoptions!$T$15),1,0),1)","v":1},{"$f":"IF(UIoptions!$N$75<>1,1,IF(AND(PCdb[[#This Row],[FL]]>UIoptions!$S$16,PCdb[[#This Row],[FL]]<UIoptions!$T$16),1,0))","v":0},{"$f":"IF(OR(UIoptions!$Q$18=PCdb[[#This Row],[THRU_SCREW]],UIoptions!$Q$18=\"NA\"),1,0)","v":0},{"$f":"IF(OR(UIoptions!$P$19=PCdb[[#This Row],[THREAD_SZ]],UIoptions!$P$19=\"NA\"),1,0)","v":1},{"$f":"IF(UIoptions!$N$75=1,1,IF(AND(PCdb[[#This Row],[THREAD_L]]>UIoptions!$S$17,PCdb[[#This Row],[THREAD_L]]<UIoptions!$T$17),1,0))","v":1},{"$f":"IF(SUM(PCdb[[#This Row],[BDhit]:[THREAD_Lhit]])=11,1,0)","v":0},{"$f":"CONCATENATE(PCdb[[#This Row],[BCD]],PCdb[[#This Row],[PD]],PCdb[[#This Row],[PL (MAX)]],PCdb[[#This Row],[SD]],PCdb[[#This Row],[SL]],PCdb[[#This Row],[SQ_SZ]],PCdb[[#This Row],[ROUND_D]],PCdb[[#This Row],[FL]],PCdb[[#This Row],[THRU_SCREW]],PCdb[[#This Row],[THREAD_SZ]],PCdb[[#This Row],[THREAD_L]],PCdb[[#This Row],[NBR_HOLES]])","v":"100804143088NA7,5M6NANA4"},{"$f":"SUM(PCdb[[#This Row],[BDhit]:[THREAD_Lhit]])","v":4}]
[160,75,60,4,16,32,70,"NA",10,"M5","NA","NA",4,"M5","NA","NA","NA","NA","NA","NA","NA",null,null,null,null,null,null,null,45.2,32,0,"YES","B",45,90,"NA","NA","NA","NA","NA","NA","NA","NA","NA","NA","NA","NA",32,0,"Y","C",45,90,{"$f":"IF(AND(PCdb[[#This Row],[BCD]]>UIoptions!$S$10,PCdb[[#This Row],[BCD]]<UIoptions!$T$10),1,0)","v":0},{"$f":"IF(AND(PCdb[[#This Row],[PD]]>UIoptions!$S$11,PCdb[[#This Row],[PD]]<UIoptions!$T$11),1,0)","v":0},{"$f":"IF(AND(UIoptions!$P$14<=PCdb[[#This Row],[PL (MAX)]],UIoptions!$P$14>UIoptions!$S$14),1,0)","v":1},{"$f":"IF(AND(PCdb[[#This Row],[SD]]>UIoptions!$S$12,PCdb[[#This Row],[SD]]<UIoptions!$T$12),1,0)","v":0},{"$f":"IF(AND(PCdb[[#This Row],[SL]]>UIoptions!$S$13,PCdb[[#This Row],[SL]]<UIoptions!$T$13),1,0)","v":0},{"$f":"IF(UIoptions!$N$35=1,IF(AND(PCdb[[#This Row],[SQ_SZ]]>UIoptions!$S$15,PCdb[[#This Row],[SQ_SZ]]<UIoptions!$T$15),1,0),1)","v":0},{"$f":"IF(UIoptions!$N$35=2,IF(AND(PCdb[[#This Row],[ROUND_D]]>UIoptions!$S$15,PCdb[[#This Row],[ROUND_D]]<UIoptions!$T$15),1,0),1)","v":1},{"$f":"IF(UIoptions!$N$75<>1,1,IF(AND(PCdb[[#This Row],[FL]]>UIoptions!$S$16,PCdb[[#This Row],[FL]]<UIoptions!$T$16),1,0))","v":0},{"$f":"IF(OR(UIoptions!$Q$18=PCdb[[#This Row],[THRU_SCREW]],UIoptions!$Q$18=\"NA\"),1,0)","v":0},{"$f":"IF(OR(UIoptions!$P$19=PCdb[[#This Row],[THREAD_SZ]],UIoptions!$P$19=\"NA\"),1,0)","v":1},{"$f":"IF(UIoptions!$N$75=1,1,IF(AND(PCdb[[#This Row],[THREAD_L]]>UIoptions!$S$17,PCdb[[#This Row],[THREAD_L]]<UIoptions!$T$17),1,0))","v":1},{"$f":"IF(SUM(PCdb[[#This Row],[BDhit]:[THREAD_Lhit]])=11,1,0)","v":0},{"$f":"CONCATENATE(PCdb[[#This Row],[BCD]],PCdb[[#This Row],[PD]],PCdb[[#This Row],[PL (MAX)]],PCdb[[#This Row],[SD]],PCdb[[#This Row],[SL]],PCdb[[#This Row],[SQ_SZ]],PCdb[[#This Row],[ROUND_D]],PCdb[[#This Row],[FL]],PCdb[[#This Row],[THRU_SCREW]],PCdb[[#This Row],[THREAD_SZ]],PCdb[[#This Row],[THREAD_L]],PCdb[[#This Row],[NBR_HOLES]])","v":"75604163270NA10M5NANA4"},{"$f":"SUM(PCdb[[#This Row],[BDhit]:[THREAD_Lhit]])","v":4}]
[161,72,28,"NA",14,58,"NA","NA","NA","NA","M8",16,3,9,null,null,null,null,null,null,null,null,null,null,null,null,null,null,null,null,null,null,null,null,null,null,null,null,null,null,null,null,null,null,null,null,null,"NA","NA","NO","SPLD2-161",52,120,{"$f":"IF(AND(PCdb[[#This Row],[BCD]]>UIoptions!$S$10,PCdb[[#This Row],[BCD]]<UIoptions!$T$10),1,0)","v":0},{"$f":"IF(AND(PCdb[[#This Row],[PD]]>UIoptions!$S$11,PCdb[[#This Row],[PD]]<UIoptions!$T$11),1,0)","v":0},{"$f":"IF(AND(UIoptions!$P$14<=PCdb[[#This Row],[PL (MAX)]],UIoptions!$P$14>UIoptions!$S$14),1,0)","v":1},{"$f":"IF(AND(PCdb[[#This Row],[SD]]>UIoptions!$S$12,PCdb[[#This Row],[SD]]<UIoptions!$T$12),1,0)","v":0},{"$f":"IF(AND(PCdb[[#This Row],[SL]]>UIoptions!$S$13,PCdb[[#This Row],[SL]]<UIoptions!$T$13),1,0)","v":0},{"$f":"IF(UIoptions!$N$35=1,IF(AND(PCdb[[#This Row],[SQ_SZ]]>UIoptions!$S$15,PCdb[[#This Row],[SQ_SZ]]<UIoptions!$T$15),1,0),1)","v":0},{"$f":"IF(UIoptions!$N$35=2,IF(AND(PCdb[[#This Row],[ROUND_D]]>UIoptions!$S$15,PCdb[[#This Row],[ROUND_D]]<UIoptions!$T$15),1,0),1)","v":1},{"$f":"IF(UIoptions!$N$75<>1,1,IF(AND(PCdb[[#This Row],[FL]]>UIoptions!$S$16,PCdb[[#This Row],[FL]]<UIoptions!$T$16),1,0))","v":0},{"$f":"IF(OR(UIoptions!$Q$18=PCdb[[#This Row],[THRU_SCREW]],UIoptions!$Q$18=\"NA\"),1,0)","v":0},{"$f":"IF(OR(UIoptions!$P$19=PCdb[[#This Row],[THREAD_SZ]],UIoptions!$P$19=\"NA\"),1,0)","v":1},{"$f":"IF(UIoptions!$N$75=1,1,IF(AND(PCdb[[#This Row],[THREAD_L]]>UIoptions!$S$17,PCdb[[#This Row],[THREAD_L]]<UIoptions!$T$17),1,0))","v":1},{"$f":"IF(SUM(PCdb[[#This Row],[BDhit]:[THREAD_Lhit]])=11,1,0)","v":0},{"$f":"CONCATENATE(PCdb[[#This Row],[BCD]],PCdb[[#This Row],[PD]],PCdb[[#This Row],[PL (MAX)]],PCdb[[#This Row],[SD]],PCdb[[#This Row],[SL]],PCdb[[#This Row],[SQ_SZ]],PCdb[[#This Row],[ROUND_D]],PCdb[[#This Row],[FL]],PCdb[[#This Row],[THRU_SCREW]],PCdb[[#This Row],[THREAD_SZ]],PCdb[[#This Row],[THREAD_L]],PCdb[[#This Row],[NBR_HOLES]])","v":"7228NA1458NANANANAM8163"},{"$f":"SUM(PCdb[[#This Row],[BDhit]:[THREAD_Lhit]])","v":4}]
[162,66.7,38.1,4,6.35,20,56.4,"NA",4.8,"M4","NA","NA",4,"M4",null,null,null,null,null,null,null,null,null,null,null,null,null,null,null,null,null,null,null,null,null,22,0,"Y","D",45,90,null,null,null,null,null,null,null,null,null,null,null,null,{"$f":"IF(AND(PCdb[[#This Row],[BCD]]>UIoptions!$S$10,PCdb[[#This Row],[BCD]]<UIoptions!$T$10),1,0)","v":0},{"$f":"IF(AND(PCdb[[#This Row],[PD]]>UIoptions!$S$11,PCdb[[#This Row],[PD]]<UIoptions!$T$11),1,0)","v":0},{"$f":"IF(AND(UIoptions!$P$14<=PCdb[[#This Row],[PL (MAX)]],UIoptions!$P$14>UIoptions!$S$14),1,0)","v":1},{"$f":"IF(AND(PCdb[[#This Row],[SD]]>UIoptions!$S$12,PCdb[[#This Row],[SD]]<UIoptions!$T$12),1,0)","v":0},{"$f":"IF(AND(PCdb[[#This Row],[SL]]>UIoptions!$S$13,PCdb[[#This Row],[SL]]<UIoptions!$T$13),1,0)","v":1},{"$f":"IF(UIoptions!$N$35=1,IF(AND(PCdb[[#This Row],[SQ_SZ]]>UIoptions!$S$15,PCdb[[#This Row],[SQ_SZ]]<UIoptions!$T$15),1,0),1)","v":0},{"$f":"IF(UIoptions!$N$35=2,IF(AND(PCdb[[#This Row],[ROUND_D]]>UIoptions!$S$15,PCdb[[#This Row],[ROUND_D]]<UIoptions!$T$15),1,0),1)","v":1},{"$f":"IF(UIoptions!$N$75<>1,1,IF(AND(PCdb[[#This Row],[FL]]>UIoptions!$S$16,PCdb[[#This Row],[FL]]<UIoptions!$T$16),1,0))","v":0},{"$f":"IF(OR(UIoptions!$Q$18=PCdb[[#This Row],[THRU_SCREW]],UIoptions!$Q$18=\"NA\"),1,0)","v":1},{"$f":"IF(OR(UIoptions!$P$19=PCdb[[#This Row],[THREAD_SZ]],UIoptions!$P$19=\"NA\"),1,0)","v":1},{"$f":"IF(UIoptions!$N$75=1,1,IF(AND(PCdb[[#This Row],[THREAD_L]]>UIoptions!$S$17,PCdb[[#This Row],[THREAD_L]]<UIoptions!$T$17),1,0))","v":1},{"$f":"IF(SUM(PCdb[[#This Row],[BDhit]:[THREAD_Lhit]])=11,1,0)","v":0},{"$f":"CONCATENATE(PCdb[[#This Row],[BCD]],PCdb[[#This Row],[PD]],PCdb[[#This Row],[PL (MAX)]],PCdb[[#This Row],[SD]],PCdb[[#This Row],[SL]],PCdb[[#This Row],[SQ_SZ]],PCdb[[#This Row],[ROUND_D]],PCdb[[#This Row],[FL]],PCdb[[#This Row],[THRU_SCREW]],PCdb[[#This Row],[THREAD_SZ]],PCdb[[#This Row],[THREAD_L]],PCdb[[#This Row],[NBR_HOLES]])","v":"66,738,146,352056,4NA4,8M4NANA4"},{"$f":"SUM(PCdb[[#This Row],[BDhit]:[THREAD_Lhit]])","v":6}]
[163,98.4,73,4,14,37,86.1,"NA",10,"M6","NA","NA",4,"M6","NA","NA","NA","NA","NA","NA","NA",45.2,37.5,0,"Y","B",45,90,null,null,null,null,null,null,null,"NA","NA","NA","NA","NA","NA","NA","NA","NA","NA","NA","NA",null,null,null,null,null,null,{"$f":"IF(AND(PCdb[[#This Row],[BCD]]>UIoptions!$S$10,PCdb[[#This Row],[BCD]]<UIoptions!$T$10),1,0)","v":0},{"$f":"IF(AND(PCdb[[#This Row],[PD]]>UIoptions!$S$11,PCdb[[#This Row],[PD]]<UIoptions!$T$11),1,0)","v":0},{"$f":"IF(AND(UIoptions!$P$14<=PCdb[[#This Row],[PL (MAX)]],UIoptions!$P$14>UIoptions!$S$14),1,0)","v":1},{"$f":"IF(AND(PCdb[[#This Row],[SD]]>UIoptions!$S$12,PCdb[[#This Row],[SD]]<UIoptions!$T$12),1,0)","v":0},{"$f":"IF(AND(PCdb[[#This Row],[SL]]>UIoptions!$S$13,PCdb[[#This Row],[SL]]<UIoptions!$T$13),1,0)","v":0},{"$f":"IF(UIoptions!$N$35=1,IF(AND(PCdb[[#This Row],[SQ_SZ]]>UIoptions!$S$15,PCdb[[#This Row],[SQ_SZ]]<UIoptions!$T$15),1,0),1)","v":0},{"$f":"IF(UIoptions!$N$35=2,IF(AND(PCdb[[#This Row],[ROUND_D]]>UIoptions!$S$15,PCdb[[#This Row],[ROUND_D]]<UIoptions!$T$15),1,0),1)","v":1},{"$f":"IF(UIoptions!$N$75<>1,1,IF(AND(PCdb[[#This Row],[FL]]>UIoptions!$S$16,PCdb[[#This Row],[FL]]<UIoptions!$T$16),1,0))","v":0},{"$f":"IF(OR(UIoptions!$Q$18=PCdb[[#This Row],[THRU_SCREW]],UIoptions!$Q$18=\"NA\"),1,0)","v":0},{"$f":"IF(OR(UIoptions!$P$19=PCdb[[#This Row],[THREAD_SZ]],UIoptions!$P$19=\"NA\"),1,0)","v":1},{"$f":"IF(UIoptions!$N$75=1,1,IF(AND(PCdb[[#This Row],[THREAD_L]]>UIoptions!$S$17,PCdb[[#This Row],[THREAD_L]]<UIoptions!$T$17),1,0))","v":1},{"$f":"IF(SUM(PCdb[[#This Row],[BDhit]:[THREAD_Lhit]])=11,1,0)","v":0},{"$f":"CONCATENATE(PCdb[[#This Row],[BCD]],PCdb[[#This Row],[PD]],PCdb[[#This Row],[PL (MAX)]],PCdb[[#This Row],[SD]],PCdb[[#This Row],[SL]],PCdb[[#This Row],[SQ_SZ]],PCdb[[#This Row],[ROUND_D]],PCdb[[#This Row],[FL]],PCdb[[#This Row],[THRU_SCREW]],PCdb[[#This Row],[THREAD_SZ]],PCdb[[#This Row],[THREAD_L]],PCdb[[#This Row],[NBR_HOLES]])","v":"98,4734143786,1NA10M6NANA4"},{"$f":"SUM(PCdb[[#This Row],[BDhit]:[THREAD_Lhit]])","v":4}]
[164,63,40,4,11,25,56.5,"NA",6,"M5","NA","NA",4,"M5",null,null,null,null,null,null,null,null,null,null,null,null,null,null,null,null,null,null,null,null,null,null,null,null,null,null,null,25,0,"Y","C",45,90,null,null,null,null,null,null,{"$f":"IF(AND(PCdb[[#This Row],[BCD]]>UIoptions!$S$10,PCdb[[#This Row],[BCD]]<UIoptions!$T$10),1,0)","v":1},{"$f":"IF(AND(PCdb[[#This Row],[PD]]>UIoptions!$S$11,PCdb[[#This Row],[PD]]<UIoptions!$T$11),1,0)","v":1},{"$f":"IF(AND(UIoptions!$P$14<=PCdb[[#This Row],[PL (MAX)]],UIoptions!$P$14>UIoptions!$S$14),1,0)","v":1},{"$f":"IF(AND(PCdb[[#This Row],[SD]]>UIoptions!$S$12,PCdb[[#This Row],[SD]]<UIoptions!$T$12),1,0)","v":0},{"$f":"IF(AND(PCdb[[#This Row],[SL]]>UIoptions!$S$13,PCdb[[#This Row],[SL]]<UIoptions!$T$13),1,0)","v":0},{"$f":"IF(UIoptions!$N$35=1,IF(AND(PCdb[[#This Row],[SQ_SZ]]>UIoptions!$S$15,PCdb[[#This Row],[SQ_SZ]]<UIoptions!$T$15),1,0),1)","v":0},{"$f":"IF(UIoptions!$N$35=2,IF(AND(PCdb[[#This Row],[ROUND_D]]>UIoptions!$S$15,PCdb[[#This Row],[ROUND_D]]<UIoptions!$T$15),1,0),1)","v":1},{"$f":"IF(UIoptions!$N$75<>1,1,IF(AND(PCdb[[#This Row],[FL]]>UIoptions!$S$16,PCdb[[#This Row],[FL]]<UIoptions!$T$16),1,0))","v":0},{"$f":"IF(OR(UIoptions!$Q$18=PCdb[[#This Row],[THRU_SCREW]],UIoptions!$Q$18=\"NA\"),1,0)","v":0},{"$f":"IF(OR(UIoptions!$P$19=PCdb[[#This Row],[THREAD_SZ]],UIoptions!$P$19=\"NA\"),1,0)","v":1},{"$f":"IF(UIoptions!$N$75=1,1,IF(AND(PCdb[[#This Row],[THREAD_L]]>UIoptions!$S$17,PCdb[[#This Row],[THREAD_L]]<UIoptions!$T$17),1,0))","v":1},{"$f":"IF(SUM(PCdb[[#This Row],[BDhit]:[THREAD_Lhit]])=11,1,0)","v":0},{"$f":"CONCATENATE(PCdb[[#This Row],[BCD]],PCdb[[#This Row],[PD]],PCdb[[#This Row],[PL (MAX)]],PCdb[[#This Row],[SD]],PCdb[[#This Row],[SL]],PCdb[[#This Row],[SQ_SZ]],PCdb[[#This Row],[ROUND_D]],PCdb[[#This Row],[FL]],PCdb[[#This Row],[THRU_SCREW]],PCdb[[#This Row],[THREAD_SZ]],PCdb[[#This Row],[THREAD_L]],PCdb[[#This Row],[NBR_HOLES]])","v":"63404112556,5NA6M5NANA4"},{"$f":"SUM(PCdb[[#This Row],[BDhit]:[THREAD_Lhit]])","v":6}]
[165,98.4,73,4,12,30.5,86.5,"NA",10,"M5","NA","NA",4,"M5","NA","NA","NA","NA","NA","NA","NA",null,null,null,null,null,null,null,null,null,null,null,null,null,null,"NA","NA","NA","NA","NA","NA","NA","NA","NA","NA","NA","NA",38,0,"Y","D",45,90,{"$f":"IF(AND(PCdb[[#This Row],[BCD]]>UIoptions!$S$10,PCdb[[#This Row],[BCD]]<UIoptions!$T$10),1,0)","v":0},{"$f":"IF(AND(PCdb[[#This Row],[PD]]>UIoptions!$S$11,PCdb[[#This Row],[PD]]<UIoptions!$T$11),1,0)","v":0},{"$f":"IF(AND(UIoptions!$P$14<=PCdb[[#This Row],[PL (MAX)]],UIoptions!$P$14>UIoptions!$S$14),1,0)","v":1},{"$f":"IF(AND(PCdb[[#This Row],[SD]]>UIoptions!$S$12,PCdb[[#This Row],[SD]]<UIoptions!$T$12),1,0)","v":0},{"$f":"IF(AND(PCdb[[#This Row],[SL]]>UIoptions!$S$13,PCdb[[#This Row],[SL]]<UIoptions!$T$13),1,0)","v":0},{"$f":"IF(UIoptions!$N$35=1,IF(AND(PCdb[[#This Row],[SQ_SZ]]>UIoptions!$S$15,PCdb[[#This Row],[SQ_SZ]]<UIoptions!$T$15),1,0),1)","v":0},{"$f":"IF(UIoptions!$N$35=2,IF(AND(PCdb[[#This Row],[ROUND_D]]>UIoptions!$S$15,PCdb[[#This Row],[ROUND_D]]<UIoptions!$T$15),1,0),1)","v":1},{"$f":"IF(UIoptions!$N$75<>1,1,IF(AND(PCdb[[#This Row],[FL]]>UIoptions!$S$16,PCdb[[#This Row],[FL]]<UIoptions!$T$16),1,0))","v":0},{"$f":"IF(OR(UIoptions!$Q$18=PCdb[[#This Row],[THRU_SCREW]],UIoptions!$Q$18=\"NA\"),1,0)","v":0},{"$f":"IF(OR(UIoptions!$P$19=PCdb[[#This Row],[THREAD_SZ]],UIoptions!$P$19=\"NA\"),1,0)","v":1},{"$f":"IF(UIoptions!$N$75=1,1,IF(AND(PCdb[[#This Row],[THREAD_L]]>UIoptions!$S$17,PCdb[[#This Row],[THREAD_L]]<UIoptions!$T$17),1,0))","v":1},{"$f":"IF(SUM(PCdb[[#This Row],[BDhit]:[THREAD_Lhit]])=11,1,0)","v":0},{"$f":"CONCATENATE(PCdb[[#This Row],[BCD]],PCdb[[#This Row],[PD]],PCdb[[#This Row],[PL (MAX)]],PCdb[[#This Row],[SD]],PCdb[[#This Row],[SL]],PCdb[[#This Row],[SQ_SZ]],PCdb[[#This Row],[ROUND_D]],PCdb[[#This Row],[FL]],PCdb[[#This Row],[THRU_SCREW]],PCdb[[#This Row],[THREAD_SZ]],PCdb[[#This Row],[THREAD_L]],PCdb[[#This Row],[NBR_HOLES]])","v":"98,47341230,586,5NA10M5NANA4"},{"$f":"SUM(PCdb[[#This Row],[BDhit]:[THREAD_Lhit]])","v":4}]
[166,34,26,3,10,26,"NA",40,"NA","NA","M4",6,4,5,null,null,null,null,null,null,null,41.7,"NA","NA","NA","B2",45,90,null,null,null,null,null,null,null,"NA","NA","NA","C2",45,90,"NA","NA","Y","C2",45,90,"NA","NA","Y","C2",45,90,{"$f":"IF(AND(PCdb[[#This Row],[BCD]]>UIoptions!$S$10,PCdb[[#This Row],[BCD]]<UIoptions!$T$10),1,0)","v":0},{"$f":"IF(AND(PCdb[[#This Row],[PD]]>UIoptions!$S$11,PCdb[[#This Row],[PD]]<UIoptions!$T$11),1,0)","v":0},{"$f":"IF(AND(UIoptions!$P$14<=PCdb[[#This Row],[PL (MAX)]],UIoptions!$P$14>UIoptions!$S$14),1,0)","v":1},{"$f":"IF(AND(PCdb[[#This Row],[SD]]>UIoptions!$S$12,PCdb[[#This Row],[SD]]<UIoptions!$T$12),1,0)","v":0},{"$f":"IF(AND(PCdb[[#This Row],[SL]]>UIoptions!$S$13,PCdb[[#This Row],[SL]]<UIoptions!$T$13),1,0)","v":0},{"$f":"IF(UIoptions!$N$35=1,IF(AND(PCdb[[#This Row],[SQ_SZ]]>UIoptions!$S$15,PCdb[[#This Row],[SQ_SZ]]<UIoptions!$T$15),1,0),1)","v":0},{"$f":"IF(UIoptions!$N$35=2,IF(AND(PCdb[[#This Row],[ROUND_D]]>UIoptions!$S$15,PCdb[[#This Row],[ROUND_D]]<UIoptions!$T$15),1,0),1)","v":1},{"$f":"IF(UIoptions!$N$75<>1,1,IF(AND(PCdb[[#This Row],[FL]]>UIoptions!$S$16,PCdb[[#This Row],[FL]]<UIoptions!$T$16),1,0))","v":0},{"$f":"IF(OR(UIoptions!$Q$18=PCdb[[#This Row],[THRU_SCREW]],UIoptions!$Q$18=\"NA\"),1,0)","v":0},{"$f":"IF(OR(UIoptions!$P$19=PCdb[[#This Row],[THREAD_SZ]],UIoptions!$P$19=\"NA\"),1,0)","v":1},{"$f":"IF(UIoptions!$N$75=1,1,IF(AND(PCdb[[#This Row],[THREAD_L]]>UIoptions!$S$17,PCdb[[#This Row],[THREAD_L]]<UIoptions!$T$17),1,0))","v":1},{"$f":"IF(SUM(PCdb[[#This Row],[BDhit]:[THREAD_Lhit]])=11,1,0)","v":0},{"$f":"CONCATENATE(PCdb[[#This Row],[BCD]],PCdb[[#This Row],[PD]],PCdb[[#This Row],[PL (MAX)]],PCdb[[#This Row],[SD]],PCdb[[#This Row],[SL]],PCdb[[#This Row],[SQ_SZ]],PCdb[[#This Row],[ROUND_D]],PCdb[[#This Row],[FL]],PCdb[[#This Row],[THRU_SCREW]],PCdb[[#This Row],[THREAD_SZ]],PCdb[[#This Row],[THREAD_L]],PCdb[[#This Row],[NBR_HOLES]])","v":"342631026NA40NANAM464"},{"$f":"SUM(PCdb[[#This Row],[BDhit]:[THREAD_Lhit]])","v":4}]
[167,66.7,38.1,4,10,24,60,"NA",8,"M4","NA","NA",4,"M4",null,null,null,null,null,null,null,null,null,null,null,null,null,null,null,null,null,null,null,null,null,22,0,"Y","D",45,90,22,0,"Y","C",45,90,null,null,null,null,null,null,{"$f":"IF(AND(PCdb[[#This Row],[BCD]]>UIoptions!$S$10,PCdb[[#This Row],[BCD]]<UIoptions!$T$10),1,0)","v":0},{"$f":"IF(AND(PCdb[[#This Row],[PD]]>UIoptions!$S$11,PCdb[[#This Row],[PD]]<UIoptions!$T$11),1,0)","v":0},{"$f":"IF(AND(UIoptions!$P$14<=PCdb[[#This Row],[PL (MAX)]],UIoptions!$P$14>UIoptions!$S$14),1,0)","v":1},{"$f":"IF(AND(PCdb[[#This Row],[SD]]>UIoptions!$S$12,PCdb[[#This Row],[SD]]<UIoptions!$T$12),1,0)","v":0},{"$f":"IF(AND(PCdb[[#This Row],[SL]]>UIoptions!$S$13,PCdb[[#This Row],[SL]]<UIoptions!$T$13),1,0)","v":0},{"$f":"IF(UIoptions!$N$35=1,IF(AND(PCdb[[#This Row],[SQ_SZ]]>UIoptions!$S$15,PCdb[[#This Row],[SQ_SZ]]<UIoptions!$T$15),1,0),1)","v":0},{"$f":"IF(UIoptions!$N$35=2,IF(AND(PCdb[[#This Row],[ROUND_D]]>UIoptions!$S$15,PCdb[[#This Row],[ROUND_D]]<UIoptions!$T$15),1,0),1)","v":1},{"$f":"IF(UIoptions!$N$75<>1,1,IF(AND(PCdb[[#This Row],[FL]]>UIoptions!$S$16,PCdb[[#This Row],[FL]]<UIoptions!$T$16),1,0))","v":0},{"$f":"IF(OR(UIoptions!$Q$18=PCdb[[#This Row],[THRU_SCREW]],UIoptions!$Q$18=\"NA\"),1,0)","v":1},{"$f":"IF(OR(UIoptions!$P$19=PCdb[[#This Row],[THREAD_SZ]],UIoptions!$P$19=\"NA\"),1,0)","v":1},{"$f":"IF(UIoptions!$N$75=1,1,IF(AND(PCdb[[#This Row],[THREAD_L]]>UIoptions!$S$17,PCdb[[#This Row],[THREAD_L]]<UIoptions!$T$17),1,0))","v":1},{"$f":"IF(SUM(PCdb[[#This Row],[BDhit]:[THREAD_Lhit]])=11,1,0)","v":0},{"$f":"CONCATENATE(PCdb[[#This Row],[BCD]],PCdb[[#This Row],[PD]],PCdb[[#This Row],[PL (MAX)]],PCdb[[#This Row],[SD]],PCdb[[#This Row],[SL]],PCdb[[#This Row],[SQ_SZ]],PCdb[[#This Row],[ROUND_D]],PCdb[[#This Row],[FL]],PCdb[[#This Row],[THRU_SCREW]],PCdb[[#This Row],[THREAD_SZ]],PCdb[[#This Row],[THREAD_L]],PCdb[[#This Row],[NBR_HOLES]])","v":"66,738,14102460NA8M4NANA4"},{"$f":"SUM(PCdb[[#This Row],[BDhit]:[THREAD_Lhit]])","v":5}]
[168,90,70,4,14,32,80,"NA",9,"M5","NA","NA",4,"M5","NA","NA","NA","NA","NA","NA","NA",null,null,null,null,null,null,null,null,null,null,null,null,null,null,"NA","NA","NA","NA","NA","NA",null,null,null,null,null,null,37,0,"Y","D",45,90,{"$f":"IF(AND(PCdb[[#This Row],[BCD]]>UIoptions!$S$10,PCdb[[#This Row],[BCD]]<UIoptions!$T$10),1,0)","v":0},{"$f":"IF(AND(PCdb[[#This Row],[PD]]>UIoptions!$S$11,PCdb[[#This Row],[PD]]<UIoptions!$T$11),1,0)","v":0},{"$f":"IF(AND(UIoptions!$P$14<=PCdb[[#This Row],[PL (MAX)]],UIoptions!$P$14>UIoptions!$S$14),1,0)","v":1},{"$f":"IF(AND(PCdb[[#This Row],[SD]]>UIoptions!$S$12,PCdb[[#This Row],[SD]]<UIoptions!$T$12),1,0)","v":0},{"$f":"IF(AND(PCdb[[#This Row],[SL]]>UIoptions!$S$13,PCdb[[#This Row],[SL]]<UIoptions!$T$13),1,0)","v":0},{"$f":"IF(UIoptions!$N$35=1,IF(AND(PCdb[[#This Row],[SQ_SZ]]>UIoptions!$S$15,PCdb[[#This Row],[SQ_SZ]]<UIoptions!$T$15),1,0),1)","v":0},{"$f":"IF(UIoptions!$N$35=2,IF(AND(PCdb[[#This Row],[ROUND_D]]>UIoptions!$S$15,PCdb[[#This Row],[ROUND_D]]<UIoptions!$T$15),1,0),1)","v":1},{"$f":"IF(UIoptions!$N$75<>1,1,IF(AND(PCdb[[#This Row],[FL]]>UIoptions!$S$16,PCdb[[#This Row],[FL]]<UIoptions!$T$16),1,0))","v":0},{"$f":"IF(OR(UIoptions!$Q$18=PCdb[[#This Row],[THRU_SCREW]],UIoptions!$Q$18=\"NA\"),1,0)","v":0},{"$f":"IF(OR(UIoptions!$P$19=PCdb[[#This Row],[THREAD_SZ]],UIoptions!$P$19=\"NA\"),1,0)","v":1},{"$f":"IF(UIoptions!$N$75=1,1,IF(AND(PCdb[[#This Row],[THREAD_L]]>UIoptions!$S$17,PCdb[[#This Row],[THREAD_L]]<UIoptions!$T$17),1,0))","v":1},{"$f":"IF(SUM(PCdb[[#This Row],[BDhit]:[THREAD_Lhit]])=11,1,0)","v":0},{"$f":"CONCATENATE(PCdb[[#This Row],[BCD]],PCdb[[#This Row],[PD]],PCdb[[#This Row],[PL (MAX)]],PCdb[[#This Row],[SD]],PCdb[[#This Row],[SL]],PCdb[[#This Row],[SQ_SZ]],PCdb[[#This Row],[ROUND_D]],PCdb[[#This Row],[FL]],PCdb[[#This Row],[THRU_SCREW]],PCdb[[#This Row],[THREAD_SZ]],PCdb[[#This Row],[THREAD_L]],PCdb[[#This Row],[NBR_HOLES]])","v":"90704143280NA9M5NANA4"},{"$f":"SUM(PCdb[[#This Row],[BDhit]:[THREAD_Lhit]])","v":4}]
[169,98.6,73.03,4,9.5299999999999994,31.8,86.4,"NA",8.4,"M5","NA","NA",4,"M5","NA","NA","NA","NA","NA","NA","NA",null,null,null,null,null,null,null,45.2,39,0,"Y","B",45,90,"NA","NA","NA","NA","NA","NA","NA","NA","NA","NA","NA","NA",null,null,null,null,null,null,{"$f":"IF(AND(PCdb[[#This Row],[BCD]]>UIoptions!$S$10,PCdb[[#This Row],[BCD]]<UIoptions!$T$10),1,0)","v":0},{"$f":"IF(AND(PCdb[[#This Row],[PD]]>UIoptions!$S$11,PCdb[[#This Row],[PD]]<UIoptions!$T$11),1,0)","v":0},{"$f":"IF(AND(UIoptions!$P$14<=PCdb[[#This Row],[PL (MAX)]],UIoptions!$P$14>UIoptions!$S$14),1,0)","v":1},{"$f":"IF(AND(PCdb[[#This Row],[SD]]>UIoptions!$S$12,PCdb[[#This Row],[SD]]<UIoptions!$T$12),1,0)","v":0},{"$f":"IF(AND(PCdb[[#This Row],[SL]]>UIoptions!$S$13,PCdb[[#This Row],[SL]]<UIoptions!$T$13),1,0)","v":0},{"$f":"IF(UIoptions!$N$35=1,IF(AND(PCdb[[#This Row],[SQ_SZ]]>UIoptions!$S$15,PCdb[[#This Row],[SQ_SZ]]<UIoptions!$T$15),1,0),1)","v":0},{"$f":"IF(UIoptions!$N$35=2,IF(AND(PCdb[[#This Row],[ROUND_D]]>UIoptions!$S$15,PCdb[[#This Row],[ROUND_D]]<UIoptions!$T$15),1,0),1)","v":1},{"$f":"IF(UIoptions!$N$75<>1,1,IF(AND(PCdb[[#This Row],[FL]]>UIoptions!$S$16,PCdb[[#This Row],[FL]]<UIoptions!$T$16),1,0))","v":0},{"$f":"IF(OR(UIoptions!$Q$18=PCdb[[#This Row],[THRU_SCREW]],UIoptions!$Q$18=\"NA\"),1,0)","v":0},{"$f":"IF(OR(UIoptions!$P$19=PCdb[[#This Row],[THREAD_SZ]],UIoptions!$P$19=\"NA\"),1,0)","v":1},{"$f":"IF(UIoptions!$N$75=1,1,IF(AND(PCdb[[#This Row],[THREAD_L]]>UIoptions!$S$17,PCdb[[#This Row],[THREAD_L]]<UIoptions!$T$17),1,0))","v":1},{"$f":"IF(SUM(PCdb[[#This Row],[BDhit]:[THREAD_Lhit]])=11,1,0)","v":0},{"$f":"CONCATENATE(PCdb[[#This Row],[BCD]],PCdb[[#This Row],[PD]],PCdb[[#This Row],[PL (MAX)]],PCdb[[#This Row],[SD]],PCdb[[#This Row],[SL]],PCdb[[#This Row],[SQ_SZ]],PCdb[[#This Row],[ROUND_D]],PCdb[[#This Row],[FL]],PCdb[[#This Row],[THRU_SCREW]],PCdb[[#This Row],[THREAD_SZ]],PCdb[[#This Row],[THREAD_L]],PCdb[[#This Row],[NBR_HOLES]])","v":"98,673,0349,5331,886,4NA8,4M5NANA4"},{"$f":"SUM(PCdb[[#This Row],[BDhit]:[THREAD_Lhit]])","v":4}]
[170,63,40,4,9,20,55,"NA",11,"M5","NA","NA",4,"M5",null,null,null,null,null,null,null,null,null,null,null,null,null,null,null,null,null,null,null,null,null,null,null,null,null,null,null,null,null,null,null,null,null,22,0,"Y","C",45,90,{"$f":"IF(AND(PCdb[[#This Row],[BCD]]>UIoptions!$S$10,PCdb[[#This Row],[BCD]]<UIoptions!$T$10),1,0)","v":1},{"$f":"IF(AND(PCdb[[#This Row],[PD]]>UIoptions!$S$11,PCdb[[#This Row],[PD]]<UIoptions!$T$11),1,0)","v":1},{"$f":"IF(AND(UIoptions!$P$14<=PCdb[[#This Row],[PL (MAX)]],UIoptions!$P$14>UIoptions!$S$14),1,0)","v":1},{"$f":"IF(AND(PCdb[[#This Row],[SD]]>UIoptions!$S$12,PCdb[[#This Row],[SD]]<UIoptions!$T$12),1,0)","v":0},{"$f":"IF(AND(PCdb[[#This Row],[SL]]>UIoptions!$S$13,PCdb[[#This Row],[SL]]<UIoptions!$T$13),1,0)","v":1},{"$f":"IF(UIoptions!$N$35=1,IF(AND(PCdb[[#This Row],[SQ_SZ]]>UIoptions!$S$15,PCdb[[#This Row],[SQ_SZ]]<UIoptions!$T$15),1,0),1)","v":0},{"$f":"IF(UIoptions!$N$35=2,IF(AND(PCdb[[#This Row],[ROUND_D]]>UIoptions!$S$15,PCdb[[#This Row],[ROUND_D]]<UIoptions!$T$15),1,0),1)","v":1},{"$f":"IF(UIoptions!$N$75<>1,1,IF(AND(PCdb[[#This Row],[FL]]>UIoptions!$S$16,PCdb[[#This Row],[FL]]<UIoptions!$T$16),1,0))","v":0},{"$f":"IF(OR(UIoptions!$Q$18=PCdb[[#This Row],[THRU_SCREW]],UIoptions!$Q$18=\"NA\"),1,0)","v":0},{"$f":"IF(OR(UIoptions!$P$19=PCdb[[#This Row],[THREAD_SZ]],UIoptions!$P$19=\"NA\"),1,0)","v":1},{"$f":"IF(UIoptions!$N$75=1,1,IF(AND(PCdb[[#This Row],[THREAD_L]]>UIoptions!$S$17,PCdb[[#This Row],[THREAD_L]]<UIoptions!$T$17),1,0))","v":1},{"$f":"IF(SUM(PCdb[[#This Row],[BDhit]:[THREAD_Lhit]])=11,1,0)","v":0},{"$f":"CONCATENATE(PCdb[[#This Row],[BCD]],PCdb[[#This Row],[PD]],PCdb[[#This Row],[PL (MAX)]],PCdb[[#This Row],[SD]],PCdb[[#This Row],[SL]],PCdb[[#This Row],[SQ_SZ]],PCdb[[#This Row],[ROUND_D]],PCdb[[#This Row],[FL]],PCdb[[#This Row],[THRU_SCREW]],PCdb[[#This Row],[THREAD_SZ]],PCdb[[#This Row],[THREAD_L]],PCdb[[#This Row],[NBR_HOLES]])","v":"6340492055NA11M5NANA4"},{"$f":"SUM(PCdb[[#This Row],[BDhit]:[THREAD_Lhit]])","v":7}]
[171,66.7,38.1,4,6.35,19.100000000000001,56.4,"NA",4.8,"M4","NA","NA",4,"M4",38.700000000000003,22,0,"Y","B",45,90,"NA","NA","NA","NA","NA","NA","NA","NA","NA","NA","NA","NA","NA","NA",null,null,null,null,null,null,null,null,null,null,null,null,null,null,null,null,null,null,{"$f":"IF(AND(PCdb[[#This Row],[BCD]]>UIoptions!$S$10,PCdb[[#This Row],[BCD]]<UIoptions!$T$10),1,0)","v":0},{"$f":"IF(AND(PCdb[[#This Row],[PD]]>UIoptions!$S$11,PCdb[[#This Row],[PD]]<UIoptions!$T$11),1,0)","v":0},{"$f":"IF(AND(UIoptions!$P$14<=PCdb[[#This Row],[PL (MAX)]],UIoptions!$P$14>UIoptions!$S$14),1,0)","v":1},{"$f":"IF(AND(PCdb[[#This Row],[SD]]>UIoptions!$S$12,PCdb[[#This Row],[SD]]<UIoptions!$T$12),1,0)","v":0},{"$f":"IF(AND(PCdb[[#This Row],[SL]]>UIoptions!$S$13,PCdb[[#This Row],[SL]]<UIoptions!$T$13),1,0)","v":0},{"$f":"IF(UIoptions!$N$35=1,IF(AND(PCdb[[#This Row],[SQ_SZ]]>UIoptions!$S$15,PCdb[[#This Row],[SQ_SZ]]<UIoptions!$T$15),1,0),1)","v":0},{"$f":"IF(UIoptions!$N$35=2,IF(AND(PCdb[[#This Row],[ROUND_D]]>UIoptions!$S$15,PCdb[[#This Row],[ROUND_D]]<UIoptions!$T$15),1,0),1)","v":1},{"$f":"IF(UIoptions!$N$75<>1,1,IF(AND(PCdb[[#This Row],[FL]]>UIoptions!$S$16,PCdb[[#This Row],[FL]]<UIoptions!$T$16),1,0))","v":0},{"$f":"IF(OR(UIoptions!$Q$18=PCdb[[#This Row],[THRU_SCREW]],UIoptions!$Q$18=\"NA\"),1,0)","v":1},{"$f":"IF(OR(UIoptions!$P$19=PCdb[[#This Row],[THREAD_SZ]],UIoptions!$P$19=\"NA\"),1,0)","v":1},{"$f":"IF(UIoptions!$N$75=1,1,IF(AND(PCdb[[#This Row],[THREAD_L]]>UIoptions!$S$17,PCdb[[#This Row],[THREAD_L]]<UIoptions!$T$17),1,0))","v":1},{"$f":"IF(SUM(PCdb[[#This Row],[BDhit]:[THREAD_Lhit]])=11,1,0)","v":0},{"$f":"CONCATENATE(PCdb[[#This Row],[BCD]],PCdb[[#This Row],[PD]],PCdb[[#This Row],[PL (MAX)]],PCdb[[#This Row],[SD]],PCdb[[#This Row],[SL]],PCdb[[#This Row],[SQ_SZ]],PCdb[[#This Row],[ROUND_D]],PCdb[[#This Row],[FL]],PCdb[[#This Row],[THRU_SCREW]],PCdb[[#This Row],[THREAD_SZ]],PCdb[[#This Row],[THREAD_L]],PCdb[[#This Row],[NBR_HOLES]])","v":"66,738,146,3519,156,4NA4,8M4NANA4"},{"$f":"SUM(PCdb[[#This Row],[BDhit]:[THREAD_Lhit]])","v":5}]
[172,99,60,4,14,37,85,"NA",10,"M6","NA","NA",4,"M6","NA","NA","NA","NA","NA","NA","NA",null,null,null,null,null,null,null,null,null,null,null,null,null,null,"NA","NA","NA","NA","NA","NA","NA","NA","NA","NA","NA","NA",35,0,"Y","D",45,90,{"$f":"IF(AND(PCdb[[#This Row],[BCD]]>UIoptions!$S$10,PCdb[[#This Row],[BCD]]<UIoptions!$T$10),1,0)","v":0},{"$f":"IF(AND(PCdb[[#This Row],[PD]]>UIoptions!$S$11,PCdb[[#This Row],[PD]]<UIoptions!$T$11),1,0)","v":0},{"$f":"IF(AND(UIoptions!$P$14<=PCdb[[#This Row],[PL (MAX)]],UIoptions!$P$14>UIoptions!$S$14),1,0)","v":1},{"$f":"IF(AND(PCdb[[#This Row],[SD]]>UIoptions!$S$12,PCdb[[#This Row],[SD]]<UIoptions!$T$12),1,0)","v":0},{"$f":"IF(AND(PCdb[[#This Row],[SL]]>UIoptions!$S$13,PCdb[[#This Row],[SL]]<UIoptions!$T$13),1,0)","v":0},{"$f":"IF(UIoptions!$N$35=1,IF(AND(PCdb[[#This Row],[SQ_SZ]]>UIoptions!$S$15,PCdb[[#This Row],[SQ_SZ]]<UIoptions!$T$15),1,0),1)","v":0},{"$f":"IF(UIoptions!$N$35=2,IF(AND(PCdb[[#This Row],[ROUND_D]]>UIoptions!$S$15,PCdb[[#This Row],[ROUND_D]]<UIoptions!$T$15),1,0),1)","v":1},{"$f":"IF(UIoptions!$N$75<>1,1,IF(AND(PCdb[[#This Row],[FL]]>UIoptions!$S$16,PCdb[[#This Row],[FL]]<UIoptions!$T$16),1,0))","v":0},{"$f":"IF(OR(UIoptions!$Q$18=PCdb[[#This Row],[THRU_SCREW]],UIoptions!$Q$18=\"NA\"),1,0)","v":0},{"$f":"IF(OR(UIoptions!$P$19=PCdb[[#This Row],[THREAD_SZ]],UIoptions!$P$19=\"NA\"),1,0)","v":1},{"$f":"IF(UIoptions!$N$75=1,1,IF(AND(PCdb[[#This Row],[THREAD_L]]>UIoptions!$S$17,PCdb[[#This Row],[THREAD_L]]<UIoptions!$T$17),1,0))","v":1},{"$f":"IF(SUM(PCdb[[#This Row],[BDhit]:[THREAD_Lhit]])=11,1,0)","v":0},{"$f":"CONCATENATE(PCdb[[#This Row],[BCD]],PCdb[[#This Row],[PD]],PCdb[[#This Row],[PL (MAX)]],PCdb[[#This Row],[SD]],PCdb[[#This Row],[SL]],PCdb[[#This Row],[SQ_SZ]],PCdb[[#This Row],[ROUND_D]],PCdb[[#This Row],[FL]],PCdb[[#This Row],[THRU_SCREW]],PCdb[[#This Row],[THREAD_SZ]],PCdb[[#This Row],[THREAD_L]],PCdb[[#This Row],[NBR_HOLES]])","v":"99604143785NA10M6NANA4"},{"$f":"SUM(PCdb[[#This Row],[BDhit]:[THREAD_Lhit]])","v":4}]
[173,98.4,73.02,4,14,30.6,85.9,"NA",8.4,"M5","NA","NA",4,"M5","NA","NA","NA","NA","NA","NA","NA",41.7,37.5,0,"Y","B",45,90,null,null,null,null,null,null,null,"NA","NA","NA","NA","NA","NA","NA","NA","NA","NA","NA","NA",null,null,null,null,null,null,{"$f":"IF(AND(PCdb[[#This Row],[BCD]]>UIoptions!$S$10,PCdb[[#This Row],[BCD]]<UIoptions!$T$10),1,0)","v":0},{"$f":"IF(AND(PCdb[[#This Row],[PD]]>UIoptions!$S$11,PCdb[[#This Row],[PD]]<UIoptions!$T$11),1,0)","v":0},{"$f":"IF(AND(UIoptions!$P$14<=PCdb[[#This Row],[PL (MAX)]],UIoptions!$P$14>UIoptions!$S$14),1,0)","v":1},{"$f":"IF(AND(PCdb[[#This Row],[SD]]>UIoptions!$S$12,PCdb[[#This Row],[SD]]<UIoptions!$T$12),1,0)","v":0},{"$f":"IF(AND(PCdb[[#This Row],[SL]]>UIoptions!$S$13,PCdb[[#This Row],[SL]]<UIoptions!$T$13),1,0)","v":0},{"$f":"IF(UIoptions!$N$35=1,IF(AND(PCdb[[#This Row],[SQ_SZ]]>UIoptions!$S$15,PCdb[[#This Row],[SQ_SZ]]<UIoptions!$T$15),1,0),1)","v":0},{"$f":"IF(UIoptions!$N$35=2,IF(AND(PCdb[[#This Row],[ROUND_D]]>UIoptions!$S$15,PCdb[[#This Row],[ROUND_D]]<UIoptions!$T$15),1,0),1)","v":1},{"$f":"IF(UIoptions!$N$75<>1,1,IF(AND(PCdb[[#This Row],[FL]]>UIoptions!$S$16,PCdb[[#This Row],[FL]]<UIoptions!$T$16),1,0))","v":0},{"$f":"IF(OR(UIoptions!$Q$18=PCdb[[#This Row],[THRU_SCREW]],UIoptions!$Q$18=\"NA\"),1,0)","v":0},{"$f":"IF(OR(UIoptions!$P$19=PCdb[[#This Row],[THREAD_SZ]],UIoptions!$P$19=\"NA\"),1,0)","v":1},{"$f":"IF(UIoptions!$N$75=1,1,IF(AND(PCdb[[#This Row],[THREAD_L]]>UIoptions!$S$17,PCdb[[#This Row],[THREAD_L]]<UIoptions!$T$17),1,0))","v":1},{"$f":"IF(SUM(PCdb[[#This Row],[BDhit]:[THREAD_Lhit]])=11,1,0)","v":0},{"$f":"CONCATENATE(PCdb[[#This Row],[BCD]],PCdb[[#This Row],[PD]],PCdb[[#This Row],[PL (MAX)]],PCdb[[#This Row],[SD]],PCdb[[#This Row],[SL]],PCdb[[#This Row],[SQ_SZ]],PCdb[[#This Row],[ROUND_D]],PCdb[[#This Row],[FL]],PCdb[[#This Row],[THRU_SCREW]],PCdb[[#This Row],[THREAD_SZ]],PCdb[[#This Row],[THREAD_L]],PCdb[[#This Row],[NBR_HOLES]])","v":"98,473,0241430,685,9NA8,4M5NANA4"},{"$f":"SUM(PCdb[[#This Row],[BDhit]:[THREAD_Lhit]])","v":4}]
[174,63,40,4,9,20,54.7,"NA",9,"M5","NA","NA",4,"M5",null,null,null,null,null,null,null,null,null,null,null,null,null,null,null,null,null,null,null,null,null,23,0,"Y","D",45,90,null,null,null,null,null,null,null,null,null,null,null,null,{"$f":"IF(AND(PCdb[[#This Row],[BCD]]>UIoptions!$S$10,PCdb[[#This Row],[BCD]]<UIoptions!$T$10),1,0)","v":1},{"$f":"IF(AND(PCdb[[#This Row],[PD]]>UIoptions!$S$11,PCdb[[#This Row],[PD]]<UIoptions!$T$11),1,0)","v":1},{"$f":"IF(AND(UIoptions!$P$14<=PCdb[[#This Row],[PL (MAX)]],UIoptions!$P$14>UIoptions!$S$14),1,0)","v":1},{"$f":"IF(AND(PCdb[[#This Row],[SD]]>UIoptions!$S$12,PCdb[[#This Row],[SD]]<UIoptions!$T$12),1,0)","v":0},{"$f":"IF(AND(PCdb[[#This Row],[SL]]>UIoptions!$S$13,PCdb[[#This Row],[SL]]<UIoptions!$T$13),1,0)","v":1},{"$f":"IF(UIoptions!$N$35=1,IF(AND(PCdb[[#This Row],[SQ_SZ]]>UIoptions!$S$15,PCdb[[#This Row],[SQ_SZ]]<UIoptions!$T$15),1,0),1)","v":0},{"$f":"IF(UIoptions!$N$35=2,IF(AND(PCdb[[#This Row],[ROUND_D]]>UIoptions!$S$15,PCdb[[#This Row],[ROUND_D]]<UIoptions!$T$15),1,0),1)","v":1},{"$f":"IF(UIoptions!$N$75<>1,1,IF(AND(PCdb[[#This Row],[FL]]>UIoptions!$S$16,PCdb[[#This Row],[FL]]<UIoptions!$T$16),1,0))","v":0},{"$f":"IF(OR(UIoptions!$Q$18=PCdb[[#This Row],[THRU_SCREW]],UIoptions!$Q$18=\"NA\"),1,0)","v":0},{"$f":"IF(OR(UIoptions!$P$19=PCdb[[#This Row],[THREAD_SZ]],UIoptions!$P$19=\"NA\"),1,0)","v":1},{"$f":"IF(UIoptions!$N$75=1,1,IF(AND(PCdb[[#This Row],[THREAD_L]]>UIoptions!$S$17,PCdb[[#This Row],[THREAD_L]]<UIoptions!$T$17),1,0))","v":1},{"$f":"IF(SUM(PCdb[[#This Row],[BDhit]:[THREAD_Lhit]])=11,1,0)","v":0},{"$f":"CONCATENATE(PCdb[[#This Row],[BCD]],PCdb[[#This Row],[PD]],PCdb[[#This Row],[PL (MAX)]],PCdb[[#This Row],[SD]],PCdb[[#This Row],[SL]],PCdb[[#This Row],[SQ_SZ]],PCdb[[#This Row],[ROUND_D]],PCdb[[#This Row],[FL]],PCdb[[#This Row],[THRU_SCREW]],PCdb[[#This Row],[THREAD_SZ]],PCdb[[#This Row],[THREAD_L]],PCdb[[#This Row],[NBR_HOLES]])","v":"6340492054,7NA9M5NANA4"},{"$f":"SUM(PCdb[[#This Row],[BDhit]:[THREAD_Lhit]])","v":7}]
[175,46,30,4,8,25,40,"NA",5.5,"M4","NA","NA",4,"M4",38.700000000000003,3,32,"Y","A",45,90,null,null,null,null,null,null,null,null,null,null,null,null,null,null,17.5,"NA","Y","C",45,90,null,null,null,null,null,null,null,null,null,null,null,null,{"$f":"IF(AND(PCdb[[#This Row],[BCD]]>UIoptions!$S$10,PCdb[[#This Row],[BCD]]<UIoptions!$T$10),1,0)","v":0},{"$f":"IF(AND(PCdb[[#This Row],[PD]]>UIoptions!$S$11,PCdb[[#This Row],[PD]]<UIoptions!$T$11),1,0)","v":0},{"$f":"IF(AND(UIoptions!$P$14<=PCdb[[#This Row],[PL (MAX)]],UIoptions!$P$14>UIoptions!$S$14),1,0)","v":1},{"$f":"IF(AND(PCdb[[#This Row],[SD]]>UIoptions!$S$12,PCdb[[#This Row],[SD]]<UIoptions!$T$12),1,0)","v":0},{"$f":"IF(AND(PCdb[[#This Row],[SL]]>UIoptions!$S$13,PCdb[[#This Row],[SL]]<UIoptions!$T$13),1,0)","v":0},{"$f":"IF(UIoptions!$N$35=1,IF(AND(PCdb[[#This Row],[SQ_SZ]]>UIoptions!$S$15,PCdb[[#This Row],[SQ_SZ]]<UIoptions!$T$15),1,0),1)","v":0},{"$f":"IF(UIoptions!$N$35=2,IF(AND(PCdb[[#This Row],[ROUND_D]]>UIoptions!$S$15,PCdb[[#This Row],[ROUND_D]]<UIoptions!$T$15),1,0),1)","v":1},{"$f":"IF(UIoptions!$N$75<>1,1,IF(AND(PCdb[[#This Row],[FL]]>UIoptions!$S$16,PCdb[[#This Row],[FL]]<UIoptions!$T$16),1,0))","v":0},{"$f":"IF(OR(UIoptions!$Q$18=PCdb[[#This Row],[THRU_SCREW]],UIoptions!$Q$18=\"NA\"),1,0)","v":1},{"$f":"IF(OR(UIoptions!$P$19=PCdb[[#This Row],[THREAD_SZ]],UIoptions!$P$19=\"NA\"),1,0)","v":1},{"$f":"IF(UIoptions!$N$75=1,1,IF(AND(PCdb[[#This Row],[THREAD_L]]>UIoptions!$S$17,PCdb[[#This Row],[THREAD_L]]<UIoptions!$T$17),1,0))","v":1},{"$f":"IF(SUM(PCdb[[#This Row],[BDhit]:[THREAD_Lhit]])=11,1,0)","v":0},{"$f":"CONCATENATE(PCdb[[#This Row],[BCD]],PCdb[[#This Row],[PD]],PCdb[[#This Row],[PL (MAX)]],PCdb[[#This Row],[SD]],PCdb[[#This Row],[SL]],PCdb[[#This Row],[SQ_SZ]],PCdb[[#This Row],[ROUND_D]],PCdb[[#This Row],[FL]],PCdb[[#This Row],[THRU_SCREW]],PCdb[[#This Row],[THREAD_SZ]],PCdb[[#This Row],[THREAD_L]],PCdb[[#This Row],[NBR_HOLES]])","v":"4630482540NA5,5M4NANA4"},{"$f":"SUM(PCdb[[#This Row],[BDhit]:[THREAD_Lhit]])","v":5}]
[176,46,30,4,8,25,40,"NA",5,"M3","NA","NA",4,"M3",38.700000000000003,3,32,"Y","A",45,90,null,null,null,null,null,null,null,null,null,null,null,null,null,null,17.5,"NA","Y","C",45,90,17.5,0,"Y","C",45,90,null,null,null,null,null,null,{"$f":"IF(AND(PCdb[[#This Row],[BCD]]>UIoptions!$S$10,PCdb[[#This Row],[BCD]]<UIoptions!$T$10),1,0)","v":0},{"$f":"IF(AND(PCdb[[#This Row],[PD]]>UIoptions!$S$11,PCdb[[#This Row],[PD]]<UIoptions!$T$11),1,0)","v":0},{"$f":"IF(AND(UIoptions!$P$14<=PCdb[[#This Row],[PL (MAX)]],UIoptions!$P$14>UIoptions!$S$14),1,0)","v":1},{"$f":"IF(AND(PCdb[[#This Row],[SD]]>UIoptions!$S$12,PCdb[[#This Row],[SD]]<UIoptions!$T$12),1,0)","v":0},{"$f":"IF(AND(PCdb[[#This Row],[SL]]>UIoptions!$S$13,PCdb[[#This Row],[SL]]<UIoptions!$T$13),1,0)","v":0},{"$f":"IF(UIoptions!$N$35=1,IF(AND(PCdb[[#This Row],[SQ_SZ]]>UIoptions!$S$15,PCdb[[#This Row],[SQ_SZ]]<UIoptions!$T$15),1,0),1)","v":0},{"$f":"IF(UIoptions!$N$35=2,IF(AND(PCdb[[#This Row],[ROUND_D]]>UIoptions!$S$15,PCdb[[#This Row],[ROUND_D]]<UIoptions!$T$15),1,0),1)","v":1},{"$f":"IF(UIoptions!$N$75<>1,1,IF(AND(PCdb[[#This Row],[FL]]>UIoptions!$S$16,PCdb[[#This Row],[FL]]<UIoptions!$T$16),1,0))","v":0},{"$f":"IF(OR(UIoptions!$Q$18=PCdb[[#This Row],[THRU_SCREW]],UIoptions!$Q$18=\"NA\"),1,0)","v":0},{"$f":"IF(OR(UIoptions!$P$19=PCdb[[#This Row],[THREAD_SZ]],UIoptions!$P$19=\"NA\"),1,0)","v":1},{"$f":"IF(UIoptions!$N$75=1,1,IF(AND(PCdb[[#This Row],[THREAD_L]]>UIoptions!$S$17,PCdb[[#This Row],[THREAD_L]]<UIoptions!$T$17),1,0))","v":1},{"$f":"IF(SUM(PCdb[[#This Row],[BDhit]:[THREAD_Lhit]])=11,1,0)","v":0},{"$f":"CONCATENATE(PCdb[[#This Row],[BCD]],PCdb[[#This Row],[PD]],PCdb[[#This Row],[PL (MAX)]],PCdb[[#This Row],[SD]],PCdb[[#This Row],[SL]],PCdb[[#This Row],[SQ_SZ]],PCdb[[#This Row],[ROUND_D]],PCdb[[#This Row],[FL]],PCdb[[#This Row],[THRU_SCREW]],PCdb[[#This Row],[THREAD_SZ]],PCdb[[#This Row],[THREAD_L]],PCdb[[#This Row],[NBR_HOLES]])","v":"4630482540NA5M3NANA4"},{"$f":"SUM(PCdb[[#This Row],[BDhit]:[THREAD_Lhit]])","v":4}]
[177,90,70,4,19,35,80,"NA",9,"M6","NA","NA",4,"M6","NA","NA","NA","NA","NA","NA","NA",45.2,37,"NA","Y","B",45,90,null,null,null,null,null,null,null,"NA","NA","NA","NA","NA","NA","NA","NA","NA","NA","NA","NA",null,null,null,null,null,null,{"$f":"IF(AND(PCdb[[#This Row],[BCD]]>UIoptions!$S$10,PCdb[[#This Row],[BCD]]<UIoptions!$T$10),1,0)","v":0},{"$f":"IF(AND(PCdb[[#This Row],[PD]]>UIoptions!$S$11,PCdb[[#This Row],[PD]]<UIoptions!$T$11),1,0)","v":0},{"$f":"IF(AND(UIoptions!$P$14<=PCdb[[#This Row],[PL (MAX)]],UIoptions!$P$14>UIoptions!$S$14),1,0)","v":1},{"$f":"IF(AND(PCdb[[#This Row],[SD]]>UIoptions!$S$12,PCdb[[#This Row],[SD]]<UIoptions!$T$12),1,0)","v":0},{"$f":"IF(AND(PCdb[[#This Row],[SL]]>UIoptions!$S$13,PCdb[[#This Row],[SL]]<UIoptions!$T$13),1,0)","v":0},{"$f":"IF(UIoptions!$N$35=1,IF(AND(PCdb[[#This Row],[SQ_SZ]]>UIoptions!$S$15,PCdb[[#This Row],[SQ_SZ]]<UIoptions!$T$15),1,0),1)","v":0},{"$f":"IF(UIoptions!$N$35=2,IF(AND(PCdb[[#This Row],[ROUND_D]]>UIoptions!$S$15,PCdb[[#This Row],[ROUND_D]]<UIoptions!$T$15),1,0),1)","v":1},{"$f":"IF(UIoptions!$N$75<>1,1,IF(AND(PCdb[[#This Row],[FL]]>UIoptions!$S$16,PCdb[[#This Row],[FL]]<UIoptions!$T$16),1,0))","v":0},{"$f":"IF(OR(UIoptions!$Q$18=PCdb[[#This Row],[THRU_SCREW]],UIoptions!$Q$18=\"NA\"),1,0)","v":0},{"$f":"IF(OR(UIoptions!$P$19=PCdb[[#This Row],[THREAD_SZ]],UIoptions!$P$19=\"NA\"),1,0)","v":1},{"$f":"IF(UIoptions!$N$75=1,1,IF(AND(PCdb[[#This Row],[THREAD_L]]>UIoptions!$S$17,PCdb[[#This Row],[THREAD_L]]<UIoptions!$T$17),1,0))","v":1},{"$f":"IF(SUM(PCdb[[#This Row],[BDhit]:[THREAD_Lhit]])=11,1,0)","v":0},{"$f":"CONCATENATE(PCdb[[#This Row],[BCD]],PCdb[[#This Row],[PD]],PCdb[[#This Row],[PL (MAX)]],PCdb[[#This Row],[SD]],PCdb[[#This Row],[SL]],PCdb[[#This Row],[SQ_SZ]],PCdb[[#This Row],[ROUND_D]],PCdb[[#This Row],[FL]],PCdb[[#This Row],[THRU_SCREW]],PCdb[[#This Row],[THREAD_SZ]],PCdb[[#This Row],[THREAD_L]],PCdb[[#This Row],[NBR_HOLES]])","v":"90704193580NA9M6NANA4"},{"$f":"SUM(PCdb[[#This Row],[BDhit]:[THREAD_Lhit]])","v":4}]
[178,70.7,36,4,10,22,60,"NA",7,"M4","NA","NA",4,"M4",null,null,null,null,null,null,null,null,null,null,null,null,null,null,null,null,null,null,null,null,null,20,"NA","Y","D",45,90,null,null,null,null,null,null,null,null,null,null,null,null,{"$f":"IF(AND(PCdb[[#This Row],[BCD]]>UIoptions!$S$10,PCdb[[#This Row],[BCD]]<UIoptions!$T$10),1,0)","v":0},{"$f":"IF(AND(PCdb[[#This Row],[PD]]>UIoptions!$S$11,PCdb[[#This Row],[PD]]<UIoptions!$T$11),1,0)","v":0},{"$f":"IF(AND(UIoptions!$P$14<=PCdb[[#This Row],[PL (MAX)]],UIoptions!$P$14>UIoptions!$S$14),1,0)","v":1},{"$f":"IF(AND(PCdb[[#This Row],[SD]]>UIoptions!$S$12,PCdb[[#This Row],[SD]]<UIoptions!$T$12),1,0)","v":0},{"$f":"IF(AND(PCdb[[#This Row],[SL]]>UIoptions!$S$13,PCdb[[#This Row],[SL]]<UIoptions!$T$13),1,0)","v":0},{"$f":"IF(UIoptions!$N$35=1,IF(AND(PCdb[[#This Row],[SQ_SZ]]>UIoptions!$S$15,PCdb[[#This Row],[SQ_SZ]]<UIoptions!$T$15),1,0),1)","v":0},{"$f":"IF(UIoptions!$N$35=2,IF(AND(PCdb[[#This Row],[ROUND_D]]>UIoptions!$S$15,PCdb[[#This Row],[ROUND_D]]<UIoptions!$T$15),1,0),1)","v":1},{"$f":"IF(UIoptions!$N$75<>1,1,IF(AND(PCdb[[#This Row],[FL]]>UIoptions!$S$16,PCdb[[#This Row],[FL]]<UIoptions!$T$16),1,0))","v":1},{"$f":"IF(OR(UIoptions!$Q$18=PCdb[[#This Row],[THRU_SCREW]],UIoptions!$Q$18=\"NA\"),1,0)","v":1},{"$f":"IF(OR(UIoptions!$P$19=PCdb[[#This Row],[THREAD_SZ]],UIoptions!$P$19=\"NA\"),1,0)","v":1},{"$f":"IF(UIoptions!$N$75=1,1,IF(AND(PCdb[[#This Row],[THREAD_L]]>UIoptions!$S$17,PCdb[[#This Row],[THREAD_L]]<UIoptions!$T$17),1,0))","v":1},{"$f":"IF(SUM(PCdb[[#This Row],[BDhit]:[THREAD_Lhit]])=11,1,0)","v":0},{"$f":"CONCATENATE(PCdb[[#This Row],[BCD]],PCdb[[#This Row],[PD]],PCdb[[#This Row],[PL (MAX)]],PCdb[[#This Row],[SD]],PCdb[[#This Row],[SL]],PCdb[[#This Row],[SQ_SZ]],PCdb[[#This Row],[ROUND_D]],PCdb[[#This Row],[FL]],PCdb[[#This Row],[THRU_SCREW]],PCdb[[#This Row],[THREAD_SZ]],PCdb[[#This Row],[THREAD_L]],PCdb[[#This Row],[NBR_HOLES]])","v":"70,7364102260NA7M4NANA4"},{"$f":"SUM(PCdb[[#This Row],[BDhit]:[THREAD_Lhit]])","v":6}]
[179,66.7,38.1,4,12.7,31.8,57.2,"NA",6.4,"M4","NA","NA",4,"M4","NA","NA","NA","NA","NA","NA","NA",null,null,null,null,null,null,null,null,null,null,null,null,null,null,"NA","NA","NA","NA","NA","NA",null,null,null,null,null,null,22,"NA","Y","C",45,90,{"$f":"IF(AND(PCdb[[#This Row],[BCD]]>UIoptions!$S$10,PCdb[[#This Row],[BCD]]<UIoptions!$T$10),1,0)","v":0},{"$f":"IF(AND(PCdb[[#This Row],[PD]]>UIoptions!$S$11,PCdb[[#This Row],[PD]]<UIoptions!$T$11),1,0)","v":0},{"$f":"IF(AND(UIoptions!$P$14<=PCdb[[#This Row],[PL (MAX)]],UIoptions!$P$14>UIoptions!$S$14),1,0)","v":1},{"$f":"IF(AND(PCdb[[#This Row],[SD]]>UIoptions!$S$12,PCdb[[#This Row],[SD]]<UIoptions!$T$12),1,0)","v":0},{"$f":"IF(AND(PCdb[[#This Row],[SL]]>UIoptions!$S$13,PCdb[[#This Row],[SL]]<UIoptions!$T$13),1,0)","v":0},{"$f":"IF(UIoptions!$N$35=1,IF(AND(PCdb[[#This Row],[SQ_SZ]]>UIoptions!$S$15,PCdb[[#This Row],[SQ_SZ]]<UIoptions!$T$15),1,0),1)","v":0},{"$f":"IF(UIoptions!$N$35=2,IF(AND(PCdb[[#This Row],[ROUND_D]]>UIoptions!$S$15,PCdb[[#This Row],[ROUND_D]]<UIoptions!$T$15),1,0),1)","v":1},{"$f":"IF(UIoptions!$N$75<>1,1,IF(AND(PCdb[[#This Row],[FL]]>UIoptions!$S$16,PCdb[[#This Row],[FL]]<UIoptions!$T$16),1,0))","v":0},{"$f":"IF(OR(UIoptions!$Q$18=PCdb[[#This Row],[THRU_SCREW]],UIoptions!$Q$18=\"NA\"),1,0)","v":1},{"$f":"IF(OR(UIoptions!$P$19=PCdb[[#This Row],[THREAD_SZ]],UIoptions!$P$19=\"NA\"),1,0)","v":1},{"$f":"IF(UIoptions!$N$75=1,1,IF(AND(PCdb[[#This Row],[THREAD_L]]>UIoptions!$S$17,PCdb[[#This Row],[THREAD_L]]<UIoptions!$T$17),1,0))","v":1},{"$f":"IF(SUM(PCdb[[#This Row],[BDhit]:[THREAD_Lhit]])=11,1,0)","v":0},{"$f":"CONCATENATE(PCdb[[#This Row],[BCD]],PCdb[[#This Row],[PD]],PCdb[[#This Row],[PL (MAX)]],PCdb[[#This Row],[SD]],PCdb[[#This Row],[SL]],PCdb[[#This Row],[SQ_SZ]],PCdb[[#This Row],[ROUND_D]],PCdb[[#This Row],[FL]],PCdb[[#This Row],[THRU_SCREW]],PCdb[[#This Row],[THREAD_SZ]],PCdb[[#This Row],[THREAD_L]],PCdb[[#This Row],[NBR_HOLES]])","v":"66,738,1412,731,857,2NA6,4M4NANA4"},{"$f":"SUM(PCdb[[#This Row],[BDhit]:[THREAD_Lhit]])","v":5}]
[180,35,25,4,8,22,"NA",42,"NA","NA","M4",6,4,5,36.200000000000003,"NA","NA","NO","B2",45,90,null,null,null,null,null,null,null,null,null,null,null,null,null,null,null,null,null,null,null,null,null,null,null,null,null,null,null,null,null,null,null,null,{"$f":"IF(AND(PCdb[[#This Row],[BCD]]>UIoptions!$S$10,PCdb[[#This Row],[BCD]]<UIoptions!$T$10),1,0)","v":0},{"$f":"IF(AND(PCdb[[#This Row],[PD]]>UIoptions!$S$11,PCdb[[#This Row],[PD]]<UIoptions!$T$11),1,0)","v":0},{"$f":"IF(AND(UIoptions!$P$14<=PCdb[[#This Row],[PL (MAX)]],UIoptions!$P$14>UIoptions!$S$14),1,0)","v":1},{"$f":"IF(AND(PCdb[[#This Row],[SD]]>UIoptions!$S$12,PCdb[[#This Row],[SD]]<UIoptions!$T$12),1,0)","v":0},{"$f":"IF(AND(PCdb[[#This Row],[SL]]>UIoptions!$S$13,PCdb[[#This Row],[SL]]<UIoptions!$T$13),1,0)","v":0},{"$f":"IF(UIoptions!$N$35=1,IF(AND(PCdb[[#This Row],[SQ_SZ]]>UIoptions!$S$15,PCdb[[#This Row],[SQ_SZ]]<UIoptions!$T$15),1,0),1)","v":0},{"$f":"IF(UIoptions!$N$35=2,IF(AND(PCdb[[#This Row],[ROUND_D]]>UIoptions!$S$15,PCdb[[#This Row],[ROUND_D]]<UIoptions!$T$15),1,0),1)","v":1},{"$f":"IF(UIoptions!$N$75<>1,1,IF(AND(PCdb[[#This Row],[FL]]>UIoptions!$S$16,PCdb[[#This Row],[FL]]<UIoptions!$T$16),1,0))","v":0},{"$f":"IF(OR(UIoptions!$Q$18=PCdb[[#This Row],[THRU_SCREW]],UIoptions!$Q$18=\"NA\"),1,0)","v":0},{"$f":"IF(OR(UIoptions!$P$19=PCdb[[#This Row],[THREAD_SZ]],UIoptions!$P$19=\"NA\"),1,0)","v":1},{"$f":"IF(UIoptions!$N$75=1,1,IF(AND(PCdb[[#This Row],[THREAD_L]]>UIoptions!$S$17,PCdb[[#This Row],[THREAD_L]]<UIoptions!$T$17),1,0))","v":1},{"$f":"IF(SUM(PCdb[[#This Row],[BDhit]:[THREAD_Lhit]])=11,1,0)","v":0},{"$f":"CONCATENATE(PCdb[[#This Row],[BCD]],PCdb[[#This Row],[PD]],PCdb[[#This Row],[PL (MAX)]],PCdb[[#This Row],[SD]],PCdb[[#This Row],[SL]],PCdb[[#This Row],[SQ_SZ]],PCdb[[#This Row],[ROUND_D]],PCdb[[#This Row],[FL]],PCdb[[#This Row],[THRU_SCREW]],PCdb[[#This Row],[THREAD_SZ]],PCdb[[#This Row],[THREAD_L]],PCdb[[#This Row],[NBR_HOLES]])","v":"35254822NA42NANAM464"},{"$f":"SUM(PCdb[[#This Row],[BDhit]:[THREAD_Lhit]])","v":4}]
[181,70,50,4,14,35,65,"NA",8,"M5","NA","NA",4,"M5","NA","NA","NA","NA","NA","NA","NA",45.2,27,"NA","y","B",45,90,48.7,20,16,"Y","A",45,90,"NA","NA","NA","NA","NA","NA","NA","NA","NA","NA","NA","NA",null,null,null,null,null,null,{"$f":"IF(AND(PCdb[[#This Row],[BCD]]>UIoptions!$S$10,PCdb[[#This Row],[BCD]]<UIoptions!$T$10),1,0)","v":0},{"$f":"IF(AND(PCdb[[#This Row],[PD]]>UIoptions!$S$11,PCdb[[#This Row],[PD]]<UIoptions!$T$11),1,0)","v":0},{"$f":"IF(AND(UIoptions!$P$14<=PCdb[[#This Row],[PL (MAX)]],UIoptions!$P$14>UIoptions!$S$14),1,0)","v":1},{"$f":"IF(AND(PCdb[[#This Row],[SD]]>UIoptions!$S$12,PCdb[[#This Row],[SD]]<UIoptions!$T$12),1,0)","v":0},{"$f":"IF(AND(PCdb[[#This Row],[SL]]>UIoptions!$S$13,PCdb[[#This Row],[SL]]<UIoptions!$T$13),1,0)","v":0},{"$f":"IF(UIoptions!$N$35=1,IF(AND(PCdb[[#This Row],[SQ_SZ]]>UIoptions!$S$15,PCdb[[#This Row],[SQ_SZ]]<UIoptions!$T$15),1,0),1)","v":0},{"$f":"IF(UIoptions!$N$35=2,IF(AND(PCdb[[#This Row],[ROUND_D]]>UIoptions!$S$15,PCdb[[#This Row],[ROUND_D]]<UIoptions!$T$15),1,0),1)","v":1},{"$f":"IF(UIoptions!$N$75<>1,1,IF(AND(PCdb[[#This Row],[FL]]>UIoptions!$S$16,PCdb[[#This Row],[FL]]<UIoptions!$T$16),1,0))","v":0},{"$f":"IF(OR(UIoptions!$Q$18=PCdb[[#This Row],[THRU_SCREW]],UIoptions!$Q$18=\"NA\"),1,0)","v":0},{"$f":"IF(OR(UIoptions!$P$19=PCdb[[#This Row],[THREAD_SZ]],UIoptions!$P$19=\"NA\"),1,0)","v":1},{"$f":"IF(UIoptions!$N$75=1,1,IF(AND(PCdb[[#This Row],[THREAD_L]]>UIoptions!$S$17,PCdb[[#This Row],[THREAD_L]]<UIoptions!$T$17),1,0))","v":1},{"$f":"IF(SUM(PCdb[[#This Row],[BDhit]:[THREAD_Lhit]])=11,1,0)","v":0},{"$f":"CONCATENATE(PCdb[[#This Row],[BCD]],PCdb[[#This Row],[PD]],PCdb[[#This Row],[PL (MAX)]],PCdb[[#This Row],[SD]],PCdb[[#This Row],[SL]],PCdb[[#This Row],[SQ_SZ]],PCdb[[#This Row],[ROUND_D]],PCdb[[#This Row],[FL]],PCdb[[#This Row],[THRU_SCREW]],PCdb[[#This Row],[THREAD_SZ]],PCdb[[#This Row],[THREAD_L]],PCdb[[#This Row],[NBR_HOLES]])","v":"70504143565NA8M5NANA4"},{"$f":"SUM(PCdb[[#This Row],[BDhit]:[THREAD_Lhit]])","v":4}]
[182,66.599999999999994,38.1,4,8,20.6,56.4,"NA",4.8,"M4","NA","NA",4,"M4",null,null,null,null,null,null,null,null,null,null,null,null,null,null,null,null,null,null,null,null,null,null,null,null,null,null,null,21,"NA","Y","C",45,90,null,null,null,null,null,null,{"$f":"IF(AND(PCdb[[#This Row],[BCD]]>UIoptions!$S$10,PCdb[[#This Row],[BCD]]<UIoptions!$T$10),1,0)","v":0},{"$f":"IF(AND(PCdb[[#This Row],[PD]]>UIoptions!$S$11,PCdb[[#This Row],[PD]]<UIoptions!$T$11),1,0)","v":0},{"$f":"IF(AND(UIoptions!$P$14<=PCdb[[#This Row],[PL (MAX)]],UIoptions!$P$14>UIoptions!$S$14),1,0)","v":1},{"$f":"IF(AND(PCdb[[#This Row],[SD]]>UIoptions!$S$12,PCdb[[#This Row],[SD]]<UIoptions!$T$12),1,0)","v":0},{"$f":"IF(AND(PCdb[[#This Row],[SL]]>UIoptions!$S$13,PCdb[[#This Row],[SL]]<UIoptions!$T$13),1,0)","v":0},{"$f":"IF(UIoptions!$N$35=1,IF(AND(PCdb[[#This Row],[SQ_SZ]]>UIoptions!$S$15,PCdb[[#This Row],[SQ_SZ]]<UIoptions!$T$15),1,0),1)","v":0},{"$f":"IF(UIoptions!$N$35=2,IF(AND(PCdb[[#This Row],[ROUND_D]]>UIoptions!$S$15,PCdb[[#This Row],[ROUND_D]]<UIoptions!$T$15),1,0),1)","v":1},{"$f":"IF(UIoptions!$N$75<>1,1,IF(AND(PCdb[[#This Row],[FL]]>UIoptions!$S$16,PCdb[[#This Row],[FL]]<UIoptions!$T$16),1,0))","v":0},{"$f":"IF(OR(UIoptions!$Q$18=PCdb[[#This Row],[THRU_SCREW]],UIoptions!$Q$18=\"NA\"),1,0)","v":1},{"$f":"IF(OR(UIoptions!$P$19=PCdb[[#This Row],[THREAD_SZ]],UIoptions!$P$19=\"NA\"),1,0)","v":1},{"$f":"IF(UIoptions!$N$75=1,1,IF(AND(PCdb[[#This Row],[THREAD_L]]>UIoptions!$S$17,PCdb[[#This Row],[THREAD_L]]<UIoptions!$T$17),1,0))","v":1},{"$f":"IF(SUM(PCdb[[#This Row],[BDhit]:[THREAD_Lhit]])=11,1,0)","v":0},{"$f":"CONCATENATE(PCdb[[#This Row],[BCD]],PCdb[[#This Row],[PD]],PCdb[[#This Row],[PL (MAX)]],PCdb[[#This Row],[SD]],PCdb[[#This Row],[SL]],PCdb[[#This Row],[SQ_SZ]],PCdb[[#This Row],[ROUND_D]],PCdb[[#This Row],[FL]],PCdb[[#This Row],[THRU_SCREW]],PCdb[[#This Row],[THREAD_SZ]],PCdb[[#This Row],[THREAD_L]],PCdb[[#This Row],[NBR_HOLES]])","v":"66,638,14820,656,4NA4,8M4NANA4"},{"$f":"SUM(PCdb[[#This Row],[BDhit]:[THREAD_Lhit]])","v":5}]
[183,98.4,73.02,4,12,32,85.9,"NA",8.4,"M6","NA","NA",4,"M6",null,null,null,null,null,null,null,41.7,38,"NA","Y","B",45,90,null,null,null,null,null,null,null,null,null,null,null,null,null,null,null,null,null,null,null,null,null,null,null,null,null,{"$f":"IF(AND(PCdb[[#This Row],[BCD]]>UIoptions!$S$10,PCdb[[#This Row],[BCD]]<UIoptions!$T$10),1,0)","v":0},{"$f":"IF(AND(PCdb[[#This Row],[PD]]>UIoptions!$S$11,PCdb[[#This Row],[PD]]<UIoptions!$T$11),1,0)","v":0},{"$f":"IF(AND(UIoptions!$P$14<=PCdb[[#This Row],[PL (MAX)]],UIoptions!$P$14>UIoptions!$S$14),1,0)","v":1},{"$f":"IF(AND(PCdb[[#This Row],[SD]]>UIoptions!$S$12,PCdb[[#This Row],[SD]]<UIoptions!$T$12),1,0)","v":0},{"$f":"IF(AND(PCdb[[#This Row],[SL]]>UIoptions!$S$13,PCdb[[#This Row],[SL]]<UIoptions!$T$13),1,0)","v":0},{"$f":"IF(UIoptions!$N$35=1,IF(AND(PCdb[[#This Row],[SQ_SZ]]>UIoptions!$S$15,PCdb[[#This Row],[SQ_SZ]]<UIoptions!$T$15),1,0),1)","v":0},{"$f":"IF(UIoptions!$N$35=2,IF(AND(PCdb[[#This Row],[ROUND_D]]>UIoptions!$S$15,PCdb[[#This Row],[ROUND_D]]<UIoptions!$T$15),1,0),1)","v":1},{"$f":"IF(UIoptions!$N$75<>1,1,IF(AND(PCdb[[#This Row],[FL]]>UIoptions!$S$16,PCdb[[#This Row],[FL]]<UIoptions!$T$16),1,0))","v":0},{"$f":"IF(OR(UIoptions!$Q$18=PCdb[[#This Row],[THRU_SCREW]],UIoptions!$Q$18=\"NA\"),1,0)","v":0},{"$f":"IF(OR(UIoptions!$P$19=PCdb[[#This Row],[THREAD_SZ]],UIoptions!$P$19=\"NA\"),1,0)","v":1},{"$f":"IF(UIoptions!$N$75=1,1,IF(AND(PCdb[[#This Row],[THREAD_L]]>UIoptions!$S$17,PCdb[[#This Row],[THREAD_L]]<UIoptions!$T$17),1,0))","v":1},{"$f":"IF(SUM(PCdb[[#This Row],[BDhit]:[THREAD_Lhit]])=11,1,0)","v":0},{"$f":"CONCATENATE(PCdb[[#This Row],[BCD]],PCdb[[#This Row],[PD]],PCdb[[#This Row],[PL (MAX)]],PCdb[[#This Row],[SD]],PCdb[[#This Row],[SL]],PCdb[[#This Row],[SQ_SZ]],PCdb[[#This Row],[ROUND_D]],PCdb[[#This Row],[FL]],PCdb[[#This Row],[THRU_SCREW]],PCdb[[#This Row],[THREAD_SZ]],PCdb[[#This Row],[THREAD_L]],PCdb[[#This Row],[NBR_HOLES]])","v":"98,473,024123285,9NA8,4M6NANA4"},{"$f":"SUM(PCdb[[#This Row],[BDhit]:[THREAD_Lhit]])","v":4}]
[184,62.5,40,4,9,19.5,60,"NA",7.5,"M5","NA","NA",4,"M5",38.700000000000003,25,"NA","Y","B",45,90,null,null,null,null,null,null,null,null,null,null,null,null,null,null,null,null,null,null,null,null,null,null,null,null,null,null,null,null,null,null,null,null,{"$f":"IF(AND(PCdb[[#This Row],[BCD]]>UIoptions!$S$10,PCdb[[#This Row],[BCD]]<UIoptions!$T$10),1,0)","v":0},{"$f":"IF(AND(PCdb[[#This Row],[PD]]>UIoptions!$S$11,PCdb[[#This Row],[PD]]<UIoptions!$T$11),1,0)","v":1},{"$f":"IF(AND(UIoptions!$P$14<=PCdb[[#This Row],[PL (MAX)]],UIoptions!$P$14>UIoptions!$S$14),1,0)","v":1},{"$f":"IF(AND(PCdb[[#This Row],[SD]]>UIoptions!$S$12,PCdb[[#This Row],[SD]]<UIoptions!$T$12),1,0)","v":0},{"$f":"IF(AND(PCdb[[#This Row],[SL]]>UIoptions!$S$13,PCdb[[#This Row],[SL]]<UIoptions!$T$13),1,0)","v":0},{"$f":"IF(UIoptions!$N$35=1,IF(AND(PCdb[[#This Row],[SQ_SZ]]>UIoptions!$S$15,PCdb[[#This Row],[SQ_SZ]]<UIoptions!$T$15),1,0),1)","v":0},{"$f":"IF(UIoptions!$N$35=2,IF(AND(PCdb[[#This Row],[ROUND_D]]>UIoptions!$S$15,PCdb[[#This Row],[ROUND_D]]<UIoptions!$T$15),1,0),1)","v":1},{"$f":"IF(UIoptions!$N$75<>1,1,IF(AND(PCdb[[#This Row],[FL]]>UIoptions!$S$16,PCdb[[#This Row],[FL]]<UIoptions!$T$16),1,0))","v":0},{"$f":"IF(OR(UIoptions!$Q$18=PCdb[[#This Row],[THRU_SCREW]],UIoptions!$Q$18=\"NA\"),1,0)","v":0},{"$f":"IF(OR(UIoptions!$P$19=PCdb[[#This Row],[THREAD_SZ]],UIoptions!$P$19=\"NA\"),1,0)","v":1},{"$f":"IF(UIoptions!$N$75=1,1,IF(AND(PCdb[[#This Row],[THREAD_L]]>UIoptions!$S$17,PCdb[[#This Row],[THREAD_L]]<UIoptions!$T$17),1,0))","v":1},{"$f":"IF(SUM(PCdb[[#This Row],[BDhit]:[THREAD_Lhit]])=11,1,0)","v":0},{"$f":"CONCATENATE(PCdb[[#This Row],[BCD]],PCdb[[#This Row],[PD]],PCdb[[#This Row],[PL (MAX)]],PCdb[[#This Row],[SD]],PCdb[[#This Row],[SL]],PCdb[[#This Row],[SQ_SZ]],PCdb[[#This Row],[ROUND_D]],PCdb[[#This Row],[FL]],PCdb[[#This Row],[THRU_SCREW]],PCdb[[#This Row],[THREAD_SZ]],PCdb[[#This Row],[THREAD_L]],PCdb[[#This Row],[NBR_HOLES]])","v":"62,5404919,560NA7,5M5NANA4"},{"$f":"SUM(PCdb[[#This Row],[BDhit]:[THREAD_Lhit]])","v":5}]
[190,43.8,22,4,5,23.9,42.2,"NA","NA","NA","M3",12.7,4,4,36.200000000000003,"NA","NA","Y","B2",45,90,null,null,null,null,null,null,null,null,null,null,null,null,null,null,null,null,null,null,null,null,null,null,null,null,null,null,null,null,null,null,null,null,{"$f":"IF(AND(PCdb[[#This Row],[BCD]]>UIoptions!$S$10,PCdb[[#This Row],[BCD]]<UIoptions!$T$10),1,0)","v":0},{"$f":"IF(AND(PCdb[[#This Row],[PD]]>UIoptions!$S$11,PCdb[[#This Row],[PD]]<UIoptions!$T$11),1,0)","v":0},{"$f":"IF(AND(UIoptions!$P$14<=PCdb[[#This Row],[PL (MAX)]],UIoptions!$P$14>UIoptions!$S$14),1,0)","v":1},{"$f":"IF(AND(PCdb[[#This Row],[SD]]>UIoptions!$S$12,PCdb[[#This Row],[SD]]<UIoptions!$T$12),1,0)","v":0},{"$f":"IF(AND(PCdb[[#This Row],[SL]]>UIoptions!$S$13,PCdb[[#This Row],[SL]]<UIoptions!$T$13),1,0)","v":0},{"$f":"IF(UIoptions!$N$35=1,IF(AND(PCdb[[#This Row],[SQ_SZ]]>UIoptions!$S$15,PCdb[[#This Row],[SQ_SZ]]<UIoptions!$T$15),1,0),1)","v":0},{"$f":"IF(UIoptions!$N$35=2,IF(AND(PCdb[[#This Row],[ROUND_D]]>UIoptions!$S$15,PCdb[[#This Row],[ROUND_D]]<UIoptions!$T$15),1,0),1)","v":1},{"$f":"IF(UIoptions!$N$75<>1,1,IF(AND(PCdb[[#This Row],[FL]]>UIoptions!$S$16,PCdb[[#This Row],[FL]]<UIoptions!$T$16),1,0))","v":0},{"$f":"IF(OR(UIoptions!$Q$18=PCdb[[#This Row],[THRU_SCREW]],UIoptions!$Q$18=\"NA\"),1,0)","v":0},{"$f":"IF(OR(UIoptions!$P$19=PCdb[[#This Row],[THREAD_SZ]],UIoptions!$P$19=\"NA\"),1,0)","v":1},{"$f":"IF(UIoptions!$N$75=1,1,IF(AND(PCdb[[#This Row],[THREAD_L]]>UIoptions!$S$17,PCdb[[#This Row],[THREAD_L]]<UIoptions!$T$17),1,0))","v":1},{"$f":"IF(SUM(PCdb[[#This Row],[BDhit]:[THREAD_Lhit]])=11,1,0)","v":0},{"$f":"CONCATENATE(PCdb[[#This Row],[BCD]],PCdb[[#This Row],[PD]],PCdb[[#This Row],[PL (MAX)]],PCdb[[#This Row],[SD]],PCdb[[#This Row],[SL]],PCdb[[#This Row],[SQ_SZ]],PCdb[[#This Row],[ROUND_D]],PCdb[[#This Row],[FL]],PCdb[[#This Row],[THRU_SCREW]],PCdb[[#This Row],[THREAD_SZ]],PCdb[[#This Row],[THREAD_L]],PCdb[[#This Row],[NBR_HOLES]])","v":"43,8224523,942,2NANANAM312,74"},{"$f":"SUM(PCdb[[#This Row],[BDhit]:[THREAD_Lhit]])","v":4}]
[191,66.7,38.1,4,6.35,20.6,58.7,"NA",5,"M4","NA","NA",4,"M4",null,null,null,null,null,null,null,45.2,26,0,"Y","B",45,90,null,null,null,null,null,null,null,null,null,null,null,null,null,null,null,null,null,null,null,null,null,null,null,null,null,{"$f":"IF(AND(PCdb[[#This Row],[BCD]]>UIoptions!$S$10,PCdb[[#This Row],[BCD]]<UIoptions!$T$10),1,0)","v":0},{"$f":"IF(AND(PCdb[[#This Row],[PD]]>UIoptions!$S$11,PCdb[[#This Row],[PD]]<UIoptions!$T$11),1,0)","v":0},{"$f":"IF(AND(UIoptions!$P$14<=PCdb[[#This Row],[PL (MAX)]],UIoptions!$P$14>UIoptions!$S$14),1,0)","v":1},{"$f":"IF(AND(PCdb[[#This Row],[SD]]>UIoptions!$S$12,PCdb[[#This Row],[SD]]<UIoptions!$T$12),1,0)","v":0},{"$f":"IF(AND(PCdb[[#This Row],[SL]]>UIoptions!$S$13,PCdb[[#This Row],[SL]]<UIoptions!$T$13),1,0)","v":0},{"$f":"IF(UIoptions!$N$35=1,IF(AND(PCdb[[#This Row],[SQ_SZ]]>UIoptions!$S$15,PCdb[[#This Row],[SQ_SZ]]<UIoptions!$T$15),1,0),1)","v":0},{"$f":"IF(UIoptions!$N$35=2,IF(AND(PCdb[[#This Row],[ROUND_D]]>UIoptions!$S$15,PCdb[[#This Row],[ROUND_D]]<UIoptions!$T$15),1,0),1)","v":1},{"$f":"IF(UIoptions!$N$75<>1,1,IF(AND(PCdb[[#This Row],[FL]]>UIoptions!$S$16,PCdb[[#This Row],[FL]]<UIoptions!$T$16),1,0))","v":0},{"$f":"IF(OR(UIoptions!$Q$18=PCdb[[#This Row],[THRU_SCREW]],UIoptions!$Q$18=\"NA\"),1,0)","v":1},{"$f":"IF(OR(UIoptions!$P$19=PCdb[[#This Row],[THREAD_SZ]],UIoptions!$P$19=\"NA\"),1,0)","v":1},{"$f":"IF(UIoptions!$N$75=1,1,IF(AND(PCdb[[#This Row],[THREAD_L]]>UIoptions!$S$17,PCdb[[#This Row],[THREAD_L]]<UIoptions!$T$17),1,0))","v":1},{"$f":"IF(SUM(PCdb[[#This Row],[BDhit]:[THREAD_Lhit]])=11,1,0)","v":0},{"$f":"CONCATENATE(PCdb[[#This Row],[BCD]],PCdb[[#This Row],[PD]],PCdb[[#This Row],[PL (MAX)]],PCdb[[#This Row],[SD]],PCdb[[#This Row],[SL]],PCdb[[#This Row],[SQ_SZ]],PCdb[[#This Row],[ROUND_D]],PCdb[[#This Row],[FL]],PCdb[[#This Row],[THRU_SCREW]],PCdb[[#This Row],[THREAD_SZ]],PCdb[[#This Row],[THREAD_L]],PCdb[[#This Row],[NBR_HOLES]])","v":"66,738,146,3520,658,7NA5M4NANA4"},{"$f":"SUM(PCdb[[#This Row],[BDhit]:[THREAD_Lhit]])","v":5}]
[192,50,35,4,13,25.5,43,"NA",4.8,"M4","NA","NA",4,"M4",null,null,null,null,null,null,null,41.7,"NA","NA","N","SPLA-192",45,90,null,null,null,null,null,null,null,null,null,null,null,null,null,null,null,null,null,null,null,null,null,null,null,null,null,{"$f":"IF(AND(PCdb[[#This Row],[BCD]]>UIoptions!$S$10,PCdb[[#This Row],[BCD]]<UIoptions!$T$10),1,0)","v":0},{"$f":"IF(AND(PCdb[[#This Row],[PD]]>UIoptions!$S$11,PCdb[[#This Row],[PD]]<UIoptions!$T$11),1,0)","v":0},{"$f":"IF(AND(UIoptions!$P$14<=PCdb[[#This Row],[PL (MAX)]],UIoptions!$P$14>UIoptions!$S$14),1,0)","v":1},{"$f":"IF(AND(PCdb[[#This Row],[SD]]>UIoptions!$S$12,PCdb[[#This Row],[SD]]<UIoptions!$T$12),1,0)","v":0},{"$f":"IF(AND(PCdb[[#This Row],[SL]]>UIoptions!$S$13,PCdb[[#This Row],[SL]]<UIoptions!$T$13),1,0)","v":0},{"$f":"IF(UIoptions!$N$35=1,IF(AND(PCdb[[#This Row],[SQ_SZ]]>UIoptions!$S$15,PCdb[[#This Row],[SQ_SZ]]<UIoptions!$T$15),1,0),1)","v":0},{"$f":"IF(UIoptions!$N$35=2,IF(AND(PCdb[[#This Row],[ROUND_D]]>UIoptions!$S$15,PCdb[[#This Row],[ROUND_D]]<UIoptions!$T$15),1,0),1)","v":1},{"$f":"IF(UIoptions!$N$75<>1,1,IF(AND(PCdb[[#This Row],[FL]]>UIoptions!$S$16,PCdb[[#This Row],[FL]]<UIoptions!$T$16),1,0))","v":0},{"$f":"IF(OR(UIoptions!$Q$18=PCdb[[#This Row],[THRU_SCREW]],UIoptions!$Q$18=\"NA\"),1,0)","v":1},{"$f":"IF(OR(UIoptions!$P$19=PCdb[[#This Row],[THREAD_SZ]],UIoptions!$P$19=\"NA\"),1,0)","v":1},{"$f":"IF(UIoptions!$N$75=1,1,IF(AND(PCdb[[#This Row],[THREAD_L]]>UIoptions!$S$17,PCdb[[#This Row],[THREAD_L]]<UIoptions!$T$17),1,0))","v":1},{"$f":"IF(SUM(PCdb[[#This Row],[BDhit]:[THREAD_Lhit]])=11,1,0)","v":0},{"$f":"CONCATENATE(PCdb[[#This Row],[BCD]],PCdb[[#This Row],[PD]],PCdb[[#This Row],[PL (MAX)]],PCdb[[#This Row],[SD]],PCdb[[#This Row],[SL]],PCdb[[#This Row],[SQ_SZ]],PCdb[[#This Row],[ROUND_D]],PCdb[[#This Row],[FL]],PCdb[[#This Row],[THRU_SCREW]],PCdb[[#This Row],[THREAD_SZ]],PCdb[[#This Row],[THREAD_L]],PCdb[[#This Row],[NBR_HOLES]])","v":"503541325,543NA4,8M4NANA4"},{"$f":"SUM(PCdb[[#This Row],[BDhit]:[THREAD_Lhit]])","v":5}]
[193,66.7,38.1,4,8,24,56.2,"NA",7,"M4","NA","NA",4,"M4",null,null,null,null,null,null,null,null,null,null,null,null,null,null,null,null,null,null,null,null,null,24,"NA","Y","D",45,90,24,0,"Y","C",45,90,null,null,null,null,null,null,{"$f":"IF(AND(PCdb[[#This Row],[BCD]]>UIoptions!$S$10,PCdb[[#This Row],[BCD]]<UIoptions!$T$10),1,0)","v":0},{"$f":"IF(AND(PCdb[[#This Row],[PD]]>UIoptions!$S$11,PCdb[[#This Row],[PD]]<UIoptions!$T$11),1,0)","v":0},{"$f":"IF(AND(UIoptions!$P$14<=PCdb[[#This Row],[PL (MAX)]],UIoptions!$P$14>UIoptions!$S$14),1,0)","v":1},{"$f":"IF(AND(PCdb[[#This Row],[SD]]>UIoptions!$S$12,PCdb[[#This Row],[SD]]<UIoptions!$T$12),1,0)","v":0},{"$f":"IF(AND(PCdb[[#This Row],[SL]]>UIoptions!$S$13,PCdb[[#This Row],[SL]]<UIoptions!$T$13),1,0)","v":0},{"$f":"IF(UIoptions!$N$35=1,IF(AND(PCdb[[#This Row],[SQ_SZ]]>UIoptions!$S$15,PCdb[[#This Row],[SQ_SZ]]<UIoptions!$T$15),1,0),1)","v":0},{"$f":"IF(UIoptions!$N$35=2,IF(AND(PCdb[[#This Row],[ROUND_D]]>UIoptions!$S$15,PCdb[[#This Row],[ROUND_D]]<UIoptions!$T$15),1,0),1)","v":1},{"$f":"IF(UIoptions!$N$75<>1,1,IF(AND(PCdb[[#This Row],[FL]]>UIoptions!$S$16,PCdb[[#This Row],[FL]]<UIoptions!$T$16),1,0))","v":1},{"$f":"IF(OR(UIoptions!$Q$18=PCdb[[#This Row],[THRU_SCREW]],UIoptions!$Q$18=\"NA\"),1,0)","v":1},{"$f":"IF(OR(UIoptions!$P$19=PCdb[[#This Row],[THREAD_SZ]],UIoptions!$P$19=\"NA\"),1,0)","v":1},{"$f":"IF(UIoptions!$N$75=1,1,IF(AND(PCdb[[#This Row],[THREAD_L]]>UIoptions!$S$17,PCdb[[#This Row],[THREAD_L]]<UIoptions!$T$17),1,0))","v":1},{"$f":"IF(SUM(PCdb[[#This Row],[BDhit]:[THREAD_Lhit]])=11,1,0)","v":0},{"$f":"CONCATENATE(PCdb[[#This Row],[BCD]],PCdb[[#This Row],[PD]],PCdb[[#This Row],[PL (MAX)]],PCdb[[#This Row],[SD]],PCdb[[#This Row],[SL]],PCdb[[#This Row],[SQ_SZ]],PCdb[[#This Row],[ROUND_D]],PCdb[[#This Row],[FL]],PCdb[[#This Row],[THRU_SCREW]],PCdb[[#This Row],[THREAD_SZ]],PCdb[[#This Row],[THREAD_L]],PCdb[[#This Row],[NBR_HOLES]])","v":"66,738,1482456,2NA7M4NANA4"},{"$f":"SUM(PCdb[[#This Row],[BDhit]:[THREAD_Lhit]])","v":6}]
[194,46,30,4,8,27.5,40,"NA",5.2,"M4","NA","NA",4,"M4",null,null,null,null,null,null,null,null,null,null,null,null,null,null,null,null,null,null,null,null,null,17.5,"NA","Y","C",45,90,null,null,null,null,null,null,null,null,null,null,null,null,{"$f":"IF(AND(PCdb[[#This Row],[BCD]]>UIoptions!$S$10,PCdb[[#This Row],[BCD]]<UIoptions!$T$10),1,0)","v":0},{"$f":"IF(AND(PCdb[[#This Row],[PD]]>UIoptions!$S$11,PCdb[[#This Row],[PD]]<UIoptions!$T$11),1,0)","v":0},{"$f":"IF(AND(UIoptions!$P$14<=PCdb[[#This Row],[PL (MAX)]],UIoptions!$P$14>UIoptions!$S$14),1,0)","v":1},{"$f":"IF(AND(PCdb[[#This Row],[SD]]>UIoptions!$S$12,PCdb[[#This Row],[SD]]<UIoptions!$T$12),1,0)","v":0},{"$f":"IF(AND(PCdb[[#This Row],[SL]]>UIoptions!$S$13,PCdb[[#This Row],[SL]]<UIoptions!$T$13),1,0)","v":0},{"$f":"IF(UIoptions!$N$35=1,IF(AND(PCdb[[#This Row],[SQ_SZ]]>UIoptions!$S$15,PCdb[[#This Row],[SQ_SZ]]<UIoptions!$T$15),1,0),1)","v":0},{"$f":"IF(UIoptions!$N$35=2,IF(AND(PCdb[[#This Row],[ROUND_D]]>UIoptions!$S$15,PCdb[[#This Row],[ROUND_D]]<UIoptions!$T$15),1,0),1)","v":1},{"$f":"IF(UIoptions!$N$75<>1,1,IF(AND(PCdb[[#This Row],[FL]]>UIoptions!$S$16,PCdb[[#This Row],[FL]]<UIoptions!$T$16),1,0))","v":0},{"$f":"IF(OR(UIoptions!$Q$18=PCdb[[#This Row],[THRU_SCREW]],UIoptions!$Q$18=\"NA\"),1,0)","v":1},{"$f":"IF(OR(UIoptions!$P$19=PCdb[[#This Row],[THREAD_SZ]],UIoptions!$P$19=\"NA\"),1,0)","v":1},{"$f":"IF(UIoptions!$N$75=1,1,IF(AND(PCdb[[#This Row],[THREAD_L]]>UIoptions!$S$17,PCdb[[#This Row],[THREAD_L]]<UIoptions!$T$17),1,0))","v":1},{"$f":"IF(SUM(PCdb[[#This Row],[BDhit]:[THREAD_Lhit]])=11,1,0)","v":0},{"$f":"CONCATENATE(PCdb[[#This Row],[BCD]],PCdb[[#This Row],[PD]],PCdb[[#This Row],[PL (MAX)]],PCdb[[#This Row],[SD]],PCdb[[#This Row],[SL]],PCdb[[#This Row],[SQ_SZ]],PCdb[[#This Row],[ROUND_D]],PCdb[[#This Row],[FL]],PCdb[[#This Row],[THRU_SCREW]],PCdb[[#This Row],[THREAD_SZ]],PCdb[[#This Row],[THREAD_L]],PCdb[[#This Row],[NBR_HOLES]])","v":"46304827,540NA5,2M4NANA4"},{"$f":"SUM(PCdb[[#This Row],[BDhit]:[THREAD_Lhit]])","v":5}]
[195,50,26,4,10,26,45,"NA",8,"M3","NA","NA",4,"M3",38.700000000000003,21,"NA","Y","B",45,90,null,null,null,null,null,null,null,null,null,null,null,null,null,null,null,null,null,null,null,null,null,null,null,null,null,null,null,null,null,null,null,null,{"$f":"IF(AND(PCdb[[#This Row],[BCD]]>UIoptions!$S$10,PCdb[[#This Row],[BCD]]<UIoptions!$T$10),1,0)","v":0},{"$f":"IF(AND(PCdb[[#This Row],[PD]]>UIoptions!$S$11,PCdb[[#This Row],[PD]]<UIoptions!$T$11),1,0)","v":0},{"$f":"IF(AND(UIoptions!$P$14<=PCdb[[#This Row],[PL (MAX)]],UIoptions!$P$14>UIoptions!$S$14),1,0)","v":1},{"$f":"IF(AND(PCdb[[#This Row],[SD]]>UIoptions!$S$12,PCdb[[#This Row],[SD]]<UIoptions!$T$12),1,0)","v":0},{"$f":"IF(AND(PCdb[[#This Row],[SL]]>UIoptions!$S$13,PCdb[[#This Row],[SL]]<UIoptions!$T$13),1,0)","v":0},{"$f":"IF(UIoptions!$N$35=1,IF(AND(PCdb[[#This Row],[SQ_SZ]]>UIoptions!$S$15,PCdb[[#This Row],[SQ_SZ]]<UIoptions!$T$15),1,0),1)","v":0},{"$f":"IF(UIoptions!$N$35=2,IF(AND(PCdb[[#This Row],[ROUND_D]]>UIoptions!$S$15,PCdb[[#This Row],[ROUND_D]]<UIoptions!$T$15),1,0),1)","v":1},{"$f":"IF(UIoptions!$N$75<>1,1,IF(AND(PCdb[[#This Row],[FL]]>UIoptions!$S$16,PCdb[[#This Row],[FL]]<UIoptions!$T$16),1,0))","v":0},{"$f":"IF(OR(UIoptions!$Q$18=PCdb[[#This Row],[THRU_SCREW]],UIoptions!$Q$18=\"NA\"),1,0)","v":0},{"$f":"IF(OR(UIoptions!$P$19=PCdb[[#This Row],[THREAD_SZ]],UIoptions!$P$19=\"NA\"),1,0)","v":1},{"$f":"IF(UIoptions!$N$75=1,1,IF(AND(PCdb[[#This Row],[THREAD_L]]>UIoptions!$S$17,PCdb[[#This Row],[THREAD_L]]<UIoptions!$T$17),1,0))","v":1},{"$f":"IF(SUM(PCdb[[#This Row],[BDhit]:[THREAD_Lhit]])=11,1,0)","v":0},{"$f":"CONCATENATE(PCdb[[#This Row],[BCD]],PCdb[[#This Row],[PD]],PCdb[[#This Row],[PL (MAX)]],PCdb[[#This Row],[SD]],PCdb[[#This Row],[SL]],PCdb[[#This Row],[SQ_SZ]],PCdb[[#This Row],[ROUND_D]],PCdb[[#This Row],[FL]],PCdb[[#This Row],[THRU_SCREW]],PCdb[[#This Row],[THREAD_SZ]],PCdb[[#This Row],[THREAD_L]],PCdb[[#This Row],[NBR_HOLES]])","v":"50264102645NA8M3NANA4"},{"$f":"SUM(PCdb[[#This Row],[BDhit]:[THREAD_Lhit]])","v":4}]
[200,63,40,4,11,25,56.5,"NA",18,"M5","NA","NA",4,"M5",38.700000000000003,25,"NA","Y","B",45,90,null,null,null,null,null,null,null,null,null,null,null,null,null,null,null,null,null,null,null,null,null,null,null,null,null,null,null,null,null,null,null,null,{"$f":"IF(AND(PCdb[[#This Row],[BCD]]>UIoptions!$S$10,PCdb[[#This Row],[BCD]]<UIoptions!$T$10),1,0)","v":1},{"$f":"IF(AND(PCdb[[#This Row],[PD]]>UIoptions!$S$11,PCdb[[#This Row],[PD]]<UIoptions!$T$11),1,0)","v":1},{"$f":"IF(AND(UIoptions!$P$14<=PCdb[[#This Row],[PL (MAX)]],UIoptions!$P$14>UIoptions!$S$14),1,0)","v":1},{"$f":"IF(AND(PCdb[[#This Row],[SD]]>UIoptions!$S$12,PCdb[[#This Row],[SD]]<UIoptions!$T$12),1,0)","v":0},{"$f":"IF(AND(PCdb[[#This Row],[SL]]>UIoptions!$S$13,PCdb[[#This Row],[SL]]<UIoptions!$T$13),1,0)","v":0},{"$f":"IF(UIoptions!$N$35=1,IF(AND(PCdb[[#This Row],[SQ_SZ]]>UIoptions!$S$15,PCdb[[#This Row],[SQ_SZ]]<UIoptions!$T$15),1,0),1)","v":0},{"$f":"IF(UIoptions!$N$35=2,IF(AND(PCdb[[#This Row],[ROUND_D]]>UIoptions!$S$15,PCdb[[#This Row],[ROUND_D]]<UIoptions!$T$15),1,0),1)","v":1},{"$f":"IF(UIoptions!$N$75<>1,1,IF(AND(PCdb[[#This Row],[FL]]>UIoptions!$S$16,PCdb[[#This Row],[FL]]<UIoptions!$T$16),1,0))","v":0},{"$f":"IF(OR(UIoptions!$Q$18=PCdb[[#This Row],[THRU_SCREW]],UIoptions!$Q$18=\"NA\"),1,0)","v":0},{"$f":"IF(OR(UIoptions!$P$19=PCdb[[#This Row],[THREAD_SZ]],UIoptions!$P$19=\"NA\"),1,0)","v":1},{"$f":"IF(UIoptions!$N$75=1,1,IF(AND(PCdb[[#This Row],[THREAD_L]]>UIoptions!$S$17,PCdb[[#This Row],[THREAD_L]]<UIoptions!$T$17),1,0))","v":1},{"$f":"IF(SUM(PCdb[[#This Row],[BDhit]:[THREAD_Lhit]])=11,1,0)","v":0},{"$f":"CONCATENATE(PCdb[[#This Row],[BCD]],PCdb[[#This Row],[PD]],PCdb[[#This Row],[PL (MAX)]],PCdb[[#This Row],[SD]],PCdb[[#This Row],[SL]],PCdb[[#This Row],[SQ_SZ]],PCdb[[#This Row],[ROUND_D]],PCdb[[#This Row],[FL]],PCdb[[#This Row],[THRU_SCREW]],PCdb[[#This Row],[THREAD_SZ]],PCdb[[#This Row],[THREAD_L]],PCdb[[#This Row],[NBR_HOLES]])","v":"63404112556,5NA18M5NANA4"},{"$f":"SUM(PCdb[[#This Row],[BDhit]:[THREAD_Lhit]])","v":6}]
[201,77.5,60,4,11,23,71,"NA",8.5,"M5","NA","NA",4,"M5",null,null,null,null,null,null,null,45.2,32,"NA","Y","B",45,90,null,null,null,null,null,null,null,null,null,null,null,null,null,null,null,null,null,null,null,null,null,null,null,null,null,{"$f":"IF(AND(PCdb[[#This Row],[BCD]]>UIoptions!$S$10,PCdb[[#This Row],[BCD]]<UIoptions!$T$10),1,0)","v":0},{"$f":"IF(AND(PCdb[[#This Row],[PD]]>UIoptions!$S$11,PCdb[[#This Row],[PD]]<UIoptions!$T$11),1,0)","v":0},{"$f":"IF(AND(UIoptions!$P$14<=PCdb[[#This Row],[PL (MAX)]],UIoptions!$P$14>UIoptions!$S$14),1,0)","v":1},{"$f":"IF(AND(PCdb[[#This Row],[SD]]>UIoptions!$S$12,PCdb[[#This Row],[SD]]<UIoptions!$T$12),1,0)","v":0},{"$f":"IF(AND(PCdb[[#This Row],[SL]]>UIoptions!$S$13,PCdb[[#This Row],[SL]]<UIoptions!$T$13),1,0)","v":0},{"$f":"IF(UIoptions!$N$35=1,IF(AND(PCdb[[#This Row],[SQ_SZ]]>UIoptions!$S$15,PCdb[[#This Row],[SQ_SZ]]<UIoptions!$T$15),1,0),1)","v":0},{"$f":"IF(UIoptions!$N$35=2,IF(AND(PCdb[[#This Row],[ROUND_D]]>UIoptions!$S$15,PCdb[[#This Row],[ROUND_D]]<UIoptions!$T$15),1,0),1)","v":1},{"$f":"IF(UIoptions!$N$75<>1,1,IF(AND(PCdb[[#This Row],[FL]]>UIoptions!$S$16,PCdb[[#This Row],[FL]]<UIoptions!$T$16),1,0))","v":0},{"$f":"IF(OR(UIoptions!$Q$18=PCdb[[#This Row],[THRU_SCREW]],UIoptions!$Q$18=\"NA\"),1,0)","v":0},{"$f":"IF(OR(UIoptions!$P$19=PCdb[[#This Row],[THREAD_SZ]],UIoptions!$P$19=\"NA\"),1,0)","v":1},{"$f":"IF(UIoptions!$N$75=1,1,IF(AND(PCdb[[#This Row],[THREAD_L]]>UIoptions!$S$17,PCdb[[#This Row],[THREAD_L]]<UIoptions!$T$17),1,0))","v":1},{"$f":"IF(SUM(PCdb[[#This Row],[BDhit]:[THREAD_Lhit]])=11,1,0)","v":0},{"$f":"CONCATENATE(PCdb[[#This Row],[BCD]],PCdb[[#This Row],[PD]],PCdb[[#This Row],[PL (MAX)]],PCdb[[#This Row],[SD]],PCdb[[#This Row],[SL]],PCdb[[#This Row],[SQ_SZ]],PCdb[[#This Row],[ROUND_D]],PCdb[[#This Row],[FL]],PCdb[[#This Row],[THRU_SCREW]],PCdb[[#This Row],[THREAD_SZ]],PCdb[[#This Row],[THREAD_L]],PCdb[[#This Row],[NBR_HOLES]])","v":"77,5604112371NA8,5M5NANA4"},{"$f":"SUM(PCdb[[#This Row],[BDhit]:[THREAD_Lhit]])","v":4}]
[202,100,80,4,14,30,89,"NA",8,"M6","NA","NA",4,"M6",null,null,null,null,null,null,null,45.2,"NA","NA","N","B",45,90,48.7,42,"NA","Y","B",45,90,null,null,null,null,null,null,null,null,null,null,null,null,42,"NA","Y","D",45,90,{"$f":"IF(AND(PCdb[[#This Row],[BCD]]>UIoptions!$S$10,PCdb[[#This Row],[BCD]]<UIoptions!$T$10),1,0)","v":0},{"$f":"IF(AND(PCdb[[#This Row],[PD]]>UIoptions!$S$11,PCdb[[#This Row],[PD]]<UIoptions!$T$11),1,0)","v":0},{"$f":"IF(AND(UIoptions!$P$14<=PCdb[[#This Row],[PL (MAX)]],UIoptions!$P$14>UIoptions!$S$14),1,0)","v":1},{"$f":"IF(AND(PCdb[[#This Row],[SD]]>UIoptions!$S$12,PCdb[[#This Row],[SD]]<UIoptions!$T$12),1,0)","v":0},{"$f":"IF(AND(PCdb[[#This Row],[SL]]>UIoptions!$S$13,PCdb[[#This Row],[SL]]<UIoptions!$T$13),1,0)","v":0},{"$f":"IF(UIoptions!$N$35=1,IF(AND(PCdb[[#This Row],[SQ_SZ]]>UIoptions!$S$15,PCdb[[#This Row],[SQ_SZ]]<UIoptions!$T$15),1,0),1)","v":0},{"$f":"IF(UIoptions!$N$35=2,IF(AND(PCdb[[#This Row],[ROUND_D]]>UIoptions!$S$15,PCdb[[#This Row],[ROUND_D]]<UIoptions!$T$15),1,0),1)","v":1},{"$f":"IF(UIoptions!$N$75<>1,1,IF(AND(PCdb[[#This Row],[FL]]>UIoptions!$S$16,PCdb[[#This Row],[FL]]<UIoptions!$T$16),1,0))","v":0},{"$f":"IF(OR(UIoptions!$Q$18=PCdb[[#This Row],[THRU_SCREW]],UIoptions!$Q$18=\"NA\"),1,0)","v":0},{"$f":"IF(OR(UIoptions!$P$19=PCdb[[#This Row],[THREAD_SZ]],UIoptions!$P$19=\"NA\"),1,0)","v":1},{"$f":"IF(UIoptions!$N$75=1,1,IF(AND(PCdb[[#This Row],[THREAD_L]]>UIoptions!$S$17,PCdb[[#This Row],[THREAD_L]]<UIoptions!$T$17),1,0))","v":1},{"$f":"IF(SUM(PCdb[[#This Row],[BDhit]:[THREAD_Lhit]])=11,1,0)","v":0},{"$f":"CONCATENATE(PCdb[[#This Row],[BCD]],PCdb[[#This Row],[PD]],PCdb[[#This Row],[PL (MAX)]],PCdb[[#This Row],[SD]],PCdb[[#This Row],[SL]],PCdb[[#This Row],[SQ_SZ]],PCdb[[#This Row],[ROUND_D]],PCdb[[#This Row],[FL]],PCdb[[#This Row],[THRU_SCREW]],PCdb[[#This Row],[THREAD_SZ]],PCdb[[#This Row],[THREAD_L]],PCdb[[#This Row],[NBR_HOLES]])","v":"100804143089NA8M6NANA4"},{"$f":"SUM(PCdb[[#This Row],[BDhit]:[THREAD_Lhit]])","v":4}]
[203,35,26,4,10,27,"NA",42,"NA","NA","M4",8,4,5,null,null,null,null,null,null,null,null,null,null,null,null,null,null,null,null,null,null,null,null,null,"NA","NA",null,"SPLD2-203",45,90,null,null,null,null,null,null,null,null,null,null,null,null,{"$f":"IF(AND(PCdb[[#This Row],[BCD]]>UIoptions!$S$10,PCdb[[#This Row],[BCD]]<UIoptions!$T$10),1,0)","v":0},{"$f":"IF(AND(PCdb[[#This Row],[PD]]>UIoptions!$S$11,PCdb[[#This Row],[PD]]<UIoptions!$T$11),1,0)","v":0},{"$f":"IF(AND(UIoptions!$P$14<=PCdb[[#This Row],[PL (MAX)]],UIoptions!$P$14>UIoptions!$S$14),1,0)","v":1},{"$f":"IF(AND(PCdb[[#This Row],[SD]]>UIoptions!$S$12,PCdb[[#This Row],[SD]]<UIoptions!$T$12),1,0)","v":0},{"$f":"IF(AND(PCdb[[#This Row],[SL]]>UIoptions!$S$13,PCdb[[#This Row],[SL]]<UIoptions!$T$13),1,0)","v":0},{"$f":"IF(UIoptions!$N$35=1,IF(AND(PCdb[[#This Row],[SQ_SZ]]>UIoptions!$S$15,PCdb[[#This Row],[SQ_SZ]]<UIoptions!$T$15),1,0),1)","v":0},{"$f":"IF(UIoptions!$N$35=2,IF(AND(PCdb[[#This Row],[ROUND_D]]>UIoptions!$S$15,PCdb[[#This Row],[ROUND_D]]<UIoptions!$T$15),1,0),1)","v":1},{"$f":"IF(UIoptions!$N$75<>1,1,IF(AND(PCdb[[#This Row],[FL]]>UIoptions!$S$16,PCdb[[#This Row],[FL]]<UIoptions!$T$16),1,0))","v":0},{"$f":"IF(OR(UIoptions!$Q$18=PCdb[[#This Row],[THRU_SCREW]],UIoptions!$Q$18=\"NA\"),1,0)","v":0},{"$f":"IF(OR(UIoptions!$P$19=PCdb[[#This Row],[THREAD_SZ]],UIoptions!$P$19=\"NA\"),1,0)","v":1},{"$f":"IF(UIoptions!$N$75=1,1,IF(AND(PCdb[[#This Row],[THREAD_L]]>UIoptions!$S$17,PCdb[[#This Row],[THREAD_L]]<UIoptions!$T$17),1,0))","v":1},{"$f":"IF(SUM(PCdb[[#This Row],[BDhit]:[THREAD_Lhit]])=11,1,0)","v":0},{"$f":"CONCATENATE(PCdb[[#This Row],[BCD]],PCdb[[#This Row],[PD]],PCdb[[#This Row],[PL (MAX)]],PCdb[[#This Row],[SD]],PCdb[[#This Row],[SL]],PCdb[[#This Row],[SQ_SZ]],PCdb[[#This Row],[ROUND_D]],PCdb[[#This Row],[FL]],PCdb[[#This Row],[THRU_SCREW]],PCdb[[#This Row],[THREAD_SZ]],PCdb[[#This Row],[THREAD_L]],PCdb[[#This Row],[NBR_HOLES]])","v":"352641027NA42NANAM484"},{"$f":"SUM(PCdb[[#This Row],[BDhit]:[THREAD_Lhit]])","v":4}]
[204,50,35,6.5,13,26,42,"NA",4,"M3","NA","NA",4,"M3",null,null,null,null,null,null,null,null,null,null,null,null,null,null,null,null,null,null,null,null,null,null,null,null,null,null,null,"NA","NA","Y","32PASPLC-204",45,90,"NA","NA","Y","40PASPLC-204",45,90,{"$f":"IF(AND(PCdb[[#This Row],[BCD]]>UIoptions!$S$10,PCdb[[#This Row],[BCD]]<UIoptions!$T$10),1,0)","v":0},{"$f":"IF(AND(PCdb[[#This Row],[PD]]>UIoptions!$S$11,PCdb[[#This Row],[PD]]<UIoptions!$T$11),1,0)","v":0},{"$f":"IF(AND(UIoptions!$P$14<=PCdb[[#This Row],[PL (MAX)]],UIoptions!$P$14>UIoptions!$S$14),1,0)","v":1},{"$f":"IF(AND(PCdb[[#This Row],[SD]]>UIoptions!$S$12,PCdb[[#This Row],[SD]]<UIoptions!$T$12),1,0)","v":0},{"$f":"IF(AND(PCdb[[#This Row],[SL]]>UIoptions!$S$13,PCdb[[#This Row],[SL]]<UIoptions!$T$13),1,0)","v":0},{"$f":"IF(UIoptions!$N$35=1,IF(AND(PCdb[[#This Row],[SQ_SZ]]>UIoptions!$S$15,PCdb[[#This Row],[SQ_SZ]]<UIoptions!$T$15),1,0),1)","v":0},{"$f":"IF(UIoptions!$N$35=2,IF(AND(PCdb[[#This Row],[ROUND_D]]>UIoptions!$S$15,PCdb[[#This Row],[ROUND_D]]<UIoptions!$T$15),1,0),1)","v":1},{"$f":"IF(UIoptions!$N$75<>1,1,IF(AND(PCdb[[#This Row],[FL]]>UIoptions!$S$16,PCdb[[#This Row],[FL]]<UIoptions!$T$16),1,0))","v":0},{"$f":"IF(OR(UIoptions!$Q$18=PCdb[[#This Row],[THRU_SCREW]],UIoptions!$Q$18=\"NA\"),1,0)","v":0},{"$f":"IF(OR(UIoptions!$P$19=PCdb[[#This Row],[THREAD_SZ]],UIoptions!$P$19=\"NA\"),1,0)","v":1},{"$f":"IF(UIoptions!$N$75=1,1,IF(AND(PCdb[[#This Row],[THREAD_L]]>UIoptions!$S$17,PCdb[[#This Row],[THREAD_L]]<UIoptions!$T$17),1,0))","v":1},{"$f":"IF(SUM(PCdb[[#This Row],[BDhit]:[THREAD_Lhit]])=11,1,0)","v":0},{"$f":"CONCATENATE(PCdb[[#This Row],[BCD]],PCdb[[#This Row],[PD]],PCdb[[#This Row],[PL (MAX)]],PCdb[[#This Row],[SD]],PCdb[[#This Row],[SL]],PCdb[[#This Row],[SQ_SZ]],PCdb[[#This Row],[ROUND_D]],PCdb[[#This Row],[FL]],PCdb[[#This Row],[THRU_SCREW]],PCdb[[#This Row],[THREAD_SZ]],PCdb[[#This Row],[THREAD_L]],PCdb[[#This Row],[NBR_HOLES]])","v":"50356,5132642NA4M3NANA4"},{"$f":"SUM(PCdb[[#This Row],[BDhit]:[THREAD_Lhit]])","v":4}]
[205,43.8,22,4,5,20,42.7,"NA","NA","NA","M3",4.5,4,4,null,null,null,null,null,null,null,45.2,"NA","NA","Y","B2",45,90,null,null,null,null,null,null,null,null,null,null,null,null,null,null,null,null,null,null,null,null,null,null,null,null,null,{"$f":"IF(AND(PCdb[[#This Row],[BCD]]>UIoptions!$S$10,PCdb[[#This Row],[BCD]]<UIoptions!$T$10),1,0)","v":0},{"$f":"IF(AND(PCdb[[#This Row],[PD]]>UIoptions!$S$11,PCdb[[#This Row],[PD]]<UIoptions!$T$11),1,0)","v":0},{"$f":"IF(AND(UIoptions!$P$14<=PCdb[[#This Row],[PL (MAX)]],UIoptions!$P$14>UIoptions!$S$14),1,0)","v":1},{"$f":"IF(AND(PCdb[[#This Row],[SD]]>UIoptions!$S$12,PCdb[[#This Row],[SD]]<UIoptions!$T$12),1,0)","v":0},{"$f":"IF(AND(PCdb[[#This Row],[SL]]>UIoptions!$S$13,PCdb[[#This Row],[SL]]<UIoptions!$T$13),1,0)","v":1},{"$f":"IF(UIoptions!$N$35=1,IF(AND(PCdb[[#This Row],[SQ_SZ]]>UIoptions!$S$15,PCdb[[#This Row],[SQ_SZ]]<UIoptions!$T$15),1,0),1)","v":0},{"$f":"IF(UIoptions!$N$35=2,IF(AND(PCdb[[#This Row],[ROUND_D]]>UIoptions!$S$15,PCdb[[#This Row],[ROUND_D]]<UIoptions!$T$15),1,0),1)","v":1},{"$f":"IF(UIoptions!$N$75<>1,1,IF(AND(PCdb[[#This Row],[FL]]>UIoptions!$S$16,PCdb[[#This Row],[FL]]<UIoptions!$T$16),1,0))","v":0},{"$f":"IF(OR(UIoptions!$Q$18=PCdb[[#This Row],[THRU_SCREW]],UIoptions!$Q$18=\"NA\"),1,0)","v":0},{"$f":"IF(OR(UIoptions!$P$19=PCdb[[#This Row],[THREAD_SZ]],UIoptions!$P$19=\"NA\"),1,0)","v":1},{"$f":"IF(UIoptions!$N$75=1,1,IF(AND(PCdb[[#This Row],[THREAD_L]]>UIoptions!$S$17,PCdb[[#This Row],[THREAD_L]]<UIoptions!$T$17),1,0))","v":1},{"$f":"IF(SUM(PCdb[[#This Row],[BDhit]:[THREAD_Lhit]])=11,1,0)","v":0},{"$f":"CONCATENATE(PCdb[[#This Row],[BCD]],PCdb[[#This Row],[PD]],PCdb[[#This Row],[PL (MAX)]],PCdb[[#This Row],[SD]],PCdb[[#This Row],[SL]],PCdb[[#This Row],[SQ_SZ]],PCdb[[#This Row],[ROUND_D]],PCdb[[#This Row],[FL]],PCdb[[#This Row],[THRU_SCREW]],PCdb[[#This Row],[THREAD_SZ]],PCdb[[#This Row],[THREAD_L]],PCdb[[#This Row],[NBR_HOLES]])","v":"43,822452042,7NANANAM34,54"},{"$f":"SUM(PCdb[[#This Row],[BDhit]:[THREAD_Lhit]])","v":5}]
[206,66.7,38.1,4,6.35,21,56.4,"NA",5,"M4","NA","NA",4,"M4",38.700000000000003,22,"NA","Y","B",45,90,null,null,null,null,null,null,null,null,null,null,null,null,null,null,null,null,null,null,null,null,23,"NA","Y","C",45,90,null,null,null,null,null,null,{"$f":"IF(AND(PCdb[[#This Row],[BCD]]>UIoptions!$S$10,PCdb[[#This Row],[BCD]]<UIoptions!$T$10),1,0)","v":0},{"$f":"IF(AND(PCdb[[#This Row],[PD]]>UIoptions!$S$11,PCdb[[#This Row],[PD]]<UIoptions!$T$11),1,0)","v":0},{"$f":"IF(AND(UIoptions!$P$14<=PCdb[[#This Row],[PL (MAX)]],UIoptions!$P$14>UIoptions!$S$14),1,0)","v":1},{"$f":"IF(AND(PCdb[[#This Row],[SD]]>UIoptions!$S$12,PCdb[[#This Row],[SD]]<UIoptions!$T$12),1,0)","v":0},{"$f":"IF(AND(PCdb[[#This Row],[SL]]>UIoptions!$S$13,PCdb[[#This Row],[SL]]<UIoptions!$T$13),1,0)","v":0},{"$f":"IF(UIoptions!$N$35=1,IF(AND(PCdb[[#This Row],[SQ_SZ]]>UIoptions!$S$15,PCdb[[#This Row],[SQ_SZ]]<UIoptions!$T$15),1,0),1)","v":0},{"$f":"IF(UIoptions!$N$35=2,IF(AND(PCdb[[#This Row],[ROUND_D]]>UIoptions!$S$15,PCdb[[#This Row],[ROUND_D]]<UIoptions!$T$15),1,0),1)","v":1},{"$f":"IF(UIoptions!$N$75<>1,1,IF(AND(PCdb[[#This Row],[FL]]>UIoptions!$S$16,PCdb[[#This Row],[FL]]<UIoptions!$T$16),1,0))","v":0},{"$f":"IF(OR(UIoptions!$Q$18=PCdb[[#This Row],[THRU_SCREW]],UIoptions!$Q$18=\"NA\"),1,0)","v":1},{"$f":"IF(OR(UIoptions!$P$19=PCdb[[#This Row],[THREAD_SZ]],UIoptions!$P$19=\"NA\"),1,0)","v":1},{"$f":"IF(UIoptions!$N$75=1,1,IF(AND(PCdb[[#This Row],[THREAD_L]]>UIoptions!$S$17,PCdb[[#This Row],[THREAD_L]]<UIoptions!$T$17),1,0))","v":1},{"$f":"IF(SUM(PCdb[[#This Row],[BDhit]:[THREAD_Lhit]])=11,1,0)","v":0},{"$f":"CONCATENATE(PCdb[[#This Row],[BCD]],PCdb[[#This Row],[PD]],PCdb[[#This Row],[PL (MAX)]],PCdb[[#This Row],[SD]],PCdb[[#This Row],[SL]],PCdb[[#This Row],[SQ_SZ]],PCdb[[#This Row],[ROUND_D]],PCdb[[#This Row],[FL]],PCdb[[#This Row],[THRU_SCREW]],PCdb[[#This Row],[THREAD_SZ]],PCdb[[#This Row],[THREAD_L]],PCdb[[#This Row],[NBR_HOLES]])","v":"66,738,146,352156,4NA5M4NANA4"},{"$f":"SUM(PCdb[[#This Row],[BDhit]:[THREAD_Lhit]])","v":5}]
[207,63,40,4,9,19.7,55,"NA",9,"M5","NA","NA",4,"M5",38.700000000000003,23,"NA","Y","B",45,90,null,null,null,null,null,null,null,null,null,null,null,null,null,null,23,"NA","Y","D",45,90,null,null,null,null,null,null,null,null,null,null,null,null,{"$f":"IF(AND(PCdb[[#This Row],[BCD]]>UIoptions!$S$10,PCdb[[#This Row],[BCD]]<UIoptions!$T$10),1,0)","v":1},{"$f":"IF(AND(PCdb[[#This Row],[PD]]>UIoptions!$S$11,PCdb[[#This Row],[PD]]<UIoptions!$T$11),1,0)","v":1},{"$f":"IF(AND(UIoptions!$P$14<=PCdb[[#This Row],[PL (MAX)]],UIoptions!$P$14>UIoptions!$S$14),1,0)","v":1},{"$f":"IF(AND(PCdb[[#This Row],[SD]]>UIoptions!$S$12,PCdb[[#This Row],[SD]]<UIoptions!$T$12),1,0)","v":0},{"$f":"IF(AND(PCdb[[#This Row],[SL]]>UIoptions!$S$13,PCdb[[#This Row],[SL]]<UIoptions!$T$13),1,0)","v":0},{"$f":"IF(UIoptions!$N$35=1,IF(AND(PCdb[[#This Row],[SQ_SZ]]>UIoptions!$S$15,PCdb[[#This Row],[SQ_SZ]]<UIoptions!$T$15),1,0),1)","v":0},{"$f":"IF(UIoptions!$N$35=2,IF(AND(PCdb[[#This Row],[ROUND_D]]>UIoptions!$S$15,PCdb[[#This Row],[ROUND_D]]<UIoptions!$T$15),1,0),1)","v":1},{"$f":"IF(UIoptions!$N$75<>1,1,IF(AND(PCdb[[#This Row],[FL]]>UIoptions!$S$16,PCdb[[#This Row],[FL]]<UIoptions!$T$16),1,0))","v":0},{"$f":"IF(OR(UIoptions!$Q$18=PCdb[[#This Row],[THRU_SCREW]],UIoptions!$Q$18=\"NA\"),1,0)","v":0},{"$f":"IF(OR(UIoptions!$P$19=PCdb[[#This Row],[THREAD_SZ]],UIoptions!$P$19=\"NA\"),1,0)","v":1},{"$f":"IF(UIoptions!$N$75=1,1,IF(AND(PCdb[[#This Row],[THREAD_L]]>UIoptions!$S$17,PCdb[[#This Row],[THREAD_L]]<UIoptions!$T$17),1,0))","v":1},{"$f":"IF(SUM(PCdb[[#This Row],[BDhit]:[THREAD_Lhit]])=11,1,0)","v":0},{"$f":"CONCATENATE(PCdb[[#This Row],[BCD]],PCdb[[#This Row],[PD]],PCdb[[#This Row],[PL (MAX)]],PCdb[[#This Row],[SD]],PCdb[[#This Row],[SL]],PCdb[[#This Row],[SQ_SZ]],PCdb[[#This Row],[ROUND_D]],PCdb[[#This Row],[FL]],PCdb[[#This Row],[THRU_SCREW]],PCdb[[#This Row],[THREAD_SZ]],PCdb[[#This Row],[THREAD_L]],PCdb[[#This Row],[NBR_HOLES]])","v":"63404919,755NA9M5NANA4"},{"$f":"SUM(PCdb[[#This Row],[BDhit]:[THREAD_Lhit]])","v":6}]
[208,63,50,4,12,22,55,"NA",17,"M5","NA","NA",4,"M5",null,null,null,null,null,null,null,null,null,null,null,null,null,null,null,null,null,null,null,null,null,null,null,null,null,null,null,26,"NA","Y","C",45,90,null,null,null,null,null,null,{"$f":"IF(AND(PCdb[[#This Row],[BCD]]>UIoptions!$S$10,PCdb[[#This Row],[BCD]]<UIoptions!$T$10),1,0)","v":1},{"$f":"IF(AND(PCdb[[#This Row],[PD]]>UIoptions!$S$11,PCdb[[#This Row],[PD]]<UIoptions!$T$11),1,0)","v":0},{"$f":"IF(AND(UIoptions!$P$14<=PCdb[[#This Row],[PL (MAX)]],UIoptions!$P$14>UIoptions!$S$14),1,0)","v":1},{"$f":"IF(AND(PCdb[[#This Row],[SD]]>UIoptions!$S$12,PCdb[[#This Row],[SD]]<UIoptions!$T$12),1,0)","v":0},{"$f":"IF(AND(PCdb[[#This Row],[SL]]>UIoptions!$S$13,PCdb[[#This Row],[SL]]<UIoptions!$T$13),1,0)","v":0},{"$f":"IF(UIoptions!$N$35=1,IF(AND(PCdb[[#This Row],[SQ_SZ]]>UIoptions!$S$15,PCdb[[#This Row],[SQ_SZ]]<UIoptions!$T$15),1,0),1)","v":0},{"$f":"IF(UIoptions!$N$35=2,IF(AND(PCdb[[#This Row],[ROUND_D]]>UIoptions!$S$15,PCdb[[#This Row],[ROUND_D]]<UIoptions!$T$15),1,0),1)","v":1},{"$f":"IF(UIoptions!$N$75<>1,1,IF(AND(PCdb[[#This Row],[FL]]>UIoptions!$S$16,PCdb[[#This Row],[FL]]<UIoptions!$T$16),1,0))","v":0},{"$f":"IF(OR(UIoptions!$Q$18=PCdb[[#This Row],[THRU_SCREW]],UIoptions!$Q$18=\"NA\"),1,0)","v":0},{"$f":"IF(OR(UIoptions!$P$19=PCdb[[#This Row],[THREAD_SZ]],UIoptions!$P$19=\"NA\"),1,0)","v":1},{"$f":"IF(UIoptions!$N$75=1,1,IF(AND(PCdb[[#This Row],[THREAD_L]]>UIoptions!$S$17,PCdb[[#This Row],[THREAD_L]]<UIoptions!$T$17),1,0))","v":1},{"$f":"IF(SUM(PCdb[[#This Row],[BDhit]:[THREAD_Lhit]])=11,1,0)","v":0},{"$f":"CONCATENATE(PCdb[[#This Row],[BCD]],PCdb[[#This Row],[PD]],PCdb[[#This Row],[PL (MAX)]],PCdb[[#This Row],[SD]],PCdb[[#This Row],[SL]],PCdb[[#This Row],[SQ_SZ]],PCdb[[#This Row],[ROUND_D]],PCdb[[#This Row],[FL]],PCdb[[#This Row],[THRU_SCREW]],PCdb[[#This Row],[THREAD_SZ]],PCdb[[#This Row],[THREAD_L]],PCdb[[#This Row],[NBR_HOLES]])","v":"63504122255NA17M5NANA4"},{"$f":"SUM(PCdb[[#This Row],[BDhit]:[THREAD_Lhit]])","v":5}]
[209,90,70,4,19,35,55,"NA",17,"M5","NA","NA",4,"M5",null,null,null,null,null,null,null,45.2,37,"NA","Y","B",45,90,null,null,null,null,null,null,null,null,null,null,null,null,null,null,null,null,null,null,null,null,null,null,null,null,null,{"$f":"IF(AND(PCdb[[#This Row],[BCD]]>UIoptions!$S$10,PCdb[[#This Row],[BCD]]<UIoptions!$T$10),1,0)","v":0},{"$f":"IF(AND(PCdb[[#This Row],[PD]]>UIoptions!$S$11,PCdb[[#This Row],[PD]]<UIoptions!$T$11),1,0)","v":0},{"$f":"IF(AND(UIoptions!$P$14<=PCdb[[#This Row],[PL (MAX)]],UIoptions!$P$14>UIoptions!$S$14),1,0)","v":1},{"$f":"IF(AND(PCdb[[#This Row],[SD]]>UIoptions!$S$12,PCdb[[#This Row],[SD]]<UIoptions!$T$12),1,0)","v":0},{"$f":"IF(AND(PCdb[[#This Row],[SL]]>UIoptions!$S$13,PCdb[[#This Row],[SL]]<UIoptions!$T$13),1,0)","v":0},{"$f":"IF(UIoptions!$N$35=1,IF(AND(PCdb[[#This Row],[SQ_SZ]]>UIoptions!$S$15,PCdb[[#This Row],[SQ_SZ]]<UIoptions!$T$15),1,0),1)","v":0},{"$f":"IF(UIoptions!$N$35=2,IF(AND(PCdb[[#This Row],[ROUND_D]]>UIoptions!$S$15,PCdb[[#This Row],[ROUND_D]]<UIoptions!$T$15),1,0),1)","v":1},{"$f":"IF(UIoptions!$N$75<>1,1,IF(AND(PCdb[[#This Row],[FL]]>UIoptions!$S$16,PCdb[[#This Row],[FL]]<UIoptions!$T$16),1,0))","v":0},{"$f":"IF(OR(UIoptions!$Q$18=PCdb[[#This Row],[THRU_SCREW]],UIoptions!$Q$18=\"NA\"),1,0)","v":0},{"$f":"IF(OR(UIoptions!$P$19=PCdb[[#This Row],[THREAD_SZ]],UIoptions!$P$19=\"NA\"),1,0)","v":1},{"$f":"IF(UIoptions!$N$75=1,1,IF(AND(PCdb[[#This Row],[THREAD_L]]>UIoptions!$S$17,PCdb[[#This Row],[THREAD_L]]<UIoptions!$T$17),1,0))","v":1},{"$f":"IF(SUM(PCdb[[#This Row],[BDhit]:[THREAD_Lhit]])=11,1,0)","v":0},{"$f":"CONCATENATE(PCdb[[#This Row],[BCD]],PCdb[[#This Row],[PD]],PCdb[[#This Row],[PL (MAX)]],PCdb[[#This Row],[SD]],PCdb[[#This Row],[SL]],PCdb[[#This Row],[SQ_SZ]],PCdb[[#This Row],[ROUND_D]],PCdb[[#This Row],[FL]],PCdb[[#This Row],[THRU_SCREW]],PCdb[[#This Row],[THREAD_SZ]],PCdb[[#This Row],[THREAD_L]],PCdb[[#This Row],[NBR_HOLES]])","v":"90704193555NA17M5NANA4"},{"$f":"SUM(PCdb[[#This Row],[BDhit]:[THREAD_Lhit]])","v":4}]
[210,45,32,4,8,25,65,"NA","NA","NA","M5",7,4,6,null,null,null,null,null,null,null,null,null,null,null,null,null,null,null,null,null,null,null,null,null,"NA","NA","Y","SPLD2-210",45,90,"NA","NA","Y","D2",45,90,null,null,null,null,null,null,{"$f":"IF(AND(PCdb[[#This Row],[BCD]]>UIoptions!$S$10,PCdb[[#This Row],[BCD]]<UIoptions!$T$10),1,0)","v":0},{"$f":"IF(AND(PCdb[[#This Row],[PD]]>UIoptions!$S$11,PCdb[[#This Row],[PD]]<UIoptions!$T$11),1,0)","v":0},{"$f":"IF(AND(UIoptions!$P$14<=PCdb[[#This Row],[PL (MAX)]],UIoptions!$P$14>UIoptions!$S$14),1,0)","v":1},{"$f":"IF(AND(PCdb[[#This Row],[SD]]>UIoptions!$S$12,PCdb[[#This Row],[SD]]<UIoptions!$T$12),1,0)","v":0},{"$f":"IF(AND(PCdb[[#This Row],[SL]]>UIoptions!$S$13,PCdb[[#This Row],[SL]]<UIoptions!$T$13),1,0)","v":0},{"$f":"IF(UIoptions!$N$35=1,IF(AND(PCdb[[#This Row],[SQ_SZ]]>UIoptions!$S$15,PCdb[[#This Row],[SQ_SZ]]<UIoptions!$T$15),1,0),1)","v":0},{"$f":"IF(UIoptions!$N$35=2,IF(AND(PCdb[[#This Row],[ROUND_D]]>UIoptions!$S$15,PCdb[[#This Row],[ROUND_D]]<UIoptions!$T$15),1,0),1)","v":1},{"$f":"IF(UIoptions!$N$75<>1,1,IF(AND(PCdb[[#This Row],[FL]]>UIoptions!$S$16,PCdb[[#This Row],[FL]]<UIoptions!$T$16),1,0))","v":0},{"$f":"IF(OR(UIoptions!$Q$18=PCdb[[#This Row],[THRU_SCREW]],UIoptions!$Q$18=\"NA\"),1,0)","v":0},{"$f":"IF(OR(UIoptions!$P$19=PCdb[[#This Row],[THREAD_SZ]],UIoptions!$P$19=\"NA\"),1,0)","v":1},{"$f":"IF(UIoptions!$N$75=1,1,IF(AND(PCdb[[#This Row],[THREAD_L]]>UIoptions!$S$17,PCdb[[#This Row],[THREAD_L]]<UIoptions!$T$17),1,0))","v":1},{"$f":"IF(SUM(PCdb[[#This Row],[BDhit]:[THREAD_Lhit]])=11,1,0)","v":0},{"$f":"CONCATENATE(PCdb[[#This Row],[BCD]],PCdb[[#This Row],[PD]],PCdb[[#This Row],[PL (MAX)]],PCdb[[#This Row],[SD]],PCdb[[#This Row],[SL]],PCdb[[#This Row],[SQ_SZ]],PCdb[[#This Row],[ROUND_D]],PCdb[[#This Row],[FL]],PCdb[[#This Row],[THRU_SCREW]],PCdb[[#This Row],[THREAD_SZ]],PCdb[[#This Row],[THREAD_L]],PCdb[[#This Row],[NBR_HOLES]])","v":"4532482565NANANAM574"},{"$f":"SUM(PCdb[[#This Row],[BDhit]:[THREAD_Lhit]])","v":4}]
[211,100,80,4,19,40,87,"NA",8,"M6","NA","NA",4,"M6",null,null,null,null,null,null,null,null,null,null,null,null,null,null,45.2,41.5,"NA","Y","B",45,90,null,null,null,null,null,null,null,null,null,null,null,null,null,null,null,null,null,null,{"$f":"IF(AND(PCdb[[#This Row],[BCD]]>UIoptions!$S$10,PCdb[[#This Row],[BCD]]<UIoptions!$T$10),1,0)","v":0},{"$f":"IF(AND(PCdb[[#This Row],[PD]]>UIoptions!$S$11,PCdb[[#This Row],[PD]]<UIoptions!$T$11),1,0)","v":0},{"$f":"IF(AND(UIoptions!$P$14<=PCdb[[#This Row],[PL (MAX)]],UIoptions!$P$14>UIoptions!$S$14),1,0)","v":1},{"$f":"IF(AND(PCdb[[#This Row],[SD]]>UIoptions!$S$12,PCdb[[#This Row],[SD]]<UIoptions!$T$12),1,0)","v":0},{"$f":"IF(AND(PCdb[[#This Row],[SL]]>UIoptions!$S$13,PCdb[[#This Row],[SL]]<UIoptions!$T$13),1,0)","v":0},{"$f":"IF(UIoptions!$N$35=1,IF(AND(PCdb[[#This Row],[SQ_SZ]]>UIoptions!$S$15,PCdb[[#This Row],[SQ_SZ]]<UIoptions!$T$15),1,0),1)","v":0},{"$f":"IF(UIoptions!$N$35=2,IF(AND(PCdb[[#This Row],[ROUND_D]]>UIoptions!$S$15,PCdb[[#This Row],[ROUND_D]]<UIoptions!$T$15),1,0),1)","v":1},{"$f":"IF(UIoptions!$N$75<>1,1,IF(AND(PCdb[[#This Row],[FL]]>UIoptions!$S$16,PCdb[[#This Row],[FL]]<UIoptions!$T$16),1,0))","v":0},{"$f":"IF(OR(UIoptions!$Q$18=PCdb[[#This Row],[THRU_SCREW]],UIoptions!$Q$18=\"NA\"),1,0)","v":0},{"$f":"IF(OR(UIoptions!$P$19=PCdb[[#This Row],[THREAD_SZ]],UIoptions!$P$19=\"NA\"),1,0)","v":1},{"$f":"IF(UIoptions!$N$75=1,1,IF(AND(PCdb[[#This Row],[THREAD_L]]>UIoptions!$S$17,PCdb[[#This Row],[THREAD_L]]<UIoptions!$T$17),1,0))","v":1},{"$f":"IF(SUM(PCdb[[#This Row],[BDhit]:[THREAD_Lhit]])=11,1,0)","v":0},{"$f":"CONCATENATE(PCdb[[#This Row],[BCD]],PCdb[[#This Row],[PD]],PCdb[[#This Row],[PL (MAX)]],PCdb[[#This Row],[SD]],PCdb[[#This Row],[SL]],PCdb[[#This Row],[SQ_SZ]],PCdb[[#This Row],[ROUND_D]],PCdb[[#This Row],[FL]],PCdb[[#This Row],[THRU_SCREW]],PCdb[[#This Row],[THREAD_SZ]],PCdb[[#This Row],[THREAD_L]],PCdb[[#This Row],[NBR_HOLES]])","v":"100804194087NA8M6NANA4"},{"$f":"SUM(PCdb[[#This Row],[BDhit]:[THREAD_Lhit]])","v":4}]
[212,26,19,4,8,21,"NA",32.200000000000003,"NA","NA","M3",4,4,4,null,null,null,null,null,null,null,null,null,null,null,null,null,null,null,null,null,null,null,null,null,"NA","NA","Y","C2",45,90,null,null,null,null,null,null,null,null,null,null,null,null,{"$f":"IF(AND(PCdb[[#This Row],[BCD]]>UIoptions!$S$10,PCdb[[#This Row],[BCD]]<UIoptions!$T$10),1,0)","v":0},{"$f":"IF(AND(PCdb[[#This Row],[PD]]>UIoptions!$S$11,PCdb[[#This Row],[PD]]<UIoptions!$T$11),1,0)","v":0},{"$f":"IF(AND(UIoptions!$P$14<=PCdb[[#This Row],[PL (MAX)]],UIoptions!$P$14>UIoptions!$S$14),1,0)","v":1},{"$f":"IF(AND(PCdb[[#This Row],[SD]]>UIoptions!$S$12,PCdb[[#This Row],[SD]]<UIoptions!$T$12),1,0)","v":0},{"$f":"IF(AND(PCdb[[#This Row],[SL]]>UIoptions!$S$13,PCdb[[#This Row],[SL]]<UIoptions!$T$13),1,0)","v":0},{"$f":"IF(UIoptions!$N$35=1,IF(AND(PCdb[[#This Row],[SQ_SZ]]>UIoptions!$S$15,PCdb[[#This Row],[SQ_SZ]]<UIoptions!$T$15),1,0),1)","v":0},{"$f":"IF(UIoptions!$N$35=2,IF(AND(PCdb[[#This Row],[ROUND_D]]>UIoptions!$S$15,PCdb[[#This Row],[ROUND_D]]<UIoptions!$T$15),1,0),1)","v":1},{"$f":"IF(UIoptions!$N$75<>1,1,IF(AND(PCdb[[#This Row],[FL]]>UIoptions!$S$16,PCdb[[#This Row],[FL]]<UIoptions!$T$16),1,0))","v":0},{"$f":"IF(OR(UIoptions!$Q$18=PCdb[[#This Row],[THRU_SCREW]],UIoptions!$Q$18=\"NA\"),1,0)","v":0},{"$f":"IF(OR(UIoptions!$P$19=PCdb[[#This Row],[THREAD_SZ]],UIoptions!$P$19=\"NA\"),1,0)","v":1},{"$f":"IF(UIoptions!$N$75=1,1,IF(AND(PCdb[[#This Row],[THREAD_L]]>UIoptions!$S$17,PCdb[[#This Row],[THREAD_L]]<UIoptions!$T$17),1,0))","v":1},{"$f":"IF(SUM(PCdb[[#This Row],[BDhit]:[THREAD_Lhit]])=11,1,0)","v":0},{"$f":"CONCATENATE(PCdb[[#This Row],[BCD]],PCdb[[#This Row],[PD]],PCdb[[#This Row],[PL (MAX)]],PCdb[[#This Row],[SD]],PCdb[[#This Row],[SL]],PCdb[[#This Row],[SQ_SZ]],PCdb[[#This Row],[ROUND_D]],PCdb[[#This Row],[FL]],PCdb[[#This Row],[THRU_SCREW]],PCdb[[#This Row],[THREAD_SZ]],PCdb[[#This Row],[THREAD_L]],PCdb[[#This Row],[NBR_HOLES]])","v":"26194821NA32,2NANAM344"},{"$f":"SUM(PCdb[[#This Row],[BDhit]:[THREAD_Lhit]])","v":4}]
[213,70,50,4,14,30,62,"NA",6,"M5","NA","NA",4,"M5",null,null,null,null,null,null,null,null,null,null,null,null,null,null,null,null,null,null,null,null,null,null,null,null,null,null,null,27,"NA","Y","C",45,90,null,null,null,null,null,null,{"$f":"IF(AND(PCdb[[#This Row],[BCD]]>UIoptions!$S$10,PCdb[[#This Row],[BCD]]<UIoptions!$T$10),1,0)","v":0},{"$f":"IF(AND(PCdb[[#This Row],[PD]]>UIoptions!$S$11,PCdb[[#This Row],[PD]]<UIoptions!$T$11),1,0)","v":0},{"$f":"IF(AND(UIoptions!$P$14<=PCdb[[#This Row],[PL (MAX)]],UIoptions!$P$14>UIoptions!$S$14),1,0)","v":1},{"$f":"IF(AND(PCdb[[#This Row],[SD]]>UIoptions!$S$12,PCdb[[#This Row],[SD]]<UIoptions!$T$12),1,0)","v":0},{"$f":"IF(AND(PCdb[[#This Row],[SL]]>UIoptions!$S$13,PCdb[[#This Row],[SL]]<UIoptions!$T$13),1,0)","v":0},{"$f":"IF(UIoptions!$N$35=1,IF(AND(PCdb[[#This Row],[SQ_SZ]]>UIoptions!$S$15,PCdb[[#This Row],[SQ_SZ]]<UIoptions!$T$15),1,0),1)","v":0},{"$f":"IF(UIoptions!$N$35=2,IF(AND(PCdb[[#This Row],[ROUND_D]]>UIoptions!$S$15,PCdb[[#This Row],[ROUND_D]]<UIoptions!$T$15),1,0),1)","v":1},{"$f":"IF(UIoptions!$N$75<>1,1,IF(AND(PCdb[[#This Row],[FL]]>UIoptions!$S$16,PCdb[[#This Row],[FL]]<UIoptions!$T$16),1,0))","v":0},{"$f":"IF(OR(UIoptions!$Q$18=PCdb[[#This Row],[THRU_SCREW]],UIoptions!$Q$18=\"NA\"),1,0)","v":0},{"$f":"IF(OR(UIoptions!$P$19=PCdb[[#This Row],[THREAD_SZ]],UIoptions!$P$19=\"NA\"),1,0)","v":1},{"$f":"IF(UIoptions!$N$75=1,1,IF(AND(PCdb[[#This Row],[THREAD_L]]>UIoptions!$S$17,PCdb[[#This Row],[THREAD_L]]<UIoptions!$T$17),1,0))","v":1},{"$f":"IF(SUM(PCdb[[#This Row],[BDhit]:[THREAD_Lhit]])=11,1,0)","v":0},{"$f":"CONCATENATE(PCdb[[#This Row],[BCD]],PCdb[[#This Row],[PD]],PCdb[[#This Row],[PL (MAX)]],PCdb[[#This Row],[SD]],PCdb[[#This Row],[SL]],PCdb[[#This Row],[SQ_SZ]],PCdb[[#This Row],[ROUND_D]],PCdb[[#This Row],[FL]],PCdb[[#This Row],[THRU_SCREW]],PCdb[[#This Row],[THREAD_SZ]],PCdb[[#This Row],[THREAD_L]],PCdb[[#This Row],[NBR_HOLES]])","v":"70504143062NA6M5NANA4"},{"$f":"SUM(PCdb[[#This Row],[BDhit]:[THREAD_Lhit]])","v":4}]
[214,98.4,73.03,4,15.875,31.8,86,"NA",10,"M5","NA","NA",4,"M5",null,null,null,null,null,null,null,null,null,null,null,null,null,null,45.2,39,"NA","Y","B",45,90,null,null,null,null,null,null,null,null,null,null,null,null,null,null,null,null,null,null,{"$f":"IF(AND(PCdb[[#This Row],[BCD]]>UIoptions!$S$10,PCdb[[#This Row],[BCD]]<UIoptions!$T$10),1,0)","v":0},{"$f":"IF(AND(PCdb[[#This Row],[PD]]>UIoptions!$S$11,PCdb[[#This Row],[PD]]<UIoptions!$T$11),1,0)","v":0},{"$f":"IF(AND(UIoptions!$P$14<=PCdb[[#This Row],[PL (MAX)]],UIoptions!$P$14>UIoptions!$S$14),1,0)","v":1},{"$f":"IF(AND(PCdb[[#This Row],[SD]]>UIoptions!$S$12,PCdb[[#This Row],[SD]]<UIoptions!$T$12),1,0)","v":0},{"$f":"IF(AND(PCdb[[#This Row],[SL]]>UIoptions!$S$13,PCdb[[#This Row],[SL]]<UIoptions!$T$13),1,0)","v":0},{"$f":"IF(UIoptions!$N$35=1,IF(AND(PCdb[[#This Row],[SQ_SZ]]>UIoptions!$S$15,PCdb[[#This Row],[SQ_SZ]]<UIoptions!$T$15),1,0),1)","v":0},{"$f":"IF(UIoptions!$N$35=2,IF(AND(PCdb[[#This Row],[ROUND_D]]>UIoptions!$S$15,PCdb[[#This Row],[ROUND_D]]<UIoptions!$T$15),1,0),1)","v":1},{"$f":"IF(UIoptions!$N$75<>1,1,IF(AND(PCdb[[#This Row],[FL]]>UIoptions!$S$16,PCdb[[#This Row],[FL]]<UIoptions!$T$16),1,0))","v":0},{"$f":"IF(OR(UIoptions!$Q$18=PCdb[[#This Row],[THRU_SCREW]],UIoptions!$Q$18=\"NA\"),1,0)","v":0},{"$f":"IF(OR(UIoptions!$P$19=PCdb[[#This Row],[THREAD_SZ]],UIoptions!$P$19=\"NA\"),1,0)","v":1},{"$f":"IF(UIoptions!$N$75=1,1,IF(AND(PCdb[[#This Row],[THREAD_L]]>UIoptions!$S$17,PCdb[[#This Row],[THREAD_L]]<UIoptions!$T$17),1,0))","v":1},{"$f":"IF(SUM(PCdb[[#This Row],[BDhit]:[THREAD_Lhit]])=11,1,0)","v":0},{"$f":"CONCATENATE(PCdb[[#This Row],[BCD]],PCdb[[#This Row],[PD]],PCdb[[#This Row],[PL (MAX)]],PCdb[[#This Row],[SD]],PCdb[[#This Row],[SL]],PCdb[[#This Row],[SQ_SZ]],PCdb[[#This Row],[ROUND_D]],PCdb[[#This Row],[FL]],PCdb[[#This Row],[THRU_SCREW]],PCdb[[#This Row],[THREAD_SZ]],PCdb[[#This Row],[THREAD_L]],PCdb[[#This Row],[NBR_HOLES]])","v":"98,473,03415,87531,886NA10M5NANA4"},{"$f":"SUM(PCdb[[#This Row],[BDhit]:[THREAD_Lhit]])","v":4}]
[215,90,70,4,19,35,80,"NA",8,"M6","NA","NA",4,"M6",null,null,null,null,null,null,null,null,null,null,null,null,null,null,null,null,null,null,null,null,null,null,null,null,null,null,null,null,null,null,null,null,null,"NA","NA","NA","NA","NA","NA",{"$f":"IF(AND(PCdb[[#This Row],[BCD]]>UIoptions!$S$10,PCdb[[#This Row],[BCD]]<UIoptions!$T$10),1,0)","v":0},{"$f":"IF(AND(PCdb[[#This Row],[PD]]>UIoptions!$S$11,PCdb[[#This Row],[PD]]<UIoptions!$T$11),1,0)","v":0},{"$f":"IF(AND(UIoptions!$P$14<=PCdb[[#This Row],[PL (MAX)]],UIoptions!$P$14>UIoptions!$S$14),1,0)","v":1},{"$f":"IF(AND(PCdb[[#This Row],[SD]]>UIoptions!$S$12,PCdb[[#This Row],[SD]]<UIoptions!$T$12),1,0)","v":0},{"$f":"IF(AND(PCdb[[#This Row],[SL]]>UIoptions!$S$13,PCdb[[#This Row],[SL]]<UIoptions!$T$13),1,0)","v":0},{"$f":"IF(UIoptions!$N$35=1,IF(AND(PCdb[[#This Row],[SQ_SZ]]>UIoptions!$S$15,PCdb[[#This Row],[SQ_SZ]]<UIoptions!$T$15),1,0),1)","v":0},{"$f":"IF(UIoptions!$N$35=2,IF(AND(PCdb[[#This Row],[ROUND_D]]>UIoptions!$S$15,PCdb[[#This Row],[ROUND_D]]<UIoptions!$T$15),1,0),1)","v":1},{"$f":"IF(UIoptions!$N$75<>1,1,IF(AND(PCdb[[#This Row],[FL]]>UIoptions!$S$16,PCdb[[#This Row],[FL]]<UIoptions!$T$16),1,0))","v":0},{"$f":"IF(OR(UIoptions!$Q$18=PCdb[[#This Row],[THRU_SCREW]],UIoptions!$Q$18=\"NA\"),1,0)","v":0},{"$f":"IF(OR(UIoptions!$P$19=PCdb[[#This Row],[THREAD_SZ]],UIoptions!$P$19=\"NA\"),1,0)","v":1},{"$f":"IF(UIoptions!$N$75=1,1,IF(AND(PCdb[[#This Row],[THREAD_L]]>UIoptions!$S$17,PCdb[[#This Row],[THREAD_L]]<UIoptions!$T$17),1,0))","v":1},{"$f":"IF(SUM(PCdb[[#This Row],[BDhit]:[THREAD_Lhit]])=11,1,0)","v":0},{"$f":"CONCATENATE(PCdb[[#This Row],[BCD]],PCdb[[#This Row],[PD]],PCdb[[#This Row],[PL (MAX)]],PCdb[[#This Row],[SD]],PCdb[[#This Row],[SL]],PCdb[[#This Row],[SQ_SZ]],PCdb[[#This Row],[ROUND_D]],PCdb[[#This Row],[FL]],PCdb[[#This Row],[THRU_SCREW]],PCdb[[#This Row],[THREAD_SZ]],PCdb[[#This Row],[THREAD_L]],PCdb[[#This Row],[NBR_HOLES]])","v":"90704193580NA8M6NANA4"},{"$f":"SUM(PCdb[[#This Row],[BDhit]:[THREAD_Lhit]])","v":4}]
[216,98.5,73.03,4,9.52,30.2,82.6,"NA",6.4,"M5","NA","NA",4,"M5",null,null,null,null,null,null,null,null,null,null,null,null,null,null,null,null,null,null,null,null,null,null,null,null,null,null,null,null,null,null,null,null,null,38.5,"NA","Y","D",45,90,{"$f":"IF(AND(PCdb[[#This Row],[BCD]]>UIoptions!$S$10,PCdb[[#This Row],[BCD]]<UIoptions!$T$10),1,0)","v":0},{"$f":"IF(AND(PCdb[[#This Row],[PD]]>UIoptions!$S$11,PCdb[[#This Row],[PD]]<UIoptions!$T$11),1,0)","v":0},{"$f":"IF(AND(UIoptions!$P$14<=PCdb[[#This Row],[PL (MAX)]],UIoptions!$P$14>UIoptions!$S$14),1,0)","v":1},{"$f":"IF(AND(PCdb[[#This Row],[SD]]>UIoptions!$S$12,PCdb[[#This Row],[SD]]<UIoptions!$T$12),1,0)","v":0},{"$f":"IF(AND(PCdb[[#This Row],[SL]]>UIoptions!$S$13,PCdb[[#This Row],[SL]]<UIoptions!$T$13),1,0)","v":0},{"$f":"IF(UIoptions!$N$35=1,IF(AND(PCdb[[#This Row],[SQ_SZ]]>UIoptions!$S$15,PCdb[[#This Row],[SQ_SZ]]<UIoptions!$T$15),1,0),1)","v":0},{"$f":"IF(UIoptions!$N$35=2,IF(AND(PCdb[[#This Row],[ROUND_D]]>UIoptions!$S$15,PCdb[[#This Row],[ROUND_D]]<UIoptions!$T$15),1,0),1)","v":1},{"$f":"IF(UIoptions!$N$75<>1,1,IF(AND(PCdb[[#This Row],[FL]]>UIoptions!$S$16,PCdb[[#This Row],[FL]]<UIoptions!$T$16),1,0))","v":0},{"$f":"IF(OR(UIoptions!$Q$18=PCdb[[#This Row],[THRU_SCREW]],UIoptions!$Q$18=\"NA\"),1,0)","v":0},{"$f":"IF(OR(UIoptions!$P$19=PCdb[[#This Row],[THREAD_SZ]],UIoptions!$P$19=\"NA\"),1,0)","v":1},{"$f":"IF(UIoptions!$N$75=1,1,IF(AND(PCdb[[#This Row],[THREAD_L]]>UIoptions!$S$17,PCdb[[#This Row],[THREAD_L]]<UIoptions!$T$17),1,0))","v":1},{"$f":"IF(SUM(PCdb[[#This Row],[BDhit]:[THREAD_Lhit]])=11,1,0)","v":0},{"$f":"CONCATENATE(PCdb[[#This Row],[BCD]],PCdb[[#This Row],[PD]],PCdb[[#This Row],[PL (MAX)]],PCdb[[#This Row],[SD]],PCdb[[#This Row],[SL]],PCdb[[#This Row],[SQ_SZ]],PCdb[[#This Row],[ROUND_D]],PCdb[[#This Row],[FL]],PCdb[[#This Row],[THRU_SCREW]],PCdb[[#This Row],[THREAD_SZ]],PCdb[[#This Row],[THREAD_L]],PCdb[[#This Row],[NBR_HOLES]])","v":"98,573,0349,5230,282,6NA6,4M5NANA4"},{"$f":"SUM(PCdb[[#This Row],[BDhit]:[THREAD_Lhit]])","v":4}]
[217,99,73,4,12,31.5,86,"NA",7,"M6","NA","NA",4,"M6","NA","NA","NA","NA","NA","NA","NA",null,null,null,null,null,null,null,null,null,null,null,null,null,null,"NA","NA","NA","NA","NA","NA","NA","NA","NA","NA","NA","NA",39,"NA","Y","D",45,90,{"$f":"IF(AND(PCdb[[#This Row],[BCD]]>UIoptions!$S$10,PCdb[[#This Row],[BCD]]<UIoptions!$T$10),1,0)","v":0},{"$f":"IF(AND(PCdb[[#This Row],[PD]]>UIoptions!$S$11,PCdb[[#This Row],[PD]]<UIoptions!$T$11),1,0)","v":0},{"$f":"IF(AND(UIoptions!$P$14<=PCdb[[#This Row],[PL (MAX)]],UIoptions!$P$14>UIoptions!$S$14),1,0)","v":1},{"$f":"IF(AND(PCdb[[#This Row],[SD]]>UIoptions!$S$12,PCdb[[#This Row],[SD]]<UIoptions!$T$12),1,0)","v":0},{"$f":"IF(AND(PCdb[[#This Row],[SL]]>UIoptions!$S$13,PCdb[[#This Row],[SL]]<UIoptions!$T$13),1,0)","v":0},{"$f":"IF(UIoptions!$N$35=1,IF(AND(PCdb[[#This Row],[SQ_SZ]]>UIoptions!$S$15,PCdb[[#This Row],[SQ_SZ]]<UIoptions!$T$15),1,0),1)","v":0},{"$f":"IF(UIoptions!$N$35=2,IF(AND(PCdb[[#This Row],[ROUND_D]]>UIoptions!$S$15,PCdb[[#This Row],[ROUND_D]]<UIoptions!$T$15),1,0),1)","v":1},{"$f":"IF(UIoptions!$N$75<>1,1,IF(AND(PCdb[[#This Row],[FL]]>UIoptions!$S$16,PCdb[[#This Row],[FL]]<UIoptions!$T$16),1,0))","v":1},{"$f":"IF(OR(UIoptions!$Q$18=PCdb[[#This Row],[THRU_SCREW]],UIoptions!$Q$18=\"NA\"),1,0)","v":0},{"$f":"IF(OR(UIoptions!$P$19=PCdb[[#This Row],[THREAD_SZ]],UIoptions!$P$19=\"NA\"),1,0)","v":1},{"$f":"IF(UIoptions!$N$75=1,1,IF(AND(PCdb[[#This Row],[THREAD_L]]>UIoptions!$S$17,PCdb[[#This Row],[THREAD_L]]<UIoptions!$T$17),1,0))","v":1},{"$f":"IF(SUM(PCdb[[#This Row],[BDhit]:[THREAD_Lhit]])=11,1,0)","v":0},{"$f":"CONCATENATE(PCdb[[#This Row],[BCD]],PCdb[[#This Row],[PD]],PCdb[[#This Row],[PL (MAX)]],PCdb[[#This Row],[SD]],PCdb[[#This Row],[SL]],PCdb[[#This Row],[SQ_SZ]],PCdb[[#This Row],[ROUND_D]],PCdb[[#This Row],[FL]],PCdb[[#This Row],[THRU_SCREW]],PCdb[[#This Row],[THREAD_SZ]],PCdb[[#This Row],[THREAD_L]],PCdb[[#This Row],[NBR_HOLES]])","v":"997341231,586NA7M6NANA4"},{"$f":"SUM(PCdb[[#This Row],[BDhit]:[THREAD_Lhit]])","v":5}]
[218,100,80,4,19,40,"NA",null,"NA","NA","M6",null,4,"M6",null,null,null,null,null,null,null,null,null,null,null,null,null,null,45.2,"NA","NA","NA","B2",36.5,90,null,null,null,null,null,null,null,null,null,null,null,null,null,null,null,null,null,null,{"$f":"IF(AND(PCdb[[#This Row],[BCD]]>UIoptions!$S$10,PCdb[[#This Row],[BCD]]<UIoptions!$T$10),1,0)","v":0},{"$f":"IF(AND(PCdb[[#This Row],[PD]]>UIoptions!$S$11,PCdb[[#This Row],[PD]]<UIoptions!$T$11),1,0)","v":0},{"$f":"IF(AND(UIoptions!$P$14<=PCdb[[#This Row],[PL (MAX)]],UIoptions!$P$14>UIoptions!$S$14),1,0)","v":1},{"$f":"IF(AND(PCdb[[#This Row],[SD]]>UIoptions!$S$12,PCdb[[#This Row],[SD]]<UIoptions!$T$12),1,0)","v":0},{"$f":"IF(AND(PCdb[[#This Row],[SL]]>UIoptions!$S$13,PCdb[[#This Row],[SL]]<UIoptions!$T$13),1,0)","v":0},{"$f":"IF(UIoptions!$N$35=1,IF(AND(PCdb[[#This Row],[SQ_SZ]]>UIoptions!$S$15,PCdb[[#This Row],[SQ_SZ]]<UIoptions!$T$15),1,0),1)","v":0},{"$f":"IF(UIoptions!$N$35=2,IF(AND(PCdb[[#This Row],[ROUND_D]]>UIoptions!$S$15,PCdb[[#This Row],[ROUND_D]]<UIoptions!$T$15),1,0),1)","v":1},{"$f":"IF(UIoptions!$N$75<>1,1,IF(AND(PCdb[[#This Row],[FL]]>UIoptions!$S$16,PCdb[[#This Row],[FL]]<UIoptions!$T$16),1,0))","v":0},{"$f":"IF(OR(UIoptions!$Q$18=PCdb[[#This Row],[THRU_SCREW]],UIoptions!$Q$18=\"NA\"),1,0)","v":0},{"$f":"IF(OR(UIoptions!$P$19=PCdb[[#This Row],[THREAD_SZ]],UIoptions!$P$19=\"NA\"),1,0)","v":1},{"$f":"IF(UIoptions!$N$75=1,1,IF(AND(PCdb[[#This Row],[THREAD_L]]>UIoptions!$S$17,PCdb[[#This Row],[THREAD_L]]<UIoptions!$T$17),1,0))","v":1},{"$f":"IF(SUM(PCdb[[#This Row],[BDhit]:[THREAD_Lhit]])=11,1,0)","v":0},{"$f":"CONCATENATE(PCdb[[#This Row],[BCD]],PCdb[[#This Row],[PD]],PCdb[[#This Row],[PL (MAX)]],PCdb[[#This Row],[SD]],PCdb[[#This Row],[SL]],PCdb[[#This Row],[SQ_SZ]],PCdb[[#This Row],[ROUND_D]],PCdb[[#This Row],[FL]],PCdb[[#This Row],[THRU_SCREW]],PCdb[[#This Row],[THREAD_SZ]],PCdb[[#This Row],[THREAD_L]],PCdb[[#This Row],[NBR_HOLES]])","v":"1008041940NANANAM64"},{"$f":"SUM(PCdb[[#This Row],[BDhit]:[THREAD_Lhit]])","v":4}]
[219,70,38,4,10,23,60,"NA",36,"M5","NA","NA",4,"M5",null,null,null,null,null,null,null,null,null,null,null,null,null,null,null,null,null,null,null,null,null,22,"NA","Y","D",45,90,null,null,null,null,null,null,null,null,null,null,null,null,{"$f":"IF(AND(PCdb[[#This Row],[BCD]]>UIoptions!$S$10,PCdb[[#This Row],[BCD]]<UIoptions!$T$10),1,0)","v":0},{"$f":"IF(AND(PCdb[[#This Row],[PD]]>UIoptions!$S$11,PCdb[[#This Row],[PD]]<UIoptions!$T$11),1,0)","v":0},{"$f":"IF(AND(UIoptions!$P$14<=PCdb[[#This Row],[PL (MAX)]],UIoptions!$P$14>UIoptions!$S$14),1,0)","v":1},{"$f":"IF(AND(PCdb[[#This Row],[SD]]>UIoptions!$S$12,PCdb[[#This Row],[SD]]<UIoptions!$T$12),1,0)","v":0},{"$f":"IF(AND(PCdb[[#This Row],[SL]]>UIoptions!$S$13,PCdb[[#This Row],[SL]]<UIoptions!$T$13),1,0)","v":0},{"$f":"IF(UIoptions!$N$35=1,IF(AND(PCdb[[#This Row],[SQ_SZ]]>UIoptions!$S$15,PCdb[[#This Row],[SQ_SZ]]<UIoptions!$T$15),1,0),1)","v":0},{"$f":"IF(UIoptions!$N$35=2,IF(AND(PCdb[[#This Row],[ROUND_D]]>UIoptions!$S$15,PCdb[[#This Row],[ROUND_D]]<UIoptions!$T$15),1,0),1)","v":1},{"$f":"IF(UIoptions!$N$75<>1,1,IF(AND(PCdb[[#This Row],[FL]]>UIoptions!$S$16,PCdb[[#This Row],[FL]]<UIoptions!$T$16),1,0))","v":0},{"$f":"IF(OR(UIoptions!$Q$18=PCdb[[#This Row],[THRU_SCREW]],UIoptions!$Q$18=\"NA\"),1,0)","v":0},{"$f":"IF(OR(UIoptions!$P$19=PCdb[[#This Row],[THREAD_SZ]],UIoptions!$P$19=\"NA\"),1,0)","v":1},{"$f":"IF(UIoptions!$N$75=1,1,IF(AND(PCdb[[#This Row],[THREAD_L]]>UIoptions!$S$17,PCdb[[#This Row],[THREAD_L]]<UIoptions!$T$17),1,0))","v":1},{"$f":"IF(SUM(PCdb[[#This Row],[BDhit]:[THREAD_Lhit]])=11,1,0)","v":0},{"$f":"CONCATENATE(PCdb[[#This Row],[BCD]],PCdb[[#This Row],[PD]],PCdb[[#This Row],[PL (MAX)]],PCdb[[#This Row],[SD]],PCdb[[#This Row],[SL]],PCdb[[#This Row],[SQ_SZ]],PCdb[[#This Row],[ROUND_D]],PCdb[[#This Row],[FL]],PCdb[[#This Row],[THRU_SCREW]],PCdb[[#This Row],[THREAD_SZ]],PCdb[[#This Row],[THREAD_L]],PCdb[[#This Row],[NBR_HOLES]])","v":"70384102360NA36M5NANA4"},{"$f":"SUM(PCdb[[#This Row],[BDhit]:[THREAD_Lhit]])","v":4}]
[220,43.8,22,4,5.0999999999999996,24,42,"NA","NA","NA","M3",8,4,4,36.200000000000003,"NA","NA","Y","B2",45,90,null,null,null,null,null,null,null,null,null,null,null,null,null,null,null,null,null,null,null,null,null,null,null,null,null,null,null,null,null,null,null,null,{"$f":"IF(AND(PCdb[[#This Row],[BCD]]>UIoptions!$S$10,PCdb[[#This Row],[BCD]]<UIoptions!$T$10),1,0)","v":0},{"$f":"IF(AND(PCdb[[#This Row],[PD]]>UIoptions!$S$11,PCdb[[#This Row],[PD]]<UIoptions!$T$11),1,0)","v":0},{"$f":"IF(AND(UIoptions!$P$14<=PCdb[[#This Row],[PL (MAX)]],UIoptions!$P$14>UIoptions!$S$14),1,0)","v":1},{"$f":"IF(AND(PCdb[[#This Row],[SD]]>UIoptions!$S$12,PCdb[[#This Row],[SD]]<UIoptions!$T$12),1,0)","v":0},{"$f":"IF(AND(PCdb[[#This Row],[SL]]>UIoptions!$S$13,PCdb[[#This Row],[SL]]<UIoptions!$T$13),1,0)","v":0},{"$f":"IF(UIoptions!$N$35=1,IF(AND(PCdb[[#This Row],[SQ_SZ]]>UIoptions!$S$15,PCdb[[#This Row],[SQ_SZ]]<UIoptions!$T$15),1,0),1)","v":0},{"$f":"IF(UIoptions!$N$35=2,IF(AND(PCdb[[#This Row],[ROUND_D]]>UIoptions!$S$15,PCdb[[#This Row],[ROUND_D]]<UIoptions!$T$15),1,0),1)","v":1},{"$f":"IF(UIoptions!$N$75<>1,1,IF(AND(PCdb[[#This Row],[FL]]>UIoptions!$S$16,PCdb[[#This Row],[FL]]<UIoptions!$T$16),1,0))","v":0},{"$f":"IF(OR(UIoptions!$Q$18=PCdb[[#This Row],[THRU_SCREW]],UIoptions!$Q$18=\"NA\"),1,0)","v":0},{"$f":"IF(OR(UIoptions!$P$19=PCdb[[#This Row],[THREAD_SZ]],UIoptions!$P$19=\"NA\"),1,0)","v":1},{"$f":"IF(UIoptions!$N$75=1,1,IF(AND(PCdb[[#This Row],[THREAD_L]]>UIoptions!$S$17,PCdb[[#This Row],[THREAD_L]]<UIoptions!$T$17),1,0))","v":1},{"$f":"IF(SUM(PCdb[[#This Row],[BDhit]:[THREAD_Lhit]])=11,1,0)","v":0},{"$f":"CONCATENATE(PCdb[[#This Row],[BCD]],PCdb[[#This Row],[PD]],PCdb[[#This Row],[PL (MAX)]],PCdb[[#This Row],[SD]],PCdb[[#This Row],[SL]],PCdb[[#This Row],[SQ_SZ]],PCdb[[#This Row],[ROUND_D]],PCdb[[#This Row],[FL]],PCdb[[#This Row],[THRU_SCREW]],PCdb[[#This Row],[THREAD_SZ]],PCdb[[#This Row],[THREAD_L]],PCdb[[#This Row],[NBR_HOLES]])","v":"43,82245,12442NANANAM384"},{"$f":"SUM(PCdb[[#This Row],[BDhit]:[THREAD_Lhit]])","v":4}]
[221,106,"NA","NA",14,"NA","NA","NA","NA","NA","NA","NA","NA","NA",null,null,null,null,null,null,null,null,null,null,null,null,null,null,null,null,null,null,null,null,null,null,null,null,null,null,null,null,null,null,null,null,null,"NA","NA","NO","SPLD-221","NA","NA",{"$f":"IF(AND(PCdb[[#This Row],[BCD]]>UIoptions!$S$10,PCdb[[#This Row],[BCD]]<UIoptions!$T$10),1,0)","v":0},{"$f":"IF(AND(PCdb[[#This Row],[PD]]>UIoptions!$S$11,PCdb[[#This Row],[PD]]<UIoptions!$T$11),1,0)","v":0},{"$f":"IF(AND(UIoptions!$P$14<=PCdb[[#This Row],[PL (MAX)]],UIoptions!$P$14>UIoptions!$S$14),1,0)","v":1},{"$f":"IF(AND(PCdb[[#This Row],[SD]]>UIoptions!$S$12,PCdb[[#This Row],[SD]]<UIoptions!$T$12),1,0)","v":0},{"$f":"IF(AND(PCdb[[#This Row],[SL]]>UIoptions!$S$13,PCdb[[#This Row],[SL]]<UIoptions!$T$13),1,0)","v":0},{"$f":"IF(UIoptions!$N$35=1,IF(AND(PCdb[[#This Row],[SQ_SZ]]>UIoptions!$S$15,PCdb[[#This Row],[SQ_SZ]]<UIoptions!$T$15),1,0),1)","v":0},{"$f":"IF(UIoptions!$N$35=2,IF(AND(PCdb[[#This Row],[ROUND_D]]>UIoptions!$S$15,PCdb[[#This Row],[ROUND_D]]<UIoptions!$T$15),1,0),1)","v":1},{"$f":"IF(UIoptions!$N$75<>1,1,IF(AND(PCdb[[#This Row],[FL]]>UIoptions!$S$16,PCdb[[#This Row],[FL]]<UIoptions!$T$16),1,0))","v":0},{"$f":"IF(OR(UIoptions!$Q$18=PCdb[[#This Row],[THRU_SCREW]],UIoptions!$Q$18=\"NA\"),1,0)","v":0},{"$f":"IF(OR(UIoptions!$P$19=PCdb[[#This Row],[THREAD_SZ]],UIoptions!$P$19=\"NA\"),1,0)","v":1},{"$f":"IF(UIoptions!$N$75=1,1,IF(AND(PCdb[[#This Row],[THREAD_L]]>UIoptions!$S$17,PCdb[[#This Row],[THREAD_L]]<UIoptions!$T$17),1,0))","v":1},{"$f":"IF(SUM(PCdb[[#This Row],[BDhit]:[THREAD_Lhit]])=11,1,0)","v":0},{"$f":"CONCATENATE(PCdb[[#This Row],[BCD]],PCdb[[#This Row],[PD]],PCdb[[#This Row],[PL (MAX)]],PCdb[[#This Row],[SD]],PCdb[[#This Row],[SL]],PCdb[[#This Row],[SQ_SZ]],PCdb[[#This Row],[ROUND_D]],PCdb[[#This Row],[FL]],PCdb[[#This Row],[THRU_SCREW]],PCdb[[#This Row],[THREAD_SZ]],PCdb[[#This Row],[THREAD_L]],PCdb[[#This Row],[NBR_HOLES]])","v":"106NANA14NANANANANANANANA"},{"$f":"SUM(PCdb[[#This Row],[BDhit]:[THREAD_Lhit]])","v":4}]
[222,98.4,60,4,14,40,85,"NA",10,"M6","NA","NA",4,"M6",null,null,null,null,null,null,null,null,null,null,null,null,null,null,null,null,null,null,null,null,null,null,null,null,null,null,null,null,null,null,null,null,null,38,"NA","Y","D",45,90,{"$f":"IF(AND(PCdb[[#This Row],[BCD]]>UIoptions!$S$10,PCdb[[#This Row],[BCD]]<UIoptions!$T$10),1,0)","v":0},{"$f":"IF(AND(PCdb[[#This Row],[PD]]>UIoptions!$S$11,PCdb[[#This Row],[PD]]<UIoptions!$T$11),1,0)","v":0},{"$f":"IF(AND(UIoptions!$P$14<=PCdb[[#This Row],[PL (MAX)]],UIoptions!$P$14>UIoptions!$S$14),1,0)","v":1},{"$f":"IF(AND(PCdb[[#This Row],[SD]]>UIoptions!$S$12,PCdb[[#This Row],[SD]]<UIoptions!$T$12),1,0)","v":0},{"$f":"IF(AND(PCdb[[#This Row],[SL]]>UIoptions!$S$13,PCdb[[#This Row],[SL]]<UIoptions!$T$13),1,0)","v":0},{"$f":"IF(UIoptions!$N$35=1,IF(AND(PCdb[[#This Row],[SQ_SZ]]>UIoptions!$S$15,PCdb[[#This Row],[SQ_SZ]]<UIoptions!$T$15),1,0),1)","v":0},{"$f":"IF(UIoptions!$N$35=2,IF(AND(PCdb[[#This Row],[ROUND_D]]>UIoptions!$S$15,PCdb[[#This Row],[ROUND_D]]<UIoptions!$T$15),1,0),1)","v":1},{"$f":"IF(UIoptions!$N$75<>1,1,IF(AND(PCdb[[#This Row],[FL]]>UIoptions!$S$16,PCdb[[#This Row],[FL]]<UIoptions!$T$16),1,0))","v":0},{"$f":"IF(OR(UIoptions!$Q$18=PCdb[[#This Row],[THRU_SCREW]],UIoptions!$Q$18=\"NA\"),1,0)","v":0},{"$f":"IF(OR(UIoptions!$P$19=PCdb[[#This Row],[THREAD_SZ]],UIoptions!$P$19=\"NA\"),1,0)","v":1},{"$f":"IF(UIoptions!$N$75=1,1,IF(AND(PCdb[[#This Row],[THREAD_L]]>UIoptions!$S$17,PCdb[[#This Row],[THREAD_L]]<UIoptions!$T$17),1,0))","v":1},{"$f":"IF(SUM(PCdb[[#This Row],[BDhit]:[THREAD_Lhit]])=11,1,0)","v":0},{"$f":"CONCATENATE(PCdb[[#This Row],[BCD]],PCdb[[#This Row],[PD]],PCdb[[#This Row],[PL (MAX)]],PCdb[[#This Row],[SD]],PCdb[[#This Row],[SL]],PCdb[[#This Row],[SQ_SZ]],PCdb[[#This Row],[ROUND_D]],PCdb[[#This Row],[FL]],PCdb[[#This Row],[THRU_SCREW]],PCdb[[#This Row],[THREAD_SZ]],PCdb[[#This Row],[THREAD_L]],PCdb[[#This Row],[NBR_HOLES]])","v":"98,4604144085NA10M6NANA4"},{"$f":"SUM(PCdb[[#This Row],[BDhit]:[THREAD_Lhit]])","v":4}]
[223,75,60,4,14,30,70,"NA",6.9,"M5","NA","NA",4,"M5",null,null,null,null,null,null,null,null,null,null,null,null,null,null,null,null,null,null,null,null,null,null,null,null,null,null,null,"NA","NA","Y","SPLD-223","NA","NA",null,null,null,null,null,null,{"$f":"IF(AND(PCdb[[#This Row],[BCD]]>UIoptions!$S$10,PCdb[[#This Row],[BCD]]<UIoptions!$T$10),1,0)","v":0},{"$f":"IF(AND(PCdb[[#This Row],[PD]]>UIoptions!$S$11,PCdb[[#This Row],[PD]]<UIoptions!$T$11),1,0)","v":0},{"$f":"IF(AND(UIoptions!$P$14<=PCdb[[#This Row],[PL (MAX)]],UIoptions!$P$14>UIoptions!$S$14),1,0)","v":1},{"$f":"IF(AND(PCdb[[#This Row],[SD]]>UIoptions!$S$12,PCdb[[#This Row],[SD]]<UIoptions!$T$12),1,0)","v":0},{"$f":"IF(AND(PCdb[[#This Row],[SL]]>UIoptions!$S$13,PCdb[[#This Row],[SL]]<UIoptions!$T$13),1,0)","v":0},{"$f":"IF(UIoptions!$N$35=1,IF(AND(PCdb[[#This Row],[SQ_SZ]]>UIoptions!$S$15,PCdb[[#This Row],[SQ_SZ]]<UIoptions!$T$15),1,0),1)","v":0},{"$f":"IF(UIoptions!$N$35=2,IF(AND(PCdb[[#This Row],[ROUND_D]]>UIoptions!$S$15,PCdb[[#This Row],[ROUND_D]]<UIoptions!$T$15),1,0),1)","v":1},{"$f":"IF(UIoptions!$N$75<>1,1,IF(AND(PCdb[[#This Row],[FL]]>UIoptions!$S$16,PCdb[[#This Row],[FL]]<UIoptions!$T$16),1,0))","v":0},{"$f":"IF(OR(UIoptions!$Q$18=PCdb[[#This Row],[THRU_SCREW]],UIoptions!$Q$18=\"NA\"),1,0)","v":0},{"$f":"IF(OR(UIoptions!$P$19=PCdb[[#This Row],[THREAD_SZ]],UIoptions!$P$19=\"NA\"),1,0)","v":1},{"$f":"IF(UIoptions!$N$75=1,1,IF(AND(PCdb[[#This Row],[THREAD_L]]>UIoptions!$S$17,PCdb[[#This Row],[THREAD_L]]<UIoptions!$T$17),1,0))","v":1},{"$f":"IF(SUM(PCdb[[#This Row],[BDhit]:[THREAD_Lhit]])=11,1,0)","v":0},{"$f":"CONCATENATE(PCdb[[#This Row],[BCD]],PCdb[[#This Row],[PD]],PCdb[[#This Row],[PL (MAX)]],PCdb[[#This Row],[SD]],PCdb[[#This Row],[SL]],PCdb[[#This Row],[SQ_SZ]],PCdb[[#This Row],[ROUND_D]],PCdb[[#This Row],[FL]],PCdb[[#This Row],[THRU_SCREW]],PCdb[[#This Row],[THREAD_SZ]],PCdb[[#This Row],[THREAD_L]],PCdb[[#This Row],[NBR_HOLES]])","v":"75604143070NA6,9M5NANA4"},{"$f":"SUM(PCdb[[#This Row],[BDhit]:[THREAD_Lhit]])","v":4}]
[224,100,80,7,14,30,90,"NA",7,"M6","NA","NA",4,"M6",null,null,null,null,null,null,null,null,null,null,null,null,null,null,null,null,null,null,null,null,null,null,null,null,null,null,null,null,null,null,null,null,null,"NA","NA","Y","SPLD-224","NA","NA",{"$f":"IF(AND(PCdb[[#This Row],[BCD]]>UIoptions!$S$10,PCdb[[#This Row],[BCD]]<UIoptions!$T$10),1,0)","v":0},{"$f":"IF(AND(PCdb[[#This Row],[PD]]>UIoptions!$S$11,PCdb[[#This Row],[PD]]<UIoptions!$T$11),1,0)","v":0},{"$f":"IF(AND(UIoptions!$P$14<=PCdb[[#This Row],[PL (MAX)]],UIoptions!$P$14>UIoptions!$S$14),1,0)","v":1},{"$f":"IF(AND(PCdb[[#This Row],[SD]]>UIoptions!$S$12,PCdb[[#This Row],[SD]]<UIoptions!$T$12),1,0)","v":0},{"$f":"IF(AND(PCdb[[#This Row],[SL]]>UIoptions!$S$13,PCdb[[#This Row],[SL]]<UIoptions!$T$13),1,0)","v":0},{"$f":"IF(UIoptions!$N$35=1,IF(AND(PCdb[[#This Row],[SQ_SZ]]>UIoptions!$S$15,PCdb[[#This Row],[SQ_SZ]]<UIoptions!$T$15),1,0),1)","v":0},{"$f":"IF(UIoptions!$N$35=2,IF(AND(PCdb[[#This Row],[ROUND_D]]>UIoptions!$S$15,PCdb[[#This Row],[ROUND_D]]<UIoptions!$T$15),1,0),1)","v":1},{"$f":"IF(UIoptions!$N$75<>1,1,IF(AND(PCdb[[#This Row],[FL]]>UIoptions!$S$16,PCdb[[#This Row],[FL]]<UIoptions!$T$16),1,0))","v":1},{"$f":"IF(OR(UIoptions!$Q$18=PCdb[[#This Row],[THRU_SCREW]],UIoptions!$Q$18=\"NA\"),1,0)","v":0},{"$f":"IF(OR(UIoptions!$P$19=PCdb[[#This Row],[THREAD_SZ]],UIoptions!$P$19=\"NA\"),1,0)","v":1},{"$f":"IF(UIoptions!$N$75=1,1,IF(AND(PCdb[[#This Row],[THREAD_L]]>UIoptions!$S$17,PCdb[[#This Row],[THREAD_L]]<UIoptions!$T$17),1,0))","v":1},{"$f":"IF(SUM(PCdb[[#This Row],[BDhit]:[THREAD_Lhit]])=11,1,0)","v":0},{"$f":"CONCATENATE(PCdb[[#This Row],[BCD]],PCdb[[#This Row],[PD]],PCdb[[#This Row],[PL (MAX)]],PCdb[[#This Row],[SD]],PCdb[[#This Row],[SL]],PCdb[[#This Row],[SQ_SZ]],PCdb[[#This Row],[ROUND_D]],PCdb[[#This Row],[FL]],PCdb[[#This Row],[THRU_SCREW]],PCdb[[#This Row],[THREAD_SZ]],PCdb[[#This Row],[THREAD_L]],PCdb[[#This Row],[NBR_HOLES]])","v":"100807143090NA7M6NANA4"},{"$f":"SUM(PCdb[[#This Row],[BDhit]:[THREAD_Lhit]])","v":5}]
[225,46,30,4,8,25,40,"NA",5.2,"M4","NA","NA",4,"M4",null,null,null,null,null,null,null,null,null,null,null,null,null,null,null,null,null,null,null,null,null,17.5,"NA","Y","C",45,90,null,null,null,null,null,null,null,null,null,null,null,null,{"$f":"IF(AND(PCdb[[#This Row],[BCD]]>UIoptions!$S$10,PCdb[[#This Row],[BCD]]<UIoptions!$T$10),1,0)","v":0},{"$f":"IF(AND(PCdb[[#This Row],[PD]]>UIoptions!$S$11,PCdb[[#This Row],[PD]]<UIoptions!$T$11),1,0)","v":0},{"$f":"IF(AND(UIoptions!$P$14<=PCdb[[#This Row],[PL (MAX)]],UIoptions!$P$14>UIoptions!$S$14),1,0)","v":1},{"$f":"IF(AND(PCdb[[#This Row],[SD]]>UIoptions!$S$12,PCdb[[#This Row],[SD]]<UIoptions!$T$12),1,0)","v":0},{"$f":"IF(AND(PCdb[[#This Row],[SL]]>UIoptions!$S$13,PCdb[[#This Row],[SL]]<UIoptions!$T$13),1,0)","v":0},{"$f":"IF(UIoptions!$N$35=1,IF(AND(PCdb[[#This Row],[SQ_SZ]]>UIoptions!$S$15,PCdb[[#This Row],[SQ_SZ]]<UIoptions!$T$15),1,0),1)","v":0},{"$f":"IF(UIoptions!$N$35=2,IF(AND(PCdb[[#This Row],[ROUND_D]]>UIoptions!$S$15,PCdb[[#This Row],[ROUND_D]]<UIoptions!$T$15),1,0),1)","v":1},{"$f":"IF(UIoptions!$N$75<>1,1,IF(AND(PCdb[[#This Row],[FL]]>UIoptions!$S$16,PCdb[[#This Row],[FL]]<UIoptions!$T$16),1,0))","v":0},{"$f":"IF(OR(UIoptions!$Q$18=PCdb[[#This Row],[THRU_SCREW]],UIoptions!$Q$18=\"NA\"),1,0)","v":1},{"$f":"IF(OR(UIoptions!$P$19=PCdb[[#This Row],[THREAD_SZ]],UIoptions!$P$19=\"NA\"),1,0)","v":1},{"$f":"IF(UIoptions!$N$75=1,1,IF(AND(PCdb[[#This Row],[THREAD_L]]>UIoptions!$S$17,PCdb[[#This Row],[THREAD_L]]<UIoptions!$T$17),1,0))","v":1},{"$f":"IF(SUM(PCdb[[#This Row],[BDhit]:[THREAD_Lhit]])=11,1,0)","v":0},{"$f":"CONCATENATE(PCdb[[#This Row],[BCD]],PCdb[[#This Row],[PD]],PCdb[[#This Row],[PL (MAX)]],PCdb[[#This Row],[SD]],PCdb[[#This Row],[SL]],PCdb[[#This Row],[SQ_SZ]],PCdb[[#This Row],[ROUND_D]],PCdb[[#This Row],[FL]],PCdb[[#This Row],[THRU_SCREW]],PCdb[[#This Row],[THREAD_SZ]],PCdb[[#This Row],[THREAD_L]],PCdb[[#This Row],[NBR_HOLES]])","v":"4630482540NA5,2M4NANA4"},{"$f":"SUM(PCdb[[#This Row],[BDhit]:[THREAD_Lhit]])","v":5}]
[226,100,80,4,19,40,84,"NA",8,"M6","NA","NA",4,"M6",null,null,null,null,null,null,null,null,null,null,null,null,null,null,45.2,41.5,"NA","Y","B",45,90,null,null,null,null,null,null,null,null,null,null,null,null,null,null,null,null,null,null,{"$f":"IF(AND(PCdb[[#This Row],[BCD]]>UIoptions!$S$10,PCdb[[#This Row],[BCD]]<UIoptions!$T$10),1,0)","v":0},{"$f":"IF(AND(PCdb[[#This Row],[PD]]>UIoptions!$S$11,PCdb[[#This Row],[PD]]<UIoptions!$T$11),1,0)","v":0},{"$f":"IF(AND(UIoptions!$P$14<=PCdb[[#This Row],[PL (MAX)]],UIoptions!$P$14>UIoptions!$S$14),1,0)","v":1},{"$f":"IF(AND(PCdb[[#This Row],[SD]]>UIoptions!$S$12,PCdb[[#This Row],[SD]]<UIoptions!$T$12),1,0)","v":0},{"$f":"IF(AND(PCdb[[#This Row],[SL]]>UIoptions!$S$13,PCdb[[#This Row],[SL]]<UIoptions!$T$13),1,0)","v":0},{"$f":"IF(UIoptions!$N$35=1,IF(AND(PCdb[[#This Row],[SQ_SZ]]>UIoptions!$S$15,PCdb[[#This Row],[SQ_SZ]]<UIoptions!$T$15),1,0),1)","v":0},{"$f":"IF(UIoptions!$N$35=2,IF(AND(PCdb[[#This Row],[ROUND_D]]>UIoptions!$S$15,PCdb[[#This Row],[ROUND_D]]<UIoptions!$T$15),1,0),1)","v":1},{"$f":"IF(UIoptions!$N$75<>1,1,IF(AND(PCdb[[#This Row],[FL]]>UIoptions!$S$16,PCdb[[#This Row],[FL]]<UIoptions!$T$16),1,0))","v":0},{"$f":"IF(OR(UIoptions!$Q$18=PCdb[[#This Row],[THRU_SCREW]],UIoptions!$Q$18=\"NA\"),1,0)","v":0},{"$f":"IF(OR(UIoptions!$P$19=PCdb[[#This Row],[THREAD_SZ]],UIoptions!$P$19=\"NA\"),1,0)","v":1},{"$f":"IF(UIoptions!$N$75=1,1,IF(AND(PCdb[[#This Row],[THREAD_L]]>UIoptions!$S$17,PCdb[[#This Row],[THREAD_L]]<UIoptions!$T$17),1,0))","v":1},{"$f":"IF(SUM(PCdb[[#This Row],[BDhit]:[THREAD_Lhit]])=11,1,0)","v":0},{"$f":"CONCATENATE(PCdb[[#This Row],[BCD]],PCdb[[#This Row],[PD]],PCdb[[#This Row],[PL (MAX)]],PCdb[[#This Row],[SD]],PCdb[[#This Row],[SL]],PCdb[[#This Row],[SQ_SZ]],PCdb[[#This Row],[ROUND_D]],PCdb[[#This Row],[FL]],PCdb[[#This Row],[THRU_SCREW]],PCdb[[#This Row],[THREAD_SZ]],PCdb[[#This Row],[THREAD_L]],PCdb[[#This Row],[NBR_HOLES]])","v":"100804194084NA8M6NANA4"},{"$f":"SUM(PCdb[[#This Row],[BDhit]:[THREAD_Lhit]])","v":4}]
[227,46,30,4,8,18,40,"NA",7,"M4","NA","NA",4,"M4",null,null,null,null,null,null,null,null,null,null,null,null,null,null,null,null,null,null,null,null,null,17.5,0,"Y","C",45,90,null,null,null,null,null,null,null,null,null,null,null,null,{"$f":"IF(AND(PCdb[[#This Row],[BCD]]>UIoptions!$S$10,PCdb[[#This Row],[BCD]]<UIoptions!$T$10),1,0)","v":0},{"$f":"IF(AND(PCdb[[#This Row],[PD]]>UIoptions!$S$11,PCdb[[#This Row],[PD]]<UIoptions!$T$11),1,0)","v":0},{"$f":"IF(AND(UIoptions!$P$14<=PCdb[[#This Row],[PL (MAX)]],UIoptions!$P$14>UIoptions!$S$14),1,0)","v":1},{"$f":"IF(AND(PCdb[[#This Row],[SD]]>UIoptions!$S$12,PCdb[[#This Row],[SD]]<UIoptions!$T$12),1,0)","v":0},{"$f":"IF(AND(PCdb[[#This Row],[SL]]>UIoptions!$S$13,PCdb[[#This Row],[SL]]<UIoptions!$T$13),1,0)","v":0},{"$f":"IF(UIoptions!$N$35=1,IF(AND(PCdb[[#This Row],[SQ_SZ]]>UIoptions!$S$15,PCdb[[#This Row],[SQ_SZ]]<UIoptions!$T$15),1,0),1)","v":0},{"$f":"IF(UIoptions!$N$35=2,IF(AND(PCdb[[#This Row],[ROUND_D]]>UIoptions!$S$15,PCdb[[#This Row],[ROUND_D]]<UIoptions!$T$15),1,0),1)","v":1},{"$f":"IF(UIoptions!$N$75<>1,1,IF(AND(PCdb[[#This Row],[FL]]>UIoptions!$S$16,PCdb[[#This Row],[FL]]<UIoptions!$T$16),1,0))","v":1},{"$f":"IF(OR(UIoptions!$Q$18=PCdb[[#This Row],[THRU_SCREW]],UIoptions!$Q$18=\"NA\"),1,0)","v":1},{"$f":"IF(OR(UIoptions!$P$19=PCdb[[#This Row],[THREAD_SZ]],UIoptions!$P$19=\"NA\"),1,0)","v":1},{"$f":"IF(UIoptions!$N$75=1,1,IF(AND(PCdb[[#This Row],[THREAD_L]]>UIoptions!$S$17,PCdb[[#This Row],[THREAD_L]]<UIoptions!$T$17),1,0))","v":1},{"$f":"IF(SUM(PCdb[[#This Row],[BDhit]:[THREAD_Lhit]])=11,1,0)","v":0},{"$f":"CONCATENATE(PCdb[[#This Row],[BCD]],PCdb[[#This Row],[PD]],PCdb[[#This Row],[PL (MAX)]],PCdb[[#This Row],[SD]],PCdb[[#This Row],[SL]],PCdb[[#This Row],[SQ_SZ]],PCdb[[#This Row],[ROUND_D]],PCdb[[#This Row],[FL]],PCdb[[#This Row],[THRU_SCREW]],PCdb[[#This Row],[THREAD_SZ]],PCdb[[#This Row],[THREAD_L]],PCdb[[#This Row],[NBR_HOLES]])","v":"4630481840NA7M4NANA4"},{"$f":"SUM(PCdb[[#This Row],[BDhit]:[THREAD_Lhit]])","v":6}]
[228,66.7,38.1,4,6.35,25.4,57.2,"NA",5.2,"M4","NA","NA",4,"M4",null,null,null,null,null,null,null,null,null,null,null,null,null,null,null,null,null,null,null,null,null,null,null,null,null,null,null,22,0,"Y","C",45,90,null,null,null,null,null,null,{"$f":"IF(AND(PCdb[[#This Row],[BCD]]>UIoptions!$S$10,PCdb[[#This Row],[BCD]]<UIoptions!$T$10),1,0)","v":0},{"$f":"IF(AND(PCdb[[#This Row],[PD]]>UIoptions!$S$11,PCdb[[#This Row],[PD]]<UIoptions!$T$11),1,0)","v":0},{"$f":"IF(AND(UIoptions!$P$14<=PCdb[[#This Row],[PL (MAX)]],UIoptions!$P$14>UIoptions!$S$14),1,0)","v":1},{"$f":"IF(AND(PCdb[[#This Row],[SD]]>UIoptions!$S$12,PCdb[[#This Row],[SD]]<UIoptions!$T$12),1,0)","v":0},{"$f":"IF(AND(PCdb[[#This Row],[SL]]>UIoptions!$S$13,PCdb[[#This Row],[SL]]<UIoptions!$T$13),1,0)","v":0},{"$f":"IF(UIoptions!$N$35=1,IF(AND(PCdb[[#This Row],[SQ_SZ]]>UIoptions!$S$15,PCdb[[#This Row],[SQ_SZ]]<UIoptions!$T$15),1,0),1)","v":0},{"$f":"IF(UIoptions!$N$35=2,IF(AND(PCdb[[#This Row],[ROUND_D]]>UIoptions!$S$15,PCdb[[#This Row],[ROUND_D]]<UIoptions!$T$15),1,0),1)","v":1},{"$f":"IF(UIoptions!$N$75<>1,1,IF(AND(PCdb[[#This Row],[FL]]>UIoptions!$S$16,PCdb[[#This Row],[FL]]<UIoptions!$T$16),1,0))","v":0},{"$f":"IF(OR(UIoptions!$Q$18=PCdb[[#This Row],[THRU_SCREW]],UIoptions!$Q$18=\"NA\"),1,0)","v":1},{"$f":"IF(OR(UIoptions!$P$19=PCdb[[#This Row],[THREAD_SZ]],UIoptions!$P$19=\"NA\"),1,0)","v":1},{"$f":"IF(UIoptions!$N$75=1,1,IF(AND(PCdb[[#This Row],[THREAD_L]]>UIoptions!$S$17,PCdb[[#This Row],[THREAD_L]]<UIoptions!$T$17),1,0))","v":1},{"$f":"IF(SUM(PCdb[[#This Row],[BDhit]:[THREAD_Lhit]])=11,1,0)","v":0},{"$f":"CONCATENATE(PCdb[[#This Row],[BCD]],PCdb[[#This Row],[PD]],PCdb[[#This Row],[PL (MAX)]],PCdb[[#This Row],[SD]],PCdb[[#This Row],[SL]],PCdb[[#This Row],[SQ_SZ]],PCdb[[#This Row],[ROUND_D]],PCdb[[#This Row],[FL]],PCdb[[#This Row],[THRU_SCREW]],PCdb[[#This Row],[THREAD_SZ]],PCdb[[#This Row],[THREAD_L]],PCdb[[#This Row],[NBR_HOLES]])","v":"66,738,146,3525,457,2NA5,2M4NANA4"},{"$f":"SUM(PCdb[[#This Row],[BDhit]:[THREAD_Lhit]])","v":5}]
[229,66.599999999999994,38.1,4,6.35,20.6,56.2,"NA",5,"M4","NA","NA",4,"M4",38.700000000000003,22,0,"Y","B",45,90,null,null,null,null,null,null,null,null,null,null,null,null,null,null,null,null,null,null,null,null,null,null,null,null,null,null,null,null,null,null,null,null,{"$f":"IF(AND(PCdb[[#This Row],[BCD]]>UIoptions!$S$10,PCdb[[#This Row],[BCD]]<UIoptions!$T$10),1,0)","v":0},{"$f":"IF(AND(PCdb[[#This Row],[PD]]>UIoptions!$S$11,PCdb[[#This Row],[PD]]<UIoptions!$T$11),1,0)","v":0},{"$f":"IF(AND(UIoptions!$P$14<=PCdb[[#This Row],[PL (MAX)]],UIoptions!$P$14>UIoptions!$S$14),1,0)","v":1},{"$f":"IF(AND(PCdb[[#This Row],[SD]]>UIoptions!$S$12,PCdb[[#This Row],[SD]]<UIoptions!$T$12),1,0)","v":0},{"$f":"IF(AND(PCdb[[#This Row],[SL]]>UIoptions!$S$13,PCdb[[#This Row],[SL]]<UIoptions!$T$13),1,0)","v":0},{"$f":"IF(UIoptions!$N$35=1,IF(AND(PCdb[[#This Row],[SQ_SZ]]>UIoptions!$S$15,PCdb[[#This Row],[SQ_SZ]]<UIoptions!$T$15),1,0),1)","v":0},{"$f":"IF(UIoptions!$N$35=2,IF(AND(PCdb[[#This Row],[ROUND_D]]>UIoptions!$S$15,PCdb[[#This Row],[ROUND_D]]<UIoptions!$T$15),1,0),1)","v":1},{"$f":"IF(UIoptions!$N$75<>1,1,IF(AND(PCdb[[#This Row],[FL]]>UIoptions!$S$16,PCdb[[#This Row],[FL]]<UIoptions!$T$16),1,0))","v":0},{"$f":"IF(OR(UIoptions!$Q$18=PCdb[[#This Row],[THRU_SCREW]],UIoptions!$Q$18=\"NA\"),1,0)","v":1},{"$f":"IF(OR(UIoptions!$P$19=PCdb[[#This Row],[THREAD_SZ]],UIoptions!$P$19=\"NA\"),1,0)","v":1},{"$f":"IF(UIoptions!$N$75=1,1,IF(AND(PCdb[[#This Row],[THREAD_L]]>UIoptions!$S$17,PCdb[[#This Row],[THREAD_L]]<UIoptions!$T$17),1,0))","v":1},{"$f":"IF(SUM(PCdb[[#This Row],[BDhit]:[THREAD_Lhit]])=11,1,0)","v":0},{"$f":"CONCATENATE(PCdb[[#This Row],[BCD]],PCdb[[#This Row],[PD]],PCdb[[#This Row],[PL (MAX)]],PCdb[[#This Row],[SD]],PCdb[[#This Row],[SL]],PCdb[[#This Row],[SQ_SZ]],PCdb[[#This Row],[ROUND_D]],PCdb[[#This Row],[FL]],PCdb[[#This Row],[THRU_SCREW]],PCdb[[#This Row],[THREAD_SZ]],PCdb[[#This Row],[THREAD_L]],PCdb[[#This Row],[NBR_HOLES]])","v":"66,638,146,3520,656,2NA5M4NANA4"},{"$f":"SUM(PCdb[[#This Row],[BDhit]:[THREAD_Lhit]])","v":5}]
[230,66.7,40,4,14,30,60,"NA",8,"M5","NA","NA",4,"M5",null,null,null,null,null,null,null,null,null,null,null,null,null,null,null,null,null,null,null,null,null,null,null,null,null,null,null,25,0,"Y","C",45,90,null,null,null,null,null,null,{"$f":"IF(AND(PCdb[[#This Row],[BCD]]>UIoptions!$S$10,PCdb[[#This Row],[BCD]]<UIoptions!$T$10),1,0)","v":0},{"$f":"IF(AND(PCdb[[#This Row],[PD]]>UIoptions!$S$11,PCdb[[#This Row],[PD]]<UIoptions!$T$11),1,0)","v":1},{"$f":"IF(AND(UIoptions!$P$14<=PCdb[[#This Row],[PL (MAX)]],UIoptions!$P$14>UIoptions!$S$14),1,0)","v":1},{"$f":"IF(AND(PCdb[[#This Row],[SD]]>UIoptions!$S$12,PCdb[[#This Row],[SD]]<UIoptions!$T$12),1,0)","v":0},{"$f":"IF(AND(PCdb[[#This Row],[SL]]>UIoptions!$S$13,PCdb[[#This Row],[SL]]<UIoptions!$T$13),1,0)","v":0},{"$f":"IF(UIoptions!$N$35=1,IF(AND(PCdb[[#This Row],[SQ_SZ]]>UIoptions!$S$15,PCdb[[#This Row],[SQ_SZ]]<UIoptions!$T$15),1,0),1)","v":0},{"$f":"IF(UIoptions!$N$35=2,IF(AND(PCdb[[#This Row],[ROUND_D]]>UIoptions!$S$15,PCdb[[#This Row],[ROUND_D]]<UIoptions!$T$15),1,0),1)","v":1},{"$f":"IF(UIoptions!$N$75<>1,1,IF(AND(PCdb[[#This Row],[FL]]>UIoptions!$S$16,PCdb[[#This Row],[FL]]<UIoptions!$T$16),1,0))","v":0},{"$f":"IF(OR(UIoptions!$Q$18=PCdb[[#This Row],[THRU_SCREW]],UIoptions!$Q$18=\"NA\"),1,0)","v":0},{"$f":"IF(OR(UIoptions!$P$19=PCdb[[#This Row],[THREAD_SZ]],UIoptions!$P$19=\"NA\"),1,0)","v":1},{"$f":"IF(UIoptions!$N$75=1,1,IF(AND(PCdb[[#This Row],[THREAD_L]]>UIoptions!$S$17,PCdb[[#This Row],[THREAD_L]]<UIoptions!$T$17),1,0))","v":1},{"$f":"IF(SUM(PCdb[[#This Row],[BDhit]:[THREAD_Lhit]])=11,1,0)","v":0},{"$f":"CONCATENATE(PCdb[[#This Row],[BCD]],PCdb[[#This Row],[PD]],PCdb[[#This Row],[PL (MAX)]],PCdb[[#This Row],[SD]],PCdb[[#This Row],[SL]],PCdb[[#This Row],[SQ_SZ]],PCdb[[#This Row],[ROUND_D]],PCdb[[#This Row],[FL]],PCdb[[#This Row],[THRU_SCREW]],PCdb[[#This Row],[THREAD_SZ]],PCdb[[#This Row],[THREAD_L]],PCdb[[#This Row],[NBR_HOLES]])","v":"66,7404143060NA8M5NANA4"},{"$f":"SUM(PCdb[[#This Row],[BDhit]:[THREAD_Lhit]])","v":5}]
[231,70,50,4,14,35,60,"NA",8,"M5","NA","NA",4,"M5",null,null,null,null,null,null,null,null,null,null,null,null,null,null,48.7,"NA",55,"Y","A",45,90,null,null,null,null,null,null,null,null,null,null,null,null,28,"NA","Y","C",45,90,{"$f":"IF(AND(PCdb[[#This Row],[BCD]]>UIoptions!$S$10,PCdb[[#This Row],[BCD]]<UIoptions!$T$10),1,0)","v":0},{"$f":"IF(AND(PCdb[[#This Row],[PD]]>UIoptions!$S$11,PCdb[[#This Row],[PD]]<UIoptions!$T$11),1,0)","v":0},{"$f":"IF(AND(UIoptions!$P$14<=PCdb[[#This Row],[PL (MAX)]],UIoptions!$P$14>UIoptions!$S$14),1,0)","v":1},{"$f":"IF(AND(PCdb[[#This Row],[SD]]>UIoptions!$S$12,PCdb[[#This Row],[SD]]<UIoptions!$T$12),1,0)","v":0},{"$f":"IF(AND(PCdb[[#This Row],[SL]]>UIoptions!$S$13,PCdb[[#This Row],[SL]]<UIoptions!$T$13),1,0)","v":0},{"$f":"IF(UIoptions!$N$35=1,IF(AND(PCdb[[#This Row],[SQ_SZ]]>UIoptions!$S$15,PCdb[[#This Row],[SQ_SZ]]<UIoptions!$T$15),1,0),1)","v":0},{"$f":"IF(UIoptions!$N$35=2,IF(AND(PCdb[[#This Row],[ROUND_D]]>UIoptions!$S$15,PCdb[[#This Row],[ROUND_D]]<UIoptions!$T$15),1,0),1)","v":1},{"$f":"IF(UIoptions!$N$75<>1,1,IF(AND(PCdb[[#This Row],[FL]]>UIoptions!$S$16,PCdb[[#This Row],[FL]]<UIoptions!$T$16),1,0))","v":0},{"$f":"IF(OR(UIoptions!$Q$18=PCdb[[#This Row],[THRU_SCREW]],UIoptions!$Q$18=\"NA\"),1,0)","v":0},{"$f":"IF(OR(UIoptions!$P$19=PCdb[[#This Row],[THREAD_SZ]],UIoptions!$P$19=\"NA\"),1,0)","v":1},{"$f":"IF(UIoptions!$N$75=1,1,IF(AND(PCdb[[#This Row],[THREAD_L]]>UIoptions!$S$17,PCdb[[#This Row],[THREAD_L]]<UIoptions!$T$17),1,0))","v":1},{"$f":"IF(SUM(PCdb[[#This Row],[BDhit]:[THREAD_Lhit]])=11,1,0)","v":0},{"$f":"CONCATENATE(PCdb[[#This Row],[BCD]],PCdb[[#This Row],[PD]],PCdb[[#This Row],[PL (MAX)]],PCdb[[#This Row],[SD]],PCdb[[#This Row],[SL]],PCdb[[#This Row],[SQ_SZ]],PCdb[[#This Row],[ROUND_D]],PCdb[[#This Row],[FL]],PCdb[[#This Row],[THRU_SCREW]],PCdb[[#This Row],[THREAD_SZ]],PCdb[[#This Row],[THREAD_L]],PCdb[[#This Row],[NBR_HOLES]])","v":"70504143560NA8M5NANA4"},{"$f":"SUM(PCdb[[#This Row],[BDhit]:[THREAD_Lhit]])","v":4}]
[232,66.7,38.1,4,6.35,20,57,"NA",7.6,"M5","NA","NA",4,"M5",null,null,null,null,null,null,null,null,null,null,null,null,null,null,null,null,null,null,null,null,null,null,null,null,null,null,null,24,"NA","Y","C",45,90,null,null,null,null,null,null,{"$f":"IF(AND(PCdb[[#This Row],[BCD]]>UIoptions!$S$10,PCdb[[#This Row],[BCD]]<UIoptions!$T$10),1,0)","v":0},{"$f":"IF(AND(PCdb[[#This Row],[PD]]>UIoptions!$S$11,PCdb[[#This Row],[PD]]<UIoptions!$T$11),1,0)","v":0},{"$f":"IF(AND(UIoptions!$P$14<=PCdb[[#This Row],[PL (MAX)]],UIoptions!$P$14>UIoptions!$S$14),1,0)","v":1},{"$f":"IF(AND(PCdb[[#This Row],[SD]]>UIoptions!$S$12,PCdb[[#This Row],[SD]]<UIoptions!$T$12),1,0)","v":0},{"$f":"IF(AND(PCdb[[#This Row],[SL]]>UIoptions!$S$13,PCdb[[#This Row],[SL]]<UIoptions!$T$13),1,0)","v":1},{"$f":"IF(UIoptions!$N$35=1,IF(AND(PCdb[[#This Row],[SQ_SZ]]>UIoptions!$S$15,PCdb[[#This Row],[SQ_SZ]]<UIoptions!$T$15),1,0),1)","v":0},{"$f":"IF(UIoptions!$N$35=2,IF(AND(PCdb[[#This Row],[ROUND_D]]>UIoptions!$S$15,PCdb[[#This Row],[ROUND_D]]<UIoptions!$T$15),1,0),1)","v":1},{"$f":"IF(UIoptions!$N$75<>1,1,IF(AND(PCdb[[#This Row],[FL]]>UIoptions!$S$16,PCdb[[#This Row],[FL]]<UIoptions!$T$16),1,0))","v":0},{"$f":"IF(OR(UIoptions!$Q$18=PCdb[[#This Row],[THRU_SCREW]],UIoptions!$Q$18=\"NA\"),1,0)","v":0},{"$f":"IF(OR(UIoptions!$P$19=PCdb[[#This Row],[THREAD_SZ]],UIoptions!$P$19=\"NA\"),1,0)","v":1},{"$f":"IF(UIoptions!$N$75=1,1,IF(AND(PCdb[[#This Row],[THREAD_L]]>UIoptions!$S$17,PCdb[[#This Row],[THREAD_L]]<UIoptions!$T$17),1,0))","v":1},{"$f":"IF(SUM(PCdb[[#This Row],[BDhit]:[THREAD_Lhit]])=11,1,0)","v":0},{"$f":"CONCATENATE(PCdb[[#This Row],[BCD]],PCdb[[#This Row],[PD]],PCdb[[#This Row],[PL (MAX)]],PCdb[[#This Row],[SD]],PCdb[[#This Row],[SL]],PCdb[[#This Row],[SQ_SZ]],PCdb[[#This Row],[ROUND_D]],PCdb[[#This Row],[FL]],PCdb[[#This Row],[THRU_SCREW]],PCdb[[#This Row],[THREAD_SZ]],PCdb[[#This Row],[THREAD_L]],PCdb[[#This Row],[NBR_HOLES]])","v":"66,738,146,352057NA7,6M5NANA4"},{"$f":"SUM(PCdb[[#This Row],[BDhit]:[THREAD_Lhit]])","v":5}]
[233,100,85,4,16,34.5,90,"NA",13,"M6","NA","NA",4,"M6",null,null,null,null,null,null,null,null,null,null,null,null,null,null,null,null,null,null,null,null,null,null,null,null,null,null,null,null,null,null,null,null,null,43.5,"NA","Y","D",45,90,{"$f":"IF(AND(PCdb[[#This Row],[BCD]]>UIoptions!$S$10,PCdb[[#This Row],[BCD]]<UIoptions!$T$10),1,0)","v":0},{"$f":"IF(AND(PCdb[[#This Row],[PD]]>UIoptions!$S$11,PCdb[[#This Row],[PD]]<UIoptions!$T$11),1,0)","v":0},{"$f":"IF(AND(UIoptions!$P$14<=PCdb[[#This Row],[PL (MAX)]],UIoptions!$P$14>UIoptions!$S$14),1,0)","v":1},{"$f":"IF(AND(PCdb[[#This Row],[SD]]>UIoptions!$S$12,PCdb[[#This Row],[SD]]<UIoptions!$T$12),1,0)","v":0},{"$f":"IF(AND(PCdb[[#This Row],[SL]]>UIoptions!$S$13,PCdb[[#This Row],[SL]]<UIoptions!$T$13),1,0)","v":0},{"$f":"IF(UIoptions!$N$35=1,IF(AND(PCdb[[#This Row],[SQ_SZ]]>UIoptions!$S$15,PCdb[[#This Row],[SQ_SZ]]<UIoptions!$T$15),1,0),1)","v":0},{"$f":"IF(UIoptions!$N$35=2,IF(AND(PCdb[[#This Row],[ROUND_D]]>UIoptions!$S$15,PCdb[[#This Row],[ROUND_D]]<UIoptions!$T$15),1,0),1)","v":1},{"$f":"IF(UIoptions!$N$75<>1,1,IF(AND(PCdb[[#This Row],[FL]]>UIoptions!$S$16,PCdb[[#This Row],[FL]]<UIoptions!$T$16),1,0))","v":0},{"$f":"IF(OR(UIoptions!$Q$18=PCdb[[#This Row],[THRU_SCREW]],UIoptions!$Q$18=\"NA\"),1,0)","v":0},{"$f":"IF(OR(UIoptions!$P$19=PCdb[[#This Row],[THREAD_SZ]],UIoptions!$P$19=\"NA\"),1,0)","v":1},{"$f":"IF(UIoptions!$N$75=1,1,IF(AND(PCdb[[#This Row],[THREAD_L]]>UIoptions!$S$17,PCdb[[#This Row],[THREAD_L]]<UIoptions!$T$17),1,0))","v":1},{"$f":"IF(SUM(PCdb[[#This Row],[BDhit]:[THREAD_Lhit]])=11,1,0)","v":0},{"$f":"CONCATENATE(PCdb[[#This Row],[BCD]],PCdb[[#This Row],[PD]],PCdb[[#This Row],[PL (MAX)]],PCdb[[#This Row],[SD]],PCdb[[#This Row],[SL]],PCdb[[#This Row],[SQ_SZ]],PCdb[[#This Row],[ROUND_D]],PCdb[[#This Row],[FL]],PCdb[[#This Row],[THRU_SCREW]],PCdb[[#This Row],[THREAD_SZ]],PCdb[[#This Row],[THREAD_L]],PCdb[[#This Row],[NBR_HOLES]])","v":"1008541634,590NA13M6NANA4"},{"$f":"SUM(PCdb[[#This Row],[BDhit]:[THREAD_Lhit]])","v":4}]
[234,70.5,50,4,10,31,61,"NA",7,"M5","NA","NA",4,"M5",null,null,null,null,null,null,null,null,null,null,null,null,null,null,null,null,null,null,null,null,null,27,"NA","Y","D",45,90,null,null,null,null,null,null,null,null,null,null,null,null,{"$f":"IF(AND(PCdb[[#This Row],[BCD]]>UIoptions!$S$10,PCdb[[#This Row],[BCD]]<UIoptions!$T$10),1,0)","v":0},{"$f":"IF(AND(PCdb[[#This Row],[PD]]>UIoptions!$S$11,PCdb[[#This Row],[PD]]<UIoptions!$T$11),1,0)","v":0},{"$f":"IF(AND(UIoptions!$P$14<=PCdb[[#This Row],[PL (MAX)]],UIoptions!$P$14>UIoptions!$S$14),1,0)","v":1},{"$f":"IF(AND(PCdb[[#This Row],[SD]]>UIoptions!$S$12,PCdb[[#This Row],[SD]]<UIoptions!$T$12),1,0)","v":0},{"$f":"IF(AND(PCdb[[#This Row],[SL]]>UIoptions!$S$13,PCdb[[#This Row],[SL]]<UIoptions!$T$13),1,0)","v":0},{"$f":"IF(UIoptions!$N$35=1,IF(AND(PCdb[[#This Row],[SQ_SZ]]>UIoptions!$S$15,PCdb[[#This Row],[SQ_SZ]]<UIoptions!$T$15),1,0),1)","v":0},{"$f":"IF(UIoptions!$N$35=2,IF(AND(PCdb[[#This Row],[ROUND_D]]>UIoptions!$S$15,PCdb[[#This Row],[ROUND_D]]<UIoptions!$T$15),1,0),1)","v":1},{"$f":"IF(UIoptions!$N$75<>1,1,IF(AND(PCdb[[#This Row],[FL]]>UIoptions!$S$16,PCdb[[#This Row],[FL]]<UIoptions!$T$16),1,0))","v":1},{"$f":"IF(OR(UIoptions!$Q$18=PCdb[[#This Row],[THRU_SCREW]],UIoptions!$Q$18=\"NA\"),1,0)","v":0},{"$f":"IF(OR(UIoptions!$P$19=PCdb[[#This Row],[THREAD_SZ]],UIoptions!$P$19=\"NA\"),1,0)","v":1},{"$f":"IF(UIoptions!$N$75=1,1,IF(AND(PCdb[[#This Row],[THREAD_L]]>UIoptions!$S$17,PCdb[[#This Row],[THREAD_L]]<UIoptions!$T$17),1,0))","v":1},{"$f":"IF(SUM(PCdb[[#This Row],[BDhit]:[THREAD_Lhit]])=11,1,0)","v":0},{"$f":"CONCATENATE(PCdb[[#This Row],[BCD]],PCdb[[#This Row],[PD]],PCdb[[#This Row],[PL (MAX)]],PCdb[[#This Row],[SD]],PCdb[[#This Row],[SL]],PCdb[[#This Row],[SQ_SZ]],PCdb[[#This Row],[ROUND_D]],PCdb[[#This Row],[FL]],PCdb[[#This Row],[THRU_SCREW]],PCdb[[#This Row],[THREAD_SZ]],PCdb[[#This Row],[THREAD_L]],PCdb[[#This Row],[NBR_HOLES]])","v":"70,5504103161NA7M5NANA4"},{"$f":"SUM(PCdb[[#This Row],[BDhit]:[THREAD_Lhit]])","v":5}]
[235,75,60,4,11,23,68,"NA",8.5,"M5","NA","NA",4,"M5",null,null,null,null,null,null,null,45.2,32,"NA","Y","B",45,90,null,null,null,null,null,null,null,null,null,null,null,null,null,32,"NA","Y","D",45,90,null,null,null,null,null,null,{"$f":"IF(AND(PCdb[[#This Row],[BCD]]>UIoptions!$S$10,PCdb[[#This Row],[BCD]]<UIoptions!$T$10),1,0)","v":0},{"$f":"IF(AND(PCdb[[#This Row],[PD]]>UIoptions!$S$11,PCdb[[#This Row],[PD]]<UIoptions!$T$11),1,0)","v":0},{"$f":"IF(AND(UIoptions!$P$14<=PCdb[[#This Row],[PL (MAX)]],UIoptions!$P$14>UIoptions!$S$14),1,0)","v":1},{"$f":"IF(AND(PCdb[[#This Row],[SD]]>UIoptions!$S$12,PCdb[[#This Row],[SD]]<UIoptions!$T$12),1,0)","v":0},{"$f":"IF(AND(PCdb[[#This Row],[SL]]>UIoptions!$S$13,PCdb[[#This Row],[SL]]<UIoptions!$T$13),1,0)","v":0},{"$f":"IF(UIoptions!$N$35=1,IF(AND(PCdb[[#This Row],[SQ_SZ]]>UIoptions!$S$15,PCdb[[#This Row],[SQ_SZ]]<UIoptions!$T$15),1,0),1)","v":0},{"$f":"IF(UIoptions!$N$35=2,IF(AND(PCdb[[#This Row],[ROUND_D]]>UIoptions!$S$15,PCdb[[#This Row],[ROUND_D]]<UIoptions!$T$15),1,0),1)","v":1},{"$f":"IF(UIoptions!$N$75<>1,1,IF(AND(PCdb[[#This Row],[FL]]>UIoptions!$S$16,PCdb[[#This Row],[FL]]<UIoptions!$T$16),1,0))","v":0},{"$f":"IF(OR(UIoptions!$Q$18=PCdb[[#This Row],[THRU_SCREW]],UIoptions!$Q$18=\"NA\"),1,0)","v":0},{"$f":"IF(OR(UIoptions!$P$19=PCdb[[#This Row],[THREAD_SZ]],UIoptions!$P$19=\"NA\"),1,0)","v":1},{"$f":"IF(UIoptions!$N$75=1,1,IF(AND(PCdb[[#This Row],[THREAD_L]]>UIoptions!$S$17,PCdb[[#This Row],[THREAD_L]]<UIoptions!$T$17),1,0))","v":1},{"$f":"IF(SUM(PCdb[[#This Row],[BDhit]:[THREAD_Lhit]])=11,1,0)","v":0},{"$f":"CONCATENATE(PCdb[[#This Row],[BCD]],PCdb[[#This Row],[PD]],PCdb[[#This Row],[PL (MAX)]],PCdb[[#This Row],[SD]],PCdb[[#This Row],[SL]],PCdb[[#This Row],[SQ_SZ]],PCdb[[#This Row],[ROUND_D]],PCdb[[#This Row],[FL]],PCdb[[#This Row],[THRU_SCREW]],PCdb[[#This Row],[THREAD_SZ]],PCdb[[#This Row],[THREAD_L]],PCdb[[#This Row],[NBR_HOLES]])","v":"75604112368NA8,5M5NANA4"},{"$f":"SUM(PCdb[[#This Row],[BDhit]:[THREAD_Lhit]])","v":4}]
[236,75,60,4,14,30,67,"NA",7.5,"M5","NA","NA",4,"M5",null,null,null,null,null,null,null,45.2,31,"NA","Y","B",45,90,null,null,null,null,null,null,null,null,null,null,null,null,null,null,null,null,null,null,null,null,null,null,null,null,null,{"$f":"IF(AND(PCdb[[#This Row],[BCD]]>UIoptions!$S$10,PCdb[[#This Row],[BCD]]<UIoptions!$T$10),1,0)","v":0},{"$f":"IF(AND(PCdb[[#This Row],[PD]]>UIoptions!$S$11,PCdb[[#This Row],[PD]]<UIoptions!$T$11),1,0)","v":0},{"$f":"IF(AND(UIoptions!$P$14<=PCdb[[#This Row],[PL (MAX)]],UIoptions!$P$14>UIoptions!$S$14),1,0)","v":1},{"$f":"IF(AND(PCdb[[#This Row],[SD]]>UIoptions!$S$12,PCdb[[#This Row],[SD]]<UIoptions!$T$12),1,0)","v":0},{"$f":"IF(AND(PCdb[[#This Row],[SL]]>UIoptions!$S$13,PCdb[[#This Row],[SL]]<UIoptions!$T$13),1,0)","v":0},{"$f":"IF(UIoptions!$N$35=1,IF(AND(PCdb[[#This Row],[SQ_SZ]]>UIoptions!$S$15,PCdb[[#This Row],[SQ_SZ]]<UIoptions!$T$15),1,0),1)","v":0},{"$f":"IF(UIoptions!$N$35=2,IF(AND(PCdb[[#This Row],[ROUND_D]]>UIoptions!$S$15,PCdb[[#This Row],[ROUND_D]]<UIoptions!$T$15),1,0),1)","v":1},{"$f":"IF(UIoptions!$N$75<>1,1,IF(AND(PCdb[[#This Row],[FL]]>UIoptions!$S$16,PCdb[[#This Row],[FL]]<UIoptions!$T$16),1,0))","v":0},{"$f":"IF(OR(UIoptions!$Q$18=PCdb[[#This Row],[THRU_SCREW]],UIoptions!$Q$18=\"NA\"),1,0)","v":0},{"$f":"IF(OR(UIoptions!$P$19=PCdb[[#This Row],[THREAD_SZ]],UIoptions!$P$19=\"NA\"),1,0)","v":1},{"$f":"IF(UIoptions!$N$75=1,1,IF(AND(PCdb[[#This Row],[THREAD_L]]>UIoptions!$S$17,PCdb[[#This Row],[THREAD_L]]<UIoptions!$T$17),1,0))","v":1},{"$f":"IF(SUM(PCdb[[#This Row],[BDhit]:[THREAD_Lhit]])=11,1,0)","v":0},{"$f":"CONCATENATE(PCdb[[#This Row],[BCD]],PCdb[[#This Row],[PD]],PCdb[[#This Row],[PL (MAX)]],PCdb[[#This Row],[SD]],PCdb[[#This Row],[SL]],PCdb[[#This Row],[SQ_SZ]],PCdb[[#This Row],[ROUND_D]],PCdb[[#This Row],[FL]],PCdb[[#This Row],[THRU_SCREW]],PCdb[[#This Row],[THREAD_SZ]],PCdb[[#This Row],[THREAD_L]],PCdb[[#This Row],[NBR_HOLES]])","v":"75604143067NA7,5M5NANA4"},{"$f":"SUM(PCdb[[#This Row],[BDhit]:[THREAD_Lhit]])","v":4}]
[237,70,50,4,14,29,60,"NA",6,"M5","NA","NA",4,"M5",null,null,null,null,null,null,null,null,null,null,null,null,null,null,null,null,null,null,null,null,null,null,null,null,null,null,null,null,null,null,null,null,null,28,"NA","Y","C",45,90,{"$f":"IF(AND(PCdb[[#This Row],[BCD]]>UIoptions!$S$10,PCdb[[#This Row],[BCD]]<UIoptions!$T$10),1,0)","v":0},{"$f":"IF(AND(PCdb[[#This Row],[PD]]>UIoptions!$S$11,PCdb[[#This Row],[PD]]<UIoptions!$T$11),1,0)","v":0},{"$f":"IF(AND(UIoptions!$P$14<=PCdb[[#This Row],[PL (MAX)]],UIoptions!$P$14>UIoptions!$S$14),1,0)","v":1},{"$f":"IF(AND(PCdb[[#This Row],[SD]]>UIoptions!$S$12,PCdb[[#This Row],[SD]]<UIoptions!$T$12),1,0)","v":0},{"$f":"IF(AND(PCdb[[#This Row],[SL]]>UIoptions!$S$13,PCdb[[#This Row],[SL]]<UIoptions!$T$13),1,0)","v":0},{"$f":"IF(UIoptions!$N$35=1,IF(AND(PCdb[[#This Row],[SQ_SZ]]>UIoptions!$S$15,PCdb[[#This Row],[SQ_SZ]]<UIoptions!$T$15),1,0),1)","v":0},{"$f":"IF(UIoptions!$N$35=2,IF(AND(PCdb[[#This Row],[ROUND_D]]>UIoptions!$S$15,PCdb[[#This Row],[ROUND_D]]<UIoptions!$T$15),1,0),1)","v":1},{"$f":"IF(UIoptions!$N$75<>1,1,IF(AND(PCdb[[#This Row],[FL]]>UIoptions!$S$16,PCdb[[#This Row],[FL]]<UIoptions!$T$16),1,0))","v":0},{"$f":"IF(OR(UIoptions!$Q$18=PCdb[[#This Row],[THRU_SCREW]],UIoptions!$Q$18=\"NA\"),1,0)","v":0},{"$f":"IF(OR(UIoptions!$P$19=PCdb[[#This Row],[THREAD_SZ]],UIoptions!$P$19=\"NA\"),1,0)","v":1},{"$f":"IF(UIoptions!$N$75=1,1,IF(AND(PCdb[[#This Row],[THREAD_L]]>UIoptions!$S$17,PCdb[[#This Row],[THREAD_L]]<UIoptions!$T$17),1,0))","v":1},{"$f":"IF(SUM(PCdb[[#This Row],[BDhit]:[THREAD_Lhit]])=11,1,0)","v":0},{"$f":"CONCATENATE(PCdb[[#This Row],[BCD]],PCdb[[#This Row],[PD]],PCdb[[#This Row],[PL (MAX)]],PCdb[[#This Row],[SD]],PCdb[[#This Row],[SL]],PCdb[[#This Row],[SQ_SZ]],PCdb[[#This Row],[ROUND_D]],PCdb[[#This Row],[FL]],PCdb[[#This Row],[THRU_SCREW]],PCdb[[#This Row],[THREAD_SZ]],PCdb[[#This Row],[THREAD_L]],PCdb[[#This Row],[NBR_HOLES]])","v":"70504142960NA6M5NANA4"},{"$f":"SUM(PCdb[[#This Row],[BDhit]:[THREAD_Lhit]])","v":4}]
[238,28,22,4,8,20,"NA",40,"NA","NA","M3",5,4,4,null,null,null,null,null,null,null,null,null,null,null,null,null,null,null,null,null,null,null,null,null,"NA","NA","Y","C2",45,90,null,null,null,null,null,null,null,null,null,null,null,null,{"$f":"IF(AND(PCdb[[#This Row],[BCD]]>UIoptions!$S$10,PCdb[[#This Row],[BCD]]<UIoptions!$T$10),1,0)","v":0},{"$f":"IF(AND(PCdb[[#This Row],[PD]]>UIoptions!$S$11,PCdb[[#This Row],[PD]]<UIoptions!$T$11),1,0)","v":0},{"$f":"IF(AND(UIoptions!$P$14<=PCdb[[#This Row],[PL (MAX)]],UIoptions!$P$14>UIoptions!$S$14),1,0)","v":1},{"$f":"IF(AND(PCdb[[#This Row],[SD]]>UIoptions!$S$12,PCdb[[#This Row],[SD]]<UIoptions!$T$12),1,0)","v":0},{"$f":"IF(AND(PCdb[[#This Row],[SL]]>UIoptions!$S$13,PCdb[[#This Row],[SL]]<UIoptions!$T$13),1,0)","v":1},{"$f":"IF(UIoptions!$N$35=1,IF(AND(PCdb[[#This Row],[SQ_SZ]]>UIoptions!$S$15,PCdb[[#This Row],[SQ_SZ]]<UIoptions!$T$15),1,0),1)","v":0},{"$f":"IF(UIoptions!$N$35=2,IF(AND(PCdb[[#This Row],[ROUND_D]]>UIoptions!$S$15,PCdb[[#This Row],[ROUND_D]]<UIoptions!$T$15),1,0),1)","v":1},{"$f":"IF(UIoptions!$N$75<>1,1,IF(AND(PCdb[[#This Row],[FL]]>UIoptions!$S$16,PCdb[[#This Row],[FL]]<UIoptions!$T$16),1,0))","v":0},{"$f":"IF(OR(UIoptions!$Q$18=PCdb[[#This Row],[THRU_SCREW]],UIoptions!$Q$18=\"NA\"),1,0)","v":0},{"$f":"IF(OR(UIoptions!$P$19=PCdb[[#This Row],[THREAD_SZ]],UIoptions!$P$19=\"NA\"),1,0)","v":1},{"$f":"IF(UIoptions!$N$75=1,1,IF(AND(PCdb[[#This Row],[THREAD_L]]>UIoptions!$S$17,PCdb[[#This Row],[THREAD_L]]<UIoptions!$T$17),1,0))","v":1},{"$f":"IF(SUM(PCdb[[#This Row],[BDhit]:[THREAD_Lhit]])=11,1,0)","v":0},{"$f":"CONCATENATE(PCdb[[#This Row],[BCD]],PCdb[[#This Row],[PD]],PCdb[[#This Row],[PL (MAX)]],PCdb[[#This Row],[SD]],PCdb[[#This Row],[SL]],PCdb[[#This Row],[SQ_SZ]],PCdb[[#This Row],[ROUND_D]],PCdb[[#This Row],[FL]],PCdb[[#This Row],[THRU_SCREW]],PCdb[[#This Row],[THREAD_SZ]],PCdb[[#This Row],[THREAD_L]],PCdb[[#This Row],[NBR_HOLES]])","v":"28224820NA40NANAM354"},{"$f":"SUM(PCdb[[#This Row],[BDhit]:[THREAD_Lhit]])","v":5}]
[239,75,60,4,14,30,70,"NA",9,"M5","NA","NA",4,"M5",null,null,null,null,null,null,null,null,null,null,null,null,null,null,null,null,null,null,null,null,null,null,null,null,null,null,null,32,"NA","Y","D",45,90,32,"NA","Y","C",45,90,{"$f":"IF(AND(PCdb[[#This Row],[BCD]]>UIoptions!$S$10,PCdb[[#This Row],[BCD]]<UIoptions!$T$10),1,0)","v":0},{"$f":"IF(AND(PCdb[[#This Row],[PD]]>UIoptions!$S$11,PCdb[[#This Row],[PD]]<UIoptions!$T$11),1,0)","v":0},{"$f":"IF(AND(UIoptions!$P$14<=PCdb[[#This Row],[PL (MAX)]],UIoptions!$P$14>UIoptions!$S$14),1,0)","v":1},{"$f":"IF(AND(PCdb[[#This Row],[SD]]>UIoptions!$S$12,PCdb[[#This Row],[SD]]<UIoptions!$T$12),1,0)","v":0},{"$f":"IF(AND(PCdb[[#This Row],[SL]]>UIoptions!$S$13,PCdb[[#This Row],[SL]]<UIoptions!$T$13),1,0)","v":0},{"$f":"IF(UIoptions!$N$35=1,IF(AND(PCdb[[#This Row],[SQ_SZ]]>UIoptions!$S$15,PCdb[[#This Row],[SQ_SZ]]<UIoptions!$T$15),1,0),1)","v":0},{"$f":"IF(UIoptions!$N$35=2,IF(AND(PCdb[[#This Row],[ROUND_D]]>UIoptions!$S$15,PCdb[[#This Row],[ROUND_D]]<UIoptions!$T$15),1,0),1)","v":1},{"$f":"IF(UIoptions!$N$75<>1,1,IF(AND(PCdb[[#This Row],[FL]]>UIoptions!$S$16,PCdb[[#This Row],[FL]]<UIoptions!$T$16),1,0))","v":0},{"$f":"IF(OR(UIoptions!$Q$18=PCdb[[#This Row],[THRU_SCREW]],UIoptions!$Q$18=\"NA\"),1,0)","v":0},{"$f":"IF(OR(UIoptions!$P$19=PCdb[[#This Row],[THREAD_SZ]],UIoptions!$P$19=\"NA\"),1,0)","v":1},{"$f":"IF(UIoptions!$N$75=1,1,IF(AND(PCdb[[#This Row],[THREAD_L]]>UIoptions!$S$17,PCdb[[#This Row],[THREAD_L]]<UIoptions!$T$17),1,0))","v":1},{"$f":"IF(SUM(PCdb[[#This Row],[BDhit]:[THREAD_Lhit]])=11,1,0)","v":0},{"$f":"CONCATENATE(PCdb[[#This Row],[BCD]],PCdb[[#This Row],[PD]],PCdb[[#This Row],[PL (MAX)]],PCdb[[#This Row],[SD]],PCdb[[#This Row],[SL]],PCdb[[#This Row],[SQ_SZ]],PCdb[[#This Row],[ROUND_D]],PCdb[[#This Row],[FL]],PCdb[[#This Row],[THRU_SCREW]],PCdb[[#This Row],[THREAD_SZ]],PCdb[[#This Row],[THREAD_L]],PCdb[[#This Row],[NBR_HOLES]])","v":"75604143070NA9M5NANA4"},{"$f":"SUM(PCdb[[#This Row],[BDhit]:[THREAD_Lhit]])","v":4}]
[240,34,26,4,10,26,42,"NA","NA","NA","M4",6,4,5,null,null,null,null,null,null,null,null,null,null,null,null,null,null,null,null,null,null,null,null,null,null,null,null,null,null,null,"NA","NA","Y","C2",45,90,null,null,null,null,null,null,{"$f":"IF(AND(PCdb[[#This Row],[BCD]]>UIoptions!$S$10,PCdb[[#This Row],[BCD]]<UIoptions!$T$10),1,0)","v":0},{"$f":"IF(AND(PCdb[[#This Row],[PD]]>UIoptions!$S$11,PCdb[[#This Row],[PD]]<UIoptions!$T$11),1,0)","v":0},{"$f":"IF(AND(UIoptions!$P$14<=PCdb[[#This Row],[PL (MAX)]],UIoptions!$P$14>UIoptions!$S$14),1,0)","v":1},{"$f":"IF(AND(PCdb[[#This Row],[SD]]>UIoptions!$S$12,PCdb[[#This Row],[SD]]<UIoptions!$T$12),1,0)","v":0},{"$f":"IF(AND(PCdb[[#This Row],[SL]]>UIoptions!$S$13,PCdb[[#This Row],[SL]]<UIoptions!$T$13),1,0)","v":0},{"$f":"IF(UIoptions!$N$35=1,IF(AND(PCdb[[#This Row],[SQ_SZ]]>UIoptions!$S$15,PCdb[[#This Row],[SQ_SZ]]<UIoptions!$T$15),1,0),1)","v":0},{"$f":"IF(UIoptions!$N$35=2,IF(AND(PCdb[[#This Row],[ROUND_D]]>UIoptions!$S$15,PCdb[[#This Row],[ROUND_D]]<UIoptions!$T$15),1,0),1)","v":1},{"$f":"IF(UIoptions!$N$75<>1,1,IF(AND(PCdb[[#This Row],[FL]]>UIoptions!$S$16,PCdb[[#This Row],[FL]]<UIoptions!$T$16),1,0))","v":0},{"$f":"IF(OR(UIoptions!$Q$18=PCdb[[#This Row],[THRU_SCREW]],UIoptions!$Q$18=\"NA\"),1,0)","v":0},{"$f":"IF(OR(UIoptions!$P$19=PCdb[[#This Row],[THREAD_SZ]],UIoptions!$P$19=\"NA\"),1,0)","v":1},{"$f":"IF(UIoptions!$N$75=1,1,IF(AND(PCdb[[#This Row],[THREAD_L]]>UIoptions!$S$17,PCdb[[#This Row],[THREAD_L]]<UIoptions!$T$17),1,0))","v":1},{"$f":"IF(SUM(PCdb[[#This Row],[BDhit]:[THREAD_Lhit]])=11,1,0)","v":0},{"$f":"CONCATENATE(PCdb[[#This Row],[BCD]],PCdb[[#This Row],[PD]],PCdb[[#This Row],[PL (MAX)]],PCdb[[#This Row],[SD]],PCdb[[#This Row],[SL]],PCdb[[#This Row],[SQ_SZ]],PCdb[[#This Row],[ROUND_D]],PCdb[[#This Row],[FL]],PCdb[[#This Row],[THRU_SCREW]],PCdb[[#This Row],[THREAD_SZ]],PCdb[[#This Row],[THREAD_L]],PCdb[[#This Row],[NBR_HOLES]])","v":"34264102642NANANAM464"},{"$f":"SUM(PCdb[[#This Row],[BDhit]:[THREAD_Lhit]])","v":4}]
[241,70,50,4,14,30,60,"NA",6,"M4","NA","NA",4,"M4",null,null,null,null,null,null,null,null,null,null,null,null,null,null,null,null,null,null,null,null,null,null,null,null,null,null,null,27,"NA","Y","C",45,90,null,null,null,null,null,null,{"$f":"IF(AND(PCdb[[#This Row],[BCD]]>UIoptions!$S$10,PCdb[[#This Row],[BCD]]<UIoptions!$T$10),1,0)","v":0},{"$f":"IF(AND(PCdb[[#This Row],[PD]]>UIoptions!$S$11,PCdb[[#This Row],[PD]]<UIoptions!$T$11),1,0)","v":0},{"$f":"IF(AND(UIoptions!$P$14<=PCdb[[#This Row],[PL (MAX)]],UIoptions!$P$14>UIoptions!$S$14),1,0)","v":1},{"$f":"IF(AND(PCdb[[#This Row],[SD]]>UIoptions!$S$12,PCdb[[#This Row],[SD]]<UIoptions!$T$12),1,0)","v":0},{"$f":"IF(AND(PCdb[[#This Row],[SL]]>UIoptions!$S$13,PCdb[[#This Row],[SL]]<UIoptions!$T$13),1,0)","v":0},{"$f":"IF(UIoptions!$N$35=1,IF(AND(PCdb[[#This Row],[SQ_SZ]]>UIoptions!$S$15,PCdb[[#This Row],[SQ_SZ]]<UIoptions!$T$15),1,0),1)","v":0},{"$f":"IF(UIoptions!$N$35=2,IF(AND(PCdb[[#This Row],[ROUND_D]]>UIoptions!$S$15,PCdb[[#This Row],[ROUND_D]]<UIoptions!$T$15),1,0),1)","v":1},{"$f":"IF(UIoptions!$N$75<>1,1,IF(AND(PCdb[[#This Row],[FL]]>UIoptions!$S$16,PCdb[[#This Row],[FL]]<UIoptions!$T$16),1,0))","v":0},{"$f":"IF(OR(UIoptions!$Q$18=PCdb[[#This Row],[THRU_SCREW]],UIoptions!$Q$18=\"NA\"),1,0)","v":1},{"$f":"IF(OR(UIoptions!$P$19=PCdb[[#This Row],[THREAD_SZ]],UIoptions!$P$19=\"NA\"),1,0)","v":1},{"$f":"IF(UIoptions!$N$75=1,1,IF(AND(PCdb[[#This Row],[THREAD_L]]>UIoptions!$S$17,PCdb[[#This Row],[THREAD_L]]<UIoptions!$T$17),1,0))","v":1},{"$f":"IF(SUM(PCdb[[#This Row],[BDhit]:[THREAD_Lhit]])=11,1,0)","v":0},{"$f":"CONCATENATE(PCdb[[#This Row],[BCD]],PCdb[[#This Row],[PD]],PCdb[[#This Row],[PL (MAX)]],PCdb[[#This Row],[SD]],PCdb[[#This Row],[SL]],PCdb[[#This Row],[SQ_SZ]],PCdb[[#This Row],[ROUND_D]],PCdb[[#This Row],[FL]],PCdb[[#This Row],[THRU_SCREW]],PCdb[[#This Row],[THREAD_SZ]],PCdb[[#This Row],[THREAD_L]],PCdb[[#This Row],[NBR_HOLES]])","v":"70504143060NA6M4NANA4"},{"$f":"SUM(PCdb[[#This Row],[BDhit]:[THREAD_Lhit]])","v":5}]
[242,75,60,4,11,25.5,"NA",90,"NA","NA","M5",10,4,6,null,null,null,null,null,null,null,41.7,32,"NA","Y","SPLB-242",45,90,null,null,null,null,null,null,null,null,null,null,null,null,null,null,null,null,null,null,null,null,null,null,null,null,null,{"$f":"IF(AND(PCdb[[#This Row],[BCD]]>UIoptions!$S$10,PCdb[[#This Row],[BCD]]<UIoptions!$T$10),1,0)","v":0},{"$f":"IF(AND(PCdb[[#This Row],[PD]]>UIoptions!$S$11,PCdb[[#This Row],[PD]]<UIoptions!$T$11),1,0)","v":0},{"$f":"IF(AND(UIoptions!$P$14<=PCdb[[#This Row],[PL (MAX)]],UIoptions!$P$14>UIoptions!$S$14),1,0)","v":1},{"$f":"IF(AND(PCdb[[#This Row],[SD]]>UIoptions!$S$12,PCdb[[#This Row],[SD]]<UIoptions!$T$12),1,0)","v":0},{"$f":"IF(AND(PCdb[[#This Row],[SL]]>UIoptions!$S$13,PCdb[[#This Row],[SL]]<UIoptions!$T$13),1,0)","v":0},{"$f":"IF(UIoptions!$N$35=1,IF(AND(PCdb[[#This Row],[SQ_SZ]]>UIoptions!$S$15,PCdb[[#This Row],[SQ_SZ]]<UIoptions!$T$15),1,0),1)","v":0},{"$f":"IF(UIoptions!$N$35=2,IF(AND(PCdb[[#This Row],[ROUND_D]]>UIoptions!$S$15,PCdb[[#This Row],[ROUND_D]]<UIoptions!$T$15),1,0),1)","v":1},{"$f":"IF(UIoptions!$N$75<>1,1,IF(AND(PCdb[[#This Row],[FL]]>UIoptions!$S$16,PCdb[[#This Row],[FL]]<UIoptions!$T$16),1,0))","v":0},{"$f":"IF(OR(UIoptions!$Q$18=PCdb[[#This Row],[THRU_SCREW]],UIoptions!$Q$18=\"NA\"),1,0)","v":0},{"$f":"IF(OR(UIoptions!$P$19=PCdb[[#This Row],[THREAD_SZ]],UIoptions!$P$19=\"NA\"),1,0)","v":1},{"$f":"IF(UIoptions!$N$75=1,1,IF(AND(PCdb[[#This Row],[THREAD_L]]>UIoptions!$S$17,PCdb[[#This Row],[THREAD_L]]<UIoptions!$T$17),1,0))","v":1},{"$f":"IF(SUM(PCdb[[#This Row],[BDhit]:[THREAD_Lhit]])=11,1,0)","v":0},{"$f":"CONCATENATE(PCdb[[#This Row],[BCD]],PCdb[[#This Row],[PD]],PCdb[[#This Row],[PL (MAX)]],PCdb[[#This Row],[SD]],PCdb[[#This Row],[SL]],PCdb[[#This Row],[SQ_SZ]],PCdb[[#This Row],[ROUND_D]],PCdb[[#This Row],[FL]],PCdb[[#This Row],[THRU_SCREW]],PCdb[[#This Row],[THREAD_SZ]],PCdb[[#This Row],[THREAD_L]],PCdb[[#This Row],[NBR_HOLES]])","v":"756041125,5NA90NANAM5104"},{"$f":"SUM(PCdb[[#This Row],[BDhit]:[THREAD_Lhit]])","v":4}]
[243,68,50,6,14,36,"NA",80,15,"M6","NA","NA",4,"M6",null,null,null,null,null,null,null,null,null,null,null,null,null,null,null,null,null,null,null,null,null,null,null,null,null,null,null,"NA","NA","Y","SPLC-243",45,90,null,null,null,null,null,null,{"$f":"IF(AND(PCdb[[#This Row],[BCD]]>UIoptions!$S$10,PCdb[[#This Row],[BCD]]<UIoptions!$T$10),1,0)","v":0},{"$f":"IF(AND(PCdb[[#This Row],[PD]]>UIoptions!$S$11,PCdb[[#This Row],[PD]]<UIoptions!$T$11),1,0)","v":0},{"$f":"IF(AND(UIoptions!$P$14<=PCdb[[#This Row],[PL (MAX)]],UIoptions!$P$14>UIoptions!$S$14),1,0)","v":1},{"$f":"IF(AND(PCdb[[#This Row],[SD]]>UIoptions!$S$12,PCdb[[#This Row],[SD]]<UIoptions!$T$12),1,0)","v":0},{"$f":"IF(AND(PCdb[[#This Row],[SL]]>UIoptions!$S$13,PCdb[[#This Row],[SL]]<UIoptions!$T$13),1,0)","v":0},{"$f":"IF(UIoptions!$N$35=1,IF(AND(PCdb[[#This Row],[SQ_SZ]]>UIoptions!$S$15,PCdb[[#This Row],[SQ_SZ]]<UIoptions!$T$15),1,0),1)","v":0},{"$f":"IF(UIoptions!$N$35=2,IF(AND(PCdb[[#This Row],[ROUND_D]]>UIoptions!$S$15,PCdb[[#This Row],[ROUND_D]]<UIoptions!$T$15),1,0),1)","v":1},{"$f":"IF(UIoptions!$N$75<>1,1,IF(AND(PCdb[[#This Row],[FL]]>UIoptions!$S$16,PCdb[[#This Row],[FL]]<UIoptions!$T$16),1,0))","v":0},{"$f":"IF(OR(UIoptions!$Q$18=PCdb[[#This Row],[THRU_SCREW]],UIoptions!$Q$18=\"NA\"),1,0)","v":0},{"$f":"IF(OR(UIoptions!$P$19=PCdb[[#This Row],[THREAD_SZ]],UIoptions!$P$19=\"NA\"),1,0)","v":1},{"$f":"IF(UIoptions!$N$75=1,1,IF(AND(PCdb[[#This Row],[THREAD_L]]>UIoptions!$S$17,PCdb[[#This Row],[THREAD_L]]<UIoptions!$T$17),1,0))","v":1},{"$f":"IF(SUM(PCdb[[#This Row],[BDhit]:[THREAD_Lhit]])=11,1,0)","v":0},{"$f":"CONCATENATE(PCdb[[#This Row],[BCD]],PCdb[[#This Row],[PD]],PCdb[[#This Row],[PL (MAX)]],PCdb[[#This Row],[SD]],PCdb[[#This Row],[SL]],PCdb[[#This Row],[SQ_SZ]],PCdb[[#This Row],[ROUND_D]],PCdb[[#This Row],[FL]],PCdb[[#This Row],[THRU_SCREW]],PCdb[[#This Row],[THREAD_SZ]],PCdb[[#This Row],[THREAD_L]],PCdb[[#This Row],[NBR_HOLES]])","v":"685061436NA8015M6NANA4"},{"$f":"SUM(PCdb[[#This Row],[BDhit]:[THREAD_Lhit]])","v":4}]
[244,75,60,4,14,30,67,"NA",7.5,"M5","NA","NA",4,"M5",null,null,null,null,null,null,null,null,null,null,null,null,null,null,null,null,null,null,null,null,null,null,null,null,null,null,null,null,null,null,null,null,null,31.5,"NA","Y","C",45,90,{"$f":"IF(AND(PCdb[[#This Row],[BCD]]>UIoptions!$S$10,PCdb[[#This Row],[BCD]]<UIoptions!$T$10),1,0)","v":0},{"$f":"IF(AND(PCdb[[#This Row],[PD]]>UIoptions!$S$11,PCdb[[#This Row],[PD]]<UIoptions!$T$11),1,0)","v":0},{"$f":"IF(AND(UIoptions!$P$14<=PCdb[[#This Row],[PL (MAX)]],UIoptions!$P$14>UIoptions!$S$14),1,0)","v":1},{"$f":"IF(AND(PCdb[[#This Row],[SD]]>UIoptions!$S$12,PCdb[[#This Row],[SD]]<UIoptions!$T$12),1,0)","v":0},{"$f":"IF(AND(PCdb[[#This Row],[SL]]>UIoptions!$S$13,PCdb[[#This Row],[SL]]<UIoptions!$T$13),1,0)","v":0},{"$f":"IF(UIoptions!$N$35=1,IF(AND(PCdb[[#This Row],[SQ_SZ]]>UIoptions!$S$15,PCdb[[#This Row],[SQ_SZ]]<UIoptions!$T$15),1,0),1)","v":0},{"$f":"IF(UIoptions!$N$35=2,IF(AND(PCdb[[#This Row],[ROUND_D]]>UIoptions!$S$15,PCdb[[#This Row],[ROUND_D]]<UIoptions!$T$15),1,0),1)","v":1},{"$f":"IF(UIoptions!$N$75<>1,1,IF(AND(PCdb[[#This Row],[FL]]>UIoptions!$S$16,PCdb[[#This Row],[FL]]<UIoptions!$T$16),1,0))","v":0},{"$f":"IF(OR(UIoptions!$Q$18=PCdb[[#This Row],[THRU_SCREW]],UIoptions!$Q$18=\"NA\"),1,0)","v":0},{"$f":"IF(OR(UIoptions!$P$19=PCdb[[#This Row],[THREAD_SZ]],UIoptions!$P$19=\"NA\"),1,0)","v":1},{"$f":"IF(UIoptions!$N$75=1,1,IF(AND(PCdb[[#This Row],[THREAD_L]]>UIoptions!$S$17,PCdb[[#This Row],[THREAD_L]]<UIoptions!$T$17),1,0))","v":1},{"$f":"IF(SUM(PCdb[[#This Row],[BDhit]:[THREAD_Lhit]])=11,1,0)","v":0},{"$f":"CONCATENATE(PCdb[[#This Row],[BCD]],PCdb[[#This Row],[PD]],PCdb[[#This Row],[PL (MAX)]],PCdb[[#This Row],[SD]],PCdb[[#This Row],[SL]],PCdb[[#This Row],[SQ_SZ]],PCdb[[#This Row],[ROUND_D]],PCdb[[#This Row],[FL]],PCdb[[#This Row],[THRU_SCREW]],PCdb[[#This Row],[THREAD_SZ]],PCdb[[#This Row],[THREAD_L]],PCdb[[#This Row],[NBR_HOLES]])","v":"75604143067NA7,5M5NANA4"},{"$f":"SUM(PCdb[[#This Row],[BDhit]:[THREAD_Lhit]])","v":4}]
[245,66.7,38.1,4,8,24,60,"NA",5,"M4","NA","NA",4,"M4",36.200000000000003,22,"NA","Y","B",45,90,null,null,null,null,null,null,null,null,null,null,null,null,null,null,null,null,null,null,null,null,null,null,null,null,null,null,25,"NA","Y","C",45,90,{"$f":"IF(AND(PCdb[[#This Row],[BCD]]>UIoptions!$S$10,PCdb[[#This Row],[BCD]]<UIoptions!$T$10),1,0)","v":0},{"$f":"IF(AND(PCdb[[#This Row],[PD]]>UIoptions!$S$11,PCdb[[#This Row],[PD]]<UIoptions!$T$11),1,0)","v":0},{"$f":"IF(AND(UIoptions!$P$14<=PCdb[[#This Row],[PL (MAX)]],UIoptions!$P$14>UIoptions!$S$14),1,0)","v":1},{"$f":"IF(AND(PCdb[[#This Row],[SD]]>UIoptions!$S$12,PCdb[[#This Row],[SD]]<UIoptions!$T$12),1,0)","v":0},{"$f":"IF(AND(PCdb[[#This Row],[SL]]>UIoptions!$S$13,PCdb[[#This Row],[SL]]<UIoptions!$T$13),1,0)","v":0},{"$f":"IF(UIoptions!$N$35=1,IF(AND(PCdb[[#This Row],[SQ_SZ]]>UIoptions!$S$15,PCdb[[#This Row],[SQ_SZ]]<UIoptions!$T$15),1,0),1)","v":0},{"$f":"IF(UIoptions!$N$35=2,IF(AND(PCdb[[#This Row],[ROUND_D]]>UIoptions!$S$15,PCdb[[#This Row],[ROUND_D]]<UIoptions!$T$15),1,0),1)","v":1},{"$f":"IF(UIoptions!$N$75<>1,1,IF(AND(PCdb[[#This Row],[FL]]>UIoptions!$S$16,PCdb[[#This Row],[FL]]<UIoptions!$T$16),1,0))","v":0},{"$f":"IF(OR(UIoptions!$Q$18=PCdb[[#This Row],[THRU_SCREW]],UIoptions!$Q$18=\"NA\"),1,0)","v":1},{"$f":"IF(OR(UIoptions!$P$19=PCdb[[#This Row],[THREAD_SZ]],UIoptions!$P$19=\"NA\"),1,0)","v":1},{"$f":"IF(UIoptions!$N$75=1,1,IF(AND(PCdb[[#This Row],[THREAD_L]]>UIoptions!$S$17,PCdb[[#This Row],[THREAD_L]]<UIoptions!$T$17),1,0))","v":1},{"$f":"IF(SUM(PCdb[[#This Row],[BDhit]:[THREAD_Lhit]])=11,1,0)","v":0},{"$f":"CONCATENATE(PCdb[[#This Row],[BCD]],PCdb[[#This Row],[PD]],PCdb[[#This Row],[PL (MAX)]],PCdb[[#This Row],[SD]],PCdb[[#This Row],[SL]],PCdb[[#This Row],[SQ_SZ]],PCdb[[#This Row],[ROUND_D]],PCdb[[#This Row],[FL]],PCdb[[#This Row],[THRU_SCREW]],PCdb[[#This Row],[THREAD_SZ]],PCdb[[#This Row],[THREAD_L]],PCdb[[#This Row],[NBR_HOLES]])","v":"66,738,1482460NA5M4NANA4"},{"$f":"SUM(PCdb[[#This Row],[BDhit]:[THREAD_Lhit]])","v":5}]
[246,45.3,25,4,8,20,42,"NA","NA","NA","M3",5,4,4,38.700000000000003,"NA","NA","Y","SPLB2-246",45,90,null,null,null,null,null,null,null,null,null,null,null,null,null,null,null,null,null,null,null,null,null,null,null,null,null,null,null,null,null,null,null,null,{"$f":"IF(AND(PCdb[[#This Row],[BCD]]>UIoptions!$S$10,PCdb[[#This Row],[BCD]]<UIoptions!$T$10),1,0)","v":0},{"$f":"IF(AND(PCdb[[#This Row],[PD]]>UIoptions!$S$11,PCdb[[#This Row],[PD]]<UIoptions!$T$11),1,0)","v":0},{"$f":"IF(AND(UIoptions!$P$14<=PCdb[[#This Row],[PL (MAX)]],UIoptions!$P$14>UIoptions!$S$14),1,0)","v":1},{"$f":"IF(AND(PCdb[[#This Row],[SD]]>UIoptions!$S$12,PCdb[[#This Row],[SD]]<UIoptions!$T$12),1,0)","v":0},{"$f":"IF(AND(PCdb[[#This Row],[SL]]>UIoptions!$S$13,PCdb[[#This Row],[SL]]<UIoptions!$T$13),1,0)","v":1},{"$f":"IF(UIoptions!$N$35=1,IF(AND(PCdb[[#This Row],[SQ_SZ]]>UIoptions!$S$15,PCdb[[#This Row],[SQ_SZ]]<UIoptions!$T$15),1,0),1)","v":0},{"$f":"IF(UIoptions!$N$35=2,IF(AND(PCdb[[#This Row],[ROUND_D]]>UIoptions!$S$15,PCdb[[#This Row],[ROUND_D]]<UIoptions!$T$15),1,0),1)","v":1},{"$f":"IF(UIoptions!$N$75<>1,1,IF(AND(PCdb[[#This Row],[FL]]>UIoptions!$S$16,PCdb[[#This Row],[FL]]<UIoptions!$T$16),1,0))","v":0},{"$f":"IF(OR(UIoptions!$Q$18=PCdb[[#This Row],[THRU_SCREW]],UIoptions!$Q$18=\"NA\"),1,0)","v":0},{"$f":"IF(OR(UIoptions!$P$19=PCdb[[#This Row],[THREAD_SZ]],UIoptions!$P$19=\"NA\"),1,0)","v":1},{"$f":"IF(UIoptions!$N$75=1,1,IF(AND(PCdb[[#This Row],[THREAD_L]]>UIoptions!$S$17,PCdb[[#This Row],[THREAD_L]]<UIoptions!$T$17),1,0))","v":1},{"$f":"IF(SUM(PCdb[[#This Row],[BDhit]:[THREAD_Lhit]])=11,1,0)","v":0},{"$f":"CONCATENATE(PCdb[[#This Row],[BCD]],PCdb[[#This Row],[PD]],PCdb[[#This Row],[PL (MAX)]],PCdb[[#This Row],[SD]],PCdb[[#This Row],[SL]],PCdb[[#This Row],[SQ_SZ]],PCdb[[#This Row],[ROUND_D]],PCdb[[#This Row],[FL]],PCdb[[#This Row],[THRU_SCREW]],PCdb[[#This Row],[THREAD_SZ]],PCdb[[#This Row],[THREAD_L]],PCdb[[#This Row],[NBR_HOLES]])","v":"45,325482042NANANAM354"},{"$f":"SUM(PCdb[[#This Row],[BDhit]:[THREAD_Lhit]])","v":5}]
[247,75,60,4,11,23,68,"NA",8.5,"M5","NA","NA",4,"M5",null,null,null,null,null,null,null,45.2,32,"NA","Y","B",45,90,null,null,null,null,null,null,null,null,null,null,null,null,null,null,null,null,null,null,null,null,null,null,null,null,null,{"$f":"IF(AND(PCdb[[#This Row],[BCD]]>UIoptions!$S$10,PCdb[[#This Row],[BCD]]<UIoptions!$T$10),1,0)","v":0},{"$f":"IF(AND(PCdb[[#This Row],[PD]]>UIoptions!$S$11,PCdb[[#This Row],[PD]]<UIoptions!$T$11),1,0)","v":0},{"$f":"IF(AND(UIoptions!$P$14<=PCdb[[#This Row],[PL (MAX)]],UIoptions!$P$14>UIoptions!$S$14),1,0)","v":1},{"$f":"IF(AND(PCdb[[#This Row],[SD]]>UIoptions!$S$12,PCdb[[#This Row],[SD]]<UIoptions!$T$12),1,0)","v":0},{"$f":"IF(AND(PCdb[[#This Row],[SL]]>UIoptions!$S$13,PCdb[[#This Row],[SL]]<UIoptions!$T$13),1,0)","v":0},{"$f":"IF(UIoptions!$N$35=1,IF(AND(PCdb[[#This Row],[SQ_SZ]]>UIoptions!$S$15,PCdb[[#This Row],[SQ_SZ]]<UIoptions!$T$15),1,0),1)","v":0},{"$f":"IF(UIoptions!$N$35=2,IF(AND(PCdb[[#This Row],[ROUND_D]]>UIoptions!$S$15,PCdb[[#This Row],[ROUND_D]]<UIoptions!$T$15),1,0),1)","v":1},{"$f":"IF(UIoptions!$N$75<>1,1,IF(AND(PCdb[[#This Row],[FL]]>UIoptions!$S$16,PCdb[[#This Row],[FL]]<UIoptions!$T$16),1,0))","v":0},{"$f":"IF(OR(UIoptions!$Q$18=PCdb[[#This Row],[THRU_SCREW]],UIoptions!$Q$18=\"NA\"),1,0)","v":0},{"$f":"IF(OR(UIoptions!$P$19=PCdb[[#This Row],[THREAD_SZ]],UIoptions!$P$19=\"NA\"),1,0)","v":1},{"$f":"IF(UIoptions!$N$75=1,1,IF(AND(PCdb[[#This Row],[THREAD_L]]>UIoptions!$S$17,PCdb[[#This Row],[THREAD_L]]<UIoptions!$T$17),1,0))","v":1},{"$f":"IF(SUM(PCdb[[#This Row],[BDhit]:[THREAD_Lhit]])=11,1,0)","v":0},{"$f":"CONCATENATE(PCdb[[#This Row],[BCD]],PCdb[[#This Row],[PD]],PCdb[[#This Row],[PL (MAX)]],PCdb[[#This Row],[SD]],PCdb[[#This Row],[SL]],PCdb[[#This Row],[SQ_SZ]],PCdb[[#This Row],[ROUND_D]],PCdb[[#This Row],[FL]],PCdb[[#This Row],[THRU_SCREW]],PCdb[[#This Row],[THREAD_SZ]],PCdb[[#This Row],[THREAD_L]],PCdb[[#This Row],[NBR_HOLES]])","v":"75604112368NA8,5M5NANA4"},{"$f":"SUM(PCdb[[#This Row],[BDhit]:[THREAD_Lhit]])","v":4}]
[248,50,35,5.5,13,25.5,43,"NA",4.8,"M3","NA","NA",4,"M3",null,null,null,null,null,null,null,45.2,"NA","NA","N","SPLA-248",45,90,null,null,null,null,null,null,null,null,null,null,null,null,null,null,null,null,null,null,null,null,null,null,null,null,null,{"$f":"IF(AND(PCdb[[#This Row],[BCD]]>UIoptions!$S$10,PCdb[[#This Row],[BCD]]<UIoptions!$T$10),1,0)","v":0},{"$f":"IF(AND(PCdb[[#This Row],[PD]]>UIoptions!$S$11,PCdb[[#This Row],[PD]]<UIoptions!$T$11),1,0)","v":0},{"$f":"IF(AND(UIoptions!$P$14<=PCdb[[#This Row],[PL (MAX)]],UIoptions!$P$14>UIoptions!$S$14),1,0)","v":1},{"$f":"IF(AND(PCdb[[#This Row],[SD]]>UIoptions!$S$12,PCdb[[#This Row],[SD]]<UIoptions!$T$12),1,0)","v":0},{"$f":"IF(AND(PCdb[[#This Row],[SL]]>UIoptions!$S$13,PCdb[[#This Row],[SL]]<UIoptions!$T$13),1,0)","v":0},{"$f":"IF(UIoptions!$N$35=1,IF(AND(PCdb[[#This Row],[SQ_SZ]]>UIoptions!$S$15,PCdb[[#This Row],[SQ_SZ]]<UIoptions!$T$15),1,0),1)","v":0},{"$f":"IF(UIoptions!$N$35=2,IF(AND(PCdb[[#This Row],[ROUND_D]]>UIoptions!$S$15,PCdb[[#This Row],[ROUND_D]]<UIoptions!$T$15),1,0),1)","v":1},{"$f":"IF(UIoptions!$N$75<>1,1,IF(AND(PCdb[[#This Row],[FL]]>UIoptions!$S$16,PCdb[[#This Row],[FL]]<UIoptions!$T$16),1,0))","v":0},{"$f":"IF(OR(UIoptions!$Q$18=PCdb[[#This Row],[THRU_SCREW]],UIoptions!$Q$18=\"NA\"),1,0)","v":0},{"$f":"IF(OR(UIoptions!$P$19=PCdb[[#This Row],[THREAD_SZ]],UIoptions!$P$19=\"NA\"),1,0)","v":1},{"$f":"IF(UIoptions!$N$75=1,1,IF(AND(PCdb[[#This Row],[THREAD_L]]>UIoptions!$S$17,PCdb[[#This Row],[THREAD_L]]<UIoptions!$T$17),1,0))","v":1},{"$f":"IF(SUM(PCdb[[#This Row],[BDhit]:[THREAD_Lhit]])=11,1,0)","v":0},{"$f":"CONCATENATE(PCdb[[#This Row],[BCD]],PCdb[[#This Row],[PD]],PCdb[[#This Row],[PL (MAX)]],PCdb[[#This Row],[SD]],PCdb[[#This Row],[SL]],PCdb[[#This Row],[SQ_SZ]],PCdb[[#This Row],[ROUND_D]],PCdb[[#This Row],[FL]],PCdb[[#This Row],[THRU_SCREW]],PCdb[[#This Row],[THREAD_SZ]],PCdb[[#This Row],[THREAD_L]],PCdb[[#This Row],[NBR_HOLES]])","v":"50355,51325,543NA4,8M3NANA4"},{"$f":"SUM(PCdb[[#This Row],[BDhit]:[THREAD_Lhit]])","v":4}]
[249,32,25,2.8,8,25,"NA",42,"NA","NA","M4",10,4,5,null,null,null,null,null,null,null,null,null,null,null,null,null,null,45.2,"NA","NA","Y","SPLA2-249",45,90,null,null,null,null,null,null,null,null,null,null,null,null,null,null,null,null,null,null,{"$f":"IF(AND(PCdb[[#This Row],[BCD]]>UIoptions!$S$10,PCdb[[#This Row],[BCD]]<UIoptions!$T$10),1,0)","v":0},{"$f":"IF(AND(PCdb[[#This Row],[PD]]>UIoptions!$S$11,PCdb[[#This Row],[PD]]<UIoptions!$T$11),1,0)","v":0},{"$f":"IF(AND(UIoptions!$P$14<=PCdb[[#This Row],[PL (MAX)]],UIoptions!$P$14>UIoptions!$S$14),1,0)","v":1},{"$f":"IF(AND(PCdb[[#This Row],[SD]]>UIoptions!$S$12,PCdb[[#This Row],[SD]]<UIoptions!$T$12),1,0)","v":0},{"$f":"IF(AND(PCdb[[#This Row],[SL]]>UIoptions!$S$13,PCdb[[#This Row],[SL]]<UIoptions!$T$13),1,0)","v":0},{"$f":"IF(UIoptions!$N$35=1,IF(AND(PCdb[[#This Row],[SQ_SZ]]>UIoptions!$S$15,PCdb[[#This Row],[SQ_SZ]]<UIoptions!$T$15),1,0),1)","v":0},{"$f":"IF(UIoptions!$N$35=2,IF(AND(PCdb[[#This Row],[ROUND_D]]>UIoptions!$S$15,PCdb[[#This Row],[ROUND_D]]<UIoptions!$T$15),1,0),1)","v":1},{"$f":"IF(UIoptions!$N$75<>1,1,IF(AND(PCdb[[#This Row],[FL]]>UIoptions!$S$16,PCdb[[#This Row],[FL]]<UIoptions!$T$16),1,0))","v":0},{"$f":"IF(OR(UIoptions!$Q$18=PCdb[[#This Row],[THRU_SCREW]],UIoptions!$Q$18=\"NA\"),1,0)","v":0},{"$f":"IF(OR(UIoptions!$P$19=PCdb[[#This Row],[THREAD_SZ]],UIoptions!$P$19=\"NA\"),1,0)","v":1},{"$f":"IF(UIoptions!$N$75=1,1,IF(AND(PCdb[[#This Row],[THREAD_L]]>UIoptions!$S$17,PCdb[[#This Row],[THREAD_L]]<UIoptions!$T$17),1,0))","v":1},{"$f":"IF(SUM(PCdb[[#This Row],[BDhit]:[THREAD_Lhit]])=11,1,0)","v":0},{"$f":"CONCATENATE(PCdb[[#This Row],[BCD]],PCdb[[#This Row],[PD]],PCdb[[#This Row],[PL (MAX)]],PCdb[[#This Row],[SD]],PCdb[[#This Row],[SL]],PCdb[[#This Row],[SQ_SZ]],PCdb[[#This Row],[ROUND_D]],PCdb[[#This Row],[FL]],PCdb[[#This Row],[THRU_SCREW]],PCdb[[#This Row],[THREAD_SZ]],PCdb[[#This Row],[THREAD_L]],PCdb[[#This Row],[NBR_HOLES]])","v":"32252,8825NA42NANAM4104"},{"$f":"SUM(PCdb[[#This Row],[BDhit]:[THREAD_Lhit]])","v":4}]
[250,75,60,4,11,23,62,"NA",8,"M5","NA","NA",4,"M5",null,null,null,null,null,null,null,45.2,25,10.199999999999999,"Y","B",45,90,null,null,null,null,null,null,null,null,null,null,null,null,null,null,null,null,null,null,null,"NA","NA","N","C",45,90,{"$f":"IF(AND(PCdb[[#This Row],[BCD]]>UIoptions!$S$10,PCdb[[#This Row],[BCD]]<UIoptions!$T$10),1,0)","v":0},{"$f":"IF(AND(PCdb[[#This Row],[PD]]>UIoptions!$S$11,PCdb[[#This Row],[PD]]<UIoptions!$T$11),1,0)","v":0},{"$f":"IF(AND(UIoptions!$P$14<=PCdb[[#This Row],[PL (MAX)]],UIoptions!$P$14>UIoptions!$S$14),1,0)","v":1},{"$f":"IF(AND(PCdb[[#This Row],[SD]]>UIoptions!$S$12,PCdb[[#This Row],[SD]]<UIoptions!$T$12),1,0)","v":0},{"$f":"IF(AND(PCdb[[#This Row],[SL]]>UIoptions!$S$13,PCdb[[#This Row],[SL]]<UIoptions!$T$13),1,0)","v":0},{"$f":"IF(UIoptions!$N$35=1,IF(AND(PCdb[[#This Row],[SQ_SZ]]>UIoptions!$S$15,PCdb[[#This Row],[SQ_SZ]]<UIoptions!$T$15),1,0),1)","v":0},{"$f":"IF(UIoptions!$N$35=2,IF(AND(PCdb[[#This Row],[ROUND_D]]>UIoptions!$S$15,PCdb[[#This Row],[ROUND_D]]<UIoptions!$T$15),1,0),1)","v":1},{"$f":"IF(UIoptions!$N$75<>1,1,IF(AND(PCdb[[#This Row],[FL]]>UIoptions!$S$16,PCdb[[#This Row],[FL]]<UIoptions!$T$16),1,0))","v":0},{"$f":"IF(OR(UIoptions!$Q$18=PCdb[[#This Row],[THRU_SCREW]],UIoptions!$Q$18=\"NA\"),1,0)","v":0},{"$f":"IF(OR(UIoptions!$P$19=PCdb[[#This Row],[THREAD_SZ]],UIoptions!$P$19=\"NA\"),1,0)","v":1},{"$f":"IF(UIoptions!$N$75=1,1,IF(AND(PCdb[[#This Row],[THREAD_L]]>UIoptions!$S$17,PCdb[[#This Row],[THREAD_L]]<UIoptions!$T$17),1,0))","v":1},{"$f":"IF(SUM(PCdb[[#This Row],[BDhit]:[THREAD_Lhit]])=11,1,0)","v":0},{"$f":"CONCATENATE(PCdb[[#This Row],[BCD]],PCdb[[#This Row],[PD]],PCdb[[#This Row],[PL (MAX)]],PCdb[[#This Row],[SD]],PCdb[[#This Row],[SL]],PCdb[[#This Row],[SQ_SZ]],PCdb[[#This Row],[ROUND_D]],PCdb[[#This Row],[FL]],PCdb[[#This Row],[THRU_SCREW]],PCdb[[#This Row],[THREAD_SZ]],PCdb[[#This Row],[THREAD_L]],PCdb[[#This Row],[NBR_HOLES]])","v":"75604112362NA8M5NANA4"},{"$f":"SUM(PCdb[[#This Row],[BDhit]:[THREAD_Lhit]])","v":4}]
[251,45,30,4,8,25,40,"NA",6,"M3","NA","NA",4,"M3",null,null,null,null,null,null,null,null,null,null,null,null,null,null,null,null,null,null,null,null,null,18,"NA","Y","C",45,90,null,null,null,null,null,null,null,null,null,null,null,null,{"$f":"IF(AND(PCdb[[#This Row],[BCD]]>UIoptions!$S$10,PCdb[[#This Row],[BCD]]<UIoptions!$T$10),1,0)","v":0},{"$f":"IF(AND(PCdb[[#This Row],[PD]]>UIoptions!$S$11,PCdb[[#This Row],[PD]]<UIoptions!$T$11),1,0)","v":0},{"$f":"IF(AND(UIoptions!$P$14<=PCdb[[#This Row],[PL (MAX)]],UIoptions!$P$14>UIoptions!$S$14),1,0)","v":1},{"$f":"IF(AND(PCdb[[#This Row],[SD]]>UIoptions!$S$12,PCdb[[#This Row],[SD]]<UIoptions!$T$12),1,0)","v":0},{"$f":"IF(AND(PCdb[[#This Row],[SL]]>UIoptions!$S$13,PCdb[[#This Row],[SL]]<UIoptions!$T$13),1,0)","v":0},{"$f":"IF(UIoptions!$N$35=1,IF(AND(PCdb[[#This Row],[SQ_SZ]]>UIoptions!$S$15,PCdb[[#This Row],[SQ_SZ]]<UIoptions!$T$15),1,0),1)","v":0},{"$f":"IF(UIoptions!$N$35=2,IF(AND(PCdb[[#This Row],[ROUND_D]]>UIoptions!$S$15,PCdb[[#This Row],[ROUND_D]]<UIoptions!$T$15),1,0),1)","v":1},{"$f":"IF(UIoptions!$N$75<>1,1,IF(AND(PCdb[[#This Row],[FL]]>UIoptions!$S$16,PCdb[[#This Row],[FL]]<UIoptions!$T$16),1,0))","v":0},{"$f":"IF(OR(UIoptions!$Q$18=PCdb[[#This Row],[THRU_SCREW]],UIoptions!$Q$18=\"NA\"),1,0)","v":0},{"$f":"IF(OR(UIoptions!$P$19=PCdb[[#This Row],[THREAD_SZ]],UIoptions!$P$19=\"NA\"),1,0)","v":1},{"$f":"IF(UIoptions!$N$75=1,1,IF(AND(PCdb[[#This Row],[THREAD_L]]>UIoptions!$S$17,PCdb[[#This Row],[THREAD_L]]<UIoptions!$T$17),1,0))","v":1},{"$f":"IF(SUM(PCdb[[#This Row],[BDhit]:[THREAD_Lhit]])=11,1,0)","v":0},{"$f":"CONCATENATE(PCdb[[#This Row],[BCD]],PCdb[[#This Row],[PD]],PCdb[[#This Row],[PL (MAX)]],PCdb[[#This Row],[SD]],PCdb[[#This Row],[SL]],PCdb[[#This Row],[SQ_SZ]],PCdb[[#This Row],[ROUND_D]],PCdb[[#This Row],[FL]],PCdb[[#This Row],[THRU_SCREW]],PCdb[[#This Row],[THREAD_SZ]],PCdb[[#This Row],[THREAD_L]],PCdb[[#This Row],[NBR_HOLES]])","v":"4530482540NA6M3NANA4"},{"$f":"SUM(PCdb[[#This Row],[BDhit]:[THREAD_Lhit]])","v":4}]
[252,66.7,38.1,1.6,8,21,57.15,"NA",5,"M4","NA","NA",4,"M4",38.700000000000003,22,"NA","Y","B",45,90,null,null,null,null,null,null,null,null,null,null,null,null,null,null,null,null,null,null,null,null,null,null,null,null,null,null,null,null,null,null,null,null,{"$f":"IF(AND(PCdb[[#This Row],[BCD]]>UIoptions!$S$10,PCdb[[#This Row],[BCD]]<UIoptions!$T$10),1,0)","v":0},{"$f":"IF(AND(PCdb[[#This Row],[PD]]>UIoptions!$S$11,PCdb[[#This Row],[PD]]<UIoptions!$T$11),1,0)","v":0},{"$f":"IF(AND(UIoptions!$P$14<=PCdb[[#This Row],[PL (MAX)]],UIoptions!$P$14>UIoptions!$S$14),1,0)","v":0},{"$f":"IF(AND(PCdb[[#This Row],[SD]]>UIoptions!$S$12,PCdb[[#This Row],[SD]]<UIoptions!$T$12),1,0)","v":0},{"$f":"IF(AND(PCdb[[#This Row],[SL]]>UIoptions!$S$13,PCdb[[#This Row],[SL]]<UIoptions!$T$13),1,0)","v":0},{"$f":"IF(UIoptions!$N$35=1,IF(AND(PCdb[[#This Row],[SQ_SZ]]>UIoptions!$S$15,PCdb[[#This Row],[SQ_SZ]]<UIoptions!$T$15),1,0),1)","v":0},{"$f":"IF(UIoptions!$N$35=2,IF(AND(PCdb[[#This Row],[ROUND_D]]>UIoptions!$S$15,PCdb[[#This Row],[ROUND_D]]<UIoptions!$T$15),1,0),1)","v":1},{"$f":"IF(UIoptions!$N$75<>1,1,IF(AND(PCdb[[#This Row],[FL]]>UIoptions!$S$16,PCdb[[#This Row],[FL]]<UIoptions!$T$16),1,0))","v":0},{"$f":"IF(OR(UIoptions!$Q$18=PCdb[[#This Row],[THRU_SCREW]],UIoptions!$Q$18=\"NA\"),1,0)","v":1},{"$f":"IF(OR(UIoptions!$P$19=PCdb[[#This Row],[THREAD_SZ]],UIoptions!$P$19=\"NA\"),1,0)","v":1},{"$f":"IF(UIoptions!$N$75=1,1,IF(AND(PCdb[[#This Row],[THREAD_L]]>UIoptions!$S$17,PCdb[[#This Row],[THREAD_L]]<UIoptions!$T$17),1,0))","v":1},{"$f":"IF(SUM(PCdb[[#This Row],[BDhit]:[THREAD_Lhit]])=11,1,0)","v":0},{"$f":"CONCATENATE(PCdb[[#This Row],[BCD]],PCdb[[#This Row],[PD]],PCdb[[#This Row],[PL (MAX)]],PCdb[[#This Row],[SD]],PCdb[[#This Row],[SL]],PCdb[[#This Row],[SQ_SZ]],PCdb[[#This Row],[ROUND_D]],PCdb[[#This Row],[FL]],PCdb[[#This Row],[THRU_SCREW]],PCdb[[#This Row],[THREAD_SZ]],PCdb[[#This Row],[THREAD_L]],PCdb[[#This Row],[NBR_HOLES]])","v":"66,738,11,682157,15NA5M4NANA4"},{"$f":"SUM(PCdb[[#This Row],[BDhit]:[THREAD_Lhit]])","v":4}]
[253,100,80,4,16,31,90,"NA",8,"M6","NA","NA",4,"M6",null,null,null,null,null,null,null,null,null,null,null,null,null,null,45.2,42,"NA","Y","B",45,90,null,null,null,null,null,null,null,null,null,null,null,null,null,null,null,null,null,null,{"$f":"IF(AND(PCdb[[#This Row],[BCD]]>UIoptions!$S$10,PCdb[[#This Row],[BCD]]<UIoptions!$T$10),1,0)","v":0},{"$f":"IF(AND(PCdb[[#This Row],[PD]]>UIoptions!$S$11,PCdb[[#This Row],[PD]]<UIoptions!$T$11),1,0)","v":0},{"$f":"IF(AND(UIoptions!$P$14<=PCdb[[#This Row],[PL (MAX)]],UIoptions!$P$14>UIoptions!$S$14),1,0)","v":1},{"$f":"IF(AND(PCdb[[#This Row],[SD]]>UIoptions!$S$12,PCdb[[#This Row],[SD]]<UIoptions!$T$12),1,0)","v":0},{"$f":"IF(AND(PCdb[[#This Row],[SL]]>UIoptions!$S$13,PCdb[[#This Row],[SL]]<UIoptions!$T$13),1,0)","v":0},{"$f":"IF(UIoptions!$N$35=1,IF(AND(PCdb[[#This Row],[SQ_SZ]]>UIoptions!$S$15,PCdb[[#This Row],[SQ_SZ]]<UIoptions!$T$15),1,0),1)","v":0},{"$f":"IF(UIoptions!$N$35=2,IF(AND(PCdb[[#This Row],[ROUND_D]]>UIoptions!$S$15,PCdb[[#This Row],[ROUND_D]]<UIoptions!$T$15),1,0),1)","v":1},{"$f":"IF(UIoptions!$N$75<>1,1,IF(AND(PCdb[[#This Row],[FL]]>UIoptions!$S$16,PCdb[[#This Row],[FL]]<UIoptions!$T$16),1,0))","v":0},{"$f":"IF(OR(UIoptions!$Q$18=PCdb[[#This Row],[THRU_SCREW]],UIoptions!$Q$18=\"NA\"),1,0)","v":0},{"$f":"IF(OR(UIoptions!$P$19=PCdb[[#This Row],[THREAD_SZ]],UIoptions!$P$19=\"NA\"),1,0)","v":1},{"$f":"IF(UIoptions!$N$75=1,1,IF(AND(PCdb[[#This Row],[THREAD_L]]>UIoptions!$S$17,PCdb[[#This Row],[THREAD_L]]<UIoptions!$T$17),1,0))","v":1},{"$f":"IF(SUM(PCdb[[#This Row],[BDhit]:[THREAD_Lhit]])=11,1,0)","v":0},{"$f":"CONCATENATE(PCdb[[#This Row],[BCD]],PCdb[[#This Row],[PD]],PCdb[[#This Row],[PL (MAX)]],PCdb[[#This Row],[SD]],PCdb[[#This Row],[SL]],PCdb[[#This Row],[SQ_SZ]],PCdb[[#This Row],[ROUND_D]],PCdb[[#This Row],[FL]],PCdb[[#This Row],[THRU_SCREW]],PCdb[[#This Row],[THREAD_SZ]],PCdb[[#This Row],[THREAD_L]],PCdb[[#This Row],[NBR_HOLES]])","v":"100804163190NA8M6NANA4"},{"$f":"SUM(PCdb[[#This Row],[BDhit]:[THREAD_Lhit]])","v":4}]
[254,98.4,73,4,12,32,82.6,"NA",10,"M5","NA","NA",4,"M5",null,null,null,null,null,null,null,41.7,37.5,"NA","Y","B",45,90,null,null,null,null,null,null,null,null,null,null,null,null,null,null,null,null,null,null,null,null,null,null,null,null,null,{"$f":"IF(AND(PCdb[[#This Row],[BCD]]>UIoptions!$S$10,PCdb[[#This Row],[BCD]]<UIoptions!$T$10),1,0)","v":0},{"$f":"IF(AND(PCdb[[#This Row],[PD]]>UIoptions!$S$11,PCdb[[#This Row],[PD]]<UIoptions!$T$11),1,0)","v":0},{"$f":"IF(AND(UIoptions!$P$14<=PCdb[[#This Row],[PL (MAX)]],UIoptions!$P$14>UIoptions!$S$14),1,0)","v":1},{"$f":"IF(AND(PCdb[[#This Row],[SD]]>UIoptions!$S$12,PCdb[[#This Row],[SD]]<UIoptions!$T$12),1,0)","v":0},{"$f":"IF(AND(PCdb[[#This Row],[SL]]>UIoptions!$S$13,PCdb[[#This Row],[SL]]<UIoptions!$T$13),1,0)","v":0},{"$f":"IF(UIoptions!$N$35=1,IF(AND(PCdb[[#This Row],[SQ_SZ]]>UIoptions!$S$15,PCdb[[#This Row],[SQ_SZ]]<UIoptions!$T$15),1,0),1)","v":0},{"$f":"IF(UIoptions!$N$35=2,IF(AND(PCdb[[#This Row],[ROUND_D]]>UIoptions!$S$15,PCdb[[#This Row],[ROUND_D]]<UIoptions!$T$15),1,0),1)","v":1},{"$f":"IF(UIoptions!$N$75<>1,1,IF(AND(PCdb[[#This Row],[FL]]>UIoptions!$S$16,PCdb[[#This Row],[FL]]<UIoptions!$T$16),1,0))","v":0},{"$f":"IF(OR(UIoptions!$Q$18=PCdb[[#This Row],[THRU_SCREW]],UIoptions!$Q$18=\"NA\"),1,0)","v":0},{"$f":"IF(OR(UIoptions!$P$19=PCdb[[#This Row],[THREAD_SZ]],UIoptions!$P$19=\"NA\"),1,0)","v":1},{"$f":"IF(UIoptions!$N$75=1,1,IF(AND(PCdb[[#This Row],[THREAD_L]]>UIoptions!$S$17,PCdb[[#This Row],[THREAD_L]]<UIoptions!$T$17),1,0))","v":1},{"$f":"IF(SUM(PCdb[[#This Row],[BDhit]:[THREAD_Lhit]])=11,1,0)","v":0},{"$f":"CONCATENATE(PCdb[[#This Row],[BCD]],PCdb[[#This Row],[PD]],PCdb[[#This Row],[PL (MAX)]],PCdb[[#This Row],[SD]],PCdb[[#This Row],[SL]],PCdb[[#This Row],[SQ_SZ]],PCdb[[#This Row],[ROUND_D]],PCdb[[#This Row],[FL]],PCdb[[#This Row],[THRU_SCREW]],PCdb[[#This Row],[THREAD_SZ]],PCdb[[#This Row],[THREAD_L]],PCdb[[#This Row],[NBR_HOLES]])","v":"98,4734123282,6NA10M5NANA4"},{"$f":"SUM(PCdb[[#This Row],[BDhit]:[THREAD_Lhit]])","v":4}]
[256,98.4,73,4,14,31.8,85.9,"NA",10,"M6","NA","NA",4,"M6",null,null,null,null,null,null,null,null,null,null,null,null,null,null,null,null,null,null,null,null,null,null,null,null,null,null,null,null,null,null,null,null,null,39,"NA","Y","D",45,90,{"$f":"IF(AND(PCdb[[#This Row],[BCD]]>UIoptions!$S$10,PCdb[[#This Row],[BCD]]<UIoptions!$T$10),1,0)","v":0},{"$f":"IF(AND(PCdb[[#This Row],[PD]]>UIoptions!$S$11,PCdb[[#This Row],[PD]]<UIoptions!$T$11),1,0)","v":0},{"$f":"IF(AND(UIoptions!$P$14<=PCdb[[#This Row],[PL (MAX)]],UIoptions!$P$14>UIoptions!$S$14),1,0)","v":1},{"$f":"IF(AND(PCdb[[#This Row],[SD]]>UIoptions!$S$12,PCdb[[#This Row],[SD]]<UIoptions!$T$12),1,0)","v":0},{"$f":"IF(AND(PCdb[[#This Row],[SL]]>UIoptions!$S$13,PCdb[[#This Row],[SL]]<UIoptions!$T$13),1,0)","v":0},{"$f":"IF(UIoptions!$N$35=1,IF(AND(PCdb[[#This Row],[SQ_SZ]]>UIoptions!$S$15,PCdb[[#This Row],[SQ_SZ]]<UIoptions!$T$15),1,0),1)","v":0},{"$f":"IF(UIoptions!$N$35=2,IF(AND(PCdb[[#This Row],[ROUND_D]]>UIoptions!$S$15,PCdb[[#This Row],[ROUND_D]]<UIoptions!$T$15),1,0),1)","v":1},{"$f":"IF(UIoptions!$N$75<>1,1,IF(AND(PCdb[[#This Row],[FL]]>UIoptions!$S$16,PCdb[[#This Row],[FL]]<UIoptions!$T$16),1,0))","v":0},{"$f":"IF(OR(UIoptions!$Q$18=PCdb[[#This Row],[THRU_SCREW]],UIoptions!$Q$18=\"NA\"),1,0)","v":0},{"$f":"IF(OR(UIoptions!$P$19=PCdb[[#This Row],[THREAD_SZ]],UIoptions!$P$19=\"NA\"),1,0)","v":1},{"$f":"IF(UIoptions!$N$75=1,1,IF(AND(PCdb[[#This Row],[THREAD_L]]>UIoptions!$S$17,PCdb[[#This Row],[THREAD_L]]<UIoptions!$T$17),1,0))","v":1},{"$f":"IF(SUM(PCdb[[#This Row],[BDhit]:[THREAD_Lhit]])=11,1,0)","v":0},{"$f":"CONCATENATE(PCdb[[#This Row],[BCD]],PCdb[[#This Row],[PD]],PCdb[[#This Row],[PL (MAX)]],PCdb[[#This Row],[SD]],PCdb[[#This Row],[SL]],PCdb[[#This Row],[SQ_SZ]],PCdb[[#This Row],[ROUND_D]],PCdb[[#This Row],[FL]],PCdb[[#This Row],[THRU_SCREW]],PCdb[[#This Row],[THREAD_SZ]],PCdb[[#This Row],[THREAD_L]],PCdb[[#This Row],[NBR_HOLES]])","v":"98,47341431,885,9NA10M6NANA4"},{"$f":"SUM(PCdb[[#This Row],[BDhit]:[THREAD_Lhit]])","v":4}]
[257,66.8,38.1,4,6.4,20.6,57.2,"NA",5.0999999999999996,"M4","NA","NA",4,"M4",null,null,null,null,null,null,null,null,null,null,null,null,null,null,null,null,null,null,null,null,null,22,"NA","Y","D",45,90,null,null,null,null,null,null,null,null,null,null,null,null,{"$f":"IF(AND(PCdb[[#This Row],[BCD]]>UIoptions!$S$10,PCdb[[#This Row],[BCD]]<UIoptions!$T$10),1,0)","v":0},{"$f":"IF(AND(PCdb[[#This Row],[PD]]>UIoptions!$S$11,PCdb[[#This Row],[PD]]<UIoptions!$T$11),1,0)","v":0},{"$f":"IF(AND(UIoptions!$P$14<=PCdb[[#This Row],[PL (MAX)]],UIoptions!$P$14>UIoptions!$S$14),1,0)","v":1},{"$f":"IF(AND(PCdb[[#This Row],[SD]]>UIoptions!$S$12,PCdb[[#This Row],[SD]]<UIoptions!$T$12),1,0)","v":0},{"$f":"IF(AND(PCdb[[#This Row],[SL]]>UIoptions!$S$13,PCdb[[#This Row],[SL]]<UIoptions!$T$13),1,0)","v":0},{"$f":"IF(UIoptions!$N$35=1,IF(AND(PCdb[[#This Row],[SQ_SZ]]>UIoptions!$S$15,PCdb[[#This Row],[SQ_SZ]]<UIoptions!$T$15),1,0),1)","v":0},{"$f":"IF(UIoptions!$N$35=2,IF(AND(PCdb[[#This Row],[ROUND_D]]>UIoptions!$S$15,PCdb[[#This Row],[ROUND_D]]<UIoptions!$T$15),1,0),1)","v":1},{"$f":"IF(UIoptions!$N$75<>1,1,IF(AND(PCdb[[#This Row],[FL]]>UIoptions!$S$16,PCdb[[#This Row],[FL]]<UIoptions!$T$16),1,0))","v":0},{"$f":"IF(OR(UIoptions!$Q$18=PCdb[[#This Row],[THRU_SCREW]],UIoptions!$Q$18=\"NA\"),1,0)","v":1},{"$f":"IF(OR(UIoptions!$P$19=PCdb[[#This Row],[THREAD_SZ]],UIoptions!$P$19=\"NA\"),1,0)","v":1},{"$f":"IF(UIoptions!$N$75=1,1,IF(AND(PCdb[[#This Row],[THREAD_L]]>UIoptions!$S$17,PCdb[[#This Row],[THREAD_L]]<UIoptions!$T$17),1,0))","v":1},{"$f":"IF(SUM(PCdb[[#This Row],[BDhit]:[THREAD_Lhit]])=11,1,0)","v":0},{"$f":"CONCATENATE(PCdb[[#This Row],[BCD]],PCdb[[#This Row],[PD]],PCdb[[#This Row],[PL (MAX)]],PCdb[[#This Row],[SD]],PCdb[[#This Row],[SL]],PCdb[[#This Row],[SQ_SZ]],PCdb[[#This Row],[ROUND_D]],PCdb[[#This Row],[FL]],PCdb[[#This Row],[THRU_SCREW]],PCdb[[#This Row],[THREAD_SZ]],PCdb[[#This Row],[THREAD_L]],PCdb[[#This Row],[NBR_HOLES]])","v":"66,838,146,420,657,2NA5,1M4NANA4"},{"$f":"SUM(PCdb[[#This Row],[BDhit]:[THREAD_Lhit]])","v":5}]
[258,70,54,4,10,20,60,"NA",6,"M5","NA","NA",4,"M5",null,null,null,null,null,null,null,null,null,null,null,null,null,null,null,null,null,null,null,null,null,null,null,null,null,null,null,28.2,"NA","Y","C",45,90,null,null,null,null,null,null,{"$f":"IF(AND(PCdb[[#This Row],[BCD]]>UIoptions!$S$10,PCdb[[#This Row],[BCD]]<UIoptions!$T$10),1,0)","v":0},{"$f":"IF(AND(PCdb[[#This Row],[PD]]>UIoptions!$S$11,PCdb[[#This Row],[PD]]<UIoptions!$T$11),1,0)","v":0},{"$f":"IF(AND(UIoptions!$P$14<=PCdb[[#This Row],[PL (MAX)]],UIoptions!$P$14>UIoptions!$S$14),1,0)","v":1},{"$f":"IF(AND(PCdb[[#This Row],[SD]]>UIoptions!$S$12,PCdb[[#This Row],[SD]]<UIoptions!$T$12),1,0)","v":0},{"$f":"IF(AND(PCdb[[#This Row],[SL]]>UIoptions!$S$13,PCdb[[#This Row],[SL]]<UIoptions!$T$13),1,0)","v":1},{"$f":"IF(UIoptions!$N$35=1,IF(AND(PCdb[[#This Row],[SQ_SZ]]>UIoptions!$S$15,PCdb[[#This Row],[SQ_SZ]]<UIoptions!$T$15),1,0),1)","v":0},{"$f":"IF(UIoptions!$N$35=2,IF(AND(PCdb[[#This Row],[ROUND_D]]>UIoptions!$S$15,PCdb[[#This Row],[ROUND_D]]<UIoptions!$T$15),1,0),1)","v":1},{"$f":"IF(UIoptions!$N$75<>1,1,IF(AND(PCdb[[#This Row],[FL]]>UIoptions!$S$16,PCdb[[#This Row],[FL]]<UIoptions!$T$16),1,0))","v":0},{"$f":"IF(OR(UIoptions!$Q$18=PCdb[[#This Row],[THRU_SCREW]],UIoptions!$Q$18=\"NA\"),1,0)","v":0},{"$f":"IF(OR(UIoptions!$P$19=PCdb[[#This Row],[THREAD_SZ]],UIoptions!$P$19=\"NA\"),1,0)","v":1},{"$f":"IF(UIoptions!$N$75=1,1,IF(AND(PCdb[[#This Row],[THREAD_L]]>UIoptions!$S$17,PCdb[[#This Row],[THREAD_L]]<UIoptions!$T$17),1,0))","v":1},{"$f":"IF(SUM(PCdb[[#This Row],[BDhit]:[THREAD_Lhit]])=11,1,0)","v":0},{"$f":"CONCATENATE(PCdb[[#This Row],[BCD]],PCdb[[#This Row],[PD]],PCdb[[#This Row],[PL (MAX)]],PCdb[[#This Row],[SD]],PCdb[[#This Row],[SL]],PCdb[[#This Row],[SQ_SZ]],PCdb[[#This Row],[ROUND_D]],PCdb[[#This Row],[FL]],PCdb[[#This Row],[THRU_SCREW]],PCdb[[#This Row],[THREAD_SZ]],PCdb[[#This Row],[THREAD_L]],PCdb[[#This Row],[NBR_HOLES]])","v":"70544102060NA6M5NANA4"},{"$f":"SUM(PCdb[[#This Row],[BDhit]:[THREAD_Lhit]])","v":5}]
[259,63,50,4,12,27,55,"NA",15,"M5","NA","NA",4,"M5",null,null,null,null,null,null,null,null,null,null,null,null,null,null,null,null,null,null,null,null,null,null,null,null,null,null,null,26,"NA","Y","C",45,90,null,null,null,null,null,null,{"$f":"IF(AND(PCdb[[#This Row],[BCD]]>UIoptions!$S$10,PCdb[[#This Row],[BCD]]<UIoptions!$T$10),1,0)","v":1},{"$f":"IF(AND(PCdb[[#This Row],[PD]]>UIoptions!$S$11,PCdb[[#This Row],[PD]]<UIoptions!$T$11),1,0)","v":0},{"$f":"IF(AND(UIoptions!$P$14<=PCdb[[#This Row],[PL (MAX)]],UIoptions!$P$14>UIoptions!$S$14),1,0)","v":1},{"$f":"IF(AND(PCdb[[#This Row],[SD]]>UIoptions!$S$12,PCdb[[#This Row],[SD]]<UIoptions!$T$12),1,0)","v":0},{"$f":"IF(AND(PCdb[[#This Row],[SL]]>UIoptions!$S$13,PCdb[[#This Row],[SL]]<UIoptions!$T$13),1,0)","v":0},{"$f":"IF(UIoptions!$N$35=1,IF(AND(PCdb[[#This Row],[SQ_SZ]]>UIoptions!$S$15,PCdb[[#This Row],[SQ_SZ]]<UIoptions!$T$15),1,0),1)","v":0},{"$f":"IF(UIoptions!$N$35=2,IF(AND(PCdb[[#This Row],[ROUND_D]]>UIoptions!$S$15,PCdb[[#This Row],[ROUND_D]]<UIoptions!$T$15),1,0),1)","v":1},{"$f":"IF(UIoptions!$N$75<>1,1,IF(AND(PCdb[[#This Row],[FL]]>UIoptions!$S$16,PCdb[[#This Row],[FL]]<UIoptions!$T$16),1,0))","v":0},{"$f":"IF(OR(UIoptions!$Q$18=PCdb[[#This Row],[THRU_SCREW]],UIoptions!$Q$18=\"NA\"),1,0)","v":0},{"$f":"IF(OR(UIoptions!$P$19=PCdb[[#This Row],[THREAD_SZ]],UIoptions!$P$19=\"NA\"),1,0)","v":1},{"$f":"IF(UIoptions!$N$75=1,1,IF(AND(PCdb[[#This Row],[THREAD_L]]>UIoptions!$S$17,PCdb[[#This Row],[THREAD_L]]<UIoptions!$T$17),1,0))","v":1},{"$f":"IF(SUM(PCdb[[#This Row],[BDhit]:[THREAD_Lhit]])=11,1,0)","v":0},{"$f":"CONCATENATE(PCdb[[#This Row],[BCD]],PCdb[[#This Row],[PD]],PCdb[[#This Row],[PL (MAX)]],PCdb[[#This Row],[SD]],PCdb[[#This Row],[SL]],PCdb[[#This Row],[SQ_SZ]],PCdb[[#This Row],[ROUND_D]],PCdb[[#This Row],[FL]],PCdb[[#This Row],[THRU_SCREW]],PCdb[[#This Row],[THREAD_SZ]],PCdb[[#This Row],[THREAD_L]],PCdb[[#This Row],[NBR_HOLES]])","v":"63504122755NA15M5NANA4"},{"$f":"SUM(PCdb[[#This Row],[BDhit]:[THREAD_Lhit]])","v":5}]
[260,66.7,38.1,4,6.35,20.6,56.4,"NA",6.7,"M4","NA","NA",4,"M4",null,null,null,null,null,null,null,null,null,null,null,null,null,null,null,null,null,null,null,null,null,22,"NA","Y","D",45,90,26,"NA","Y","C",45,90,null,null,null,null,null,null,{"$f":"IF(AND(PCdb[[#This Row],[BCD]]>UIoptions!$S$10,PCdb[[#This Row],[BCD]]<UIoptions!$T$10),1,0)","v":0},{"$f":"IF(AND(PCdb[[#This Row],[PD]]>UIoptions!$S$11,PCdb[[#This Row],[PD]]<UIoptions!$T$11),1,0)","v":0},{"$f":"IF(AND(UIoptions!$P$14<=PCdb[[#This Row],[PL (MAX)]],UIoptions!$P$14>UIoptions!$S$14),1,0)","v":1},{"$f":"IF(AND(PCdb[[#This Row],[SD]]>UIoptions!$S$12,PCdb[[#This Row],[SD]]<UIoptions!$T$12),1,0)","v":0},{"$f":"IF(AND(PCdb[[#This Row],[SL]]>UIoptions!$S$13,PCdb[[#This Row],[SL]]<UIoptions!$T$13),1,0)","v":0},{"$f":"IF(UIoptions!$N$35=1,IF(AND(PCdb[[#This Row],[SQ_SZ]]>UIoptions!$S$15,PCdb[[#This Row],[SQ_SZ]]<UIoptions!$T$15),1,0),1)","v":0},{"$f":"IF(UIoptions!$N$35=2,IF(AND(PCdb[[#This Row],[ROUND_D]]>UIoptions!$S$15,PCdb[[#This Row],[ROUND_D]]<UIoptions!$T$15),1,0),1)","v":1},{"$f":"IF(UIoptions!$N$75<>1,1,IF(AND(PCdb[[#This Row],[FL]]>UIoptions!$S$16,PCdb[[#This Row],[FL]]<UIoptions!$T$16),1,0))","v":0},{"$f":"IF(OR(UIoptions!$Q$18=PCdb[[#This Row],[THRU_SCREW]],UIoptions!$Q$18=\"NA\"),1,0)","v":1},{"$f":"IF(OR(UIoptions!$P$19=PCdb[[#This Row],[THREAD_SZ]],UIoptions!$P$19=\"NA\"),1,0)","v":1},{"$f":"IF(UIoptions!$N$75=1,1,IF(AND(PCdb[[#This Row],[THREAD_L]]>UIoptions!$S$17,PCdb[[#This Row],[THREAD_L]]<UIoptions!$T$17),1,0))","v":1},{"$f":"IF(SUM(PCdb[[#This Row],[BDhit]:[THREAD_Lhit]])=11,1,0)","v":0},{"$f":"CONCATENATE(PCdb[[#This Row],[BCD]],PCdb[[#This Row],[PD]],PCdb[[#This Row],[PL (MAX)]],PCdb[[#This Row],[SD]],PCdb[[#This Row],[SL]],PCdb[[#This Row],[SQ_SZ]],PCdb[[#This Row],[ROUND_D]],PCdb[[#This Row],[FL]],PCdb[[#This Row],[THRU_SCREW]],PCdb[[#This Row],[THREAD_SZ]],PCdb[[#This Row],[THREAD_L]],PCdb[[#This Row],[NBR_HOLES]])","v":"66,738,146,3520,656,4NA6,7M4NANA4"},{"$f":"SUM(PCdb[[#This Row],[BDhit]:[THREAD_Lhit]])","v":5}]
[261,70,50,4,16,32.5,60,"NA",10.5,"M5","NA","NA",4,"M5",null,null,null,null,null,null,null,null,null,null,null,null,null,null,null,null,null,null,null,null,null,null,null,null,null,null,null,null,null,null,null,null,null,28,"NA","Y","C",45,90,{"$f":"IF(AND(PCdb[[#This Row],[BCD]]>UIoptions!$S$10,PCdb[[#This Row],[BCD]]<UIoptions!$T$10),1,0)","v":0},{"$f":"IF(AND(PCdb[[#This Row],[PD]]>UIoptions!$S$11,PCdb[[#This Row],[PD]]<UIoptions!$T$11),1,0)","v":0},{"$f":"IF(AND(UIoptions!$P$14<=PCdb[[#This Row],[PL (MAX)]],UIoptions!$P$14>UIoptions!$S$14),1,0)","v":1},{"$f":"IF(AND(PCdb[[#This Row],[SD]]>UIoptions!$S$12,PCdb[[#This Row],[SD]]<UIoptions!$T$12),1,0)","v":0},{"$f":"IF(AND(PCdb[[#This Row],[SL]]>UIoptions!$S$13,PCdb[[#This Row],[SL]]<UIoptions!$T$13),1,0)","v":0},{"$f":"IF(UIoptions!$N$35=1,IF(AND(PCdb[[#This Row],[SQ_SZ]]>UIoptions!$S$15,PCdb[[#This Row],[SQ_SZ]]<UIoptions!$T$15),1,0),1)","v":0},{"$f":"IF(UIoptions!$N$35=2,IF(AND(PCdb[[#This Row],[ROUND_D]]>UIoptions!$S$15,PCdb[[#This Row],[ROUND_D]]<UIoptions!$T$15),1,0),1)","v":1},{"$f":"IF(UIoptions!$N$75<>1,1,IF(AND(PCdb[[#This Row],[FL]]>UIoptions!$S$16,PCdb[[#This Row],[FL]]<UIoptions!$T$16),1,0))","v":0},{"$f":"IF(OR(UIoptions!$Q$18=PCdb[[#This Row],[THRU_SCREW]],UIoptions!$Q$18=\"NA\"),1,0)","v":0},{"$f":"IF(OR(UIoptions!$P$19=PCdb[[#This Row],[THREAD_SZ]],UIoptions!$P$19=\"NA\"),1,0)","v":1},{"$f":"IF(UIoptions!$N$75=1,1,IF(AND(PCdb[[#This Row],[THREAD_L]]>UIoptions!$S$17,PCdb[[#This Row],[THREAD_L]]<UIoptions!$T$17),1,0))","v":1},{"$f":"IF(SUM(PCdb[[#This Row],[BDhit]:[THREAD_Lhit]])=11,1,0)","v":0},{"$f":"CONCATENATE(PCdb[[#This Row],[BCD]],PCdb[[#This Row],[PD]],PCdb[[#This Row],[PL (MAX)]],PCdb[[#This Row],[SD]],PCdb[[#This Row],[SL]],PCdb[[#This Row],[SQ_SZ]],PCdb[[#This Row],[ROUND_D]],PCdb[[#This Row],[FL]],PCdb[[#This Row],[THRU_SCREW]],PCdb[[#This Row],[THREAD_SZ]],PCdb[[#This Row],[THREAD_L]],PCdb[[#This Row],[NBR_HOLES]])","v":"705041632,560NA10,5M5NANA4"},{"$f":"SUM(PCdb[[#This Row],[BDhit]:[THREAD_Lhit]])","v":4}]
[262,66.5,38.1,4,12,19.5,62.2,"NA",6.4,"M4","NA","NA",4,"M4",null,null,null,null,null,null,null,null,null,null,null,null,null,null,null,null,null,null,null,null,null,null,null,null,null,null,null,null,null,null,null,null,null,28,"NA","Y","C",45,90,{"$f":"IF(AND(PCdb[[#This Row],[BCD]]>UIoptions!$S$10,PCdb[[#This Row],[BCD]]<UIoptions!$T$10),1,0)","v":0},{"$f":"IF(AND(PCdb[[#This Row],[PD]]>UIoptions!$S$11,PCdb[[#This Row],[PD]]<UIoptions!$T$11),1,0)","v":0},{"$f":"IF(AND(UIoptions!$P$14<=PCdb[[#This Row],[PL (MAX)]],UIoptions!$P$14>UIoptions!$S$14),1,0)","v":1},{"$f":"IF(AND(PCdb[[#This Row],[SD]]>UIoptions!$S$12,PCdb[[#This Row],[SD]]<UIoptions!$T$12),1,0)","v":0},{"$f":"IF(AND(PCdb[[#This Row],[SL]]>UIoptions!$S$13,PCdb[[#This Row],[SL]]<UIoptions!$T$13),1,0)","v":0},{"$f":"IF(UIoptions!$N$35=1,IF(AND(PCdb[[#This Row],[SQ_SZ]]>UIoptions!$S$15,PCdb[[#This Row],[SQ_SZ]]<UIoptions!$T$15),1,0),1)","v":0},{"$f":"IF(UIoptions!$N$35=2,IF(AND(PCdb[[#This Row],[ROUND_D]]>UIoptions!$S$15,PCdb[[#This Row],[ROUND_D]]<UIoptions!$T$15),1,0),1)","v":1},{"$f":"IF(UIoptions!$N$75<>1,1,IF(AND(PCdb[[#This Row],[FL]]>UIoptions!$S$16,PCdb[[#This Row],[FL]]<UIoptions!$T$16),1,0))","v":0},{"$f":"IF(OR(UIoptions!$Q$18=PCdb[[#This Row],[THRU_SCREW]],UIoptions!$Q$18=\"NA\"),1,0)","v":1},{"$f":"IF(OR(UIoptions!$P$19=PCdb[[#This Row],[THREAD_SZ]],UIoptions!$P$19=\"NA\"),1,0)","v":1},{"$f":"IF(UIoptions!$N$75=1,1,IF(AND(PCdb[[#This Row],[THREAD_L]]>UIoptions!$S$17,PCdb[[#This Row],[THREAD_L]]<UIoptions!$T$17),1,0))","v":1},{"$f":"IF(SUM(PCdb[[#This Row],[BDhit]:[THREAD_Lhit]])=11,1,0)","v":0},{"$f":"CONCATENATE(PCdb[[#This Row],[BCD]],PCdb[[#This Row],[PD]],PCdb[[#This Row],[PL (MAX)]],PCdb[[#This Row],[SD]],PCdb[[#This Row],[SL]],PCdb[[#This Row],[SQ_SZ]],PCdb[[#This Row],[ROUND_D]],PCdb[[#This Row],[FL]],PCdb[[#This Row],[THRU_SCREW]],PCdb[[#This Row],[THREAD_SZ]],PCdb[[#This Row],[THREAD_L]],PCdb[[#This Row],[NBR_HOLES]])","v":"66,538,141219,562,2NA6,4M4NANA4"},{"$f":"SUM(PCdb[[#This Row],[BDhit]:[THREAD_Lhit]])","v":5}]
[263,46,30,4,8,25,40,"NA",7,"M3","NA","NA",4,"M3",38.700000000000003,3,31.4,"Y","A",45,90,null,null,null,null,null,null,null,null,null,null,null,null,null,null,null,null,null,null,null,null,null,null,null,null,null,null,null,null,null,null,null,null,{"$f":"IF(AND(PCdb[[#This Row],[BCD]]>UIoptions!$S$10,PCdb[[#This Row],[BCD]]<UIoptions!$T$10),1,0)","v":0},{"$f":"IF(AND(PCdb[[#This Row],[PD]]>UIoptions!$S$11,PCdb[[#This Row],[PD]]<UIoptions!$T$11),1,0)","v":0},{"$f":"IF(AND(UIoptions!$P$14<=PCdb[[#This Row],[PL (MAX)]],UIoptions!$P$14>UIoptions!$S$14),1,0)","v":1},{"$f":"IF(AND(PCdb[[#This Row],[SD]]>UIoptions!$S$12,PCdb[[#This Row],[SD]]<UIoptions!$T$12),1,0)","v":0},{"$f":"IF(AND(PCdb[[#This Row],[SL]]>UIoptions!$S$13,PCdb[[#This Row],[SL]]<UIoptions!$T$13),1,0)","v":0},{"$f":"IF(UIoptions!$N$35=1,IF(AND(PCdb[[#This Row],[SQ_SZ]]>UIoptions!$S$15,PCdb[[#This Row],[SQ_SZ]]<UIoptions!$T$15),1,0),1)","v":0},{"$f":"IF(UIoptions!$N$35=2,IF(AND(PCdb[[#This Row],[ROUND_D]]>UIoptions!$S$15,PCdb[[#This Row],[ROUND_D]]<UIoptions!$T$15),1,0),1)","v":1},{"$f":"IF(UIoptions!$N$75<>1,1,IF(AND(PCdb[[#This Row],[FL]]>UIoptions!$S$16,PCdb[[#This Row],[FL]]<UIoptions!$T$16),1,0))","v":1},{"$f":"IF(OR(UIoptions!$Q$18=PCdb[[#This Row],[THRU_SCREW]],UIoptions!$Q$18=\"NA\"),1,0)","v":0},{"$f":"IF(OR(UIoptions!$P$19=PCdb[[#This Row],[THREAD_SZ]],UIoptions!$P$19=\"NA\"),1,0)","v":1},{"$f":"IF(UIoptions!$N$75=1,1,IF(AND(PCdb[[#This Row],[THREAD_L]]>UIoptions!$S$17,PCdb[[#This Row],[THREAD_L]]<UIoptions!$T$17),1,0))","v":1},{"$f":"IF(SUM(PCdb[[#This Row],[BDhit]:[THREAD_Lhit]])=11,1,0)","v":0},{"$f":"CONCATENATE(PCdb[[#This Row],[BCD]],PCdb[[#This Row],[PD]],PCdb[[#This Row],[PL (MAX)]],PCdb[[#This Row],[SD]],PCdb[[#This Row],[SL]],PCdb[[#This Row],[SQ_SZ]],PCdb[[#This Row],[ROUND_D]],PCdb[[#This Row],[FL]],PCdb[[#This Row],[THRU_SCREW]],PCdb[[#This Row],[THREAD_SZ]],PCdb[[#This Row],[THREAD_L]],PCdb[[#This Row],[NBR_HOLES]])","v":"4630482540NA7M3NANA4"},{"$f":"SUM(PCdb[[#This Row],[BDhit]:[THREAD_Lhit]])","v":5}]
[264,70,50,4,11,30,60,"NA",6,"M4","NA","NA",4,"M4",null,null,null,null,null,null,null,null,null,null,null,null,null,null,null,null,null,null,null,null,null,null,null,null,null,null,null,27,"NA","Y","C",45,90,null,null,null,null,null,null,{"$f":"IF(AND(PCdb[[#This Row],[BCD]]>UIoptions!$S$10,PCdb[[#This Row],[BCD]]<UIoptions!$T$10),1,0)","v":0},{"$f":"IF(AND(PCdb[[#This Row],[PD]]>UIoptions!$S$11,PCdb[[#This Row],[PD]]<UIoptions!$T$11),1,0)","v":0},{"$f":"IF(AND(UIoptions!$P$14<=PCdb[[#This Row],[PL (MAX)]],UIoptions!$P$14>UIoptions!$S$14),1,0)","v":1},{"$f":"IF(AND(PCdb[[#This Row],[SD]]>UIoptions!$S$12,PCdb[[#This Row],[SD]]<UIoptions!$T$12),1,0)","v":0},{"$f":"IF(AND(PCdb[[#This Row],[SL]]>UIoptions!$S$13,PCdb[[#This Row],[SL]]<UIoptions!$T$13),1,0)","v":0},{"$f":"IF(UIoptions!$N$35=1,IF(AND(PCdb[[#This Row],[SQ_SZ]]>UIoptions!$S$15,PCdb[[#This Row],[SQ_SZ]]<UIoptions!$T$15),1,0),1)","v":0},{"$f":"IF(UIoptions!$N$35=2,IF(AND(PCdb[[#This Row],[ROUND_D]]>UIoptions!$S$15,PCdb[[#This Row],[ROUND_D]]<UIoptions!$T$15),1,0),1)","v":1},{"$f":"IF(UIoptions!$N$75<>1,1,IF(AND(PCdb[[#This Row],[FL]]>UIoptions!$S$16,PCdb[[#This Row],[FL]]<UIoptions!$T$16),1,0))","v":0},{"$f":"IF(OR(UIoptions!$Q$18=PCdb[[#This Row],[THRU_SCREW]],UIoptions!$Q$18=\"NA\"),1,0)","v":1},{"$f":"IF(OR(UIoptions!$P$19=PCdb[[#This Row],[THREAD_SZ]],UIoptions!$P$19=\"NA\"),1,0)","v":1},{"$f":"IF(UIoptions!$N$75=1,1,IF(AND(PCdb[[#This Row],[THREAD_L]]>UIoptions!$S$17,PCdb[[#This Row],[THREAD_L]]<UIoptions!$T$17),1,0))","v":1},{"$f":"IF(SUM(PCdb[[#This Row],[BDhit]:[THREAD_Lhit]])=11,1,0)","v":0},{"$f":"CONCATENATE(PCdb[[#This Row],[BCD]],PCdb[[#This Row],[PD]],PCdb[[#This Row],[PL (MAX)]],PCdb[[#This Row],[SD]],PCdb[[#This Row],[SL]],PCdb[[#This Row],[SQ_SZ]],PCdb[[#This Row],[ROUND_D]],PCdb[[#This Row],[FL]],PCdb[[#This Row],[THRU_SCREW]],PCdb[[#This Row],[THREAD_SZ]],PCdb[[#This Row],[THREAD_L]],PCdb[[#This Row],[NBR_HOLES]])","v":"70504113060NA6M4NANA4"},{"$f":"SUM(PCdb[[#This Row],[BDhit]:[THREAD_Lhit]])","v":5}]
[265,66.7,38.1,4,6.35,20.6,56.4,"NA",4.9000000000000004,"M4","NA","NA",4,"M4",null,null,null,null,null,null,null,null,null,null,null,null,null,null,null,null,null,null,null,null,null,22,"NA","Y","D",45,90,null,null,null,null,null,null,null,null,null,null,null,null,{"$f":"IF(AND(PCdb[[#This Row],[BCD]]>UIoptions!$S$10,PCdb[[#This Row],[BCD]]<UIoptions!$T$10),1,0)","v":0},{"$f":"IF(AND(PCdb[[#This Row],[PD]]>UIoptions!$S$11,PCdb[[#This Row],[PD]]<UIoptions!$T$11),1,0)","v":0},{"$f":"IF(AND(UIoptions!$P$14<=PCdb[[#This Row],[PL (MAX)]],UIoptions!$P$14>UIoptions!$S$14),1,0)","v":1},{"$f":"IF(AND(PCdb[[#This Row],[SD]]>UIoptions!$S$12,PCdb[[#This Row],[SD]]<UIoptions!$T$12),1,0)","v":0},{"$f":"IF(AND(PCdb[[#This Row],[SL]]>UIoptions!$S$13,PCdb[[#This Row],[SL]]<UIoptions!$T$13),1,0)","v":0},{"$f":"IF(UIoptions!$N$35=1,IF(AND(PCdb[[#This Row],[SQ_SZ]]>UIoptions!$S$15,PCdb[[#This Row],[SQ_SZ]]<UIoptions!$T$15),1,0),1)","v":0},{"$f":"IF(UIoptions!$N$35=2,IF(AND(PCdb[[#This Row],[ROUND_D]]>UIoptions!$S$15,PCdb[[#This Row],[ROUND_D]]<UIoptions!$T$15),1,0),1)","v":1},{"$f":"IF(UIoptions!$N$75<>1,1,IF(AND(PCdb[[#This Row],[FL]]>UIoptions!$S$16,PCdb[[#This Row],[FL]]<UIoptions!$T$16),1,0))","v":0},{"$f":"IF(OR(UIoptions!$Q$18=PCdb[[#This Row],[THRU_SCREW]],UIoptions!$Q$18=\"NA\"),1,0)","v":1},{"$f":"IF(OR(UIoptions!$P$19=PCdb[[#This Row],[THREAD_SZ]],UIoptions!$P$19=\"NA\"),1,0)","v":1},{"$f":"IF(UIoptions!$N$75=1,1,IF(AND(PCdb[[#This Row],[THREAD_L]]>UIoptions!$S$17,PCdb[[#This Row],[THREAD_L]]<UIoptions!$T$17),1,0))","v":1},{"$f":"IF(SUM(PCdb[[#This Row],[BDhit]:[THREAD_Lhit]])=11,1,0)","v":0},{"$f":"CONCATENATE(PCdb[[#This Row],[BCD]],PCdb[[#This Row],[PD]],PCdb[[#This Row],[PL (MAX)]],PCdb[[#This Row],[SD]],PCdb[[#This Row],[SL]],PCdb[[#This Row],[SQ_SZ]],PCdb[[#This Row],[ROUND_D]],PCdb[[#This Row],[FL]],PCdb[[#This Row],[THRU_SCREW]],PCdb[[#This Row],[THREAD_SZ]],PCdb[[#This Row],[THREAD_L]],PCdb[[#This Row],[NBR_HOLES]])","v":"66,738,146,3520,656,4NA4,9M4NANA4"},{"$f":"SUM(PCdb[[#This Row],[BDhit]:[THREAD_Lhit]])","v":5}]
[266,66.7,40,4,14,34,57,"NA",9,"M4","NA","NA",4,"M4",null,null,null,null,null,null,null,null,null,null,null,null,null,null,45.2,3,50,"Y","A",45,90,null,null,null,null,null,null,null,null,null,null,null,null,null,null,null,null,null,null,{"$f":"IF(AND(PCdb[[#This Row],[BCD]]>UIoptions!$S$10,PCdb[[#This Row],[BCD]]<UIoptions!$T$10),1,0)","v":0},{"$f":"IF(AND(PCdb[[#This Row],[PD]]>UIoptions!$S$11,PCdb[[#This Row],[PD]]<UIoptions!$T$11),1,0)","v":1},{"$f":"IF(AND(UIoptions!$P$14<=PCdb[[#This Row],[PL (MAX)]],UIoptions!$P$14>UIoptions!$S$14),1,0)","v":1},{"$f":"IF(AND(PCdb[[#This Row],[SD]]>UIoptions!$S$12,PCdb[[#This Row],[SD]]<UIoptions!$T$12),1,0)","v":0},{"$f":"IF(AND(PCdb[[#This Row],[SL]]>UIoptions!$S$13,PCdb[[#This Row],[SL]]<UIoptions!$T$13),1,0)","v":0},{"$f":"IF(UIoptions!$N$35=1,IF(AND(PCdb[[#This Row],[SQ_SZ]]>UIoptions!$S$15,PCdb[[#This Row],[SQ_SZ]]<UIoptions!$T$15),1,0),1)","v":0},{"$f":"IF(UIoptions!$N$35=2,IF(AND(PCdb[[#This Row],[ROUND_D]]>UIoptions!$S$15,PCdb[[#This Row],[ROUND_D]]<UIoptions!$T$15),1,0),1)","v":1},{"$f":"IF(UIoptions!$N$75<>1,1,IF(AND(PCdb[[#This Row],[FL]]>UIoptions!$S$16,PCdb[[#This Row],[FL]]<UIoptions!$T$16),1,0))","v":0},{"$f":"IF(OR(UIoptions!$Q$18=PCdb[[#This Row],[THRU_SCREW]],UIoptions!$Q$18=\"NA\"),1,0)","v":1},{"$f":"IF(OR(UIoptions!$P$19=PCdb[[#This Row],[THREAD_SZ]],UIoptions!$P$19=\"NA\"),1,0)","v":1},{"$f":"IF(UIoptions!$N$75=1,1,IF(AND(PCdb[[#This Row],[THREAD_L]]>UIoptions!$S$17,PCdb[[#This Row],[THREAD_L]]<UIoptions!$T$17),1,0))","v":1},{"$f":"IF(SUM(PCdb[[#This Row],[BDhit]:[THREAD_Lhit]])=11,1,0)","v":0},{"$f":"CONCATENATE(PCdb[[#This Row],[BCD]],PCdb[[#This Row],[PD]],PCdb[[#This Row],[PL (MAX)]],PCdb[[#This Row],[SD]],PCdb[[#This Row],[SL]],PCdb[[#This Row],[SQ_SZ]],PCdb[[#This Row],[ROUND_D]],PCdb[[#This Row],[FL]],PCdb[[#This Row],[THRU_SCREW]],PCdb[[#This Row],[THREAD_SZ]],PCdb[[#This Row],[THREAD_L]],PCdb[[#This Row],[NBR_HOLES]])","v":"66,7404143457NA9M4NANA4"},{"$f":"SUM(PCdb[[#This Row],[BDhit]:[THREAD_Lhit]])","v":6}]
[267,98.4,73.03,4,9.5299999999999994,30.5,86.4,"NA",10,"M6","NA","NA",4,"M6",null,null,null,null,null,null,null,45.2,38,0,"Y","B",45,90,null,null,null,null,null,null,null,null,null,null,null,null,null,null,null,null,null,null,null,null,null,null,null,null,null,{"$f":"IF(AND(PCdb[[#This Row],[BCD]]>UIoptions!$S$10,PCdb[[#This Row],[BCD]]<UIoptions!$T$10),1,0)","v":0},{"$f":"IF(AND(PCdb[[#This Row],[PD]]>UIoptions!$S$11,PCdb[[#This Row],[PD]]<UIoptions!$T$11),1,0)","v":0},{"$f":"IF(AND(UIoptions!$P$14<=PCdb[[#This Row],[PL (MAX)]],UIoptions!$P$14>UIoptions!$S$14),1,0)","v":1},{"$f":"IF(AND(PCdb[[#This Row],[SD]]>UIoptions!$S$12,PCdb[[#This Row],[SD]]<UIoptions!$T$12),1,0)","v":0},{"$f":"IF(AND(PCdb[[#This Row],[SL]]>UIoptions!$S$13,PCdb[[#This Row],[SL]]<UIoptions!$T$13),1,0)","v":0},{"$f":"IF(UIoptions!$N$35=1,IF(AND(PCdb[[#This Row],[SQ_SZ]]>UIoptions!$S$15,PCdb[[#This Row],[SQ_SZ]]<UIoptions!$T$15),1,0),1)","v":0},{"$f":"IF(UIoptions!$N$35=2,IF(AND(PCdb[[#This Row],[ROUND_D]]>UIoptions!$S$15,PCdb[[#This Row],[ROUND_D]]<UIoptions!$T$15),1,0),1)","v":1},{"$f":"IF(UIoptions!$N$75<>1,1,IF(AND(PCdb[[#This Row],[FL]]>UIoptions!$S$16,PCdb[[#This Row],[FL]]<UIoptions!$T$16),1,0))","v":0},{"$f":"IF(OR(UIoptions!$Q$18=PCdb[[#This Row],[THRU_SCREW]],UIoptions!$Q$18=\"NA\"),1,0)","v":0},{"$f":"IF(OR(UIoptions!$P$19=PCdb[[#This Row],[THREAD_SZ]],UIoptions!$P$19=\"NA\"),1,0)","v":1},{"$f":"IF(UIoptions!$N$75=1,1,IF(AND(PCdb[[#This Row],[THREAD_L]]>UIoptions!$S$17,PCdb[[#This Row],[THREAD_L]]<UIoptions!$T$17),1,0))","v":1},{"$f":"IF(SUM(PCdb[[#This Row],[BDhit]:[THREAD_Lhit]])=11,1,0)","v":0},{"$f":"CONCATENATE(PCdb[[#This Row],[BCD]],PCdb[[#This Row],[PD]],PCdb[[#This Row],[PL (MAX)]],PCdb[[#This Row],[SD]],PCdb[[#This Row],[SL]],PCdb[[#This Row],[SQ_SZ]],PCdb[[#This Row],[ROUND_D]],PCdb[[#This Row],[FL]],PCdb[[#This Row],[THRU_SCREW]],PCdb[[#This Row],[THREAD_SZ]],PCdb[[#This Row],[THREAD_L]],PCdb[[#This Row],[NBR_HOLES]])","v":"98,473,0349,5330,586,4NA10M6NANA4"},{"$f":"SUM(PCdb[[#This Row],[BDhit]:[THREAD_Lhit]])","v":4}]
[268,70,50,4,11,23,60,"NA",6,"M4","NA","NA",4,"M4",36.200000000000003,27,0,"Y","B",45,90,null,null,null,null,null,null,null,null,null,null,null,null,null,null,null,null,null,null,null,null,null,null,null,null,null,null,null,null,null,null,null,null,{"$f":"IF(AND(PCdb[[#This Row],[BCD]]>UIoptions!$S$10,PCdb[[#This Row],[BCD]]<UIoptions!$T$10),1,0)","v":0},{"$f":"IF(AND(PCdb[[#This Row],[PD]]>UIoptions!$S$11,PCdb[[#This Row],[PD]]<UIoptions!$T$11),1,0)","v":0},{"$f":"IF(AND(UIoptions!$P$14<=PCdb[[#This Row],[PL (MAX)]],UIoptions!$P$14>UIoptions!$S$14),1,0)","v":1},{"$f":"IF(AND(PCdb[[#This Row],[SD]]>UIoptions!$S$12,PCdb[[#This Row],[SD]]<UIoptions!$T$12),1,0)","v":0},{"$f":"IF(AND(PCdb[[#This Row],[SL]]>UIoptions!$S$13,PCdb[[#This Row],[SL]]<UIoptions!$T$13),1,0)","v":0},{"$f":"IF(UIoptions!$N$35=1,IF(AND(PCdb[[#This Row],[SQ_SZ]]>UIoptions!$S$15,PCdb[[#This Row],[SQ_SZ]]<UIoptions!$T$15),1,0),1)","v":0},{"$f":"IF(UIoptions!$N$35=2,IF(AND(PCdb[[#This Row],[ROUND_D]]>UIoptions!$S$15,PCdb[[#This Row],[ROUND_D]]<UIoptions!$T$15),1,0),1)","v":1},{"$f":"IF(UIoptions!$N$75<>1,1,IF(AND(PCdb[[#This Row],[FL]]>UIoptions!$S$16,PCdb[[#This Row],[FL]]<UIoptions!$T$16),1,0))","v":0},{"$f":"IF(OR(UIoptions!$Q$18=PCdb[[#This Row],[THRU_SCREW]],UIoptions!$Q$18=\"NA\"),1,0)","v":1},{"$f":"IF(OR(UIoptions!$P$19=PCdb[[#This Row],[THREAD_SZ]],UIoptions!$P$19=\"NA\"),1,0)","v":1},{"$f":"IF(UIoptions!$N$75=1,1,IF(AND(PCdb[[#This Row],[THREAD_L]]>UIoptions!$S$17,PCdb[[#This Row],[THREAD_L]]<UIoptions!$T$17),1,0))","v":1},{"$f":"IF(SUM(PCdb[[#This Row],[BDhit]:[THREAD_Lhit]])=11,1,0)","v":0},{"$f":"CONCATENATE(PCdb[[#This Row],[BCD]],PCdb[[#This Row],[PD]],PCdb[[#This Row],[PL (MAX)]],PCdb[[#This Row],[SD]],PCdb[[#This Row],[SL]],PCdb[[#This Row],[SQ_SZ]],PCdb[[#This Row],[ROUND_D]],PCdb[[#This Row],[FL]],PCdb[[#This Row],[THRU_SCREW]],PCdb[[#This Row],[THREAD_SZ]],PCdb[[#This Row],[THREAD_L]],PCdb[[#This Row],[NBR_HOLES]])","v":"70504112360NA6M4NANA4"},{"$f":"SUM(PCdb[[#This Row],[BDhit]:[THREAD_Lhit]])","v":5}]
[269,63,40,4,9,20,55,"NA",6,"M5","NA","NA",4,"M5",null,null,null,null,null,null,null,null,null,null,null,null,null,null,null,null,null,null,null,null,null,null,null,null,null,null,null,25,"NA","Y","C",45,90,null,null,null,null,null,null,{"$f":"IF(AND(PCdb[[#This Row],[BCD]]>UIoptions!$S$10,PCdb[[#This Row],[BCD]]<UIoptions!$T$10),1,0)","v":1},{"$f":"IF(AND(PCdb[[#This Row],[PD]]>UIoptions!$S$11,PCdb[[#This Row],[PD]]<UIoptions!$T$11),1,0)","v":1},{"$f":"IF(AND(UIoptions!$P$14<=PCdb[[#This Row],[PL (MAX)]],UIoptions!$P$14>UIoptions!$S$14),1,0)","v":1},{"$f":"IF(AND(PCdb[[#This Row],[SD]]>UIoptions!$S$12,PCdb[[#This Row],[SD]]<UIoptions!$T$12),1,0)","v":0},{"$f":"IF(AND(PCdb[[#This Row],[SL]]>UIoptions!$S$13,PCdb[[#This Row],[SL]]<UIoptions!$T$13),1,0)","v":1},{"$f":"IF(UIoptions!$N$35=1,IF(AND(PCdb[[#This Row],[SQ_SZ]]>UIoptions!$S$15,PCdb[[#This Row],[SQ_SZ]]<UIoptions!$T$15),1,0),1)","v":0},{"$f":"IF(UIoptions!$N$35=2,IF(AND(PCdb[[#This Row],[ROUND_D]]>UIoptions!$S$15,PCdb[[#This Row],[ROUND_D]]<UIoptions!$T$15),1,0),1)","v":1},{"$f":"IF(UIoptions!$N$75<>1,1,IF(AND(PCdb[[#This Row],[FL]]>UIoptions!$S$16,PCdb[[#This Row],[FL]]<UIoptions!$T$16),1,0))","v":0},{"$f":"IF(OR(UIoptions!$Q$18=PCdb[[#This Row],[THRU_SCREW]],UIoptions!$Q$18=\"NA\"),1,0)","v":0},{"$f":"IF(OR(UIoptions!$P$19=PCdb[[#This Row],[THREAD_SZ]],UIoptions!$P$19=\"NA\"),1,0)","v":1},{"$f":"IF(UIoptions!$N$75=1,1,IF(AND(PCdb[[#This Row],[THREAD_L]]>UIoptions!$S$17,PCdb[[#This Row],[THREAD_L]]<UIoptions!$T$17),1,0))","v":1},{"$f":"IF(SUM(PCdb[[#This Row],[BDhit]:[THREAD_Lhit]])=11,1,0)","v":0},{"$f":"CONCATENATE(PCdb[[#This Row],[BCD]],PCdb[[#This Row],[PD]],PCdb[[#This Row],[PL (MAX)]],PCdb[[#This Row],[SD]],PCdb[[#This Row],[SL]],PCdb[[#This Row],[SQ_SZ]],PCdb[[#This Row],[ROUND_D]],PCdb[[#This Row],[FL]],PCdb[[#This Row],[THRU_SCREW]],PCdb[[#This Row],[THREAD_SZ]],PCdb[[#This Row],[THREAD_L]],PCdb[[#This Row],[NBR_HOLES]])","v":"6340492055NA6M5NANA4"},{"$f":"SUM(PCdb[[#This Row],[BDhit]:[THREAD_Lhit]])","v":7}]
[270,98.4,73.03,4,12.7,31.8,90,"NA",10,"M5","NA","NA",4,"M5",null,null,null,null,null,null,null,null,null,null,null,null,null,null,45.2,39,0,"Y","B",45,90,null,null,null,null,null,null,null,null,null,null,null,null,null,null,null,null,null,null,{"$f":"IF(AND(PCdb[[#This Row],[BCD]]>UIoptions!$S$10,PCdb[[#This Row],[BCD]]<UIoptions!$T$10),1,0)","v":0},{"$f":"IF(AND(PCdb[[#This Row],[PD]]>UIoptions!$S$11,PCdb[[#This Row],[PD]]<UIoptions!$T$11),1,0)","v":0},{"$f":"IF(AND(UIoptions!$P$14<=PCdb[[#This Row],[PL (MAX)]],UIoptions!$P$14>UIoptions!$S$14),1,0)","v":1},{"$f":"IF(AND(PCdb[[#This Row],[SD]]>UIoptions!$S$12,PCdb[[#This Row],[SD]]<UIoptions!$T$12),1,0)","v":0},{"$f":"IF(AND(PCdb[[#This Row],[SL]]>UIoptions!$S$13,PCdb[[#This Row],[SL]]<UIoptions!$T$13),1,0)","v":0},{"$f":"IF(UIoptions!$N$35=1,IF(AND(PCdb[[#This Row],[SQ_SZ]]>UIoptions!$S$15,PCdb[[#This Row],[SQ_SZ]]<UIoptions!$T$15),1,0),1)","v":0},{"$f":"IF(UIoptions!$N$35=2,IF(AND(PCdb[[#This Row],[ROUND_D]]>UIoptions!$S$15,PCdb[[#This Row],[ROUND_D]]<UIoptions!$T$15),1,0),1)","v":1},{"$f":"IF(UIoptions!$N$75<>1,1,IF(AND(PCdb[[#This Row],[FL]]>UIoptions!$S$16,PCdb[[#This Row],[FL]]<UIoptions!$T$16),1,0))","v":0},{"$f":"IF(OR(UIoptions!$Q$18=PCdb[[#This Row],[THRU_SCREW]],UIoptions!$Q$18=\"NA\"),1,0)","v":0},{"$f":"IF(OR(UIoptions!$P$19=PCdb[[#This Row],[THREAD_SZ]],UIoptions!$P$19=\"NA\"),1,0)","v":1},{"$f":"IF(UIoptions!$N$75=1,1,IF(AND(PCdb[[#This Row],[THREAD_L]]>UIoptions!$S$17,PCdb[[#This Row],[THREAD_L]]<UIoptions!$T$17),1,0))","v":1},{"$f":"IF(SUM(PCdb[[#This Row],[BDhit]:[THREAD_Lhit]])=11,1,0)","v":0},{"$f":"CONCATENATE(PCdb[[#This Row],[BCD]],PCdb[[#This Row],[PD]],PCdb[[#This Row],[PL (MAX)]],PCdb[[#This Row],[SD]],PCdb[[#This Row],[SL]],PCdb[[#This Row],[SQ_SZ]],PCdb[[#This Row],[ROUND_D]],PCdb[[#This Row],[FL]],PCdb[[#This Row],[THRU_SCREW]],PCdb[[#This Row],[THREAD_SZ]],PCdb[[#This Row],[THREAD_L]],PCdb[[#This Row],[NBR_HOLES]])","v":"98,473,03412,731,890NA10M5NANA4"},{"$f":"SUM(PCdb[[#This Row],[BDhit]:[THREAD_Lhit]])","v":4}]
[271,52,40,4,14,38,60,"NA","NA","NA","M5",10,4,6,null,null,null,null,null,null,null,null,null,null,null,null,null,null,null,null,null,null,null,null,null,null,null,null,null,null,null,"NA","NA","Y","SPLD2-271",45,90,null,null,null,null,null,null,{"$f":"IF(AND(PCdb[[#This Row],[BCD]]>UIoptions!$S$10,PCdb[[#This Row],[BCD]]<UIoptions!$T$10),1,0)","v":0},{"$f":"IF(AND(PCdb[[#This Row],[PD]]>UIoptions!$S$11,PCdb[[#This Row],[PD]]<UIoptions!$T$11),1,0)","v":1},{"$f":"IF(AND(UIoptions!$P$14<=PCdb[[#This Row],[PL (MAX)]],UIoptions!$P$14>UIoptions!$S$14),1,0)","v":1},{"$f":"IF(AND(PCdb[[#This Row],[SD]]>UIoptions!$S$12,PCdb[[#This Row],[SD]]<UIoptions!$T$12),1,0)","v":0},{"$f":"IF(AND(PCdb[[#This Row],[SL]]>UIoptions!$S$13,PCdb[[#This Row],[SL]]<UIoptions!$T$13),1,0)","v":0},{"$f":"IF(UIoptions!$N$35=1,IF(AND(PCdb[[#This Row],[SQ_SZ]]>UIoptions!$S$15,PCdb[[#This Row],[SQ_SZ]]<UIoptions!$T$15),1,0),1)","v":0},{"$f":"IF(UIoptions!$N$35=2,IF(AND(PCdb[[#This Row],[ROUND_D]]>UIoptions!$S$15,PCdb[[#This Row],[ROUND_D]]<UIoptions!$T$15),1,0),1)","v":1},{"$f":"IF(UIoptions!$N$75<>1,1,IF(AND(PCdb[[#This Row],[FL]]>UIoptions!$S$16,PCdb[[#This Row],[FL]]<UIoptions!$T$16),1,0))","v":0},{"$f":"IF(OR(UIoptions!$Q$18=PCdb[[#This Row],[THRU_SCREW]],UIoptions!$Q$18=\"NA\"),1,0)","v":0},{"$f":"IF(OR(UIoptions!$P$19=PCdb[[#This Row],[THREAD_SZ]],UIoptions!$P$19=\"NA\"),1,0)","v":1},{"$f":"IF(UIoptions!$N$75=1,1,IF(AND(PCdb[[#This Row],[THREAD_L]]>UIoptions!$S$17,PCdb[[#This Row],[THREAD_L]]<UIoptions!$T$17),1,0))","v":1},{"$f":"IF(SUM(PCdb[[#This Row],[BDhit]:[THREAD_Lhit]])=11,1,0)","v":0},{"$f":"CONCATENATE(PCdb[[#This Row],[BCD]],PCdb[[#This Row],[PD]],PCdb[[#This Row],[PL (MAX)]],PCdb[[#This Row],[SD]],PCdb[[#This Row],[SL]],PCdb[[#This Row],[SQ_SZ]],PCdb[[#This Row],[ROUND_D]],PCdb[[#This Row],[FL]],PCdb[[#This Row],[THRU_SCREW]],PCdb[[#This Row],[THREAD_SZ]],PCdb[[#This Row],[THREAD_L]],PCdb[[#This Row],[NBR_HOLES]])","v":"52404143860NANANAM5104"},{"$f":"SUM(PCdb[[#This Row],[BDhit]:[THREAD_Lhit]])","v":5}]
[272,66.7,38.1,4,9.5299999999999994,31.8,57.2,"NA",6.4,"M4","NA","NA",4,"M4",null,null,null,null,null,null,null,41.7,3,49.2,"Y","B",45,90,null,null,null,null,null,null,null,null,null,null,null,null,null,null,null,null,null,null,null,null,null,null,null,null,null,{"$f":"IF(AND(PCdb[[#This Row],[BCD]]>UIoptions!$S$10,PCdb[[#This Row],[BCD]]<UIoptions!$T$10),1,0)","v":0},{"$f":"IF(AND(PCdb[[#This Row],[PD]]>UIoptions!$S$11,PCdb[[#This Row],[PD]]<UIoptions!$T$11),1,0)","v":0},{"$f":"IF(AND(UIoptions!$P$14<=PCdb[[#This Row],[PL (MAX)]],UIoptions!$P$14>UIoptions!$S$14),1,0)","v":1},{"$f":"IF(AND(PCdb[[#This Row],[SD]]>UIoptions!$S$12,PCdb[[#This Row],[SD]]<UIoptions!$T$12),1,0)","v":0},{"$f":"IF(AND(PCdb[[#This Row],[SL]]>UIoptions!$S$13,PCdb[[#This Row],[SL]]<UIoptions!$T$13),1,0)","v":0},{"$f":"IF(UIoptions!$N$35=1,IF(AND(PCdb[[#This Row],[SQ_SZ]]>UIoptions!$S$15,PCdb[[#This Row],[SQ_SZ]]<UIoptions!$T$15),1,0),1)","v":0},{"$f":"IF(UIoptions!$N$35=2,IF(AND(PCdb[[#This Row],[ROUND_D]]>UIoptions!$S$15,PCdb[[#This Row],[ROUND_D]]<UIoptions!$T$15),1,0),1)","v":1},{"$f":"IF(UIoptions!$N$75<>1,1,IF(AND(PCdb[[#This Row],[FL]]>UIoptions!$S$16,PCdb[[#This Row],[FL]]<UIoptions!$T$16),1,0))","v":0},{"$f":"IF(OR(UIoptions!$Q$18=PCdb[[#This Row],[THRU_SCREW]],UIoptions!$Q$18=\"NA\"),1,0)","v":1},{"$f":"IF(OR(UIoptions!$P$19=PCdb[[#This Row],[THREAD_SZ]],UIoptions!$P$19=\"NA\"),1,0)","v":1},{"$f":"IF(UIoptions!$N$75=1,1,IF(AND(PCdb[[#This Row],[THREAD_L]]>UIoptions!$S$17,PCdb[[#This Row],[THREAD_L]]<UIoptions!$T$17),1,0))","v":1},{"$f":"IF(SUM(PCdb[[#This Row],[BDhit]:[THREAD_Lhit]])=11,1,0)","v":0},{"$f":"CONCATENATE(PCdb[[#This Row],[BCD]],PCdb[[#This Row],[PD]],PCdb[[#This Row],[PL (MAX)]],PCdb[[#This Row],[SD]],PCdb[[#This Row],[SL]],PCdb[[#This Row],[SQ_SZ]],PCdb[[#This Row],[ROUND_D]],PCdb[[#This Row],[FL]],PCdb[[#This Row],[THRU_SCREW]],PCdb[[#This Row],[THREAD_SZ]],PCdb[[#This Row],[THREAD_L]],PCdb[[#This Row],[NBR_HOLES]])","v":"66,738,149,5331,857,2NA6,4M4NANA4"},{"$f":"SUM(PCdb[[#This Row],[BDhit]:[THREAD_Lhit]])","v":5}]
[273,70,50,4,14,30,62,"NA",9,"M4","NA","NA",4,"M4",null,null,null,null,null,null,null,null,null,null,null,null,null,null,null,null,null,null,null,null,null,null,null,null,null,null,null,27,"NA","Y","C",45,90,null,null,null,null,null,null,{"$f":"IF(AND(PCdb[[#This Row],[BCD]]>UIoptions!$S$10,PCdb[[#This Row],[BCD]]<UIoptions!$T$10),1,0)","v":0},{"$f":"IF(AND(PCdb[[#This Row],[PD]]>UIoptions!$S$11,PCdb[[#This Row],[PD]]<UIoptions!$T$11),1,0)","v":0},{"$f":"IF(AND(UIoptions!$P$14<=PCdb[[#This Row],[PL (MAX)]],UIoptions!$P$14>UIoptions!$S$14),1,0)","v":1},{"$f":"IF(AND(PCdb[[#This Row],[SD]]>UIoptions!$S$12,PCdb[[#This Row],[SD]]<UIoptions!$T$12),1,0)","v":0},{"$f":"IF(AND(PCdb[[#This Row],[SL]]>UIoptions!$S$13,PCdb[[#This Row],[SL]]<UIoptions!$T$13),1,0)","v":0},{"$f":"IF(UIoptions!$N$35=1,IF(AND(PCdb[[#This Row],[SQ_SZ]]>UIoptions!$S$15,PCdb[[#This Row],[SQ_SZ]]<UIoptions!$T$15),1,0),1)","v":0},{"$f":"IF(UIoptions!$N$35=2,IF(AND(PCdb[[#This Row],[ROUND_D]]>UIoptions!$S$15,PCdb[[#This Row],[ROUND_D]]<UIoptions!$T$15),1,0),1)","v":1},{"$f":"IF(UIoptions!$N$75<>1,1,IF(AND(PCdb[[#This Row],[FL]]>UIoptions!$S$16,PCdb[[#This Row],[FL]]<UIoptions!$T$16),1,0))","v":0},{"$f":"IF(OR(UIoptions!$Q$18=PCdb[[#This Row],[THRU_SCREW]],UIoptions!$Q$18=\"NA\"),1,0)","v":1},{"$f":"IF(OR(UIoptions!$P$19=PCdb[[#This Row],[THREAD_SZ]],UIoptions!$P$19=\"NA\"),1,0)","v":1},{"$f":"IF(UIoptions!$N$75=1,1,IF(AND(PCdb[[#This Row],[THREAD_L]]>UIoptions!$S$17,PCdb[[#This Row],[THREAD_L]]<UIoptions!$T$17),1,0))","v":1},{"$f":"IF(SUM(PCdb[[#This Row],[BDhit]:[THREAD_Lhit]])=11,1,0)","v":0},{"$f":"CONCATENATE(PCdb[[#This Row],[BCD]],PCdb[[#This Row],[PD]],PCdb[[#This Row],[PL (MAX)]],PCdb[[#This Row],[SD]],PCdb[[#This Row],[SL]],PCdb[[#This Row],[SQ_SZ]],PCdb[[#This Row],[ROUND_D]],PCdb[[#This Row],[FL]],PCdb[[#This Row],[THRU_SCREW]],PCdb[[#This Row],[THREAD_SZ]],PCdb[[#This Row],[THREAD_L]],PCdb[[#This Row],[NBR_HOLES]])","v":"70504143062NA9M4NANA4"},{"$f":"SUM(PCdb[[#This Row],[BDhit]:[THREAD_Lhit]])","v":5}]
[274,75,60,4,14,30,"NA",112,"NA","NA","M5",10,4,6,null,null,null,null,null,null,null,45.2,"NA","NA","Y","32LXB2-274",45,90,48.7,"NA","NA","Y","40LXB2-274",45,90,null,null,null,null,null,null,null,null,null,null,null,null,null,null,null,null,null,null,{"$f":"IF(AND(PCdb[[#This Row],[BCD]]>UIoptions!$S$10,PCdb[[#This Row],[BCD]]<UIoptions!$T$10),1,0)","v":0},{"$f":"IF(AND(PCdb[[#This Row],[PD]]>UIoptions!$S$11,PCdb[[#This Row],[PD]]<UIoptions!$T$11),1,0)","v":0},{"$f":"IF(AND(UIoptions!$P$14<=PCdb[[#This Row],[PL (MAX)]],UIoptions!$P$14>UIoptions!$S$14),1,0)","v":1},{"$f":"IF(AND(PCdb[[#This Row],[SD]]>UIoptions!$S$12,PCdb[[#This Row],[SD]]<UIoptions!$T$12),1,0)","v":0},{"$f":"IF(AND(PCdb[[#This Row],[SL]]>UIoptions!$S$13,PCdb[[#This Row],[SL]]<UIoptions!$T$13),1,0)","v":0},{"$f":"IF(UIoptions!$N$35=1,IF(AND(PCdb[[#This Row],[SQ_SZ]]>UIoptions!$S$15,PCdb[[#This Row],[SQ_SZ]]<UIoptions!$T$15),1,0),1)","v":0},{"$f":"IF(UIoptions!$N$35=2,IF(AND(PCdb[[#This Row],[ROUND_D]]>UIoptions!$S$15,PCdb[[#This Row],[ROUND_D]]<UIoptions!$T$15),1,0),1)","v":1},{"$f":"IF(UIoptions!$N$75<>1,1,IF(AND(PCdb[[#This Row],[FL]]>UIoptions!$S$16,PCdb[[#This Row],[FL]]<UIoptions!$T$16),1,0))","v":0},{"$f":"IF(OR(UIoptions!$Q$18=PCdb[[#This Row],[THRU_SCREW]],UIoptions!$Q$18=\"NA\"),1,0)","v":0},{"$f":"IF(OR(UIoptions!$P$19=PCdb[[#This Row],[THREAD_SZ]],UIoptions!$P$19=\"NA\"),1,0)","v":1},{"$f":"IF(UIoptions!$N$75=1,1,IF(AND(PCdb[[#This Row],[THREAD_L]]>UIoptions!$S$17,PCdb[[#This Row],[THREAD_L]]<UIoptions!$T$17),1,0))","v":1},{"$f":"IF(SUM(PCdb[[#This Row],[BDhit]:[THREAD_Lhit]])=11,1,0)","v":0},{"$f":"CONCATENATE(PCdb[[#This Row],[BCD]],PCdb[[#This Row],[PD]],PCdb[[#This Row],[PL (MAX)]],PCdb[[#This Row],[SD]],PCdb[[#This Row],[SL]],PCdb[[#This Row],[SQ_SZ]],PCdb[[#This Row],[ROUND_D]],PCdb[[#This Row],[FL]],PCdb[[#This Row],[THRU_SCREW]],PCdb[[#This Row],[THREAD_SZ]],PCdb[[#This Row],[THREAD_L]],PCdb[[#This Row],[NBR_HOLES]])","v":"756041430NA112NANAM5104"},{"$f":"SUM(PCdb[[#This Row],[BDhit]:[THREAD_Lhit]])","v":4}]
[275,90,70,4,14,34,80,"NA",9,"M6","NA","NA",4,"M6",null,null,null,null,null,null,null,null,null,null,null,null,null,null,null,null,null,null,null,null,null,null,null,null,null,null,null,37,"NA","Y","D",45,90,null,null,null,null,null,null,{"$f":"IF(AND(PCdb[[#This Row],[BCD]]>UIoptions!$S$10,PCdb[[#This Row],[BCD]]<UIoptions!$T$10),1,0)","v":0},{"$f":"IF(AND(PCdb[[#This Row],[PD]]>UIoptions!$S$11,PCdb[[#This Row],[PD]]<UIoptions!$T$11),1,0)","v":0},{"$f":"IF(AND(UIoptions!$P$14<=PCdb[[#This Row],[PL (MAX)]],UIoptions!$P$14>UIoptions!$S$14),1,0)","v":1},{"$f":"IF(AND(PCdb[[#This Row],[SD]]>UIoptions!$S$12,PCdb[[#This Row],[SD]]<UIoptions!$T$12),1,0)","v":0},{"$f":"IF(AND(PCdb[[#This Row],[SL]]>UIoptions!$S$13,PCdb[[#This Row],[SL]]<UIoptions!$T$13),1,0)","v":0},{"$f":"IF(UIoptions!$N$35=1,IF(AND(PCdb[[#This Row],[SQ_SZ]]>UIoptions!$S$15,PCdb[[#This Row],[SQ_SZ]]<UIoptions!$T$15),1,0),1)","v":0},{"$f":"IF(UIoptions!$N$35=2,IF(AND(PCdb[[#This Row],[ROUND_D]]>UIoptions!$S$15,PCdb[[#This Row],[ROUND_D]]<UIoptions!$T$15),1,0),1)","v":1},{"$f":"IF(UIoptions!$N$75<>1,1,IF(AND(PCdb[[#This Row],[FL]]>UIoptions!$S$16,PCdb[[#This Row],[FL]]<UIoptions!$T$16),1,0))","v":0},{"$f":"IF(OR(UIoptions!$Q$18=PCdb[[#This Row],[THRU_SCREW]],UIoptions!$Q$18=\"NA\"),1,0)","v":0},{"$f":"IF(OR(UIoptions!$P$19=PCdb[[#This Row],[THREAD_SZ]],UIoptions!$P$19=\"NA\"),1,0)","v":1},{"$f":"IF(UIoptions!$N$75=1,1,IF(AND(PCdb[[#This Row],[THREAD_L]]>UIoptions!$S$17,PCdb[[#This Row],[THREAD_L]]<UIoptions!$T$17),1,0))","v":1},{"$f":"IF(SUM(PCdb[[#This Row],[BDhit]:[THREAD_Lhit]])=11,1,0)","v":0},{"$f":"CONCATENATE(PCdb[[#This Row],[BCD]],PCdb[[#This Row],[PD]],PCdb[[#This Row],[PL (MAX)]],PCdb[[#This Row],[SD]],PCdb[[#This Row],[SL]],PCdb[[#This Row],[SQ_SZ]],PCdb[[#This Row],[ROUND_D]],PCdb[[#This Row],[FL]],PCdb[[#This Row],[THRU_SCREW]],PCdb[[#This Row],[THREAD_SZ]],PCdb[[#This Row],[THREAD_L]],PCdb[[#This Row],[NBR_HOLES]])","v":"90704143480NA9M6NANA4"},{"$f":"SUM(PCdb[[#This Row],[BDhit]:[THREAD_Lhit]])","v":4}]
[278,75,60,4,14,30,70,"NA",7.5,"M5","NA","NA",4,"M5",null,null,null,null,null,null,null,null,null,null,null,null,null,null,null,null,null,null,null,null,null,null,null,null,null,null,null,32,"NA","Y","D",45,90,null,null,null,null,null,null,{"$f":"IF(AND(PCdb[[#This Row],[BCD]]>UIoptions!$S$10,PCdb[[#This Row],[BCD]]<UIoptions!$T$10),1,0)","v":0},{"$f":"IF(AND(PCdb[[#This Row],[PD]]>UIoptions!$S$11,PCdb[[#This Row],[PD]]<UIoptions!$T$11),1,0)","v":0},{"$f":"IF(AND(UIoptions!$P$14<=PCdb[[#This Row],[PL (MAX)]],UIoptions!$P$14>UIoptions!$S$14),1,0)","v":1},{"$f":"IF(AND(PCdb[[#This Row],[SD]]>UIoptions!$S$12,PCdb[[#This Row],[SD]]<UIoptions!$T$12),1,0)","v":0},{"$f":"IF(AND(PCdb[[#This Row],[SL]]>UIoptions!$S$13,PCdb[[#This Row],[SL]]<UIoptions!$T$13),1,0)","v":0},{"$f":"IF(UIoptions!$N$35=1,IF(AND(PCdb[[#This Row],[SQ_SZ]]>UIoptions!$S$15,PCdb[[#This Row],[SQ_SZ]]<UIoptions!$T$15),1,0),1)","v":0},{"$f":"IF(UIoptions!$N$35=2,IF(AND(PCdb[[#This Row],[ROUND_D]]>UIoptions!$S$15,PCdb[[#This Row],[ROUND_D]]<UIoptions!$T$15),1,0),1)","v":1},{"$f":"IF(UIoptions!$N$75<>1,1,IF(AND(PCdb[[#This Row],[FL]]>UIoptions!$S$16,PCdb[[#This Row],[FL]]<UIoptions!$T$16),1,0))","v":0},{"$f":"IF(OR(UIoptions!$Q$18=PCdb[[#This Row],[THRU_SCREW]],UIoptions!$Q$18=\"NA\"),1,0)","v":0},{"$f":"IF(OR(UIoptions!$P$19=PCdb[[#This Row],[THREAD_SZ]],UIoptions!$P$19=\"NA\"),1,0)","v":1},{"$f":"IF(UIoptions!$N$75=1,1,IF(AND(PCdb[[#This Row],[THREAD_L]]>UIoptions!$S$17,PCdb[[#This Row],[THREAD_L]]<UIoptions!$T$17),1,0))","v":1},{"$f":"IF(SUM(PCdb[[#This Row],[BDhit]:[THREAD_Lhit]])=11,1,0)","v":0},{"$f":"CONCATENATE(PCdb[[#This Row],[BCD]],PCdb[[#This Row],[PD]],PCdb[[#This Row],[PL (MAX)]],PCdb[[#This Row],[SD]],PCdb[[#This Row],[SL]],PCdb[[#This Row],[SQ_SZ]],PCdb[[#This Row],[ROUND_D]],PCdb[[#This Row],[FL]],PCdb[[#This Row],[THRU_SCREW]],PCdb[[#This Row],[THREAD_SZ]],PCdb[[#This Row],[THREAD_L]],PCdb[[#This Row],[NBR_HOLES]])","v":"75604143070NA7,5M5NANA4"},{"$f":"SUM(PCdb[[#This Row],[BDhit]:[THREAD_Lhit]])","v":4}]
[279,52,40,4,14,35,"NA",60,"NA","NA","M5",8,4,6,null,null,null,null,null,null,null,null,null,null,null,null,null,null,null,null,null,null,null,null,null,null,null,null,null,null,null,"NA","NA","N","C2",45,90,"NA","NA","Y","C2",45,90,{"$f":"IF(AND(PCdb[[#This Row],[BCD]]>UIoptions!$S$10,PCdb[[#This Row],[BCD]]<UIoptions!$T$10),1,0)","v":0},{"$f":"IF(AND(PCdb[[#This Row],[PD]]>UIoptions!$S$11,PCdb[[#This Row],[PD]]<UIoptions!$T$11),1,0)","v":1},{"$f":"IF(AND(UIoptions!$P$14<=PCdb[[#This Row],[PL (MAX)]],UIoptions!$P$14>UIoptions!$S$14),1,0)","v":1},{"$f":"IF(AND(PCdb[[#This Row],[SD]]>UIoptions!$S$12,PCdb[[#This Row],[SD]]<UIoptions!$T$12),1,0)","v":0},{"$f":"IF(AND(PCdb[[#This Row],[SL]]>UIoptions!$S$13,PCdb[[#This Row],[SL]]<UIoptions!$T$13),1,0)","v":0},{"$f":"IF(UIoptions!$N$35=1,IF(AND(PCdb[[#This Row],[SQ_SZ]]>UIoptions!$S$15,PCdb[[#This Row],[SQ_SZ]]<UIoptions!$T$15),1,0),1)","v":0},{"$f":"IF(UIoptions!$N$35=2,IF(AND(PCdb[[#This Row],[ROUND_D]]>UIoptions!$S$15,PCdb[[#This Row],[ROUND_D]]<UIoptions!$T$15),1,0),1)","v":1},{"$f":"IF(UIoptions!$N$75<>1,1,IF(AND(PCdb[[#This Row],[FL]]>UIoptions!$S$16,PCdb[[#This Row],[FL]]<UIoptions!$T$16),1,0))","v":0},{"$f":"IF(OR(UIoptions!$Q$18=PCdb[[#This Row],[THRU_SCREW]],UIoptions!$Q$18=\"NA\"),1,0)","v":0},{"$f":"IF(OR(UIoptions!$P$19=PCdb[[#This Row],[THREAD_SZ]],UIoptions!$P$19=\"NA\"),1,0)","v":1},{"$f":"IF(UIoptions!$N$75=1,1,IF(AND(PCdb[[#This Row],[THREAD_L]]>UIoptions!$S$17,PCdb[[#This Row],[THREAD_L]]<UIoptions!$T$17),1,0))","v":1},{"$f":"IF(SUM(PCdb[[#This Row],[BDhit]:[THREAD_Lhit]])=11,1,0)","v":0},{"$f":"CONCATENATE(PCdb[[#This Row],[BCD]],PCdb[[#This Row],[PD]],PCdb[[#This Row],[PL (MAX)]],PCdb[[#This Row],[SD]],PCdb[[#This Row],[SL]],PCdb[[#This Row],[SQ_SZ]],PCdb[[#This Row],[ROUND_D]],PCdb[[#This Row],[FL]],PCdb[[#This Row],[THRU_SCREW]],PCdb[[#This Row],[THREAD_SZ]],PCdb[[#This Row],[THREAD_L]],PCdb[[#This Row],[NBR_HOLES]])","v":"524041435NA60NANAM584"},{"$f":"SUM(PCdb[[#This Row],[BDhit]:[THREAD_Lhit]])","v":5}]
[280,75,60,4,11,23,72,"NA",15,"M5","NA","NA",4,"M5",null,null,null,null,null,null,null,null,null,null,null,null,null,null,null,null,null,null,null,null,null,null,null,null,null,null,null,32,"NA","Y","D",45,90,null,null,null,null,null,null,{"$f":"IF(AND(PCdb[[#This Row],[BCD]]>UIoptions!$S$10,PCdb[[#This Row],[BCD]]<UIoptions!$T$10),1,0)","v":0},{"$f":"IF(AND(PCdb[[#This Row],[PD]]>UIoptions!$S$11,PCdb[[#This Row],[PD]]<UIoptions!$T$11),1,0)","v":0},{"$f":"IF(AND(UIoptions!$P$14<=PCdb[[#This Row],[PL (MAX)]],UIoptions!$P$14>UIoptions!$S$14),1,0)","v":1},{"$f":"IF(AND(PCdb[[#This Row],[SD]]>UIoptions!$S$12,PCdb[[#This Row],[SD]]<UIoptions!$T$12),1,0)","v":0},{"$f":"IF(AND(PCdb[[#This Row],[SL]]>UIoptions!$S$13,PCdb[[#This Row],[SL]]<UIoptions!$T$13),1,0)","v":0},{"$f":"IF(UIoptions!$N$35=1,IF(AND(PCdb[[#This Row],[SQ_SZ]]>UIoptions!$S$15,PCdb[[#This Row],[SQ_SZ]]<UIoptions!$T$15),1,0),1)","v":0},{"$f":"IF(UIoptions!$N$35=2,IF(AND(PCdb[[#This Row],[ROUND_D]]>UIoptions!$S$15,PCdb[[#This Row],[ROUND_D]]<UIoptions!$T$15),1,0),1)","v":1},{"$f":"IF(UIoptions!$N$75<>1,1,IF(AND(PCdb[[#This Row],[FL]]>UIoptions!$S$16,PCdb[[#This Row],[FL]]<UIoptions!$T$16),1,0))","v":0},{"$f":"IF(OR(UIoptions!$Q$18=PCdb[[#This Row],[THRU_SCREW]],UIoptions!$Q$18=\"NA\"),1,0)","v":0},{"$f":"IF(OR(UIoptions!$P$19=PCdb[[#This Row],[THREAD_SZ]],UIoptions!$P$19=\"NA\"),1,0)","v":1},{"$f":"IF(UIoptions!$N$75=1,1,IF(AND(PCdb[[#This Row],[THREAD_L]]>UIoptions!$S$17,PCdb[[#This Row],[THREAD_L]]<UIoptions!$T$17),1,0))","v":1},{"$f":"IF(SUM(PCdb[[#This Row],[BDhit]:[THREAD_Lhit]])=11,1,0)","v":0},{"$f":"CONCATENATE(PCdb[[#This Row],[BCD]],PCdb[[#This Row],[PD]],PCdb[[#This Row],[PL (MAX)]],PCdb[[#This Row],[SD]],PCdb[[#This Row],[SL]],PCdb[[#This Row],[SQ_SZ]],PCdb[[#This Row],[ROUND_D]],PCdb[[#This Row],[FL]],PCdb[[#This Row],[THRU_SCREW]],PCdb[[#This Row],[THREAD_SZ]],PCdb[[#This Row],[THREAD_L]],PCdb[[#This Row],[NBR_HOLES]])","v":"75604112372NA15M5NANA4"},{"$f":"SUM(PCdb[[#This Row],[BDhit]:[THREAD_Lhit]])","v":4}]
[281,26,19,4,10,21,"NA",32,"NA","NA","M3",4,4,4,38.700000000000003,"NA","NA","Y","A2",45,90,null,null,null,null,null,null,null,null,null,null,null,null,null,null,null,null,null,null,null,null,null,null,null,null,null,null,null,null,null,null,null,null,{"$f":"IF(AND(PCdb[[#This Row],[BCD]]>UIoptions!$S$10,PCdb[[#This Row],[BCD]]<UIoptions!$T$10),1,0)","v":0},{"$f":"IF(AND(PCdb[[#This Row],[PD]]>UIoptions!$S$11,PCdb[[#This Row],[PD]]<UIoptions!$T$11),1,0)","v":0},{"$f":"IF(AND(UIoptions!$P$14<=PCdb[[#This Row],[PL (MAX)]],UIoptions!$P$14>UIoptions!$S$14),1,0)","v":1},{"$f":"IF(AND(PCdb[[#This Row],[SD]]>UIoptions!$S$12,PCdb[[#This Row],[SD]]<UIoptions!$T$12),1,0)","v":0},{"$f":"IF(AND(PCdb[[#This Row],[SL]]>UIoptions!$S$13,PCdb[[#This Row],[SL]]<UIoptions!$T$13),1,0)","v":0},{"$f":"IF(UIoptions!$N$35=1,IF(AND(PCdb[[#This Row],[SQ_SZ]]>UIoptions!$S$15,PCdb[[#This Row],[SQ_SZ]]<UIoptions!$T$15),1,0),1)","v":0},{"$f":"IF(UIoptions!$N$35=2,IF(AND(PCdb[[#This Row],[ROUND_D]]>UIoptions!$S$15,PCdb[[#This Row],[ROUND_D]]<UIoptions!$T$15),1,0),1)","v":1},{"$f":"IF(UIoptions!$N$75<>1,1,IF(AND(PCdb[[#This Row],[FL]]>UIoptions!$S$16,PCdb[[#This Row],[FL]]<UIoptions!$T$16),1,0))","v":0},{"$f":"IF(OR(UIoptions!$Q$18=PCdb[[#This Row],[THRU_SCREW]],UIoptions!$Q$18=\"NA\"),1,0)","v":0},{"$f":"IF(OR(UIoptions!$P$19=PCdb[[#This Row],[THREAD_SZ]],UIoptions!$P$19=\"NA\"),1,0)","v":1},{"$f":"IF(UIoptions!$N$75=1,1,IF(AND(PCdb[[#This Row],[THREAD_L]]>UIoptions!$S$17,PCdb[[#This Row],[THREAD_L]]<UIoptions!$T$17),1,0))","v":1},{"$f":"IF(SUM(PCdb[[#This Row],[BDhit]:[THREAD_Lhit]])=11,1,0)","v":0},{"$f":"CONCATENATE(PCdb[[#This Row],[BCD]],PCdb[[#This Row],[PD]],PCdb[[#This Row],[PL (MAX)]],PCdb[[#This Row],[SD]],PCdb[[#This Row],[SL]],PCdb[[#This Row],[SQ_SZ]],PCdb[[#This Row],[ROUND_D]],PCdb[[#This Row],[FL]],PCdb[[#This Row],[THRU_SCREW]],PCdb[[#This Row],[THREAD_SZ]],PCdb[[#This Row],[THREAD_L]],PCdb[[#This Row],[NBR_HOLES]])","v":"261941021NA32NANAM344"},{"$f":"SUM(PCdb[[#This Row],[BDhit]:[THREAD_Lhit]])","v":4}]
[282,40,32,4,12,25,"NA",55,"NA","NA","M5",8,4,6,null,null,null,null,null,null,null,null,null,null,null,null,null,null,48.7,"NA","NA","Y","SPLA2-282",45,90,null,null,null,null,null,null,null,null,null,null,null,null,null,null,null,null,null,null,{"$f":"IF(AND(PCdb[[#This Row],[BCD]]>UIoptions!$S$10,PCdb[[#This Row],[BCD]]<UIoptions!$T$10),1,0)","v":0},{"$f":"IF(AND(PCdb[[#This Row],[PD]]>UIoptions!$S$11,PCdb[[#This Row],[PD]]<UIoptions!$T$11),1,0)","v":0},{"$f":"IF(AND(UIoptions!$P$14<=PCdb[[#This Row],[PL (MAX)]],UIoptions!$P$14>UIoptions!$S$14),1,0)","v":1},{"$f":"IF(AND(PCdb[[#This Row],[SD]]>UIoptions!$S$12,PCdb[[#This Row],[SD]]<UIoptions!$T$12),1,0)","v":0},{"$f":"IF(AND(PCdb[[#This Row],[SL]]>UIoptions!$S$13,PCdb[[#This Row],[SL]]<UIoptions!$T$13),1,0)","v":0},{"$f":"IF(UIoptions!$N$35=1,IF(AND(PCdb[[#This Row],[SQ_SZ]]>UIoptions!$S$15,PCdb[[#This Row],[SQ_SZ]]<UIoptions!$T$15),1,0),1)","v":0},{"$f":"IF(UIoptions!$N$35=2,IF(AND(PCdb[[#This Row],[ROUND_D]]>UIoptions!$S$15,PCdb[[#This Row],[ROUND_D]]<UIoptions!$T$15),1,0),1)","v":1},{"$f":"IF(UIoptions!$N$75<>1,1,IF(AND(PCdb[[#This Row],[FL]]>UIoptions!$S$16,PCdb[[#This Row],[FL]]<UIoptions!$T$16),1,0))","v":0},{"$f":"IF(OR(UIoptions!$Q$18=PCdb[[#This Row],[THRU_SCREW]],UIoptions!$Q$18=\"NA\"),1,0)","v":0},{"$f":"IF(OR(UIoptions!$P$19=PCdb[[#This Row],[THREAD_SZ]],UIoptions!$P$19=\"NA\"),1,0)","v":1},{"$f":"IF(UIoptions!$N$75=1,1,IF(AND(PCdb[[#This Row],[THREAD_L]]>UIoptions!$S$17,PCdb[[#This Row],[THREAD_L]]<UIoptions!$T$17),1,0))","v":1},{"$f":"IF(SUM(PCdb[[#This Row],[BDhit]:[THREAD_Lhit]])=11,1,0)","v":0},{"$f":"CONCATENATE(PCdb[[#This Row],[BCD]],PCdb[[#This Row],[PD]],PCdb[[#This Row],[PL (MAX)]],PCdb[[#This Row],[SD]],PCdb[[#This Row],[SL]],PCdb[[#This Row],[SQ_SZ]],PCdb[[#This Row],[ROUND_D]],PCdb[[#This Row],[FL]],PCdb[[#This Row],[THRU_SCREW]],PCdb[[#This Row],[THREAD_SZ]],PCdb[[#This Row],[THREAD_L]],PCdb[[#This Row],[NBR_HOLES]])","v":"403241225NA55NANAM584"},{"$f":"SUM(PCdb[[#This Row],[BDhit]:[THREAD_Lhit]])","v":4}]
[283,40,32,4,10,25,"NA",52,"NA","NA","M5",7,4,6,null,null,null,null,null,null,null,null,null,null,null,null,null,null,null,null,null,null,null,null,null,"NA","NA","Y","SPLD2-283",45,90,null,null,null,null,null,null,null,null,null,null,null,null,{"$f":"IF(AND(PCdb[[#This Row],[BCD]]>UIoptions!$S$10,PCdb[[#This Row],[BCD]]<UIoptions!$T$10),1,0)","v":0},{"$f":"IF(AND(PCdb[[#This Row],[PD]]>UIoptions!$S$11,PCdb[[#This Row],[PD]]<UIoptions!$T$11),1,0)","v":0},{"$f":"IF(AND(UIoptions!$P$14<=PCdb[[#This Row],[PL (MAX)]],UIoptions!$P$14>UIoptions!$S$14),1,0)","v":1},{"$f":"IF(AND(PCdb[[#This Row],[SD]]>UIoptions!$S$12,PCdb[[#This Row],[SD]]<UIoptions!$T$12),1,0)","v":0},{"$f":"IF(AND(PCdb[[#This Row],[SL]]>UIoptions!$S$13,PCdb[[#This Row],[SL]]<UIoptions!$T$13),1,0)","v":0},{"$f":"IF(UIoptions!$N$35=1,IF(AND(PCdb[[#This Row],[SQ_SZ]]>UIoptions!$S$15,PCdb[[#This Row],[SQ_SZ]]<UIoptions!$T$15),1,0),1)","v":0},{"$f":"IF(UIoptions!$N$35=2,IF(AND(PCdb[[#This Row],[ROUND_D]]>UIoptions!$S$15,PCdb[[#This Row],[ROUND_D]]<UIoptions!$T$15),1,0),1)","v":1},{"$f":"IF(UIoptions!$N$75<>1,1,IF(AND(PCdb[[#This Row],[FL]]>UIoptions!$S$16,PCdb[[#This Row],[FL]]<UIoptions!$T$16),1,0))","v":0},{"$f":"IF(OR(UIoptions!$Q$18=PCdb[[#This Row],[THRU_SCREW]],UIoptions!$Q$18=\"NA\"),1,0)","v":0},{"$f":"IF(OR(UIoptions!$P$19=PCdb[[#This Row],[THREAD_SZ]],UIoptions!$P$19=\"NA\"),1,0)","v":1},{"$f":"IF(UIoptions!$N$75=1,1,IF(AND(PCdb[[#This Row],[THREAD_L]]>UIoptions!$S$17,PCdb[[#This Row],[THREAD_L]]<UIoptions!$T$17),1,0))","v":1},{"$f":"IF(SUM(PCdb[[#This Row],[BDhit]:[THREAD_Lhit]])=11,1,0)","v":0},{"$f":"CONCATENATE(PCdb[[#This Row],[BCD]],PCdb[[#This Row],[PD]],PCdb[[#This Row],[PL (MAX)]],PCdb[[#This Row],[SD]],PCdb[[#This Row],[SL]],PCdb[[#This Row],[SQ_SZ]],PCdb[[#This Row],[ROUND_D]],PCdb[[#This Row],[FL]],PCdb[[#This Row],[THRU_SCREW]],PCdb[[#This Row],[THREAD_SZ]],PCdb[[#This Row],[THREAD_L]],PCdb[[#This Row],[NBR_HOLES]])","v":"403241025NA52NANAM574"},{"$f":"SUM(PCdb[[#This Row],[BDhit]:[THREAD_Lhit]])","v":4}]
[284,90,70,4,16,40,82,"NA",8,"M6","NA","NA",4,"M6",null,null,null,null,null,null,null,null,null,null,null,null,null,null,null,null,null,null,null,null,null,null,null,null,null,null,null,null,null,null,null,null,null,38,"NA","Y","D",45,90,{"$f":"IF(AND(PCdb[[#This Row],[BCD]]>UIoptions!$S$10,PCdb[[#This Row],[BCD]]<UIoptions!$T$10),1,0)","v":0},{"$f":"IF(AND(PCdb[[#This Row],[PD]]>UIoptions!$S$11,PCdb[[#This Row],[PD]]<UIoptions!$T$11),1,0)","v":0},{"$f":"IF(AND(UIoptions!$P$14<=PCdb[[#This Row],[PL (MAX)]],UIoptions!$P$14>UIoptions!$S$14),1,0)","v":1},{"$f":"IF(AND(PCdb[[#This Row],[SD]]>UIoptions!$S$12,PCdb[[#This Row],[SD]]<UIoptions!$T$12),1,0)","v":0},{"$f":"IF(AND(PCdb[[#This Row],[SL]]>UIoptions!$S$13,PCdb[[#This Row],[SL]]<UIoptions!$T$13),1,0)","v":0},{"$f":"IF(UIoptions!$N$35=1,IF(AND(PCdb[[#This Row],[SQ_SZ]]>UIoptions!$S$15,PCdb[[#This Row],[SQ_SZ]]<UIoptions!$T$15),1,0),1)","v":0},{"$f":"IF(UIoptions!$N$35=2,IF(AND(PCdb[[#This Row],[ROUND_D]]>UIoptions!$S$15,PCdb[[#This Row],[ROUND_D]]<UIoptions!$T$15),1,0),1)","v":1},{"$f":"IF(UIoptions!$N$75<>1,1,IF(AND(PCdb[[#This Row],[FL]]>UIoptions!$S$16,PCdb[[#This Row],[FL]]<UIoptions!$T$16),1,0))","v":0},{"$f":"IF(OR(UIoptions!$Q$18=PCdb[[#This Row],[THRU_SCREW]],UIoptions!$Q$18=\"NA\"),1,0)","v":0},{"$f":"IF(OR(UIoptions!$P$19=PCdb[[#This Row],[THREAD_SZ]],UIoptions!$P$19=\"NA\"),1,0)","v":1},{"$f":"IF(UIoptions!$N$75=1,1,IF(AND(PCdb[[#This Row],[THREAD_L]]>UIoptions!$S$17,PCdb[[#This Row],[THREAD_L]]<UIoptions!$T$17),1,0))","v":1},{"$f":"IF(SUM(PCdb[[#This Row],[BDhit]:[THREAD_Lhit]])=11,1,0)","v":0},{"$f":"CONCATENATE(PCdb[[#This Row],[BCD]],PCdb[[#This Row],[PD]],PCdb[[#This Row],[PL (MAX)]],PCdb[[#This Row],[SD]],PCdb[[#This Row],[SL]],PCdb[[#This Row],[SQ_SZ]],PCdb[[#This Row],[ROUND_D]],PCdb[[#This Row],[FL]],PCdb[[#This Row],[THRU_SCREW]],PCdb[[#This Row],[THREAD_SZ]],PCdb[[#This Row],[THREAD_L]],PCdb[[#This Row],[NBR_HOLES]])","v":"90704164082NA8M6NANA4"},{"$f":"SUM(PCdb[[#This Row],[BDhit]:[THREAD_Lhit]])","v":4}]
[285,44,35,4,12,24.5,"NA",50,"NA","NA","M4",8,4,5,null,null,null,null,null,null,null,41.7,"NA","NA","Y","B2",45,90,null,null,null,null,null,null,null,null,null,null,null,null,null,null,null,null,null,null,null,null,null,null,null,null,null,{"$f":"IF(AND(PCdb[[#This Row],[BCD]]>UIoptions!$S$10,PCdb[[#This Row],[BCD]]<UIoptions!$T$10),1,0)","v":0},{"$f":"IF(AND(PCdb[[#This Row],[PD]]>UIoptions!$S$11,PCdb[[#This Row],[PD]]<UIoptions!$T$11),1,0)","v":0},{"$f":"IF(AND(UIoptions!$P$14<=PCdb[[#This Row],[PL (MAX)]],UIoptions!$P$14>UIoptions!$S$14),1,0)","v":1},{"$f":"IF(AND(PCdb[[#This Row],[SD]]>UIoptions!$S$12,PCdb[[#This Row],[SD]]<UIoptions!$T$12),1,0)","v":0},{"$f":"IF(AND(PCdb[[#This Row],[SL]]>UIoptions!$S$13,PCdb[[#This Row],[SL]]<UIoptions!$T$13),1,0)","v":0},{"$f":"IF(UIoptions!$N$35=1,IF(AND(PCdb[[#This Row],[SQ_SZ]]>UIoptions!$S$15,PCdb[[#This Row],[SQ_SZ]]<UIoptions!$T$15),1,0),1)","v":0},{"$f":"IF(UIoptions!$N$35=2,IF(AND(PCdb[[#This Row],[ROUND_D]]>UIoptions!$S$15,PCdb[[#This Row],[ROUND_D]]<UIoptions!$T$15),1,0),1)","v":1},{"$f":"IF(UIoptions!$N$75<>1,1,IF(AND(PCdb[[#This Row],[FL]]>UIoptions!$S$16,PCdb[[#This Row],[FL]]<UIoptions!$T$16),1,0))","v":0},{"$f":"IF(OR(UIoptions!$Q$18=PCdb[[#This Row],[THRU_SCREW]],UIoptions!$Q$18=\"NA\"),1,0)","v":0},{"$f":"IF(OR(UIoptions!$P$19=PCdb[[#This Row],[THREAD_SZ]],UIoptions!$P$19=\"NA\"),1,0)","v":1},{"$f":"IF(UIoptions!$N$75=1,1,IF(AND(PCdb[[#This Row],[THREAD_L]]>UIoptions!$S$17,PCdb[[#This Row],[THREAD_L]]<UIoptions!$T$17),1,0))","v":1},{"$f":"IF(SUM(PCdb[[#This Row],[BDhit]:[THREAD_Lhit]])=11,1,0)","v":0},{"$f":"CONCATENATE(PCdb[[#This Row],[BCD]],PCdb[[#This Row],[PD]],PCdb[[#This Row],[PL (MAX)]],PCdb[[#This Row],[SD]],PCdb[[#This Row],[SL]],PCdb[[#This Row],[SQ_SZ]],PCdb[[#This Row],[ROUND_D]],PCdb[[#This Row],[FL]],PCdb[[#This Row],[THRU_SCREW]],PCdb[[#This Row],[THREAD_SZ]],PCdb[[#This Row],[THREAD_L]],PCdb[[#This Row],[NBR_HOLES]])","v":"443541224,5NA50NANAM484"},{"$f":"SUM(PCdb[[#This Row],[BDhit]:[THREAD_Lhit]])","v":4}]
[286,63,40,4,11,23,55,"NA",8,"M5","NA","NA",4,"M5",36.200000000000003,24,"NA","Y","B",45,90,null,null,null,null,null,null,null,null,null,null,null,null,null,null,null,null,null,null,null,null,null,null,null,null,null,null,null,null,null,null,null,null,{"$f":"IF(AND(PCdb[[#This Row],[BCD]]>UIoptions!$S$10,PCdb[[#This Row],[BCD]]<UIoptions!$T$10),1,0)","v":1},{"$f":"IF(AND(PCdb[[#This Row],[PD]]>UIoptions!$S$11,PCdb[[#This Row],[PD]]<UIoptions!$T$11),1,0)","v":1},{"$f":"IF(AND(UIoptions!$P$14<=PCdb[[#This Row],[PL (MAX)]],UIoptions!$P$14>UIoptions!$S$14),1,0)","v":1},{"$f":"IF(AND(PCdb[[#This Row],[SD]]>UIoptions!$S$12,PCdb[[#This Row],[SD]]<UIoptions!$T$12),1,0)","v":0},{"$f":"IF(AND(PCdb[[#This Row],[SL]]>UIoptions!$S$13,PCdb[[#This Row],[SL]]<UIoptions!$T$13),1,0)","v":0},{"$f":"IF(UIoptions!$N$35=1,IF(AND(PCdb[[#This Row],[SQ_SZ]]>UIoptions!$S$15,PCdb[[#This Row],[SQ_SZ]]<UIoptions!$T$15),1,0),1)","v":0},{"$f":"IF(UIoptions!$N$35=2,IF(AND(PCdb[[#This Row],[ROUND_D]]>UIoptions!$S$15,PCdb[[#This Row],[ROUND_D]]<UIoptions!$T$15),1,0),1)","v":1},{"$f":"IF(UIoptions!$N$75<>1,1,IF(AND(PCdb[[#This Row],[FL]]>UIoptions!$S$16,PCdb[[#This Row],[FL]]<UIoptions!$T$16),1,0))","v":0},{"$f":"IF(OR(UIoptions!$Q$18=PCdb[[#This Row],[THRU_SCREW]],UIoptions!$Q$18=\"NA\"),1,0)","v":0},{"$f":"IF(OR(UIoptions!$P$19=PCdb[[#This Row],[THREAD_SZ]],UIoptions!$P$19=\"NA\"),1,0)","v":1},{"$f":"IF(UIoptions!$N$75=1,1,IF(AND(PCdb[[#This Row],[THREAD_L]]>UIoptions!$S$17,PCdb[[#This Row],[THREAD_L]]<UIoptions!$T$17),1,0))","v":1},{"$f":"IF(SUM(PCdb[[#This Row],[BDhit]:[THREAD_Lhit]])=11,1,0)","v":0},{"$f":"CONCATENATE(PCdb[[#This Row],[BCD]],PCdb[[#This Row],[PD]],PCdb[[#This Row],[PL (MAX)]],PCdb[[#This Row],[SD]],PCdb[[#This Row],[SL]],PCdb[[#This Row],[SQ_SZ]],PCdb[[#This Row],[ROUND_D]],PCdb[[#This Row],[FL]],PCdb[[#This Row],[THRU_SCREW]],PCdb[[#This Row],[THREAD_SZ]],PCdb[[#This Row],[THREAD_L]],PCdb[[#This Row],[NBR_HOLES]])","v":"63404112355NA8M5NANA4"},{"$f":"SUM(PCdb[[#This Row],[BDhit]:[THREAD_Lhit]])","v":6}]
[287,52,40,4,14,34,"NA",60,"NA","NA","M5",10,4,6,null,null,null,null,null,null,null,null,null,null,null,null,null,null,45.2,"NA","NA","Y","B2",45,90,null,null,null,null,null,null,null,null,null,null,null,null,null,null,null,null,null,null,{"$f":"IF(AND(PCdb[[#This Row],[BCD]]>UIoptions!$S$10,PCdb[[#This Row],[BCD]]<UIoptions!$T$10),1,0)","v":0},{"$f":"IF(AND(PCdb[[#This Row],[PD]]>UIoptions!$S$11,PCdb[[#This Row],[PD]]<UIoptions!$T$11),1,0)","v":1},{"$f":"IF(AND(UIoptions!$P$14<=PCdb[[#This Row],[PL (MAX)]],UIoptions!$P$14>UIoptions!$S$14),1,0)","v":1},{"$f":"IF(AND(PCdb[[#This Row],[SD]]>UIoptions!$S$12,PCdb[[#This Row],[SD]]<UIoptions!$T$12),1,0)","v":0},{"$f":"IF(AND(PCdb[[#This Row],[SL]]>UIoptions!$S$13,PCdb[[#This Row],[SL]]<UIoptions!$T$13),1,0)","v":0},{"$f":"IF(UIoptions!$N$35=1,IF(AND(PCdb[[#This Row],[SQ_SZ]]>UIoptions!$S$15,PCdb[[#This Row],[SQ_SZ]]<UIoptions!$T$15),1,0),1)","v":0},{"$f":"IF(UIoptions!$N$35=2,IF(AND(PCdb[[#This Row],[ROUND_D]]>UIoptions!$S$15,PCdb[[#This Row],[ROUND_D]]<UIoptions!$T$15),1,0),1)","v":1},{"$f":"IF(UIoptions!$N$75<>1,1,IF(AND(PCdb[[#This Row],[FL]]>UIoptions!$S$16,PCdb[[#This Row],[FL]]<UIoptions!$T$16),1,0))","v":0},{"$f":"IF(OR(UIoptions!$Q$18=PCdb[[#This Row],[THRU_SCREW]],UIoptions!$Q$18=\"NA\"),1,0)","v":0},{"$f":"IF(OR(UIoptions!$P$19=PCdb[[#This Row],[THREAD_SZ]],UIoptions!$P$19=\"NA\"),1,0)","v":1},{"$f":"IF(UIoptions!$N$75=1,1,IF(AND(PCdb[[#This Row],[THREAD_L]]>UIoptions!$S$17,PCdb[[#This Row],[THREAD_L]]<UIoptions!$T$17),1,0))","v":1},{"$f":"IF(SUM(PCdb[[#This Row],[BDhit]:[THREAD_Lhit]])=11,1,0)","v":0},{"$f":"CONCATENATE(PCdb[[#This Row],[BCD]],PCdb[[#This Row],[PD]],PCdb[[#This Row],[PL (MAX)]],PCdb[[#This Row],[SD]],PCdb[[#This Row],[SL]],PCdb[[#This Row],[SQ_SZ]],PCdb[[#This Row],[ROUND_D]],PCdb[[#This Row],[FL]],PCdb[[#This Row],[THRU_SCREW]],PCdb[[#This Row],[THREAD_SZ]],PCdb[[#This Row],[THREAD_L]],PCdb[[#This Row],[NBR_HOLES]])","v":"524041434NA60NANAM5104"},{"$f":"SUM(PCdb[[#This Row],[BDhit]:[THREAD_Lhit]])","v":5}]
[288,75,60,4,11,23,"NA",90,"NA","NA","M5",11,4,6,null,null,null,null,null,null,null,null,null,null,null,null,null,null,null,null,null,null,null,null,null,null,null,null,null,null,null,null,null,null,null,null,null,"NA","NA","Y","40PAD2-288",45,90,{"$f":"IF(AND(PCdb[[#This Row],[BCD]]>UIoptions!$S$10,PCdb[[#This Row],[BCD]]<UIoptions!$T$10),1,0)","v":0},{"$f":"IF(AND(PCdb[[#This Row],[PD]]>UIoptions!$S$11,PCdb[[#This Row],[PD]]<UIoptions!$T$11),1,0)","v":0},{"$f":"IF(AND(UIoptions!$P$14<=PCdb[[#This Row],[PL (MAX)]],UIoptions!$P$14>UIoptions!$S$14),1,0)","v":1},{"$f":"IF(AND(PCdb[[#This Row],[SD]]>UIoptions!$S$12,PCdb[[#This Row],[SD]]<UIoptions!$T$12),1,0)","v":0},{"$f":"IF(AND(PCdb[[#This Row],[SL]]>UIoptions!$S$13,PCdb[[#This Row],[SL]]<UIoptions!$T$13),1,0)","v":0},{"$f":"IF(UIoptions!$N$35=1,IF(AND(PCdb[[#This Row],[SQ_SZ]]>UIoptions!$S$15,PCdb[[#This Row],[SQ_SZ]]<UIoptions!$T$15),1,0),1)","v":0},{"$f":"IF(UIoptions!$N$35=2,IF(AND(PCdb[[#This Row],[ROUND_D]]>UIoptions!$S$15,PCdb[[#This Row],[ROUND_D]]<UIoptions!$T$15),1,0),1)","v":1},{"$f":"IF(UIoptions!$N$75<>1,1,IF(AND(PCdb[[#This Row],[FL]]>UIoptions!$S$16,PCdb[[#This Row],[FL]]<UIoptions!$T$16),1,0))","v":0},{"$f":"IF(OR(UIoptions!$Q$18=PCdb[[#This Row],[THRU_SCREW]],UIoptions!$Q$18=\"NA\"),1,0)","v":0},{"$f":"IF(OR(UIoptions!$P$19=PCdb[[#This Row],[THREAD_SZ]],UIoptions!$P$19=\"NA\"),1,0)","v":1},{"$f":"IF(UIoptions!$N$75=1,1,IF(AND(PCdb[[#This Row],[THREAD_L]]>UIoptions!$S$17,PCdb[[#This Row],[THREAD_L]]<UIoptions!$T$17),1,0))","v":1},{"$f":"IF(SUM(PCdb[[#This Row],[BDhit]:[THREAD_Lhit]])=11,1,0)","v":0},{"$f":"CONCATENATE(PCdb[[#This Row],[BCD]],PCdb[[#This Row],[PD]],PCdb[[#This Row],[PL (MAX)]],PCdb[[#This Row],[SD]],PCdb[[#This Row],[SL]],PCdb[[#This Row],[SQ_SZ]],PCdb[[#This Row],[ROUND_D]],PCdb[[#This Row],[FL]],PCdb[[#This Row],[THRU_SCREW]],PCdb[[#This Row],[THREAD_SZ]],PCdb[[#This Row],[THREAD_L]],PCdb[[#This Row],[NBR_HOLES]])","v":"756041123NA90NANAM5114"},{"$f":"SUM(PCdb[[#This Row],[BDhit]:[THREAD_Lhit]])","v":4}]
[289,43.8,22,4,6.35,27,42,"NA",5,"M4","NA","NA",4,"M4",36.200000000000003,11.7,"NA","Y","A",45,90,null,null,null,null,null,null,null,null,null,null,null,null,null,null,null,null,null,null,null,null,null,null,null,null,null,null,null,null,null,null,null,null,{"$f":"IF(AND(PCdb[[#This Row],[BCD]]>UIoptions!$S$10,PCdb[[#This Row],[BCD]]<UIoptions!$T$10),1,0)","v":0},{"$f":"IF(AND(PCdb[[#This Row],[PD]]>UIoptions!$S$11,PCdb[[#This Row],[PD]]<UIoptions!$T$11),1,0)","v":0},{"$f":"IF(AND(UIoptions!$P$14<=PCdb[[#This Row],[PL (MAX)]],UIoptions!$P$14>UIoptions!$S$14),1,0)","v":1},{"$f":"IF(AND(PCdb[[#This Row],[SD]]>UIoptions!$S$12,PCdb[[#This Row],[SD]]<UIoptions!$T$12),1,0)","v":0},{"$f":"IF(AND(PCdb[[#This Row],[SL]]>UIoptions!$S$13,PCdb[[#This Row],[SL]]<UIoptions!$T$13),1,0)","v":0},{"$f":"IF(UIoptions!$N$35=1,IF(AND(PCdb[[#This Row],[SQ_SZ]]>UIoptions!$S$15,PCdb[[#This Row],[SQ_SZ]]<UIoptions!$T$15),1,0),1)","v":0},{"$f":"IF(UIoptions!$N$35=2,IF(AND(PCdb[[#This Row],[ROUND_D]]>UIoptions!$S$15,PCdb[[#This Row],[ROUND_D]]<UIoptions!$T$15),1,0),1)","v":1},{"$f":"IF(UIoptions!$N$75<>1,1,IF(AND(PCdb[[#This Row],[FL]]>UIoptions!$S$16,PCdb[[#This Row],[FL]]<UIoptions!$T$16),1,0))","v":0},{"$f":"IF(OR(UIoptions!$Q$18=PCdb[[#This Row],[THRU_SCREW]],UIoptions!$Q$18=\"NA\"),1,0)","v":1},{"$f":"IF(OR(UIoptions!$P$19=PCdb[[#This Row],[THREAD_SZ]],UIoptions!$P$19=\"NA\"),1,0)","v":1},{"$f":"IF(UIoptions!$N$75=1,1,IF(AND(PCdb[[#This Row],[THREAD_L]]>UIoptions!$S$17,PCdb[[#This Row],[THREAD_L]]<UIoptions!$T$17),1,0))","v":1},{"$f":"IF(SUM(PCdb[[#This Row],[BDhit]:[THREAD_Lhit]])=11,1,0)","v":0},{"$f":"CONCATENATE(PCdb[[#This Row],[BCD]],PCdb[[#This Row],[PD]],PCdb[[#This Row],[PL (MAX)]],PCdb[[#This Row],[SD]],PCdb[[#This Row],[SL]],PCdb[[#This Row],[SQ_SZ]],PCdb[[#This Row],[ROUND_D]],PCdb[[#This Row],[FL]],PCdb[[#This Row],[THRU_SCREW]],PCdb[[#This Row],[THREAD_SZ]],PCdb[[#This Row],[THREAD_L]],PCdb[[#This Row],[NBR_HOLES]])","v":"43,82246,352742NA5M4NANA4"},{"$f":"SUM(PCdb[[#This Row],[BDhit]:[THREAD_Lhit]])","v":5}]
[290,70,50,7,16,37,60,"NA",8,"M5","NA","NA",4,"M5",null,null,null,null,null,null,null,null,null,null,null,null,null,null,null,null,null,null,null,null,null,null,null,null,null,null,null,null,null,null,null,null,null,"NA","NA","Y","SPLC-290",45,90,{"$f":"IF(AND(PCdb[[#This Row],[BCD]]>UIoptions!$S$10,PCdb[[#This Row],[BCD]]<UIoptions!$T$10),1,0)","v":0},{"$f":"IF(AND(PCdb[[#This Row],[PD]]>UIoptions!$S$11,PCdb[[#This Row],[PD]]<UIoptions!$T$11),1,0)","v":0},{"$f":"IF(AND(UIoptions!$P$14<=PCdb[[#This Row],[PL (MAX)]],UIoptions!$P$14>UIoptions!$S$14),1,0)","v":1},{"$f":"IF(AND(PCdb[[#This Row],[SD]]>UIoptions!$S$12,PCdb[[#This Row],[SD]]<UIoptions!$T$12),1,0)","v":0},{"$f":"IF(AND(PCdb[[#This Row],[SL]]>UIoptions!$S$13,PCdb[[#This Row],[SL]]<UIoptions!$T$13),1,0)","v":0},{"$f":"IF(UIoptions!$N$35=1,IF(AND(PCdb[[#This Row],[SQ_SZ]]>UIoptions!$S$15,PCdb[[#This Row],[SQ_SZ]]<UIoptions!$T$15),1,0),1)","v":0},{"$f":"IF(UIoptions!$N$35=2,IF(AND(PCdb[[#This Row],[ROUND_D]]>UIoptions!$S$15,PCdb[[#This Row],[ROUND_D]]<UIoptions!$T$15),1,0),1)","v":1},{"$f":"IF(UIoptions!$N$75<>1,1,IF(AND(PCdb[[#This Row],[FL]]>UIoptions!$S$16,PCdb[[#This Row],[FL]]<UIoptions!$T$16),1,0))","v":0},{"$f":"IF(OR(UIoptions!$Q$18=PCdb[[#This Row],[THRU_SCREW]],UIoptions!$Q$18=\"NA\"),1,0)","v":0},{"$f":"IF(OR(UIoptions!$P$19=PCdb[[#This Row],[THREAD_SZ]],UIoptions!$P$19=\"NA\"),1,0)","v":1},{"$f":"IF(UIoptions!$N$75=1,1,IF(AND(PCdb[[#This Row],[THREAD_L]]>UIoptions!$S$17,PCdb[[#This Row],[THREAD_L]]<UIoptions!$T$17),1,0))","v":1},{"$f":"IF(SUM(PCdb[[#This Row],[BDhit]:[THREAD_Lhit]])=11,1,0)","v":0},{"$f":"CONCATENATE(PCdb[[#This Row],[BCD]],PCdb[[#This Row],[PD]],PCdb[[#This Row],[PL (MAX)]],PCdb[[#This Row],[SD]],PCdb[[#This Row],[SL]],PCdb[[#This Row],[SQ_SZ]],PCdb[[#This Row],[ROUND_D]],PCdb[[#This Row],[FL]],PCdb[[#This Row],[THRU_SCREW]],PCdb[[#This Row],[THREAD_SZ]],PCdb[[#This Row],[THREAD_L]],PCdb[[#This Row],[NBR_HOLES]])","v":"70507163760NA8M5NANA4"},{"$f":"SUM(PCdb[[#This Row],[BDhit]:[THREAD_Lhit]])","v":4}]
[291,90,70,4,16,35,80,"NA",8,"M5","NA","NA",4,"M5",null,null,null,null,null,null,null,null,null,null,null,null,null,null,null,null,null,null,null,null,null,null,null,null,null,null,null,null,null,null,null,null,null,37,"NA","Y","D",45,90,{"$f":"IF(AND(PCdb[[#This Row],[BCD]]>UIoptions!$S$10,PCdb[[#This Row],[BCD]]<UIoptions!$T$10),1,0)","v":0},{"$f":"IF(AND(PCdb[[#This Row],[PD]]>UIoptions!$S$11,PCdb[[#This Row],[PD]]<UIoptions!$T$11),1,0)","v":0},{"$f":"IF(AND(UIoptions!$P$14<=PCdb[[#This Row],[PL (MAX)]],UIoptions!$P$14>UIoptions!$S$14),1,0)","v":1},{"$f":"IF(AND(PCdb[[#This Row],[SD]]>UIoptions!$S$12,PCdb[[#This Row],[SD]]<UIoptions!$T$12),1,0)","v":0},{"$f":"IF(AND(PCdb[[#This Row],[SL]]>UIoptions!$S$13,PCdb[[#This Row],[SL]]<UIoptions!$T$13),1,0)","v":0},{"$f":"IF(UIoptions!$N$35=1,IF(AND(PCdb[[#This Row],[SQ_SZ]]>UIoptions!$S$15,PCdb[[#This Row],[SQ_SZ]]<UIoptions!$T$15),1,0),1)","v":0},{"$f":"IF(UIoptions!$N$35=2,IF(AND(PCdb[[#This Row],[ROUND_D]]>UIoptions!$S$15,PCdb[[#This Row],[ROUND_D]]<UIoptions!$T$15),1,0),1)","v":1},{"$f":"IF(UIoptions!$N$75<>1,1,IF(AND(PCdb[[#This Row],[FL]]>UIoptions!$S$16,PCdb[[#This Row],[FL]]<UIoptions!$T$16),1,0))","v":0},{"$f":"IF(OR(UIoptions!$Q$18=PCdb[[#This Row],[THRU_SCREW]],UIoptions!$Q$18=\"NA\"),1,0)","v":0},{"$f":"IF(OR(UIoptions!$P$19=PCdb[[#This Row],[THREAD_SZ]],UIoptions!$P$19=\"NA\"),1,0)","v":1},{"$f":"IF(UIoptions!$N$75=1,1,IF(AND(PCdb[[#This Row],[THREAD_L]]>UIoptions!$S$17,PCdb[[#This Row],[THREAD_L]]<UIoptions!$T$17),1,0))","v":1},{"$f":"IF(SUM(PCdb[[#This Row],[BDhit]:[THREAD_Lhit]])=11,1,0)","v":0},{"$f":"CONCATENATE(PCdb[[#This Row],[BCD]],PCdb[[#This Row],[PD]],PCdb[[#This Row],[PL (MAX)]],PCdb[[#This Row],[SD]],PCdb[[#This Row],[SL]],PCdb[[#This Row],[SQ_SZ]],PCdb[[#This Row],[ROUND_D]],PCdb[[#This Row],[FL]],PCdb[[#This Row],[THRU_SCREW]],PCdb[[#This Row],[THREAD_SZ]],PCdb[[#This Row],[THREAD_L]],PCdb[[#This Row],[NBR_HOLES]])","v":"90704163580NA8M5NANA4"},{"$f":"SUM(PCdb[[#This Row],[BDhit]:[THREAD_Lhit]])","v":4}]
[292,66.7,38.1,4,8,20.6,56.6,"NA",4.5,"M4","NA","NA",4,"M4",null,null,null,null,null,null,null,null,null,null,null,null,null,null,null,null,null,null,null,null,null,22,"NA","Y","D",45,90,null,null,null,null,null,null,null,null,null,null,null,null,{"$f":"IF(AND(PCdb[[#This Row],[BCD]]>UIoptions!$S$10,PCdb[[#This Row],[BCD]]<UIoptions!$T$10),1,0)","v":0},{"$f":"IF(AND(PCdb[[#This Row],[PD]]>UIoptions!$S$11,PCdb[[#This Row],[PD]]<UIoptions!$T$11),1,0)","v":0},{"$f":"IF(AND(UIoptions!$P$14<=PCdb[[#This Row],[PL (MAX)]],UIoptions!$P$14>UIoptions!$S$14),1,0)","v":1},{"$f":"IF(AND(PCdb[[#This Row],[SD]]>UIoptions!$S$12,PCdb[[#This Row],[SD]]<UIoptions!$T$12),1,0)","v":0},{"$f":"IF(AND(PCdb[[#This Row],[SL]]>UIoptions!$S$13,PCdb[[#This Row],[SL]]<UIoptions!$T$13),1,0)","v":0},{"$f":"IF(UIoptions!$N$35=1,IF(AND(PCdb[[#This Row],[SQ_SZ]]>UIoptions!$S$15,PCdb[[#This Row],[SQ_SZ]]<UIoptions!$T$15),1,0),1)","v":0},{"$f":"IF(UIoptions!$N$35=2,IF(AND(PCdb[[#This Row],[ROUND_D]]>UIoptions!$S$15,PCdb[[#This Row],[ROUND_D]]<UIoptions!$T$15),1,0),1)","v":1},{"$f":"IF(UIoptions!$N$75<>1,1,IF(AND(PCdb[[#This Row],[FL]]>UIoptions!$S$16,PCdb[[#This Row],[FL]]<UIoptions!$T$16),1,0))","v":0},{"$f":"IF(OR(UIoptions!$Q$18=PCdb[[#This Row],[THRU_SCREW]],UIoptions!$Q$18=\"NA\"),1,0)","v":1},{"$f":"IF(OR(UIoptions!$P$19=PCdb[[#This Row],[THREAD_SZ]],UIoptions!$P$19=\"NA\"),1,0)","v":1},{"$f":"IF(UIoptions!$N$75=1,1,IF(AND(PCdb[[#This Row],[THREAD_L]]>UIoptions!$S$17,PCdb[[#This Row],[THREAD_L]]<UIoptions!$T$17),1,0))","v":1},{"$f":"IF(SUM(PCdb[[#This Row],[BDhit]:[THREAD_Lhit]])=11,1,0)","v":0},{"$f":"CONCATENATE(PCdb[[#This Row],[BCD]],PCdb[[#This Row],[PD]],PCdb[[#This Row],[PL (MAX)]],PCdb[[#This Row],[SD]],PCdb[[#This Row],[SL]],PCdb[[#This Row],[SQ_SZ]],PCdb[[#This Row],[ROUND_D]],PCdb[[#This Row],[FL]],PCdb[[#This Row],[THRU_SCREW]],PCdb[[#This Row],[THREAD_SZ]],PCdb[[#This Row],[THREAD_L]],PCdb[[#This Row],[NBR_HOLES]])","v":"66,738,14820,656,6NA4,5M4NANA4"},{"$f":"SUM(PCdb[[#This Row],[BDhit]:[THREAD_Lhit]])","v":5}]
[293,63,40,4,11,25,56,"NA",18,"M5","NA","NA",4,"M5",38.700000000000003,22,"NA","Y","B",45,90,null,null,null,null,null,null,null,null,null,null,null,null,null,null,null,null,null,null,null,null,null,null,null,null,null,null,null,null,null,null,null,null,{"$f":"IF(AND(PCdb[[#This Row],[BCD]]>UIoptions!$S$10,PCdb[[#This Row],[BCD]]<UIoptions!$T$10),1,0)","v":1},{"$f":"IF(AND(PCdb[[#This Row],[PD]]>UIoptions!$S$11,PCdb[[#This Row],[PD]]<UIoptions!$T$11),1,0)","v":1},{"$f":"IF(AND(UIoptions!$P$14<=PCdb[[#This Row],[PL (MAX)]],UIoptions!$P$14>UIoptions!$S$14),1,0)","v":1},{"$f":"IF(AND(PCdb[[#This Row],[SD]]>UIoptions!$S$12,PCdb[[#This Row],[SD]]<UIoptions!$T$12),1,0)","v":0},{"$f":"IF(AND(PCdb[[#This Row],[SL]]>UIoptions!$S$13,PCdb[[#This Row],[SL]]<UIoptions!$T$13),1,0)","v":0},{"$f":"IF(UIoptions!$N$35=1,IF(AND(PCdb[[#This Row],[SQ_SZ]]>UIoptions!$S$15,PCdb[[#This Row],[SQ_SZ]]<UIoptions!$T$15),1,0),1)","v":0},{"$f":"IF(UIoptions!$N$35=2,IF(AND(PCdb[[#This Row],[ROUND_D]]>UIoptions!$S$15,PCdb[[#This Row],[ROUND_D]]<UIoptions!$T$15),1,0),1)","v":1},{"$f":"IF(UIoptions!$N$75<>1,1,IF(AND(PCdb[[#This Row],[FL]]>UIoptions!$S$16,PCdb[[#This Row],[FL]]<UIoptions!$T$16),1,0))","v":0},{"$f":"IF(OR(UIoptions!$Q$18=PCdb[[#This Row],[THRU_SCREW]],UIoptions!$Q$18=\"NA\"),1,0)","v":0},{"$f":"IF(OR(UIoptions!$P$19=PCdb[[#This Row],[THREAD_SZ]],UIoptions!$P$19=\"NA\"),1,0)","v":1},{"$f":"IF(UIoptions!$N$75=1,1,IF(AND(PCdb[[#This Row],[THREAD_L]]>UIoptions!$S$17,PCdb[[#This Row],[THREAD_L]]<UIoptions!$T$17),1,0))","v":1},{"$f":"IF(SUM(PCdb[[#This Row],[BDhit]:[THREAD_Lhit]])=11,1,0)","v":0},{"$f":"CONCATENATE(PCdb[[#This Row],[BCD]],PCdb[[#This Row],[PD]],PCdb[[#This Row],[PL (MAX)]],PCdb[[#This Row],[SD]],PCdb[[#This Row],[SL]],PCdb[[#This Row],[SQ_SZ]],PCdb[[#This Row],[ROUND_D]],PCdb[[#This Row],[FL]],PCdb[[#This Row],[THRU_SCREW]],PCdb[[#This Row],[THREAD_SZ]],PCdb[[#This Row],[THREAD_L]],PCdb[[#This Row],[NBR_HOLES]])","v":"63404112556NA18M5NANA4"},{"$f":"SUM(PCdb[[#This Row],[BDhit]:[THREAD_Lhit]])","v":6}]
[294,66.5,38.1,4,6.35,21,56.5,"NA",5,"M5","NA","NA",4,"M5",null,null,null,null,null,null,null,null,null,null,null,null,null,null,null,null,null,null,null,null,null,22,"NA","Y","D",45,90,23,"NA","Y","C",45,90,null,null,null,null,null,null,{"$f":"IF(AND(PCdb[[#This Row],[BCD]]>UIoptions!$S$10,PCdb[[#This Row],[BCD]]<UIoptions!$T$10),1,0)","v":0},{"$f":"IF(AND(PCdb[[#This Row],[PD]]>UIoptions!$S$11,PCdb[[#This Row],[PD]]<UIoptions!$T$11),1,0)","v":0},{"$f":"IF(AND(UIoptions!$P$14<=PCdb[[#This Row],[PL (MAX)]],UIoptions!$P$14>UIoptions!$S$14),1,0)","v":1},{"$f":"IF(AND(PCdb[[#This Row],[SD]]>UIoptions!$S$12,PCdb[[#This Row],[SD]]<UIoptions!$T$12),1,0)","v":0},{"$f":"IF(AND(PCdb[[#This Row],[SL]]>UIoptions!$S$13,PCdb[[#This Row],[SL]]<UIoptions!$T$13),1,0)","v":0},{"$f":"IF(UIoptions!$N$35=1,IF(AND(PCdb[[#This Row],[SQ_SZ]]>UIoptions!$S$15,PCdb[[#This Row],[SQ_SZ]]<UIoptions!$T$15),1,0),1)","v":0},{"$f":"IF(UIoptions!$N$35=2,IF(AND(PCdb[[#This Row],[ROUND_D]]>UIoptions!$S$15,PCdb[[#This Row],[ROUND_D]]<UIoptions!$T$15),1,0),1)","v":1},{"$f":"IF(UIoptions!$N$75<>1,1,IF(AND(PCdb[[#This Row],[FL]]>UIoptions!$S$16,PCdb[[#This Row],[FL]]<UIoptions!$T$16),1,0))","v":0},{"$f":"IF(OR(UIoptions!$Q$18=PCdb[[#This Row],[THRU_SCREW]],UIoptions!$Q$18=\"NA\"),1,0)","v":0},{"$f":"IF(OR(UIoptions!$P$19=PCdb[[#This Row],[THREAD_SZ]],UIoptions!$P$19=\"NA\"),1,0)","v":1},{"$f":"IF(UIoptions!$N$75=1,1,IF(AND(PCdb[[#This Row],[THREAD_L]]>UIoptions!$S$17,PCdb[[#This Row],[THREAD_L]]<UIoptions!$T$17),1,0))","v":1},{"$f":"IF(SUM(PCdb[[#This Row],[BDhit]:[THREAD_Lhit]])=11,1,0)","v":0},{"$f":"CONCATENATE(PCdb[[#This Row],[BCD]],PCdb[[#This Row],[PD]],PCdb[[#This Row],[PL (MAX)]],PCdb[[#This Row],[SD]],PCdb[[#This Row],[SL]],PCdb[[#This Row],[SQ_SZ]],PCdb[[#This Row],[ROUND_D]],PCdb[[#This Row],[FL]],PCdb[[#This Row],[THRU_SCREW]],PCdb[[#This Row],[THREAD_SZ]],PCdb[[#This Row],[THREAD_L]],PCdb[[#This Row],[NBR_HOLES]])","v":"66,538,146,352156,5NA5M5NANA4"},{"$f":"SUM(PCdb[[#This Row],[BDhit]:[THREAD_Lhit]])","v":4}]
[295,70,50,4,14,25,60,"NA",6,"M5","NA","NA",4,"M5",null,null,null,null,null,null,null,null,null,null,null,null,null,null,null,null,null,null,null,null,null,null,null,null,null,null,null,27,"NA","Y","C",45,90,null,null,null,null,null,null,{"$f":"IF(AND(PCdb[[#This Row],[BCD]]>UIoptions!$S$10,PCdb[[#This Row],[BCD]]<UIoptions!$T$10),1,0)","v":0},{"$f":"IF(AND(PCdb[[#This Row],[PD]]>UIoptions!$S$11,PCdb[[#This Row],[PD]]<UIoptions!$T$11),1,0)","v":0},{"$f":"IF(AND(UIoptions!$P$14<=PCdb[[#This Row],[PL (MAX)]],UIoptions!$P$14>UIoptions!$S$14),1,0)","v":1},{"$f":"IF(AND(PCdb[[#This Row],[SD]]>UIoptions!$S$12,PCdb[[#This Row],[SD]]<UIoptions!$T$12),1,0)","v":0},{"$f":"IF(AND(PCdb[[#This Row],[SL]]>UIoptions!$S$13,PCdb[[#This Row],[SL]]<UIoptions!$T$13),1,0)","v":0},{"$f":"IF(UIoptions!$N$35=1,IF(AND(PCdb[[#This Row],[SQ_SZ]]>UIoptions!$S$15,PCdb[[#This Row],[SQ_SZ]]<UIoptions!$T$15),1,0),1)","v":0},{"$f":"IF(UIoptions!$N$35=2,IF(AND(PCdb[[#This Row],[ROUND_D]]>UIoptions!$S$15,PCdb[[#This Row],[ROUND_D]]<UIoptions!$T$15),1,0),1)","v":1},{"$f":"IF(UIoptions!$N$75<>1,1,IF(AND(PCdb[[#This Row],[FL]]>UIoptions!$S$16,PCdb[[#This Row],[FL]]<UIoptions!$T$16),1,0))","v":0},{"$f":"IF(OR(UIoptions!$Q$18=PCdb[[#This Row],[THRU_SCREW]],UIoptions!$Q$18=\"NA\"),1,0)","v":0},{"$f":"IF(OR(UIoptions!$P$19=PCdb[[#This Row],[THREAD_SZ]],UIoptions!$P$19=\"NA\"),1,0)","v":1},{"$f":"IF(UIoptions!$N$75=1,1,IF(AND(PCdb[[#This Row],[THREAD_L]]>UIoptions!$S$17,PCdb[[#This Row],[THREAD_L]]<UIoptions!$T$17),1,0))","v":1},{"$f":"IF(SUM(PCdb[[#This Row],[BDhit]:[THREAD_Lhit]])=11,1,0)","v":0},{"$f":"CONCATENATE(PCdb[[#This Row],[BCD]],PCdb[[#This Row],[PD]],PCdb[[#This Row],[PL (MAX)]],PCdb[[#This Row],[SD]],PCdb[[#This Row],[SL]],PCdb[[#This Row],[SQ_SZ]],PCdb[[#This Row],[ROUND_D]],PCdb[[#This Row],[FL]],PCdb[[#This Row],[THRU_SCREW]],PCdb[[#This Row],[THREAD_SZ]],PCdb[[#This Row],[THREAD_L]],PCdb[[#This Row],[NBR_HOLES]])","v":"70504142560NA6M5NANA4"},{"$f":"SUM(PCdb[[#This Row],[BDhit]:[THREAD_Lhit]])","v":4}]
[296,67,38.1,4,8,25,57,"NA",4.5,"M4","NA","NA",4,"M4",null,null,null,null,null,null,null,null,null,null,null,null,null,null,null,null,null,null,null,null,null,22,"NA","Y","D",45,90,null,null,null,null,null,null,null,null,null,null,null,null,{"$f":"IF(AND(PCdb[[#This Row],[BCD]]>UIoptions!$S$10,PCdb[[#This Row],[BCD]]<UIoptions!$T$10),1,0)","v":0},{"$f":"IF(AND(PCdb[[#This Row],[PD]]>UIoptions!$S$11,PCdb[[#This Row],[PD]]<UIoptions!$T$11),1,0)","v":0},{"$f":"IF(AND(UIoptions!$P$14<=PCdb[[#This Row],[PL (MAX)]],UIoptions!$P$14>UIoptions!$S$14),1,0)","v":1},{"$f":"IF(AND(PCdb[[#This Row],[SD]]>UIoptions!$S$12,PCdb[[#This Row],[SD]]<UIoptions!$T$12),1,0)","v":0},{"$f":"IF(AND(PCdb[[#This Row],[SL]]>UIoptions!$S$13,PCdb[[#This Row],[SL]]<UIoptions!$T$13),1,0)","v":0},{"$f":"IF(UIoptions!$N$35=1,IF(AND(PCdb[[#This Row],[SQ_SZ]]>UIoptions!$S$15,PCdb[[#This Row],[SQ_SZ]]<UIoptions!$T$15),1,0),1)","v":0},{"$f":"IF(UIoptions!$N$35=2,IF(AND(PCdb[[#This Row],[ROUND_D]]>UIoptions!$S$15,PCdb[[#This Row],[ROUND_D]]<UIoptions!$T$15),1,0),1)","v":1},{"$f":"IF(UIoptions!$N$75<>1,1,IF(AND(PCdb[[#This Row],[FL]]>UIoptions!$S$16,PCdb[[#This Row],[FL]]<UIoptions!$T$16),1,0))","v":0},{"$f":"IF(OR(UIoptions!$Q$18=PCdb[[#This Row],[THRU_SCREW]],UIoptions!$Q$18=\"NA\"),1,0)","v":1},{"$f":"IF(OR(UIoptions!$P$19=PCdb[[#This Row],[THREAD_SZ]],UIoptions!$P$19=\"NA\"),1,0)","v":1},{"$f":"IF(UIoptions!$N$75=1,1,IF(AND(PCdb[[#This Row],[THREAD_L]]>UIoptions!$S$17,PCdb[[#This Row],[THREAD_L]]<UIoptions!$T$17),1,0))","v":1},{"$f":"IF(SUM(PCdb[[#This Row],[BDhit]:[THREAD_Lhit]])=11,1,0)","v":0},{"$f":"CONCATENATE(PCdb[[#This Row],[BCD]],PCdb[[#This Row],[PD]],PCdb[[#This Row],[PL (MAX)]],PCdb[[#This Row],[SD]],PCdb[[#This Row],[SL]],PCdb[[#This Row],[SQ_SZ]],PCdb[[#This Row],[ROUND_D]],PCdb[[#This Row],[FL]],PCdb[[#This Row],[THRU_SCREW]],PCdb[[#This Row],[THREAD_SZ]],PCdb[[#This Row],[THREAD_L]],PCdb[[#This Row],[NBR_HOLES]])","v":"6738,1482557NA4,5M4NANA4"},{"$f":"SUM(PCdb[[#This Row],[BDhit]:[THREAD_Lhit]])","v":5}]
[297,63,40,4,9,20,58,"NA",7.5,"M4","NA","NA",4,"M4",null,null,null,null,null,null,null,null,null,null,null,null,null,null,null,null,null,null,null,null,null,24,0,"Y","D",45,90,null,null,null,null,null,null,null,null,null,null,null,null,{"$f":"IF(AND(PCdb[[#This Row],[BCD]]>UIoptions!$S$10,PCdb[[#This Row],[BCD]]<UIoptions!$T$10),1,0)","v":1},{"$f":"IF(AND(PCdb[[#This Row],[PD]]>UIoptions!$S$11,PCdb[[#This Row],[PD]]<UIoptions!$T$11),1,0)","v":1},{"$f":"IF(AND(UIoptions!$P$14<=PCdb[[#This Row],[PL (MAX)]],UIoptions!$P$14>UIoptions!$S$14),1,0)","v":1},{"$f":"IF(AND(PCdb[[#This Row],[SD]]>UIoptions!$S$12,PCdb[[#This Row],[SD]]<UIoptions!$T$12),1,0)","v":0},{"$f":"IF(AND(PCdb[[#This Row],[SL]]>UIoptions!$S$13,PCdb[[#This Row],[SL]]<UIoptions!$T$13),1,0)","v":1},{"$f":"IF(UIoptions!$N$35=1,IF(AND(PCdb[[#This Row],[SQ_SZ]]>UIoptions!$S$15,PCdb[[#This Row],[SQ_SZ]]<UIoptions!$T$15),1,0),1)","v":1},{"$f":"IF(UIoptions!$N$35=2,IF(AND(PCdb[[#This Row],[ROUND_D]]>UIoptions!$S$15,PCdb[[#This Row],[ROUND_D]]<UIoptions!$T$15),1,0),1)","v":1},{"$f":"IF(UIoptions!$N$75<>1,1,IF(AND(PCdb[[#This Row],[FL]]>UIoptions!$S$16,PCdb[[#This Row],[FL]]<UIoptions!$T$16),1,0))","v":0},{"$f":"IF(OR(UIoptions!$Q$18=PCdb[[#This Row],[THRU_SCREW]],UIoptions!$Q$18=\"NA\"),1,0)","v":1},{"$f":"IF(OR(UIoptions!$P$19=PCdb[[#This Row],[THREAD_SZ]],UIoptions!$P$19=\"NA\"),1,0)","v":1},{"$f":"IF(UIoptions!$N$75=1,1,IF(AND(PCdb[[#This Row],[THREAD_L]]>UIoptions!$S$17,PCdb[[#This Row],[THREAD_L]]<UIoptions!$T$17),1,0))","v":1},{"$f":"IF(SUM(PCdb[[#This Row],[BDhit]:[THREAD_Lhit]])=11,1,0)","v":0},{"$f":"CONCATENATE(PCdb[[#This Row],[BCD]],PCdb[[#This Row],[PD]],PCdb[[#This Row],[PL (MAX)]],PCdb[[#This Row],[SD]],PCdb[[#This Row],[SL]],PCdb[[#This Row],[SQ_SZ]],PCdb[[#This Row],[ROUND_D]],PCdb[[#This Row],[FL]],PCdb[[#This Row],[THRU_SCREW]],PCdb[[#This Row],[THREAD_SZ]],PCdb[[#This Row],[THREAD_L]],PCdb[[#This Row],[NBR_HOLES]])","v":"6340492058NA7,5M4NANA4"},{"$f":"SUM(PCdb[[#This Row],[BDhit]:[THREAD_Lhit]])","v":9}]
[298,32,22,4,5,20,"NA",42,"NA","NA","M3",6.5,4,4,null,null,null,null,null,null,null,null,null,null,null,null,null,null,null,null,null,null,null,null,null,"NA","NA","Y","C2",45,90,null,null,null,null,null,null,null,null,null,null,null,null,{"$f":"IF(AND(PCdb[[#This Row],[BCD]]>UIoptions!$S$10,PCdb[[#This Row],[BCD]]<UIoptions!$T$10),1,0)","v":0},{"$f":"IF(AND(PCdb[[#This Row],[PD]]>UIoptions!$S$11,PCdb[[#This Row],[PD]]<UIoptions!$T$11),1,0)","v":0},{"$f":"IF(AND(UIoptions!$P$14<=PCdb[[#This Row],[PL (MAX)]],UIoptions!$P$14>UIoptions!$S$14),1,0)","v":1},{"$f":"IF(AND(PCdb[[#This Row],[SD]]>UIoptions!$S$12,PCdb[[#This Row],[SD]]<UIoptions!$T$12),1,0)","v":0},{"$f":"IF(AND(PCdb[[#This Row],[SL]]>UIoptions!$S$13,PCdb[[#This Row],[SL]]<UIoptions!$T$13),1,0)","v":1},{"$f":"IF(UIoptions!$N$35=1,IF(AND(PCdb[[#This Row],[SQ_SZ]]>UIoptions!$S$15,PCdb[[#This Row],[SQ_SZ]]<UIoptions!$T$15),1,0),1)","v":0},{"$f":"IF(UIoptions!$N$35=2,IF(AND(PCdb[[#This Row],[ROUND_D]]>UIoptions!$S$15,PCdb[[#This Row],[ROUND_D]]<UIoptions!$T$15),1,0),1)","v":1},{"$f":"IF(UIoptions!$N$75<>1,1,IF(AND(PCdb[[#This Row],[FL]]>UIoptions!$S$16,PCdb[[#This Row],[FL]]<UIoptions!$T$16),1,0))","v":0},{"$f":"IF(OR(UIoptions!$Q$18=PCdb[[#This Row],[THRU_SCREW]],UIoptions!$Q$18=\"NA\"),1,0)","v":0},{"$f":"IF(OR(UIoptions!$P$19=PCdb[[#This Row],[THREAD_SZ]],UIoptions!$P$19=\"NA\"),1,0)","v":1},{"$f":"IF(UIoptions!$N$75=1,1,IF(AND(PCdb[[#This Row],[THREAD_L]]>UIoptions!$S$17,PCdb[[#This Row],[THREAD_L]]<UIoptions!$T$17),1,0))","v":1},{"$f":"IF(SUM(PCdb[[#This Row],[BDhit]:[THREAD_Lhit]])=11,1,0)","v":0},{"$f":"CONCATENATE(PCdb[[#This Row],[BCD]],PCdb[[#This Row],[PD]],PCdb[[#This Row],[PL (MAX)]],PCdb[[#This Row],[SD]],PCdb[[#This Row],[SL]],PCdb[[#This Row],[SQ_SZ]],PCdb[[#This Row],[ROUND_D]],PCdb[[#This Row],[FL]],PCdb[[#This Row],[THRU_SCREW]],PCdb[[#This Row],[THREAD_SZ]],PCdb[[#This Row],[THREAD_L]],PCdb[[#This Row],[NBR_HOLES]])","v":"32224520NA42NANAM36,54"},{"$f":"SUM(PCdb[[#This Row],[BDhit]:[THREAD_Lhit]])","v":5}]
[299,90,50,4,12,20.5,80,"NA",4,"M5","NA","NA",4,"M5",null,null,null,null,null,null,null,45.2,27,"NA","Y","B",45,90,null,null,null,null,null,null,null,null,null,null,null,null,null,null,null,null,null,null,null,null,null,null,null,null,null,{"$f":"IF(AND(PCdb[[#This Row],[BCD]]>UIoptions!$S$10,PCdb[[#This Row],[BCD]]<UIoptions!$T$10),1,0)","v":0},{"$f":"IF(AND(PCdb[[#This Row],[PD]]>UIoptions!$S$11,PCdb[[#This Row],[PD]]<UIoptions!$T$11),1,0)","v":0},{"$f":"IF(AND(UIoptions!$P$14<=PCdb[[#This Row],[PL (MAX)]],UIoptions!$P$14>UIoptions!$S$14),1,0)","v":1},{"$f":"IF(AND(PCdb[[#This Row],[SD]]>UIoptions!$S$12,PCdb[[#This Row],[SD]]<UIoptions!$T$12),1,0)","v":0},{"$f":"IF(AND(PCdb[[#This Row],[SL]]>UIoptions!$S$13,PCdb[[#This Row],[SL]]<UIoptions!$T$13),1,0)","v":0},{"$f":"IF(UIoptions!$N$35=1,IF(AND(PCdb[[#This Row],[SQ_SZ]]>UIoptions!$S$15,PCdb[[#This Row],[SQ_SZ]]<UIoptions!$T$15),1,0),1)","v":0},{"$f":"IF(UIoptions!$N$35=2,IF(AND(PCdb[[#This Row],[ROUND_D]]>UIoptions!$S$15,PCdb[[#This Row],[ROUND_D]]<UIoptions!$T$15),1,0),1)","v":1},{"$f":"IF(UIoptions!$N$75<>1,1,IF(AND(PCdb[[#This Row],[FL]]>UIoptions!$S$16,PCdb[[#This Row],[FL]]<UIoptions!$T$16),1,0))","v":0},{"$f":"IF(OR(UIoptions!$Q$18=PCdb[[#This Row],[THRU_SCREW]],UIoptions!$Q$18=\"NA\"),1,0)","v":0},{"$f":"IF(OR(UIoptions!$P$19=PCdb[[#This Row],[THREAD_SZ]],UIoptions!$P$19=\"NA\"),1,0)","v":1},{"$f":"IF(UIoptions!$N$75=1,1,IF(AND(PCdb[[#This Row],[THREAD_L]]>UIoptions!$S$17,PCdb[[#This Row],[THREAD_L]]<UIoptions!$T$17),1,0))","v":1},{"$f":"IF(SUM(PCdb[[#This Row],[BDhit]:[THREAD_Lhit]])=11,1,0)","v":0},{"$f":"CONCATENATE(PCdb[[#This Row],[BCD]],PCdb[[#This Row],[PD]],PCdb[[#This Row],[PL (MAX)]],PCdb[[#This Row],[SD]],PCdb[[#This Row],[SL]],PCdb[[#This Row],[SQ_SZ]],PCdb[[#This Row],[ROUND_D]],PCdb[[#This Row],[FL]],PCdb[[#This Row],[THRU_SCREW]],PCdb[[#This Row],[THREAD_SZ]],PCdb[[#This Row],[THREAD_L]],PCdb[[#This Row],[NBR_HOLES]])","v":"905041220,580NA4M5NANA4"},{"$f":"SUM(PCdb[[#This Row],[BDhit]:[THREAD_Lhit]])","v":4}]
[300,43.8,26,10,10,28,42,"NA","NA","NA","M4",8,4,5,null,null,null,null,null,null,null,45.2,"NA","NA","Y","SPLB2-300",45,90,null,null,null,null,null,null,null,null,null,null,null,null,null,null,null,null,null,null,null,null,null,null,null,null,null,{"$f":"IF(AND(PCdb[[#This Row],[BCD]]>UIoptions!$S$10,PCdb[[#This Row],[BCD]]<UIoptions!$T$10),1,0)","v":0},{"$f":"IF(AND(PCdb[[#This Row],[PD]]>UIoptions!$S$11,PCdb[[#This Row],[PD]]<UIoptions!$T$11),1,0)","v":0},{"$f":"IF(AND(UIoptions!$P$14<=PCdb[[#This Row],[PL (MAX)]],UIoptions!$P$14>UIoptions!$S$14),1,0)","v":1},{"$f":"IF(AND(PCdb[[#This Row],[SD]]>UIoptions!$S$12,PCdb[[#This Row],[SD]]<UIoptions!$T$12),1,0)","v":0},{"$f":"IF(AND(PCdb[[#This Row],[SL]]>UIoptions!$S$13,PCdb[[#This Row],[SL]]<UIoptions!$T$13),1,0)","v":0},{"$f":"IF(UIoptions!$N$35=1,IF(AND(PCdb[[#This Row],[SQ_SZ]]>UIoptions!$S$15,PCdb[[#This Row],[SQ_SZ]]<UIoptions!$T$15),1,0),1)","v":0},{"$f":"IF(UIoptions!$N$35=2,IF(AND(PCdb[[#This Row],[ROUND_D]]>UIoptions!$S$15,PCdb[[#This Row],[ROUND_D]]<UIoptions!$T$15),1,0),1)","v":1},{"$f":"IF(UIoptions!$N$75<>1,1,IF(AND(PCdb[[#This Row],[FL]]>UIoptions!$S$16,PCdb[[#This Row],[FL]]<UIoptions!$T$16),1,0))","v":0},{"$f":"IF(OR(UIoptions!$Q$18=PCdb[[#This Row],[THRU_SCREW]],UIoptions!$Q$18=\"NA\"),1,0)","v":0},{"$f":"IF(OR(UIoptions!$P$19=PCdb[[#This Row],[THREAD_SZ]],UIoptions!$P$19=\"NA\"),1,0)","v":1},{"$f":"IF(UIoptions!$N$75=1,1,IF(AND(PCdb[[#This Row],[THREAD_L]]>UIoptions!$S$17,PCdb[[#This Row],[THREAD_L]]<UIoptions!$T$17),1,0))","v":1},{"$f":"IF(SUM(PCdb[[#This Row],[BDhit]:[THREAD_Lhit]])=11,1,0)","v":0},{"$f":"CONCATENATE(PCdb[[#This Row],[BCD]],PCdb[[#This Row],[PD]],PCdb[[#This Row],[PL (MAX)]],PCdb[[#This Row],[SD]],PCdb[[#This Row],[SL]],PCdb[[#This Row],[SQ_SZ]],PCdb[[#This Row],[ROUND_D]],PCdb[[#This Row],[FL]],PCdb[[#This Row],[THRU_SCREW]],PCdb[[#This Row],[THREAD_SZ]],PCdb[[#This Row],[THREAD_L]],PCdb[[#This Row],[NBR_HOLES]])","v":"43,82610102842NANANAM484"},{"$f":"SUM(PCdb[[#This Row],[BDhit]:[THREAD_Lhit]])","v":4}]
[301,26,19,4,6,19.5,"NA",32,"NA","NA","M3",4,4,4,38.700000000000003,"NA","NA","Y","A2",0,90,null,null,null,null,null,null,null,null,null,null,null,null,null,null,null,null,null,null,null,null,null,null,null,null,null,null,null,null,null,null,null,null,{"$f":"IF(AND(PCdb[[#This Row],[BCD]]>UIoptions!$S$10,PCdb[[#This Row],[BCD]]<UIoptions!$T$10),1,0)","v":0},{"$f":"IF(AND(PCdb[[#This Row],[PD]]>UIoptions!$S$11,PCdb[[#This Row],[PD]]<UIoptions!$T$11),1,0)","v":0},{"$f":"IF(AND(UIoptions!$P$14<=PCdb[[#This Row],[PL (MAX)]],UIoptions!$P$14>UIoptions!$S$14),1,0)","v":1},{"$f":"IF(AND(PCdb[[#This Row],[SD]]>UIoptions!$S$12,PCdb[[#This Row],[SD]]<UIoptions!$T$12),1,0)","v":0},{"$f":"IF(AND(PCdb[[#This Row],[SL]]>UIoptions!$S$13,PCdb[[#This Row],[SL]]<UIoptions!$T$13),1,0)","v":0},{"$f":"IF(UIoptions!$N$35=1,IF(AND(PCdb[[#This Row],[SQ_SZ]]>UIoptions!$S$15,PCdb[[#This Row],[SQ_SZ]]<UIoptions!$T$15),1,0),1)","v":0},{"$f":"IF(UIoptions!$N$35=2,IF(AND(PCdb[[#This Row],[ROUND_D]]>UIoptions!$S$15,PCdb[[#This Row],[ROUND_D]]<UIoptions!$T$15),1,0),1)","v":1},{"$f":"IF(UIoptions!$N$75<>1,1,IF(AND(PCdb[[#This Row],[FL]]>UIoptions!$S$16,PCdb[[#This Row],[FL]]<UIoptions!$T$16),1,0))","v":0},{"$f":"IF(OR(UIoptions!$Q$18=PCdb[[#This Row],[THRU_SCREW]],UIoptions!$Q$18=\"NA\"),1,0)","v":0},{"$f":"IF(OR(UIoptions!$P$19=PCdb[[#This Row],[THREAD_SZ]],UIoptions!$P$19=\"NA\"),1,0)","v":1},{"$f":"IF(UIoptions!$N$75=1,1,IF(AND(PCdb[[#This Row],[THREAD_L]]>UIoptions!$S$17,PCdb[[#This Row],[THREAD_L]]<UIoptions!$T$17),1,0))","v":1},{"$f":"IF(SUM(PCdb[[#This Row],[BDhit]:[THREAD_Lhit]])=11,1,0)","v":0},{"$f":"CONCATENATE(PCdb[[#This Row],[BCD]],PCdb[[#This Row],[PD]],PCdb[[#This Row],[PL (MAX)]],PCdb[[#This Row],[SD]],PCdb[[#This Row],[SL]],PCdb[[#This Row],[SQ_SZ]],PCdb[[#This Row],[ROUND_D]],PCdb[[#This Row],[FL]],PCdb[[#This Row],[THRU_SCREW]],PCdb[[#This Row],[THREAD_SZ]],PCdb[[#This Row],[THREAD_L]],PCdb[[#This Row],[NBR_HOLES]])","v":"26194619,5NA32NANAM344"},{"$f":"SUM(PCdb[[#This Row],[BDhit]:[THREAD_Lhit]])","v":4}]
[302,45,30,4,8,23.8,40,"NA",7.3,"M3","NA","NA",4,"M3",null,null,null,null,null,null,null,null,null,null,null,null,null,null,null,null,null,null,null,null,null,17.5,"NA","Y","C",45,90,null,null,null,null,null,null,null,null,null,null,null,null,{"$f":"IF(AND(PCdb[[#This Row],[BCD]]>UIoptions!$S$10,PCdb[[#This Row],[BCD]]<UIoptions!$T$10),1,0)","v":0},{"$f":"IF(AND(PCdb[[#This Row],[PD]]>UIoptions!$S$11,PCdb[[#This Row],[PD]]<UIoptions!$T$11),1,0)","v":0},{"$f":"IF(AND(UIoptions!$P$14<=PCdb[[#This Row],[PL (MAX)]],UIoptions!$P$14>UIoptions!$S$14),1,0)","v":1},{"$f":"IF(AND(PCdb[[#This Row],[SD]]>UIoptions!$S$12,PCdb[[#This Row],[SD]]<UIoptions!$T$12),1,0)","v":0},{"$f":"IF(AND(PCdb[[#This Row],[SL]]>UIoptions!$S$13,PCdb[[#This Row],[SL]]<UIoptions!$T$13),1,0)","v":0},{"$f":"IF(UIoptions!$N$35=1,IF(AND(PCdb[[#This Row],[SQ_SZ]]>UIoptions!$S$15,PCdb[[#This Row],[SQ_SZ]]<UIoptions!$T$15),1,0),1)","v":0},{"$f":"IF(UIoptions!$N$35=2,IF(AND(PCdb[[#This Row],[ROUND_D]]>UIoptions!$S$15,PCdb[[#This Row],[ROUND_D]]<UIoptions!$T$15),1,0),1)","v":1},{"$f":"IF(UIoptions!$N$75<>1,1,IF(AND(PCdb[[#This Row],[FL]]>UIoptions!$S$16,PCdb[[#This Row],[FL]]<UIoptions!$T$16),1,0))","v":0},{"$f":"IF(OR(UIoptions!$Q$18=PCdb[[#This Row],[THRU_SCREW]],UIoptions!$Q$18=\"NA\"),1,0)","v":0},{"$f":"IF(OR(UIoptions!$P$19=PCdb[[#This Row],[THREAD_SZ]],UIoptions!$P$19=\"NA\"),1,0)","v":1},{"$f":"IF(UIoptions!$N$75=1,1,IF(AND(PCdb[[#This Row],[THREAD_L]]>UIoptions!$S$17,PCdb[[#This Row],[THREAD_L]]<UIoptions!$T$17),1,0))","v":1},{"$f":"IF(SUM(PCdb[[#This Row],[BDhit]:[THREAD_Lhit]])=11,1,0)","v":0},{"$f":"CONCATENATE(PCdb[[#This Row],[BCD]],PCdb[[#This Row],[PD]],PCdb[[#This Row],[PL (MAX)]],PCdb[[#This Row],[SD]],PCdb[[#This Row],[SL]],PCdb[[#This Row],[SQ_SZ]],PCdb[[#This Row],[ROUND_D]],PCdb[[#This Row],[FL]],PCdb[[#This Row],[THRU_SCREW]],PCdb[[#This Row],[THREAD_SZ]],PCdb[[#This Row],[THREAD_L]],PCdb[[#This Row],[NBR_HOLES]])","v":"45304823,840NA7,3M3NANA4"},{"$f":"SUM(PCdb[[#This Row],[BDhit]:[THREAD_Lhit]])","v":4}]
[303,98.3,73,4,12,30,85,"NA",10,"M6","NA","NA",4,"M6",null,null,null,null,null,null,null,null,null,null,null,null,null,null,48.7,39,"NA","Y","B",45,90,null,null,null,null,null,null,null,null,null,null,null,null,null,null,null,null,null,null,{"$f":"IF(AND(PCdb[[#This Row],[BCD]]>UIoptions!$S$10,PCdb[[#This Row],[BCD]]<UIoptions!$T$10),1,0)","v":0},{"$f":"IF(AND(PCdb[[#This Row],[PD]]>UIoptions!$S$11,PCdb[[#This Row],[PD]]<UIoptions!$T$11),1,0)","v":0},{"$f":"IF(AND(UIoptions!$P$14<=PCdb[[#This Row],[PL (MAX)]],UIoptions!$P$14>UIoptions!$S$14),1,0)","v":1},{"$f":"IF(AND(PCdb[[#This Row],[SD]]>UIoptions!$S$12,PCdb[[#This Row],[SD]]<UIoptions!$T$12),1,0)","v":0},{"$f":"IF(AND(PCdb[[#This Row],[SL]]>UIoptions!$S$13,PCdb[[#This Row],[SL]]<UIoptions!$T$13),1,0)","v":0},{"$f":"IF(UIoptions!$N$35=1,IF(AND(PCdb[[#This Row],[SQ_SZ]]>UIoptions!$S$15,PCdb[[#This Row],[SQ_SZ]]<UIoptions!$T$15),1,0),1)","v":0},{"$f":"IF(UIoptions!$N$35=2,IF(AND(PCdb[[#This Row],[ROUND_D]]>UIoptions!$S$15,PCdb[[#This Row],[ROUND_D]]<UIoptions!$T$15),1,0),1)","v":1},{"$f":"IF(UIoptions!$N$75<>1,1,IF(AND(PCdb[[#This Row],[FL]]>UIoptions!$S$16,PCdb[[#This Row],[FL]]<UIoptions!$T$16),1,0))","v":0},{"$f":"IF(OR(UIoptions!$Q$18=PCdb[[#This Row],[THRU_SCREW]],UIoptions!$Q$18=\"NA\"),1,0)","v":0},{"$f":"IF(OR(UIoptions!$P$19=PCdb[[#This Row],[THREAD_SZ]],UIoptions!$P$19=\"NA\"),1,0)","v":1},{"$f":"IF(UIoptions!$N$75=1,1,IF(AND(PCdb[[#This Row],[THREAD_L]]>UIoptions!$S$17,PCdb[[#This Row],[THREAD_L]]<UIoptions!$T$17),1,0))","v":1},{"$f":"IF(SUM(PCdb[[#This Row],[BDhit]:[THREAD_Lhit]])=11,1,0)","v":0},{"$f":"CONCATENATE(PCdb[[#This Row],[BCD]],PCdb[[#This Row],[PD]],PCdb[[#This Row],[PL (MAX)]],PCdb[[#This Row],[SD]],PCdb[[#This Row],[SL]],PCdb[[#This Row],[SQ_SZ]],PCdb[[#This Row],[ROUND_D]],PCdb[[#This Row],[FL]],PCdb[[#This Row],[THRU_SCREW]],PCdb[[#This Row],[THREAD_SZ]],PCdb[[#This Row],[THREAD_L]],PCdb[[#This Row],[NBR_HOLES]])","v":"98,3734123085NA10M6NANA4"},{"$f":"SUM(PCdb[[#This Row],[BDhit]:[THREAD_Lhit]])","v":4}]
[304,66.8,38.1,4,8,21,57.2,"NA",5,"M4","NA","NA",4,"M4",null,null,null,null,null,null,null,null,null,null,null,null,null,null,null,null,null,null,null,null,null,null,null,null,null,null,null,21,"NA","Y","C",45,90,null,null,null,null,null,null,{"$f":"IF(AND(PCdb[[#This Row],[BCD]]>UIoptions!$S$10,PCdb[[#This Row],[BCD]]<UIoptions!$T$10),1,0)","v":0},{"$f":"IF(AND(PCdb[[#This Row],[PD]]>UIoptions!$S$11,PCdb[[#This Row],[PD]]<UIoptions!$T$11),1,0)","v":0},{"$f":"IF(AND(UIoptions!$P$14<=PCdb[[#This Row],[PL (MAX)]],UIoptions!$P$14>UIoptions!$S$14),1,0)","v":1},{"$f":"IF(AND(PCdb[[#This Row],[SD]]>UIoptions!$S$12,PCdb[[#This Row],[SD]]<UIoptions!$T$12),1,0)","v":0},{"$f":"IF(AND(PCdb[[#This Row],[SL]]>UIoptions!$S$13,PCdb[[#This Row],[SL]]<UIoptions!$T$13),1,0)","v":0},{"$f":"IF(UIoptions!$N$35=1,IF(AND(PCdb[[#This Row],[SQ_SZ]]>UIoptions!$S$15,PCdb[[#This Row],[SQ_SZ]]<UIoptions!$T$15),1,0),1)","v":0},{"$f":"IF(UIoptions!$N$35=2,IF(AND(PCdb[[#This Row],[ROUND_D]]>UIoptions!$S$15,PCdb[[#This Row],[ROUND_D]]<UIoptions!$T$15),1,0),1)","v":1},{"$f":"IF(UIoptions!$N$75<>1,1,IF(AND(PCdb[[#This Row],[FL]]>UIoptions!$S$16,PCdb[[#This Row],[FL]]<UIoptions!$T$16),1,0))","v":0},{"$f":"IF(OR(UIoptions!$Q$18=PCdb[[#This Row],[THRU_SCREW]],UIoptions!$Q$18=\"NA\"),1,0)","v":1},{"$f":"IF(OR(UIoptions!$P$19=PCdb[[#This Row],[THREAD_SZ]],UIoptions!$P$19=\"NA\"),1,0)","v":1},{"$f":"IF(UIoptions!$N$75=1,1,IF(AND(PCdb[[#This Row],[THREAD_L]]>UIoptions!$S$17,PCdb[[#This Row],[THREAD_L]]<UIoptions!$T$17),1,0))","v":1},{"$f":"IF(SUM(PCdb[[#This Row],[BDhit]:[THREAD_Lhit]])=11,1,0)","v":0},{"$f":"CONCATENATE(PCdb[[#This Row],[BCD]],PCdb[[#This Row],[PD]],PCdb[[#This Row],[PL (MAX)]],PCdb[[#This Row],[SD]],PCdb[[#This Row],[SL]],PCdb[[#This Row],[SQ_SZ]],PCdb[[#This Row],[ROUND_D]],PCdb[[#This Row],[FL]],PCdb[[#This Row],[THRU_SCREW]],PCdb[[#This Row],[THREAD_SZ]],PCdb[[#This Row],[THREAD_L]],PCdb[[#This Row],[NBR_HOLES]])","v":"66,838,1482157,2NA5M4NANA4"},{"$f":"SUM(PCdb[[#This Row],[BDhit]:[THREAD_Lhit]])","v":5}]
[305,28,22,2,8,20,"NA",36,"NA","NA","M3",8,4,4,null,null,null,null,null,null,null,null,null,null,null,null,null,null,null,null,null,null,null,null,null,"NA","NA","Y","C2",45,90,null,null,null,null,null,null,null,null,null,null,null,null,{"$f":"IF(AND(PCdb[[#This Row],[BCD]]>UIoptions!$S$10,PCdb[[#This Row],[BCD]]<UIoptions!$T$10),1,0)","v":0},{"$f":"IF(AND(PCdb[[#This Row],[PD]]>UIoptions!$S$11,PCdb[[#This Row],[PD]]<UIoptions!$T$11),1,0)","v":0},{"$f":"IF(AND(UIoptions!$P$14<=PCdb[[#This Row],[PL (MAX)]],UIoptions!$P$14>UIoptions!$S$14),1,0)","v":0},{"$f":"IF(AND(PCdb[[#This Row],[SD]]>UIoptions!$S$12,PCdb[[#This Row],[SD]]<UIoptions!$T$12),1,0)","v":0},{"$f":"IF(AND(PCdb[[#This Row],[SL]]>UIoptions!$S$13,PCdb[[#This Row],[SL]]<UIoptions!$T$13),1,0)","v":1},{"$f":"IF(UIoptions!$N$35=1,IF(AND(PCdb[[#This Row],[SQ_SZ]]>UIoptions!$S$15,PCdb[[#This Row],[SQ_SZ]]<UIoptions!$T$15),1,0),1)","v":0},{"$f":"IF(UIoptions!$N$35=2,IF(AND(PCdb[[#This Row],[ROUND_D]]>UIoptions!$S$15,PCdb[[#This Row],[ROUND_D]]<UIoptions!$T$15),1,0),1)","v":1},{"$f":"IF(UIoptions!$N$75<>1,1,IF(AND(PCdb[[#This Row],[FL]]>UIoptions!$S$16,PCdb[[#This Row],[FL]]<UIoptions!$T$16),1,0))","v":0},{"$f":"IF(OR(UIoptions!$Q$18=PCdb[[#This Row],[THRU_SCREW]],UIoptions!$Q$18=\"NA\"),1,0)","v":0},{"$f":"IF(OR(UIoptions!$P$19=PCdb[[#This Row],[THREAD_SZ]],UIoptions!$P$19=\"NA\"),1,0)","v":1},{"$f":"IF(UIoptions!$N$75=1,1,IF(AND(PCdb[[#This Row],[THREAD_L]]>UIoptions!$S$17,PCdb[[#This Row],[THREAD_L]]<UIoptions!$T$17),1,0))","v":1},{"$f":"IF(SUM(PCdb[[#This Row],[BDhit]:[THREAD_Lhit]])=11,1,0)","v":0},{"$f":"CONCATENATE(PCdb[[#This Row],[BCD]],PCdb[[#This Row],[PD]],PCdb[[#This Row],[PL (MAX)]],PCdb[[#This Row],[SD]],PCdb[[#This Row],[SL]],PCdb[[#This Row],[SQ_SZ]],PCdb[[#This Row],[ROUND_D]],PCdb[[#This Row],[FL]],PCdb[[#This Row],[THRU_SCREW]],PCdb[[#This Row],[THREAD_SZ]],PCdb[[#This Row],[THREAD_L]],PCdb[[#This Row],[NBR_HOLES]])","v":"28222820NA36NANAM384"},{"$f":"SUM(PCdb[[#This Row],[BDhit]:[THREAD_Lhit]])","v":4}]
[306,66.7,38.1,4,8,20,60,"NA",7,"M4","NA","NA",4,"M4",null,null,null,null,null,null,null,null,null,null,null,null,null,null,null,null,null,null,null,null,null,null,null,null,null,null,null,22,"NA","Y","C",45,90,null,null,null,null,null,null,{"$f":"IF(AND(PCdb[[#This Row],[BCD]]>UIoptions!$S$10,PCdb[[#This Row],[BCD]]<UIoptions!$T$10),1,0)","v":0},{"$f":"IF(AND(PCdb[[#This Row],[PD]]>UIoptions!$S$11,PCdb[[#This Row],[PD]]<UIoptions!$T$11),1,0)","v":0},{"$f":"IF(AND(UIoptions!$P$14<=PCdb[[#This Row],[PL (MAX)]],UIoptions!$P$14>UIoptions!$S$14),1,0)","v":1},{"$f":"IF(AND(PCdb[[#This Row],[SD]]>UIoptions!$S$12,PCdb[[#This Row],[SD]]<UIoptions!$T$12),1,0)","v":0},{"$f":"IF(AND(PCdb[[#This Row],[SL]]>UIoptions!$S$13,PCdb[[#This Row],[SL]]<UIoptions!$T$13),1,0)","v":1},{"$f":"IF(UIoptions!$N$35=1,IF(AND(PCdb[[#This Row],[SQ_SZ]]>UIoptions!$S$15,PCdb[[#This Row],[SQ_SZ]]<UIoptions!$T$15),1,0),1)","v":0},{"$f":"IF(UIoptions!$N$35=2,IF(AND(PCdb[[#This Row],[ROUND_D]]>UIoptions!$S$15,PCdb[[#This Row],[ROUND_D]]<UIoptions!$T$15),1,0),1)","v":1},{"$f":"IF(UIoptions!$N$75<>1,1,IF(AND(PCdb[[#This Row],[FL]]>UIoptions!$S$16,PCdb[[#This Row],[FL]]<UIoptions!$T$16),1,0))","v":1},{"$f":"IF(OR(UIoptions!$Q$18=PCdb[[#This Row],[THRU_SCREW]],UIoptions!$Q$18=\"NA\"),1,0)","v":1},{"$f":"IF(OR(UIoptions!$P$19=PCdb[[#This Row],[THREAD_SZ]],UIoptions!$P$19=\"NA\"),1,0)","v":1},{"$f":"IF(UIoptions!$N$75=1,1,IF(AND(PCdb[[#This Row],[THREAD_L]]>UIoptions!$S$17,PCdb[[#This Row],[THREAD_L]]<UIoptions!$T$17),1,0))","v":1},{"$f":"IF(SUM(PCdb[[#This Row],[BDhit]:[THREAD_Lhit]])=11,1,0)","v":0},{"$f":"CONCATENATE(PCdb[[#This Row],[BCD]],PCdb[[#This Row],[PD]],PCdb[[#This Row],[PL (MAX)]],PCdb[[#This Row],[SD]],PCdb[[#This Row],[SL]],PCdb[[#This Row],[SQ_SZ]],PCdb[[#This Row],[ROUND_D]],PCdb[[#This Row],[FL]],PCdb[[#This Row],[THRU_SCREW]],PCdb[[#This Row],[THREAD_SZ]],PCdb[[#This Row],[THREAD_L]],PCdb[[#This Row],[NBR_HOLES]])","v":"66,738,1482060NA7M4NANA4"},{"$f":"SUM(PCdb[[#This Row],[BDhit]:[THREAD_Lhit]])","v":7}]
[307,55,26,4,10,26,45,"NA",6,"M3","NA","NA",4,"M3",null,null,null,null,null,null,null,null,null,null,null,null,null,null,null,null,null,null,null,null,null,null,null,null,null,null,null,20,"NA","Y","C",45,90,null,null,null,null,null,null,{"$f":"IF(AND(PCdb[[#This Row],[BCD]]>UIoptions!$S$10,PCdb[[#This Row],[BCD]]<UIoptions!$T$10),1,0)","v":0},{"$f":"IF(AND(PCdb[[#This Row],[PD]]>UIoptions!$S$11,PCdb[[#This Row],[PD]]<UIoptions!$T$11),1,0)","v":0},{"$f":"IF(AND(UIoptions!$P$14<=PCdb[[#This Row],[PL (MAX)]],UIoptions!$P$14>UIoptions!$S$14),1,0)","v":1},{"$f":"IF(AND(PCdb[[#This Row],[SD]]>UIoptions!$S$12,PCdb[[#This Row],[SD]]<UIoptions!$T$12),1,0)","v":0},{"$f":"IF(AND(PCdb[[#This Row],[SL]]>UIoptions!$S$13,PCdb[[#This Row],[SL]]<UIoptions!$T$13),1,0)","v":0},{"$f":"IF(UIoptions!$N$35=1,IF(AND(PCdb[[#This Row],[SQ_SZ]]>UIoptions!$S$15,PCdb[[#This Row],[SQ_SZ]]<UIoptions!$T$15),1,0),1)","v":0},{"$f":"IF(UIoptions!$N$35=2,IF(AND(PCdb[[#This Row],[ROUND_D]]>UIoptions!$S$15,PCdb[[#This Row],[ROUND_D]]<UIoptions!$T$15),1,0),1)","v":1},{"$f":"IF(UIoptions!$N$75<>1,1,IF(AND(PCdb[[#This Row],[FL]]>UIoptions!$S$16,PCdb[[#This Row],[FL]]<UIoptions!$T$16),1,0))","v":0},{"$f":"IF(OR(UIoptions!$Q$18=PCdb[[#This Row],[THRU_SCREW]],UIoptions!$Q$18=\"NA\"),1,0)","v":0},{"$f":"IF(OR(UIoptions!$P$19=PCdb[[#This Row],[THREAD_SZ]],UIoptions!$P$19=\"NA\"),1,0)","v":1},{"$f":"IF(UIoptions!$N$75=1,1,IF(AND(PCdb[[#This Row],[THREAD_L]]>UIoptions!$S$17,PCdb[[#This Row],[THREAD_L]]<UIoptions!$T$17),1,0))","v":1},{"$f":"IF(SUM(PCdb[[#This Row],[BDhit]:[THREAD_Lhit]])=11,1,0)","v":0},{"$f":"CONCATENATE(PCdb[[#This Row],[BCD]],PCdb[[#This Row],[PD]],PCdb[[#This Row],[PL (MAX)]],PCdb[[#This Row],[SD]],PCdb[[#This Row],[SL]],PCdb[[#This Row],[SQ_SZ]],PCdb[[#This Row],[ROUND_D]],PCdb[[#This Row],[FL]],PCdb[[#This Row],[THRU_SCREW]],PCdb[[#This Row],[THREAD_SZ]],PCdb[[#This Row],[THREAD_L]],PCdb[[#This Row],[NBR_HOLES]])","v":"55264102645NA6M3NANA4"},{"$f":"SUM(PCdb[[#This Row],[BDhit]:[THREAD_Lhit]])","v":4}]
[308,90,70,4,19,40,80,"NA",7,"M6","NA","NA",4,"M6",null,null,null,null,null,null,null,null,null,null,null,null,null,null,45.2,37,"NA","Y","B",45,90,null,null,null,null,null,null,null,null,null,null,null,null,null,null,null,null,null,null,{"$f":"IF(AND(PCdb[[#This Row],[BCD]]>UIoptions!$S$10,PCdb[[#This Row],[BCD]]<UIoptions!$T$10),1,0)","v":0},{"$f":"IF(AND(PCdb[[#This Row],[PD]]>UIoptions!$S$11,PCdb[[#This Row],[PD]]<UIoptions!$T$11),1,0)","v":0},{"$f":"IF(AND(UIoptions!$P$14<=PCdb[[#This Row],[PL (MAX)]],UIoptions!$P$14>UIoptions!$S$14),1,0)","v":1},{"$f":"IF(AND(PCdb[[#This Row],[SD]]>UIoptions!$S$12,PCdb[[#This Row],[SD]]<UIoptions!$T$12),1,0)","v":0},{"$f":"IF(AND(PCdb[[#This Row],[SL]]>UIoptions!$S$13,PCdb[[#This Row],[SL]]<UIoptions!$T$13),1,0)","v":0},{"$f":"IF(UIoptions!$N$35=1,IF(AND(PCdb[[#This Row],[SQ_SZ]]>UIoptions!$S$15,PCdb[[#This Row],[SQ_SZ]]<UIoptions!$T$15),1,0),1)","v":0},{"$f":"IF(UIoptions!$N$35=2,IF(AND(PCdb[[#This Row],[ROUND_D]]>UIoptions!$S$15,PCdb[[#This Row],[ROUND_D]]<UIoptions!$T$15),1,0),1)","v":1},{"$f":"IF(UIoptions!$N$75<>1,1,IF(AND(PCdb[[#This Row],[FL]]>UIoptions!$S$16,PCdb[[#This Row],[FL]]<UIoptions!$T$16),1,0))","v":1},{"$f":"IF(OR(UIoptions!$Q$18=PCdb[[#This Row],[THRU_SCREW]],UIoptions!$Q$18=\"NA\"),1,0)","v":0},{"$f":"IF(OR(UIoptions!$P$19=PCdb[[#This Row],[THREAD_SZ]],UIoptions!$P$19=\"NA\"),1,0)","v":1},{"$f":"IF(UIoptions!$N$75=1,1,IF(AND(PCdb[[#This Row],[THREAD_L]]>UIoptions!$S$17,PCdb[[#This Row],[THREAD_L]]<UIoptions!$T$17),1,0))","v":1},{"$f":"IF(SUM(PCdb[[#This Row],[BDhit]:[THREAD_Lhit]])=11,1,0)","v":0},{"$f":"CONCATENATE(PCdb[[#This Row],[BCD]],PCdb[[#This Row],[PD]],PCdb[[#This Row],[PL (MAX)]],PCdb[[#This Row],[SD]],PCdb[[#This Row],[SL]],PCdb[[#This Row],[SQ_SZ]],PCdb[[#This Row],[ROUND_D]],PCdb[[#This Row],[FL]],PCdb[[#This Row],[THRU_SCREW]],PCdb[[#This Row],[THREAD_SZ]],PCdb[[#This Row],[THREAD_L]],PCdb[[#This Row],[NBR_HOLES]])","v":"90704194080NA7M6NANA4"},{"$f":"SUM(PCdb[[#This Row],[BDhit]:[THREAD_Lhit]])","v":5}]
[309,70.7,50,4,8,25,61,"NA",7,"M5","NA","NA",4,"M5",null,null,null,null,null,null,null,null,null,null,null,null,null,null,null,null,null,null,null,null,null,27,"NA","Y","D",45,90,null,null,null,null,null,null,null,null,null,null,null,null,{"$f":"IF(AND(PCdb[[#This Row],[BCD]]>UIoptions!$S$10,PCdb[[#This Row],[BCD]]<UIoptions!$T$10),1,0)","v":0},{"$f":"IF(AND(PCdb[[#This Row],[PD]]>UIoptions!$S$11,PCdb[[#This Row],[PD]]<UIoptions!$T$11),1,0)","v":0},{"$f":"IF(AND(UIoptions!$P$14<=PCdb[[#This Row],[PL (MAX)]],UIoptions!$P$14>UIoptions!$S$14),1,0)","v":1},{"$f":"IF(AND(PCdb[[#This Row],[SD]]>UIoptions!$S$12,PCdb[[#This Row],[SD]]<UIoptions!$T$12),1,0)","v":0},{"$f":"IF(AND(PCdb[[#This Row],[SL]]>UIoptions!$S$13,PCdb[[#This Row],[SL]]<UIoptions!$T$13),1,0)","v":0},{"$f":"IF(UIoptions!$N$35=1,IF(AND(PCdb[[#This Row],[SQ_SZ]]>UIoptions!$S$15,PCdb[[#This Row],[SQ_SZ]]<UIoptions!$T$15),1,0),1)","v":0},{"$f":"IF(UIoptions!$N$35=2,IF(AND(PCdb[[#This Row],[ROUND_D]]>UIoptions!$S$15,PCdb[[#This Row],[ROUND_D]]<UIoptions!$T$15),1,0),1)","v":1},{"$f":"IF(UIoptions!$N$75<>1,1,IF(AND(PCdb[[#This Row],[FL]]>UIoptions!$S$16,PCdb[[#This Row],[FL]]<UIoptions!$T$16),1,0))","v":1},{"$f":"IF(OR(UIoptions!$Q$18=PCdb[[#This Row],[THRU_SCREW]],UIoptions!$Q$18=\"NA\"),1,0)","v":0},{"$f":"IF(OR(UIoptions!$P$19=PCdb[[#This Row],[THREAD_SZ]],UIoptions!$P$19=\"NA\"),1,0)","v":1},{"$f":"IF(UIoptions!$N$75=1,1,IF(AND(PCdb[[#This Row],[THREAD_L]]>UIoptions!$S$17,PCdb[[#This Row],[THREAD_L]]<UIoptions!$T$17),1,0))","v":1},{"$f":"IF(SUM(PCdb[[#This Row],[BDhit]:[THREAD_Lhit]])=11,1,0)","v":0},{"$f":"CONCATENATE(PCdb[[#This Row],[BCD]],PCdb[[#This Row],[PD]],PCdb[[#This Row],[PL (MAX)]],PCdb[[#This Row],[SD]],PCdb[[#This Row],[SL]],PCdb[[#This Row],[SQ_SZ]],PCdb[[#This Row],[ROUND_D]],PCdb[[#This Row],[FL]],PCdb[[#This Row],[THRU_SCREW]],PCdb[[#This Row],[THREAD_SZ]],PCdb[[#This Row],[THREAD_L]],PCdb[[#This Row],[NBR_HOLES]])","v":"70,750482561NA7M5NANA4"},{"$f":"SUM(PCdb[[#This Row],[BDhit]:[THREAD_Lhit]])","v":5}]
[310,52,40,4,15,40,63,"NA","NA","NA","M4",15,4,5,null,null,null,null,null,null,null,null,null,null,null,null,null,null,null,null,null,null,null,null,null,null,null,null,null,null,null,null,null,null,null,null,null,"NA","NA","Y","D2",0,90,{"$f":"IF(AND(PCdb[[#This Row],[BCD]]>UIoptions!$S$10,PCdb[[#This Row],[BCD]]<UIoptions!$T$10),1,0)","v":0},{"$f":"IF(AND(PCdb[[#This Row],[PD]]>UIoptions!$S$11,PCdb[[#This Row],[PD]]<UIoptions!$T$11),1,0)","v":1},{"$f":"IF(AND(UIoptions!$P$14<=PCdb[[#This Row],[PL (MAX)]],UIoptions!$P$14>UIoptions!$S$14),1,0)","v":1},{"$f":"IF(AND(PCdb[[#This Row],[SD]]>UIoptions!$S$12,PCdb[[#This Row],[SD]]<UIoptions!$T$12),1,0)","v":1},{"$f":"IF(AND(PCdb[[#This Row],[SL]]>UIoptions!$S$13,PCdb[[#This Row],[SL]]<UIoptions!$T$13),1,0)","v":0},{"$f":"IF(UIoptions!$N$35=1,IF(AND(PCdb[[#This Row],[SQ_SZ]]>UIoptions!$S$15,PCdb[[#This Row],[SQ_SZ]]<UIoptions!$T$15),1,0),1)","v":0},{"$f":"IF(UIoptions!$N$35=2,IF(AND(PCdb[[#This Row],[ROUND_D]]>UIoptions!$S$15,PCdb[[#This Row],[ROUND_D]]<UIoptions!$T$15),1,0),1)","v":1},{"$f":"IF(UIoptions!$N$75<>1,1,IF(AND(PCdb[[#This Row],[FL]]>UIoptions!$S$16,PCdb[[#This Row],[FL]]<UIoptions!$T$16),1,0))","v":0},{"$f":"IF(OR(UIoptions!$Q$18=PCdb[[#This Row],[THRU_SCREW]],UIoptions!$Q$18=\"NA\"),1,0)","v":0},{"$f":"IF(OR(UIoptions!$P$19=PCdb[[#This Row],[THREAD_SZ]],UIoptions!$P$19=\"NA\"),1,0)","v":1},{"$f":"IF(UIoptions!$N$75=1,1,IF(AND(PCdb[[#This Row],[THREAD_L]]>UIoptions!$S$17,PCdb[[#This Row],[THREAD_L]]<UIoptions!$T$17),1,0))","v":1},{"$f":"IF(SUM(PCdb[[#This Row],[BDhit]:[THREAD_Lhit]])=11,1,0)","v":0},{"$f":"CONCATENATE(PCdb[[#This Row],[BCD]],PCdb[[#This Row],[PD]],PCdb[[#This Row],[PL (MAX)]],PCdb[[#This Row],[SD]],PCdb[[#This Row],[SL]],PCdb[[#This Row],[SQ_SZ]],PCdb[[#This Row],[ROUND_D]],PCdb[[#This Row],[FL]],PCdb[[#This Row],[THRU_SCREW]],PCdb[[#This Row],[THREAD_SZ]],PCdb[[#This Row],[THREAD_L]],PCdb[[#This Row],[NBR_HOLES]])","v":"52404154063NANANAM4154"},{"$f":"SUM(PCdb[[#This Row],[BDhit]:[THREAD_Lhit]])","v":6}]
[311,43.8,22,4,5,20,42,"NA","NA","NA","M3",3.5,4,4,38.700000000000003,"NA","NA","Y","B2",45,90,null,null,null,null,null,null,null,null,null,null,null,null,null,null,null,null,null,null,null,null,null,null,null,null,null,null,null,null,null,null,null,null,{"$f":"IF(AND(PCdb[[#This Row],[BCD]]>UIoptions!$S$10,PCdb[[#This Row],[BCD]]<UIoptions!$T$10),1,0)","v":0},{"$f":"IF(AND(PCdb[[#This Row],[PD]]>UIoptions!$S$11,PCdb[[#This Row],[PD]]<UIoptions!$T$11),1,0)","v":0},{"$f":"IF(AND(UIoptions!$P$14<=PCdb[[#This Row],[PL (MAX)]],UIoptions!$P$14>UIoptions!$S$14),1,0)","v":1},{"$f":"IF(AND(PCdb[[#This Row],[SD]]>UIoptions!$S$12,PCdb[[#This Row],[SD]]<UIoptions!$T$12),1,0)","v":0},{"$f":"IF(AND(PCdb[[#This Row],[SL]]>UIoptions!$S$13,PCdb[[#This Row],[SL]]<UIoptions!$T$13),1,0)","v":1},{"$f":"IF(UIoptions!$N$35=1,IF(AND(PCdb[[#This Row],[SQ_SZ]]>UIoptions!$S$15,PCdb[[#This Row],[SQ_SZ]]<UIoptions!$T$15),1,0),1)","v":0},{"$f":"IF(UIoptions!$N$35=2,IF(AND(PCdb[[#This Row],[ROUND_D]]>UIoptions!$S$15,PCdb[[#This Row],[ROUND_D]]<UIoptions!$T$15),1,0),1)","v":1},{"$f":"IF(UIoptions!$N$75<>1,1,IF(AND(PCdb[[#This Row],[FL]]>UIoptions!$S$16,PCdb[[#This Row],[FL]]<UIoptions!$T$16),1,0))","v":0},{"$f":"IF(OR(UIoptions!$Q$18=PCdb[[#This Row],[THRU_SCREW]],UIoptions!$Q$18=\"NA\"),1,0)","v":0},{"$f":"IF(OR(UIoptions!$P$19=PCdb[[#This Row],[THREAD_SZ]],UIoptions!$P$19=\"NA\"),1,0)","v":1},{"$f":"IF(UIoptions!$N$75=1,1,IF(AND(PCdb[[#This Row],[THREAD_L]]>UIoptions!$S$17,PCdb[[#This Row],[THREAD_L]]<UIoptions!$T$17),1,0))","v":1},{"$f":"IF(SUM(PCdb[[#This Row],[BDhit]:[THREAD_Lhit]])=11,1,0)","v":0},{"$f":"CONCATENATE(PCdb[[#This Row],[BCD]],PCdb[[#This Row],[PD]],PCdb[[#This Row],[PL (MAX)]],PCdb[[#This Row],[SD]],PCdb[[#This Row],[SL]],PCdb[[#This Row],[SQ_SZ]],PCdb[[#This Row],[ROUND_D]],PCdb[[#This Row],[FL]],PCdb[[#This Row],[THRU_SCREW]],PCdb[[#This Row],[THREAD_SZ]],PCdb[[#This Row],[THREAD_L]],PCdb[[#This Row],[NBR_HOLES]])","v":"43,822452042NANANAM33,54"},{"$f":"SUM(PCdb[[#This Row],[BDhit]:[THREAD_Lhit]])","v":5}]
[312,70,50,4,16,30,60,"NA",7,"M5","NA","NA",4,"M5",null,null,null,null,null,null,null,null,null,null,null,null,null,null,null,null,null,null,null,null,null,null,null,null,null,null,null,null,null,null,null,null,null,28,"NA","Y","C",45,90,{"$f":"IF(AND(PCdb[[#This Row],[BCD]]>UIoptions!$S$10,PCdb[[#This Row],[BCD]]<UIoptions!$T$10),1,0)","v":0},{"$f":"IF(AND(PCdb[[#This Row],[PD]]>UIoptions!$S$11,PCdb[[#This Row],[PD]]<UIoptions!$T$11),1,0)","v":0},{"$f":"IF(AND(UIoptions!$P$14<=PCdb[[#This Row],[PL (MAX)]],UIoptions!$P$14>UIoptions!$S$14),1,0)","v":1},{"$f":"IF(AND(PCdb[[#This Row],[SD]]>UIoptions!$S$12,PCdb[[#This Row],[SD]]<UIoptions!$T$12),1,0)","v":0},{"$f":"IF(AND(PCdb[[#This Row],[SL]]>UIoptions!$S$13,PCdb[[#This Row],[SL]]<UIoptions!$T$13),1,0)","v":0},{"$f":"IF(UIoptions!$N$35=1,IF(AND(PCdb[[#This Row],[SQ_SZ]]>UIoptions!$S$15,PCdb[[#This Row],[SQ_SZ]]<UIoptions!$T$15),1,0),1)","v":0},{"$f":"IF(UIoptions!$N$35=2,IF(AND(PCdb[[#This Row],[ROUND_D]]>UIoptions!$S$15,PCdb[[#This Row],[ROUND_D]]<UIoptions!$T$15),1,0),1)","v":1},{"$f":"IF(UIoptions!$N$75<>1,1,IF(AND(PCdb[[#This Row],[FL]]>UIoptions!$S$16,PCdb[[#This Row],[FL]]<UIoptions!$T$16),1,0))","v":1},{"$f":"IF(OR(UIoptions!$Q$18=PCdb[[#This Row],[THRU_SCREW]],UIoptions!$Q$18=\"NA\"),1,0)","v":0},{"$f":"IF(OR(UIoptions!$P$19=PCdb[[#This Row],[THREAD_SZ]],UIoptions!$P$19=\"NA\"),1,0)","v":1},{"$f":"IF(UIoptions!$N$75=1,1,IF(AND(PCdb[[#This Row],[THREAD_L]]>UIoptions!$S$17,PCdb[[#This Row],[THREAD_L]]<UIoptions!$T$17),1,0))","v":1},{"$f":"IF(SUM(PCdb[[#This Row],[BDhit]:[THREAD_Lhit]])=11,1,0)","v":0},{"$f":"CONCATENATE(PCdb[[#This Row],[BCD]],PCdb[[#This Row],[PD]],PCdb[[#This Row],[PL (MAX)]],PCdb[[#This Row],[SD]],PCdb[[#This Row],[SL]],PCdb[[#This Row],[SQ_SZ]],PCdb[[#This Row],[ROUND_D]],PCdb[[#This Row],[FL]],PCdb[[#This Row],[THRU_SCREW]],PCdb[[#This Row],[THREAD_SZ]],PCdb[[#This Row],[THREAD_L]],PCdb[[#This Row],[NBR_HOLES]])","v":"70504163060NA7M5NANA4"},{"$f":"SUM(PCdb[[#This Row],[BDhit]:[THREAD_Lhit]])","v":5}]
[313,89.9,70,4,16,35,80,"NA",10.5,"M6","NA","NA",4,"M6",null,null,null,null,null,null,null,null,null,null,null,null,null,null,null,null,null,null,null,null,null,null,null,null,null,null,null,null,null,null,null,null,null,37.5,"NA","Y","D",45,90,{"$f":"IF(AND(PCdb[[#This Row],[BCD]]>UIoptions!$S$10,PCdb[[#This Row],[BCD]]<UIoptions!$T$10),1,0)","v":0},{"$f":"IF(AND(PCdb[[#This Row],[PD]]>UIoptions!$S$11,PCdb[[#This Row],[PD]]<UIoptions!$T$11),1,0)","v":0},{"$f":"IF(AND(UIoptions!$P$14<=PCdb[[#This Row],[PL (MAX)]],UIoptions!$P$14>UIoptions!$S$14),1,0)","v":1},{"$f":"IF(AND(PCdb[[#This Row],[SD]]>UIoptions!$S$12,PCdb[[#This Row],[SD]]<UIoptions!$T$12),1,0)","v":0},{"$f":"IF(AND(PCdb[[#This Row],[SL]]>UIoptions!$S$13,PCdb[[#This Row],[SL]]<UIoptions!$T$13),1,0)","v":0},{"$f":"IF(UIoptions!$N$35=1,IF(AND(PCdb[[#This Row],[SQ_SZ]]>UIoptions!$S$15,PCdb[[#This Row],[SQ_SZ]]<UIoptions!$T$15),1,0),1)","v":0},{"$f":"IF(UIoptions!$N$35=2,IF(AND(PCdb[[#This Row],[ROUND_D]]>UIoptions!$S$15,PCdb[[#This Row],[ROUND_D]]<UIoptions!$T$15),1,0),1)","v":1},{"$f":"IF(UIoptions!$N$75<>1,1,IF(AND(PCdb[[#This Row],[FL]]>UIoptions!$S$16,PCdb[[#This Row],[FL]]<UIoptions!$T$16),1,0))","v":0},{"$f":"IF(OR(UIoptions!$Q$18=PCdb[[#This Row],[THRU_SCREW]],UIoptions!$Q$18=\"NA\"),1,0)","v":0},{"$f":"IF(OR(UIoptions!$P$19=PCdb[[#This Row],[THREAD_SZ]],UIoptions!$P$19=\"NA\"),1,0)","v":1},{"$f":"IF(UIoptions!$N$75=1,1,IF(AND(PCdb[[#This Row],[THREAD_L]]>UIoptions!$S$17,PCdb[[#This Row],[THREAD_L]]<UIoptions!$T$17),1,0))","v":1},{"$f":"IF(SUM(PCdb[[#This Row],[BDhit]:[THREAD_Lhit]])=11,1,0)","v":0},{"$f":"CONCATENATE(PCdb[[#This Row],[BCD]],PCdb[[#This Row],[PD]],PCdb[[#This Row],[PL (MAX)]],PCdb[[#This Row],[SD]],PCdb[[#This Row],[SL]],PCdb[[#This Row],[SQ_SZ]],PCdb[[#This Row],[ROUND_D]],PCdb[[#This Row],[FL]],PCdb[[#This Row],[THRU_SCREW]],PCdb[[#This Row],[THREAD_SZ]],PCdb[[#This Row],[THREAD_L]],PCdb[[#This Row],[NBR_HOLES]])","v":"89,9704163580NA10,5M6NANA4"},{"$f":"SUM(PCdb[[#This Row],[BDhit]:[THREAD_Lhit]])","v":4}]
[314,70.7,36,4,6.35,20.6,60,"NA",6,"M4","NA","NA",4,"M4",38.700000000000003,22,"NA","Y","B",45,90,null,null,null,null,null,null,null,null,null,null,null,null,null,null,null,null,null,null,null,null,null,null,null,null,null,null,null,null,null,null,null,null,{"$f":"IF(AND(PCdb[[#This Row],[BCD]]>UIoptions!$S$10,PCdb[[#This Row],[BCD]]<UIoptions!$T$10),1,0)","v":0},{"$f":"IF(AND(PCdb[[#This Row],[PD]]>UIoptions!$S$11,PCdb[[#This Row],[PD]]<UIoptions!$T$11),1,0)","v":0},{"$f":"IF(AND(UIoptions!$P$14<=PCdb[[#This Row],[PL (MAX)]],UIoptions!$P$14>UIoptions!$S$14),1,0)","v":1},{"$f":"IF(AND(PCdb[[#This Row],[SD]]>UIoptions!$S$12,PCdb[[#This Row],[SD]]<UIoptions!$T$12),1,0)","v":0},{"$f":"IF(AND(PCdb[[#This Row],[SL]]>UIoptions!$S$13,PCdb[[#This Row],[SL]]<UIoptions!$T$13),1,0)","v":0},{"$f":"IF(UIoptions!$N$35=1,IF(AND(PCdb[[#This Row],[SQ_SZ]]>UIoptions!$S$15,PCdb[[#This Row],[SQ_SZ]]<UIoptions!$T$15),1,0),1)","v":0},{"$f":"IF(UIoptions!$N$35=2,IF(AND(PCdb[[#This Row],[ROUND_D]]>UIoptions!$S$15,PCdb[[#This Row],[ROUND_D]]<UIoptions!$T$15),1,0),1)","v":1},{"$f":"IF(UIoptions!$N$75<>1,1,IF(AND(PCdb[[#This Row],[FL]]>UIoptions!$S$16,PCdb[[#This Row],[FL]]<UIoptions!$T$16),1,0))","v":0},{"$f":"IF(OR(UIoptions!$Q$18=PCdb[[#This Row],[THRU_SCREW]],UIoptions!$Q$18=\"NA\"),1,0)","v":1},{"$f":"IF(OR(UIoptions!$P$19=PCdb[[#This Row],[THREAD_SZ]],UIoptions!$P$19=\"NA\"),1,0)","v":1},{"$f":"IF(UIoptions!$N$75=1,1,IF(AND(PCdb[[#This Row],[THREAD_L]]>UIoptions!$S$17,PCdb[[#This Row],[THREAD_L]]<UIoptions!$T$17),1,0))","v":1},{"$f":"IF(SUM(PCdb[[#This Row],[BDhit]:[THREAD_Lhit]])=11,1,0)","v":0},{"$f":"CONCATENATE(PCdb[[#This Row],[BCD]],PCdb[[#This Row],[PD]],PCdb[[#This Row],[PL (MAX)]],PCdb[[#This Row],[SD]],PCdb[[#This Row],[SL]],PCdb[[#This Row],[SQ_SZ]],PCdb[[#This Row],[ROUND_D]],PCdb[[#This Row],[FL]],PCdb[[#This Row],[THRU_SCREW]],PCdb[[#This Row],[THREAD_SZ]],PCdb[[#This Row],[THREAD_L]],PCdb[[#This Row],[NBR_HOLES]])","v":"70,73646,3520,660NA6M4NANA4"},{"$f":"SUM(PCdb[[#This Row],[BDhit]:[THREAD_Lhit]])","v":5}]
[315,90,70,4,19,35,80,"NA",10,"M5","NA","NA",4,"M5",null,null,null,null,null,null,null,null,null,null,null,null,null,null,48.7,37,"NA","Y","B",45,90,null,null,null,null,null,null,null,null,null,null,null,null,null,null,null,null,null,null,{"$f":"IF(AND(PCdb[[#This Row],[BCD]]>UIoptions!$S$10,PCdb[[#This Row],[BCD]]<UIoptions!$T$10),1,0)","v":0},{"$f":"IF(AND(PCdb[[#This Row],[PD]]>UIoptions!$S$11,PCdb[[#This Row],[PD]]<UIoptions!$T$11),1,0)","v":0},{"$f":"IF(AND(UIoptions!$P$14<=PCdb[[#This Row],[PL (MAX)]],UIoptions!$P$14>UIoptions!$S$14),1,0)","v":1},{"$f":"IF(AND(PCdb[[#This Row],[SD]]>UIoptions!$S$12,PCdb[[#This Row],[SD]]<UIoptions!$T$12),1,0)","v":0},{"$f":"IF(AND(PCdb[[#This Row],[SL]]>UIoptions!$S$13,PCdb[[#This Row],[SL]]<UIoptions!$T$13),1,0)","v":0},{"$f":"IF(UIoptions!$N$35=1,IF(AND(PCdb[[#This Row],[SQ_SZ]]>UIoptions!$S$15,PCdb[[#This Row],[SQ_SZ]]<UIoptions!$T$15),1,0),1)","v":0},{"$f":"IF(UIoptions!$N$35=2,IF(AND(PCdb[[#This Row],[ROUND_D]]>UIoptions!$S$15,PCdb[[#This Row],[ROUND_D]]<UIoptions!$T$15),1,0),1)","v":1},{"$f":"IF(UIoptions!$N$75<>1,1,IF(AND(PCdb[[#This Row],[FL]]>UIoptions!$S$16,PCdb[[#This Row],[FL]]<UIoptions!$T$16),1,0))","v":0},{"$f":"IF(OR(UIoptions!$Q$18=PCdb[[#This Row],[THRU_SCREW]],UIoptions!$Q$18=\"NA\"),1,0)","v":0},{"$f":"IF(OR(UIoptions!$P$19=PCdb[[#This Row],[THREAD_SZ]],UIoptions!$P$19=\"NA\"),1,0)","v":1},{"$f":"IF(UIoptions!$N$75=1,1,IF(AND(PCdb[[#This Row],[THREAD_L]]>UIoptions!$S$17,PCdb[[#This Row],[THREAD_L]]<UIoptions!$T$17),1,0))","v":1},{"$f":"IF(SUM(PCdb[[#This Row],[BDhit]:[THREAD_Lhit]])=11,1,0)","v":0},{"$f":"CONCATENATE(PCdb[[#This Row],[BCD]],PCdb[[#This Row],[PD]],PCdb[[#This Row],[PL (MAX)]],PCdb[[#This Row],[SD]],PCdb[[#This Row],[SL]],PCdb[[#This Row],[SQ_SZ]],PCdb[[#This Row],[ROUND_D]],PCdb[[#This Row],[FL]],PCdb[[#This Row],[THRU_SCREW]],PCdb[[#This Row],[THREAD_SZ]],PCdb[[#This Row],[THREAD_L]],PCdb[[#This Row],[NBR_HOLES]])","v":"90704193580NA10M5NANA4"},{"$f":"SUM(PCdb[[#This Row],[BDhit]:[THREAD_Lhit]])","v":4}]
[316,90,70,4,19,40,80,"NA",6.5,"M6","NA","NA",4,"M6",null,null,null,null,null,null,null,null,null,null,null,null,null,null,45.2,37,"NA","Y","B",45,90,null,null,null,null,null,null,null,null,null,null,null,null,null,null,null,null,null,null,{"$f":"IF(AND(PCdb[[#This Row],[BCD]]>UIoptions!$S$10,PCdb[[#This Row],[BCD]]<UIoptions!$T$10),1,0)","v":0},{"$f":"IF(AND(PCdb[[#This Row],[PD]]>UIoptions!$S$11,PCdb[[#This Row],[PD]]<UIoptions!$T$11),1,0)","v":0},{"$f":"IF(AND(UIoptions!$P$14<=PCdb[[#This Row],[PL (MAX)]],UIoptions!$P$14>UIoptions!$S$14),1,0)","v":1},{"$f":"IF(AND(PCdb[[#This Row],[SD]]>UIoptions!$S$12,PCdb[[#This Row],[SD]]<UIoptions!$T$12),1,0)","v":0},{"$f":"IF(AND(PCdb[[#This Row],[SL]]>UIoptions!$S$13,PCdb[[#This Row],[SL]]<UIoptions!$T$13),1,0)","v":0},{"$f":"IF(UIoptions!$N$35=1,IF(AND(PCdb[[#This Row],[SQ_SZ]]>UIoptions!$S$15,PCdb[[#This Row],[SQ_SZ]]<UIoptions!$T$15),1,0),1)","v":0},{"$f":"IF(UIoptions!$N$35=2,IF(AND(PCdb[[#This Row],[ROUND_D]]>UIoptions!$S$15,PCdb[[#This Row],[ROUND_D]]<UIoptions!$T$15),1,0),1)","v":1},{"$f":"IF(UIoptions!$N$75<>1,1,IF(AND(PCdb[[#This Row],[FL]]>UIoptions!$S$16,PCdb[[#This Row],[FL]]<UIoptions!$T$16),1,0))","v":0},{"$f":"IF(OR(UIoptions!$Q$18=PCdb[[#This Row],[THRU_SCREW]],UIoptions!$Q$18=\"NA\"),1,0)","v":0},{"$f":"IF(OR(UIoptions!$P$19=PCdb[[#This Row],[THREAD_SZ]],UIoptions!$P$19=\"NA\"),1,0)","v":1},{"$f":"IF(UIoptions!$N$75=1,1,IF(AND(PCdb[[#This Row],[THREAD_L]]>UIoptions!$S$17,PCdb[[#This Row],[THREAD_L]]<UIoptions!$T$17),1,0))","v":1},{"$f":"IF(SUM(PCdb[[#This Row],[BDhit]:[THREAD_Lhit]])=11,1,0)","v":0},{"$f":"CONCATENATE(PCdb[[#This Row],[BCD]],PCdb[[#This Row],[PD]],PCdb[[#This Row],[PL (MAX)]],PCdb[[#This Row],[SD]],PCdb[[#This Row],[SL]],PCdb[[#This Row],[SQ_SZ]],PCdb[[#This Row],[ROUND_D]],PCdb[[#This Row],[FL]],PCdb[[#This Row],[THRU_SCREW]],PCdb[[#This Row],[THREAD_SZ]],PCdb[[#This Row],[THREAD_L]],PCdb[[#This Row],[NBR_HOLES]])","v":"90704194080NA6,5M6NANA4"},{"$f":"SUM(PCdb[[#This Row],[BDhit]:[THREAD_Lhit]])","v":4}]
[317,45,32,4,12,28,"NA",56,"NA","NA","M5",15,4,6,null,null,null,null,null,null,null,45.2,"NA","NA","Y","B2",45,90,null,null,null,null,null,null,null,null,null,null,null,null,null,null,null,null,null,null,null,null,null,null,null,null,null,{"$f":"IF(AND(PCdb[[#This Row],[BCD]]>UIoptions!$S$10,PCdb[[#This Row],[BCD]]<UIoptions!$T$10),1,0)","v":0},{"$f":"IF(AND(PCdb[[#This Row],[PD]]>UIoptions!$S$11,PCdb[[#This Row],[PD]]<UIoptions!$T$11),1,0)","v":0},{"$f":"IF(AND(UIoptions!$P$14<=PCdb[[#This Row],[PL (MAX)]],UIoptions!$P$14>UIoptions!$S$14),1,0)","v":1},{"$f":"IF(AND(PCdb[[#This Row],[SD]]>UIoptions!$S$12,PCdb[[#This Row],[SD]]<UIoptions!$T$12),1,0)","v":0},{"$f":"IF(AND(PCdb[[#This Row],[SL]]>UIoptions!$S$13,PCdb[[#This Row],[SL]]<UIoptions!$T$13),1,0)","v":0},{"$f":"IF(UIoptions!$N$35=1,IF(AND(PCdb[[#This Row],[SQ_SZ]]>UIoptions!$S$15,PCdb[[#This Row],[SQ_SZ]]<UIoptions!$T$15),1,0),1)","v":0},{"$f":"IF(UIoptions!$N$35=2,IF(AND(PCdb[[#This Row],[ROUND_D]]>UIoptions!$S$15,PCdb[[#This Row],[ROUND_D]]<UIoptions!$T$15),1,0),1)","v":1},{"$f":"IF(UIoptions!$N$75<>1,1,IF(AND(PCdb[[#This Row],[FL]]>UIoptions!$S$16,PCdb[[#This Row],[FL]]<UIoptions!$T$16),1,0))","v":0},{"$f":"IF(OR(UIoptions!$Q$18=PCdb[[#This Row],[THRU_SCREW]],UIoptions!$Q$18=\"NA\"),1,0)","v":0},{"$f":"IF(OR(UIoptions!$P$19=PCdb[[#This Row],[THREAD_SZ]],UIoptions!$P$19=\"NA\"),1,0)","v":1},{"$f":"IF(UIoptions!$N$75=1,1,IF(AND(PCdb[[#This Row],[THREAD_L]]>UIoptions!$S$17,PCdb[[#This Row],[THREAD_L]]<UIoptions!$T$17),1,0))","v":1},{"$f":"IF(SUM(PCdb[[#This Row],[BDhit]:[THREAD_Lhit]])=11,1,0)","v":0},{"$f":"CONCATENATE(PCdb[[#This Row],[BCD]],PCdb[[#This Row],[PD]],PCdb[[#This Row],[PL (MAX)]],PCdb[[#This Row],[SD]],PCdb[[#This Row],[SL]],PCdb[[#This Row],[SQ_SZ]],PCdb[[#This Row],[ROUND_D]],PCdb[[#This Row],[FL]],PCdb[[#This Row],[THRU_SCREW]],PCdb[[#This Row],[THREAD_SZ]],PCdb[[#This Row],[THREAD_L]],PCdb[[#This Row],[NBR_HOLES]])","v":"453241228NA56NANAM5154"},{"$f":"SUM(PCdb[[#This Row],[BDhit]:[THREAD_Lhit]])","v":4}]
[318,70,50,4,14,30,60,"NA",10,"M5","NA","NA",4,"M5",null,null,null,null,null,null,null,null,null,null,null,null,null,null,null,null,null,null,null,null,null,null,null,null,null,null,null,27,0,"Y","C",45,90,null,null,null,null,null,null,{"$f":"IF(AND(PCdb[[#This Row],[BCD]]>UIoptions!$S$10,PCdb[[#This Row],[BCD]]<UIoptions!$T$10),1,0)","v":0},{"$f":"IF(AND(PCdb[[#This Row],[PD]]>UIoptions!$S$11,PCdb[[#This Row],[PD]]<UIoptions!$T$11),1,0)","v":0},{"$f":"IF(AND(UIoptions!$P$14<=PCdb[[#This Row],[PL (MAX)]],UIoptions!$P$14>UIoptions!$S$14),1,0)","v":1},{"$f":"IF(AND(PCdb[[#This Row],[SD]]>UIoptions!$S$12,PCdb[[#This Row],[SD]]<UIoptions!$T$12),1,0)","v":0},{"$f":"IF(AND(PCdb[[#This Row],[SL]]>UIoptions!$S$13,PCdb[[#This Row],[SL]]<UIoptions!$T$13),1,0)","v":0},{"$f":"IF(UIoptions!$N$35=1,IF(AND(PCdb[[#This Row],[SQ_SZ]]>UIoptions!$S$15,PCdb[[#This Row],[SQ_SZ]]<UIoptions!$T$15),1,0),1)","v":0},{"$f":"IF(UIoptions!$N$35=2,IF(AND(PCdb[[#This Row],[ROUND_D]]>UIoptions!$S$15,PCdb[[#This Row],[ROUND_D]]<UIoptions!$T$15),1,0),1)","v":1},{"$f":"IF(UIoptions!$N$75<>1,1,IF(AND(PCdb[[#This Row],[FL]]>UIoptions!$S$16,PCdb[[#This Row],[FL]]<UIoptions!$T$16),1,0))","v":0},{"$f":"IF(OR(UIoptions!$Q$18=PCdb[[#This Row],[THRU_SCREW]],UIoptions!$Q$18=\"NA\"),1,0)","v":0},{"$f":"IF(OR(UIoptions!$P$19=PCdb[[#This Row],[THREAD_SZ]],UIoptions!$P$19=\"NA\"),1,0)","v":1},{"$f":"IF(UIoptions!$N$75=1,1,IF(AND(PCdb[[#This Row],[THREAD_L]]>UIoptions!$S$17,PCdb[[#This Row],[THREAD_L]]<UIoptions!$T$17),1,0))","v":1},{"$f":"IF(SUM(PCdb[[#This Row],[BDhit]:[THREAD_Lhit]])=11,1,0)","v":0},{"$f":"CONCATENATE(PCdb[[#This Row],[BCD]],PCdb[[#This Row],[PD]],PCdb[[#This Row],[PL (MAX)]],PCdb[[#This Row],[SD]],PCdb[[#This Row],[SL]],PCdb[[#This Row],[SQ_SZ]],PCdb[[#This Row],[ROUND_D]],PCdb[[#This Row],[FL]],PCdb[[#This Row],[THRU_SCREW]],PCdb[[#This Row],[THREAD_SZ]],PCdb[[#This Row],[THREAD_L]],PCdb[[#This Row],[NBR_HOLES]])","v":"70504143060NA10M5NANA4"},{"$f":"SUM(PCdb[[#This Row],[BDhit]:[THREAD_Lhit]])","v":4}]
[319,90,70,4,16,25,80,"NA",7,"M6","NA","NA",4,"M6",null,null,null,null,null,null,null,null,null,null,null,null,null,null,null,null,null,null,null,null,null,null,null,null,null,null,null,null,null,null,null,null,null,37,"NA","Y","D",45,90,{"$f":"IF(AND(PCdb[[#This Row],[BCD]]>UIoptions!$S$10,PCdb[[#This Row],[BCD]]<UIoptions!$T$10),1,0)","v":0},{"$f":"IF(AND(PCdb[[#This Row],[PD]]>UIoptions!$S$11,PCdb[[#This Row],[PD]]<UIoptions!$T$11),1,0)","v":0},{"$f":"IF(AND(UIoptions!$P$14<=PCdb[[#This Row],[PL (MAX)]],UIoptions!$P$14>UIoptions!$S$14),1,0)","v":1},{"$f":"IF(AND(PCdb[[#This Row],[SD]]>UIoptions!$S$12,PCdb[[#This Row],[SD]]<UIoptions!$T$12),1,0)","v":0},{"$f":"IF(AND(PCdb[[#This Row],[SL]]>UIoptions!$S$13,PCdb[[#This Row],[SL]]<UIoptions!$T$13),1,0)","v":0},{"$f":"IF(UIoptions!$N$35=1,IF(AND(PCdb[[#This Row],[SQ_SZ]]>UIoptions!$S$15,PCdb[[#This Row],[SQ_SZ]]<UIoptions!$T$15),1,0),1)","v":0},{"$f":"IF(UIoptions!$N$35=2,IF(AND(PCdb[[#This Row],[ROUND_D]]>UIoptions!$S$15,PCdb[[#This Row],[ROUND_D]]<UIoptions!$T$15),1,0),1)","v":1},{"$f":"IF(UIoptions!$N$75<>1,1,IF(AND(PCdb[[#This Row],[FL]]>UIoptions!$S$16,PCdb[[#This Row],[FL]]<UIoptions!$T$16),1,0))","v":1},{"$f":"IF(OR(UIoptions!$Q$18=PCdb[[#This Row],[THRU_SCREW]],UIoptions!$Q$18=\"NA\"),1,0)","v":0},{"$f":"IF(OR(UIoptions!$P$19=PCdb[[#This Row],[THREAD_SZ]],UIoptions!$P$19=\"NA\"),1,0)","v":1},{"$f":"IF(UIoptions!$N$75=1,1,IF(AND(PCdb[[#This Row],[THREAD_L]]>UIoptions!$S$17,PCdb[[#This Row],[THREAD_L]]<UIoptions!$T$17),1,0))","v":1},{"$f":"IF(SUM(PCdb[[#This Row],[BDhit]:[THREAD_Lhit]])=11,1,0)","v":0},{"$f":"CONCATENATE(PCdb[[#This Row],[BCD]],PCdb[[#This Row],[PD]],PCdb[[#This Row],[PL (MAX)]],PCdb[[#This Row],[SD]],PCdb[[#This Row],[SL]],PCdb[[#This Row],[SQ_SZ]],PCdb[[#This Row],[ROUND_D]],PCdb[[#This Row],[FL]],PCdb[[#This Row],[THRU_SCREW]],PCdb[[#This Row],[THREAD_SZ]],PCdb[[#This Row],[THREAD_L]],PCdb[[#This Row],[NBR_HOLES]])","v":"90704162580NA7M6NANA4"},{"$f":"SUM(PCdb[[#This Row],[BDhit]:[THREAD_Lhit]])","v":5}]

{"sheet":"NewID","index":3,"n_rows":103,"n_cols":19,"rows_kept":103,"cut":false,"hidden":true,"merged":[]}
[]
["Bolt circle diameter","BD",{"$f":"UIoptions!P10","v":63}]
["Pilot diameter","PD",{"$f":"UIoptions!P11","v":40},null,null,null,null,null,"ID",273]
["Pilot length","PL (MAX)",{"$f":"UIoptions!P14","v":2.5},{"$f":"IF(C4=\"\",\"\",IF(C4>4,\"Too long! Max 4 mm!!\",\"OK\"))","v":"OK"}]
["Shaft diameter","SD",{"$f":"UIoptions!P12","v":15}]
["Shaft Length","SL",{"$f":"UIoptions!P13","v":20}]
["Square size","SQ_SZ",{"$f":"IF(UIoptions!N35=1,UIoptions!P15,\"NA\")","v":58}]
["Round motor diameter","ROUND_D",{"$f":"IF(UIoptions!N35=2,UIoptions!P15,\"NA\")","v":"NA"}]
["Flange length","FL",{"$f":"IF(UIoptions!N75=1,UIoptions!P16,\"NA\")","v":7}]
["Thru hole diameter",null,{"$f":"IF(UIoptions!N75=1,UIoptions!P18,\"NA\")","v":4.8},{"$f":"IF(C10=\"NA\",\"NA\",UIoptions!Q18)","v":"M4"}]
["Thread size","THREAD_SZ",{"$f":"IF(UIoptions!N75<>1,INDEX(UIoptions!M37:N60,MATCH(UIoptions!N75,UIoptions!N37:N52,0),1),\"NA\")","v":"NA"},{"$f":"IF(UIoptions!N75=1,INDEX(Criteria!A111:E153,MATCH(C11,Criteria!A111:A153,0),4),INDEX(Criteria!A111:G153,MATCH(C11,Criteria!A111:A153,0),5))","v":{"$error":"#N/A"}}]
["Thread length","THREAD_L",{"$f":"IF(UIoptions!N75<>1,UIoptions!P17,\"NA\")","v":"NA"}]
["Nbr of holes","NBR_HOLES",4]
[]
["NEW ID"]
["BD","PD","PL (MAX)","SD","SL","SQ_SZ","ROUND_D","FL","THRU_SCREW","THREAD_SZ","THREAD_L","NBR_HOLES","H"]
[{"$f":"C2","v":63},{"$f":"C3","v":40},4,{"$f":"C5","v":15},{"$f":"C6","v":20},{"$f":"IF(C7=\"\",\"NA\",C7)","v":58},{"$f":"IF(C8=\"\",\"NA\",C8)","v":"NA"},{"$f":"C9","v":7},{"$f":"IF(C10=\"\",\"NA\",D10)","v":"M4"},{"$f":"IF(C11=\"\",\"NA\",C11)","v":"NA"},{"$f":"IF(C12=\"\",\"NA\",C12)","v":"NA"},{"$f":"C13","v":4},{"$f":"IF(UIoptions!N75=1,NewID!D10,D11)","v":"M4"}]
[]
[]
["CROSS REF (MOTOR LIST)"]
["BD","PD","PL","SD","SL","SQ_SZ","ROUND_D","FL","THRU_HOLE_D","THREAD_SZ","THREAD_L","NBR_HOLES"]
[{"$f":"ROUND(UIoptions!M10,3)","v":63},{"$f":"ROUNDUP(UIoptions!M11,3)","v":40},4,{"$f":"UIoptions!M12","v":15},{"$f":"ROUND(UIoptions!M13,1)","v":20},{"$f":"ROUND(IF(UIoptions!N35=1,UIoptions!M15,\"NA\"),1)","v":58},{"$f":"IF(UIoptions!N35=2,UIoptions!M15,\"NA\")","v":"NA"},{"$f":"ROUND(IF(UIoptions!N75=1,UIoptions!M16,\"NA\"),2)","v":7},{"$f":"ROUND(IF(UIoptions!N75=1,UIoptions!M18,\"NA\"),2)","v":4.8},{"$f":"IF(UIoptions!N75<>1,INDEX(UIoptions!M38:M74,MATCH(UIoptions!N75,UIoptions!N38:N74,0)),\"NA\")","v":"NA"},{"$f":"IF(UIoptions!N75<>1,UIoptions!M21,\"NA\")","v":"NA"},{"$f":"C13","v":4}]
[]
["3-123.400","PC25LX"]
["3-123.399","PC32LX"]
["3-123.398","PC40LX"]
["3-123.397","PC25PA",null,null,null,null,null,null,null,null,null,null,null,null,null,null,"LOAD ID"]
["3-123.396","PC32PA",null,null,null,null,null,null,null,null,null,null,null,null,null,null,"BCD",{"$f":"INDEX(PCdb[BCD],MATCH($J$3,PCdb[RMID],0))","v":70}]
["3-123.395","PC40PA",null,null,null,null,null,null,null,null,null,null,null,null,null,null,"PD",{"$f":"INDEX(PCdb[PD],MATCH($J$3,PCdb[RMID],0))","v":50}]
[null,null,null,null,null,null,null,null,null,null,null,null,null,null,null,null,"SD",{"$f":"INDEX(PCdb[SD],MATCH($J$3,PCdb[RMID],0))","v":14}]
[null,null,"PC25",null,null,null,null,"PC32",null,null,null,"PC40",null,null,null,null,"SL",{"$f":"INDEX(PCdb[SL],MATCH($J$3,PCdb[RMID],0))","v":30}]
[null,null,null,null,null,null,null,null,null,null,null,null,null,null,null,null,"PL",{"$f":"INDEX(PCdb[PL (MAX)],MATCH($J$3,PCdb[RMID],0))","v":4}]
[null,null,null,null,null,null,null,null,null,null,null,null,null,null,null,null,"SQ",{"$f":"INDEX(PCdb[SQ_SZ],MATCH($J$3,PCdb[RMID],0))","v":62}]
[null,null,null,null,null,null,null,null,null,null,null,null,null,null,null,null,"Round",{"$f":"INDEX(PCdb[ROUND_D],MATCH($J$3,PCdb[RMID],0))","v":"NA"},{"$f":"IF(R34=\"NA\",R33,R34)","v":62}]
[null,null,null,null,null,null,null,null,null,null,null,null,null,null,null,null,"Thru Holes"]
[null,null,null,null,null,null,null,null,null,null,null,null,null,null,null,null,"HD",{"$f":"INDEX(PCdb[THRU_SCREW],MATCH($J$3,PCdb[RMID],0))","v":"M4"},{"$f":"IF(R36=\"NA\",\"\",VLOOKUP(NewID!R36,Criteria!A111:E153,5,FALSE))","v":5}]
[null,null,null,null,null,null,null,null,null,null,null,null,null,null,null,null,"FT",{"$f":"INDEX(PCdb[FL],MATCH($J$3,PCdb[RMID],0))","v":9},{"$f":"IF(R37=\"NA\",\"\",R37)","v":9}]
[null,null,null,null,null,null,null,null,null,null,null,null,null,null,null,null,"Threaded"]
[null,null,null,null,null,null,null,null,null,null,null,null,null,null,null,null,"Size",{"$f":"INDEX(PCdb[THREAD_SZ],MATCH($J$3,PCdb[RMID],0))","v":"NA"},{"$f":"IF(R39=\"NA\",1,MATCH(R39,UIoptions!M37:M74,0))","v":1}]
[null,null,null,null,null,null,null,null,null,null,null,null,null,null,null,null,"Depth",{"$f":"INDEX(PCdb[THREAD_L],MATCH($J$3,PCdb[RMID],0))","v":"NA"},{"$f":"IF(R40=\"NA\",\"\",R40)","v":""}]
[]
[]
[]
[]
[]
[]
[]
[]
[]
[]
[null,null,null,null,null,null,null,null,null,null,null,null,null,null,null,"PNI: 14.03.04"]
[null,null,null,null,null,null,null,null,null,null,null,null,null,null,null,"MAGNUS: skriva in någonstans vilka gänglängder"]
[null,null,null,null,null,null,null,null,null,null,null,null,null,null,null," vi har i de olika plattorna så att vi lätt kan ta fram L på skruvarna för att montera motorn."]
[null,null,null,null,null,null,null,null,null,null,null,null,null,null,null,"Varit bra at få ut artikelnummer på klockhusen, de olika längderna förvillar, några är katalogdata"]
[null,null,null,null,null,null,null,null,null,null,null,null,null,null,null,"några faktiska längder på husen"]
[]
[]
[]
[]
[]
[]
[]
[]
[]
[]
[]
[]
[]
[]
[null,null,null,null,null,null,null,null,null,null,null,null,null,null,null,null,null,null,"LE= längd klockhus"]
[null,null,null,null,null,null,null,null,null,null,null,null,null,null,null,null,null,null,"C= L-klockhus + fläns motorplatta"]
[]
[]
[]
[]
[]
[]
[]
[]
[]
[]
[]
[]
[]
[]
[]
[]
[]
[]
[]
[]
[]
[]
[]
[]
[]
[]
[]
[]
[]
[]
[null,null,null,null,null,null,null,null,null,null,"Kopplingshalva till motoraxel"]
[null,null,null,null,null,null,null,null,null,null,null,"sista siffran i benämningen är diametern på motoraxeln"]

{"sheet":"MotorCrossRef","index":4,"n_rows":146,"n_cols":17,"rows_kept":146,"cut":false,"hidden":true,"merged":[]}
["Manufacturer","Model","RMID","BCD","PD","PL","SD","SL","SQ_SZ","ROUND_D","FL","THRU_HOLE_D","THREAD_SZ","THREAD_L","NBR_HOLES","Drawing","ComboTxt"]
["Applied Motion","HT23-401",null,66.665999999999997,38.1,1.6,6.35,20,56.4,"NA",5,5.2,"NA","NA",4,"http://www.applied-motion.com/sites/default/files/HT23-401_RevE.pdf",{"$f":"CONCATENATE(TableMotorCrossRef[[#This Row],[Manufacturer]],TableMotorCrossRef[[#This Row],[Model]])","v":"Applied MotionHT23-401"}]
["Applied Motion","HT34-478",null,98.429000000000002,73,2,12.7,37,85.8,"NA",10,6.6,"NA","NA",4,"http://www.applied-motion.com/sites/default/files/HT34-478_RevF.pdf",{"$f":"CONCATENATE(TableMotorCrossRef[[#This Row],[Manufacturer]],TableMotorCrossRef[[#This Row],[Model]])","v":"Applied MotionHT34-478"}]
["Delta","ECMA-Cx0602xx",10,70,50,3,14,30,60,"NA",7.5,5.5,"NA","NA",4,"http://www.delta.com.tw/product/em/motion/motion_servo/download/dimension/ECMA-NB/Delta_ECMA_60_nobrake.pdf",{"$f":"CONCATENATE(TableMotorCrossRef[[#This Row],[Manufacturer]],TableMotorCrossRef[[#This Row],[Model]])","v":"DeltaECMA-Cx0602xx"}]
["Emerson","NTE-207",null,66.7,38.1,2.5,9.5,30.7,57.7,"NA",7.5,5.2,"NA","NA",4,"http://www.emersonindustrial.com/en-EN/documentcenter/ControlTechniques/Brochures/CTA/BRO_SRVMTR.pdf",{"$f":"CONCATENATE(TableMotorCrossRef[[#This Row],[Manufacturer]],TableMotorCrossRef[[#This Row],[Model]])","v":"EmersonNTE-207"}]
["Emerson","NTE-212",null,66.7,38.1,2.5,9.5,30.7,57.7,"NA",7.5,5.2,"NA","NA",4,"http://www.emersonindustrial.com/en-EN/documentcenter/ControlTechniques/Brochures/CTA/BRO_SRVMTR.pdf",{"$f":"CONCATENATE(TableMotorCrossRef[[#This Row],[Manufacturer]],TableMotorCrossRef[[#This Row],[Model]])","v":"EmersonNTE-212"}]
["Emerson","NTM-207",null,75,60,2.5,11,23.5,65.2,"NA",7.5,5.8,"NA","NA",4,"http://www.emersonindustrial.com/en-EN/documentcenter/ControlTechniques/Brochures/CTA/BRO_SRVMTR.pdf",{"$f":"CONCATENATE(TableMotorCrossRef[[#This Row],[Manufacturer]],TableMotorCrossRef[[#This Row],[Model]])","v":"EmersonNTM-207"}]
["Emerson","NTM-212",null,75,60,2.5,11,23.5,65.2,"NA",7.5,5.8,"NA","NA",4,"http://www.emersonindustrial.com/en-EN/documentcenter/ControlTechniques/Brochures/CTA/BRO_SRVMTR.pdf",{"$f":"CONCATENATE(TableMotorCrossRef[[#This Row],[Manufacturer]],TableMotorCrossRef[[#This Row],[Model]])","v":"EmersonNTM-212"}]
["Fanuc","SLM003",null,66.674999999999997,38.150999999999996,3,6.35,20,57.7,"NA",6,5,"NA","NA",4,"FANUC-gfk1866a.pdf, http://support.ge-ip.com/support/resources/sites/GE_FANUC_SUPPORT/content/live/DOCUMENT/0/DO467/en_US/gfk1866a.pdf",{"$f":"CONCATENATE(TableMotorCrossRef[[#This Row],[Manufacturer]],TableMotorCrossRef[[#This Row],[Model]])","v":"FanucSLM003"}]
["Fanuc","SLM005",null,66.674999999999997,38.150999999999996,3,6.35,20,57.7,"NA",6,5,"NA","NA",4,"FANUC-gfk1866a.pdf, http://support.ge-ip.com/support/resources/sites/GE_FANUC_SUPPORT/content/live/DOCUMENT/0/DO467/en_US/gfk1866a.pdf",{"$f":"CONCATENATE(TableMotorCrossRef[[#This Row],[Manufacturer]],TableMotorCrossRef[[#This Row],[Model]])","v":"FanucSLM005"}]
["Fanuc","SLM010",null,66.674999999999997,38.150999999999996,3,6.35,20,57.7,"NA",6,5,"NA","NA",4,"FANUC-gfk1866a.pdf, http://support.ge-ip.com/support/resources/sites/GE_FANUC_SUPPORT/content/live/DOCUMENT/0/DO467/en_US/gfk1866a.pdf",{"$f":"CONCATENATE(TableMotorCrossRef[[#This Row],[Manufacturer]],TableMotorCrossRef[[#This Row],[Model]])","v":"FanucSLM010"}]
["Fanuc","SLM020",null,98.424999999999997,73.076000000000008,3,9.5250000000000004,30,86.9,"NA",8,5.5,"NA","NA",4,"FANUC-gfk1866a.pdf, http://support.ge-ip.com/support/resources/sites/GE_FANUC_SUPPORT/content/live/DOCUMENT/0/DO467/en_US/gfk1866a.pdf",{"$f":"CONCATENATE(TableMotorCrossRef[[#This Row],[Manufacturer]],TableMotorCrossRef[[#This Row],[Model]])","v":"FanucSLM020"}]
["Fanuc","SLM040",null,98.424999999999997,73.076000000000008,3,9.5250000000000004,30,86.9,"NA",8,5.5,"NA","NA",4,"FANUC-gfk1866a.pdf, http://support.ge-ip.com/support/resources/sites/GE_FANUC_SUPPORT/content/live/DOCUMENT/0/DO467/en_US/gfk1866a.pdf",{"$f":"CONCATENATE(TableMotorCrossRef[[#This Row],[Manufacturer]],TableMotorCrossRef[[#This Row],[Model]])","v":"FanucSLM040"}]
["Fanuc","SLM075",null,98.424999999999997,73.076000000000008,3,15.875,30,86.9,"NA",8,5.5,"NA","NA",4,"FANUC-gfk1866a.pdf, http://support.ge-ip.com/support/resources/sites/GE_FANUC_SUPPORT/content/live/DOCUMENT/0/DO467/en_US/gfk1866a.pdf",{"$f":"CONCATENATE(TableMotorCrossRef[[#This Row],[Manufacturer]],TableMotorCrossRef[[#This Row],[Model]])","v":"FanucSLM075"}]
["Fanuc","αi I 0.5",null,100,80,3,14,30,92,"NA",7.5,7,"NA","NA",4,"ALPHA i Servo Motors Specifications.pdf",{"$f":"CONCATENATE(TableMotorCrossRef[[#This Row],[Manufacturer]],TableMotorCrossRef[[#This Row],[Model]])","v":"Fanucαi I 0.5"}]
["Fanuc","β0.5/3000",null,70,50,3,9,25,60,"NA",6,5.5,"NA","NA",4,"FanucAlphaBeta.pdf",{"$f":"CONCATENATE(TableMotorCrossRef[[#This Row],[Manufacturer]],TableMotorCrossRef[[#This Row],[Model]])","v":"Fanucβ0.5/3000"}]
["Kollmorgen","AKM1xx-Axxxx-00",null,46,30,2.5,8,25,40,"NA",4,4.3,"NA","NA",4,null,{"$f":"CONCATENATE(TableMotorCrossRef[[#This Row],[Manufacturer]],TableMotorCrossRef[[#This Row],[Model]])","v":"KollmorgenAKM1xx-Axxxx-00"}]
["Kollmorgen","AKM1xx-Bxxxx-00",null,46.69,20.02,2.5,6.35,25,40,"NA",4,3.56,"NA","NA",4,null,{"$f":"CONCATENATE(TableMotorCrossRef[[#This Row],[Manufacturer]],TableMotorCrossRef[[#This Row],[Model]])","v":"KollmorgenAKM1xx-Bxxxx-00"}]
["Kollmorgen","AKM1xx-Cxxxx-00",null,45,30,2.5,8,25,40,"NA",4,3.4,"NA","NA",4,null,{"$f":"CONCATENATE(TableMotorCrossRef[[#This Row],[Manufacturer]],TableMotorCrossRef[[#This Row],[Model]])","v":"KollmorgenAKM1xx-Cxxxx-00"}]
["Kollmorgen","AKM2xx-Axxxx-00",null,63,40,2.5,9,20,58,"NA",7,4.8,"NA","NA",4,null,{"$f":"CONCATENATE(TableMotorCrossRef[[#This Row],[Manufacturer]],TableMotorCrossRef[[#This Row],[Model]])","v":"KollmorgenAKM2xx-Axxxx-00"}]
["Kollmorgen","AKM2xx-Bxxxx-00",null,66.680000000000007,38.1,2.5,9.5250000000000004,31.75,58,"NA",7,5.0999999999999996,"NA","NA",4,null,{"$f":"CONCATENATE(TableMotorCrossRef[[#This Row],[Manufacturer]],TableMotorCrossRef[[#This Row],[Model]])","v":"KollmorgenAKM2xx-Bxxxx-00"}]
["Kollmorgen","AKM2xx-Cxxxx-00",null,70,50,2.5,14,30,58,"NA",7,5.8,"NA","NA",4,null,{"$f":"CONCATENATE(TableMotorCrossRef[[#This Row],[Manufacturer]],TableMotorCrossRef[[#This Row],[Model]])","v":"KollmorgenAKM2xx-Cxxxx-00"}]
["Kollmorgen","AKM2xx-Dxxxx-00",null,65,40,2.5,9,20,58,"NA",7,5.8,"NA","NA",4,null,{"$f":"CONCATENATE(TableMotorCrossRef[[#This Row],[Manufacturer]],TableMotorCrossRef[[#This Row],[Model]])","v":"KollmorgenAKM2xx-Dxxxx-00"}]
["Kollmorgen","AKM2xx-Exxxx-00",null,66.680000000000007,38.1,2.5,9.5250000000000004,20.6,58,"NA",7,5.0999999999999996,"NA","NA",4,null,{"$f":"CONCATENATE(TableMotorCrossRef[[#This Row],[Manufacturer]],TableMotorCrossRef[[#This Row],[Model]])","v":"KollmorgenAKM2xx-Exxxx-00"}]
["Kollmorgen","AKM3xx-Axxxx-00",null,75,60,2.5,14,30,70,"NA",6.9,5.8,"NA","NA",4,null,{"$f":"CONCATENATE(TableMotorCrossRef[[#This Row],[Manufacturer]],TableMotorCrossRef[[#This Row],[Model]])","v":"KollmorgenAKM3xx-Axxxx-00"}]
["Kollmorgen","AKM3xx-Cxxxx-00",null,85,60,2.5,14,30,70,"NA",6.9,5.8,"NA","NA",4,null,{"$f":"CONCATENATE(TableMotorCrossRef[[#This Row],[Manufacturer]],TableMotorCrossRef[[#This Row],[Model]])","v":"KollmorgenAKM3xx-Cxxxx-00"}]
["Kollmorgen","AKM3xx-Gxxxx-00",null,75,60,2.5,11,23,70,"NA",6.9,5.8,"NA","NA",4,null,{"$f":"CONCATENATE(TableMotorCrossRef[[#This Row],[Manufacturer]],TableMotorCrossRef[[#This Row],[Model]])","v":"KollmorgenAKM3xx-Gxxxx-00"}]
["Kollmorgen","AKM4xx-Exxxx-00",null,98.43,73.025000000000006,3,12.7,31.75,84,"NA",8,5.54,"NA","NA",4,null,{"$f":"CONCATENATE(TableMotorCrossRef[[#This Row],[Manufacturer]],TableMotorCrossRef[[#This Row],[Model]])","v":"KollmorgenAKM4xx-Exxxx-00"}]
["Kollmorgen","AKM4xx-Gxxxx-00",null,100,80,3,14,30,84,"NA",8,7,"NA","NA",4,null,{"$f":"CONCATENATE(TableMotorCrossRef[[#This Row],[Manufacturer]],TableMotorCrossRef[[#This Row],[Model]])","v":"KollmorgenAKM4xx-Gxxxx-00"}]
["Kollmorgen","AKM4xx-Hxxxx-00",null,90,60,3,14,30,84,"NA",8,5.54,"NA","NA",4,null,{"$f":"CONCATENATE(TableMotorCrossRef[[#This Row],[Manufacturer]],TableMotorCrossRef[[#This Row],[Model]])","v":"KollmorgenAKM4xx-Hxxxx-00"}]
["Kollmorgen","AKM4xx-Kxxxx-00",null,90,70,3,16,40,84,"NA",8,7,"NA","NA",4,null,{"$f":"CONCATENATE(TableMotorCrossRef[[#This Row],[Manufacturer]],TableMotorCrossRef[[#This Row],[Model]])","v":"KollmorgenAKM4xx-Kxxxx-00"}]
["Kollmorgen","CTM2xNLxxxx00",86,66.665999999999997,38.1,1.5,6.35,20.6,57.2,"NA",5.3,5.0999999999999996,"NA","NA",4,"CTM___CTP_Stepper_Catalog_en-EN_2007.pdf",{"$f":"CONCATENATE(TableMotorCrossRef[[#This Row],[Manufacturer]],TableMotorCrossRef[[#This Row],[Model]])","v":"KollmorgenCTM2xNLxxxx00"}]
["Kollmorgen","CTM3xNLxxKx00",87,98.429000000000002,73.03,2,12.7,31.8,87.1,"NA",9.9,5.66,"NA","NA",4,"CTM___CTP_Stepper_Catalog_en-EN_2007.pdf",{"$f":"CONCATENATE(TableMotorCrossRef[[#This Row],[Manufacturer]],TableMotorCrossRef[[#This Row],[Model]])","v":"KollmorgenCTM3xNLxxKx00"}]
["Kollmorgen","CTP2xNLxxxx00",86,66.665999999999997,38.1,1.5,6.35,20.6,57.2,"NA",5.3,5.0999999999999996,"NA","NA",4,"CTM___CTP_Stepper_Catalog_en-EN_2007.pdf",{"$f":"CONCATENATE(TableMotorCrossRef[[#This Row],[Manufacturer]],TableMotorCrossRef[[#This Row],[Model]])","v":"KollmorgenCTP2xNLxxxx00"}]
["Kollmorgen","CTP3xNLxxKx00",87,98.429000000000002,73.03,2,12.7,31.8,87.1,"NA",9.9,5.66,"NA","NA",4,"CTM___CTP_Stepper_Catalog_en-EN_2007.pdf",{"$f":"CONCATENATE(TableMotorCrossRef[[#This Row],[Manufacturer]],TableMotorCrossRef[[#This Row],[Model]])","v":"KollmorgenCTP3xNLxxKx00"}]
["Kollmorgen","VLM-2xx-Bxxx-00",82,66.674999999999997,38.1,1.5,9.5249999999999986,20.6,57.9,"NA",6.1,5.08,"NA","NA",4,"VLM_Selection_Guide_en-US_RevD.pdf",{"$f":"CONCATENATE(TableMotorCrossRef[[#This Row],[Manufacturer]],TableMotorCrossRef[[#This Row],[Model]])","v":"KollmorgenVLM-2xx-Bxxx-00"}]
["Kollmorgen","VLM-2xx-Dxxx-00",83,66.674999999999997,38.1,1.5,6.35,20.6,57.9,"NA",6.1,5.08,"NA","NA",4,"VLM_Selection_Guide_en-US_RevD.pdf",{"$f":"CONCATENATE(TableMotorCrossRef[[#This Row],[Manufacturer]],TableMotorCrossRef[[#This Row],[Model]])","v":"KollmorgenVLM-2xx-Dxxx-00"}]
["Kollmorgen","VLM-2xx-Exxx-00",25,70.7,36,1.5,11,28.5,58,"NA",6.1,4.5,"NA","NA",4,"VLM_Selection_Guide_en-US_RevD.pdf",{"$f":"CONCATENATE(TableMotorCrossRef[[#This Row],[Manufacturer]],TableMotorCrossRef[[#This Row],[Model]])","v":"KollmorgenVLM-2xx-Exxx-00"}]
["Kollmorgen","VLM-2xx-Gxxx-00",81,70,50,1.5,14,30,58,"NA",6.1,5.5,"NA","NA",4,"VLM_Selection_Guide_en-US_RevD.pdf",{"$f":"CONCATENATE(TableMotorCrossRef[[#This Row],[Manufacturer]],TableMotorCrossRef[[#This Row],[Model]])","v":"KollmorgenVLM-2xx-Gxxx-00"}]
["Kollmorgen","VLM-3xx-Cxxx-00",84,100,80,1.5,14,30,86,"NA",8.4,7,"NA","NA",4,"VLM_Selection_Guide_en-US_RevD.pdf",{"$f":"CONCATENATE(TableMotorCrossRef[[#This Row],[Manufacturer]],TableMotorCrossRef[[#This Row],[Model]])","v":"KollmorgenVLM-3xx-Cxxx-00"}]
["Kollmorgen","VLM-3xx-Dxxx-00",85,98.424999999999997,73.025000000000006,1.5,12.7,31.8,85.9,"NA",8.3800000000000008,5.54,"NA","NA",4,"VLM_Selection_Guide_en-US_RevD.pdf",{"$f":"CONCATENATE(TableMotorCrossRef[[#This Row],[Manufacturer]],TableMotorCrossRef[[#This Row],[Model]])","v":"KollmorgenVLM-3xx-Dxxx-00"}]
["Lin","5718x",39,66.813000000000002,38.1,1.5,6.35,20.6,57.2,"NA",5.0999999999999996,5.0999999999999996,"NA","NA",4,"http://www.linengineering.com/contents/stepmotors/pdf/5718.pdf",{"$f":"CONCATENATE(TableMotorCrossRef[[#This Row],[Manufacturer]],TableMotorCrossRef[[#This Row],[Model]])","v":"Lin5718x"}]
["Lin","8718x",40,98.424000000000007,73.025000000000006,2,12.7,37.1,86.1,"NA",10.199999999999999,6.6,"NA","NA",4,"http://www.linengineering.com/contents/stepmotors/pdf/8718.pdf",{"$f":"CONCATENATE(TableMotorCrossRef[[#This Row],[Manufacturer]],TableMotorCrossRef[[#This Row],[Model]])","v":"Lin8718x"}]
["Lin","BL24Bxx",41,66.807000000000002,38.1,1.5,6.35,20.5,57.4,"NA",4.57,5.08,"NA","NA",4,"http://www.linengineering.com/bldc-motors/BLDC-NEMA23.aspx",{"$f":"CONCATENATE(TableMotorCrossRef[[#This Row],[Manufacturer]],TableMotorCrossRef[[#This Row],[Model]])","v":"LinBL24Bxx"}]
["Micron ","NemaTRUE NT17",null,43.8,22,4,6.35,25.4,42,"NA",4.8,4,"NA","NA",4,"http://www.thomsonlinear.com/downloads/gearheads/True_Planetary_Gearheads_cten.pdf",{"$f":"CONCATENATE(TableMotorCrossRef[[#This Row],[Manufacturer]],TableMotorCrossRef[[#This Row],[Model]])","v":"Micron NemaTRUE NT17"}]
["Micron ","NemaTRUE NT23",null,66.7,38.1,4,9.5299999999999994,25.4,60,"NA",6.4,5,"NA","NA",4,"http://www.thomsonlinear.com/downloads/gearheads/True_Planetary_Gearheads_cten.pdf",{"$f":"CONCATENATE(TableMotorCrossRef[[#This Row],[Manufacturer]],TableMotorCrossRef[[#This Row],[Model]])","v":"Micron NemaTRUE NT23"}]
["Micron ","NemaTRUE NT60",null,70,50,4,16,25,60,"NA",10,5,"NA","NA",4,"http://www.thomsonlinear.com/downloads/gearheads/True_Planetary_Gearheads_cten.pdf",{"$f":"CONCATENATE(TableMotorCrossRef[[#This Row],[Manufacturer]],TableMotorCrossRef[[#This Row],[Model]])","v":"Micron NemaTRUE NT60"}]
["Micron ","XTRUE XT060",null,52,40,4,14,35,61,"NA","NA","NA","M5",8,4,"http://www.thomsonlinear.com/downloads/gearheads/True_Planetary_Gearheads_cten.pdf",{"$f":"CONCATENATE(TableMotorCrossRef[[#This Row],[Manufacturer]],TableMotorCrossRef[[#This Row],[Model]])","v":"Micron XTRUE XT060"}]
["Mitsubishi","HF-KE13",42,46,30,2.5,8,25,40,"NA",5,4.5,"NA","NA",4,"http://www.meau.com/Files/Servomotors___Amplifiers.PDF?ID=070000000000000001000000024702000",{"$f":"CONCATENATE(TableMotorCrossRef[[#This Row],[Manufacturer]],TableMotorCrossRef[[#This Row],[Model]])","v":"MitsubishiHF-KE13"}]
["Mitsubishi","HF-KE23",43,70,50,3,14,30,60,"NA",7,5.8,"NA","NA",4,"http://www.meau.com/Files/Servomotors___Amplifiers.PDF?ID=070000000000000001000000024702000",{"$f":"CONCATENATE(TableMotorCrossRef[[#This Row],[Manufacturer]],TableMotorCrossRef[[#This Row],[Model]])","v":"MitsubishiHF-KE23"}]
["Mitsubishi","HF-KN053",42,46,30,2.5,8,25,40,"NA",5,4.5,"NA","NA",4,"http://www.meau.com/Files/Servomotors___Amplifiers.PDF?ID=070000000000000001000000024702000",{"$f":"CONCATENATE(TableMotorCrossRef[[#This Row],[Manufacturer]],TableMotorCrossRef[[#This Row],[Model]])","v":"MitsubishiHF-KN053"}]
["Mitsubishi","HF-KN13",42,46,30,2.5,8,25,40,"NA",5,4.5,"NA","NA",4,"http://www.meau.com/Files/Servomotors___Amplifiers.PDF?ID=070000000000000001000000024702000",{"$f":"CONCATENATE(TableMotorCrossRef[[#This Row],[Manufacturer]],TableMotorCrossRef[[#This Row],[Model]])","v":"MitsubishiHF-KN13"}]
["Mitsubishi","HF-KN23",43,70,50,3,14,30,60,"NA",7,5.8,"NA","NA",4,"http://www.meau.com/Files/Servomotors___Amplifiers.PDF?ID=070000000000000001000000024702000",{"$f":"CONCATENATE(TableMotorCrossRef[[#This Row],[Manufacturer]],TableMotorCrossRef[[#This Row],[Model]])","v":"MitsubishiHF-KN23"}]
["Mitsubishi","HF-KN43",43,70,50,3,14,30,60,"NA",7,5.8,"NA","NA",4,"http://www.meau.com/Files/Servomotors___Amplifiers.PDF?ID=070000000000000001000000024702000",{"$f":"CONCATENATE(TableMotorCrossRef[[#This Row],[Manufacturer]],TableMotorCrossRef[[#This Row],[Model]])","v":"MitsubishiHF-KN43"}]
["Mitsubishi","HG-KR053",42,46,30,2.5,8,25,40,"NA",5,4.5,"NA","NA",4,"http://www.meau.com/Files/Servomotors___Amplifiers.PDF?ID=070000000000000001000000024702000",{"$f":"CONCATENATE(TableMotorCrossRef[[#This Row],[Manufacturer]],TableMotorCrossRef[[#This Row],[Model]])","v":"MitsubishiHG-KR053"}]
["Mitsubishi","HG-KR13",42,46,30,2.5,8,25,40,"NA",5,4.5,"NA","NA",4,"http://www.meau.com/Files/Servomotors___Amplifiers.PDF?ID=070000000000000001000000024702000",{"$f":"CONCATENATE(TableMotorCrossRef[[#This Row],[Manufacturer]],TableMotorCrossRef[[#This Row],[Model]])","v":"MitsubishiHG-KR13"}]
["Mitsubishi","HG-KR23",43,70,50,3,14,30,60,"NA",7,5.8,"NA","NA",4,"http://www.meau.com/Files/Servomotors___Amplifiers.PDF?ID=070000000000000001000000024702000",{"$f":"CONCATENATE(TableMotorCrossRef[[#This Row],[Manufacturer]],TableMotorCrossRef[[#This Row],[Model]])","v":"MitsubishiHG-KR23"}]
["Mitsubishi","HG-KR43",43,70,50,3,14,30,60,"NA",7,5.8,"NA","NA",4,"http://www.meau.com/Files/Servomotors___Amplifiers.PDF?ID=070000000000000001000000024702000",{"$f":"CONCATENATE(TableMotorCrossRef[[#This Row],[Manufacturer]],TableMotorCrossRef[[#This Row],[Model]])","v":"MitsubishiHG-KR43"}]
["Mitsubishi","HG-MR053",42,46,30,2.5,8,25,40,"NA",5,4.5,"NA","NA",4,"http://www.meau.com/Files/Servomotors___Amplifiers.PDF?ID=070000000000000001000000024702000",{"$f":"CONCATENATE(TableMotorCrossRef[[#This Row],[Manufacturer]],TableMotorCrossRef[[#This Row],[Model]])","v":"MitsubishiHG-MR053"}]
["Mitsubishi","HG-MR13",42,46,30,2.5,8,25,40,"NA",5,4.5,"NA","NA",4,"http://www.meau.com/Files/Servomotors___Amplifiers.PDF?ID=070000000000000001000000024702000",{"$f":"CONCATENATE(TableMotorCrossRef[[#This Row],[Manufacturer]],TableMotorCrossRef[[#This Row],[Model]])","v":"MitsubishiHG-MR13"}]
["Mitsubishi","HG-MR23",43,70,50,3,14,30,60,"NA",7,5.8,"NA","NA",4,"http://www.meau.com/Files/Servomotors___Amplifiers.PDF?ID=070000000000000001000000024702000",{"$f":"CONCATENATE(TableMotorCrossRef[[#This Row],[Manufacturer]],TableMotorCrossRef[[#This Row],[Model]])","v":"MitsubishiHG-MR23"}]
["Mitsubishi","HG-MR43",43,70,50,3,14,30,60,"NA",7,5.8,"NA","NA",4,"http://www.meau.com/Files/Servomotors___Amplifiers.PDF?ID=070000000000000001000000024702000",{"$f":"CONCATENATE(TableMotorCrossRef[[#This Row],[Manufacturer]],TableMotorCrossRef[[#This Row],[Model]])","v":"MitsubishiHG-MR43"}]
["Moog","G412-xxx",3,63,40,2.5,9,20,55,"NA",9,5.5,"NA","NA",4,"http://scrcontrols.com/docs/G410A.pdf",{"$f":"CONCATENATE(TableMotorCrossRef[[#This Row],[Manufacturer]],TableMotorCrossRef[[#This Row],[Model]])","v":"MoogG412-xxx"}]
["Moog","G413-xxx",44,75,60,2.5,11,23,70,"NA",9,5.5,"NA","NA",4,"http://scrcontrols.com/docs/G410A.pdf",{"$f":"CONCATENATE(TableMotorCrossRef[[#This Row],[Manufacturer]],TableMotorCrossRef[[#This Row],[Model]])","v":"MoogG413-xxx"}]
["Nidec Servo","KH56KM2",61,66.665999999999997,38.1,1.6,6.35,20.6,56,"NA",5,4.5,"NA","NA",4,"http://catalog.nidec-servo.com/digital/english/general/pdf/KH56K.pdf",{"$f":"CONCATENATE(TableMotorCrossRef[[#This Row],[Manufacturer]],TableMotorCrossRef[[#This Row],[Model]])","v":"Nidec ServoKH56KM2"}]
["Omron","R88M-K05030",80,46,30,3,8,25,40,"NA",6,4.3,"NA","NA",4,"r88m-k_r88d-kt_r88d-kn_-ml2_-ect_i816-e1_4_1_csm2179",{"$f":"CONCATENATE(TableMotorCrossRef[[#This Row],[Manufacturer]],TableMotorCrossRef[[#This Row],[Model]])","v":"OmronR88M-K05030"}]
["Omron","R88M-K10030",80,46,30,3,8,25,40,"NA",6,4.3,"NA","NA",4,"r88m-k_r88d-kt_r88d-kn_-ml2_-ect_i816-e1_4_1_csm2179",{"$f":"CONCATENATE(TableMotorCrossRef[[#This Row],[Manufacturer]],TableMotorCrossRef[[#This Row],[Model]])","v":"OmronR88M-K10030"}]
["Omron","R88M-K20030",46,70,50,3,11,30,60,"NA",6.5,4.5,"NA","NA",4,"r88m-k_r88d-kt_r88d-kn_-ml2_-ect_i816-e1_4_1_csm2179",{"$f":"CONCATENATE(TableMotorCrossRef[[#This Row],[Manufacturer]],TableMotorCrossRef[[#This Row],[Model]])","v":"OmronR88M-K20030"}]
["Omron","R88M-K40030",47,70,50,3,14,30,60,"NA",6.5,4.5,"NA","NA",4,"r88m-k_r88d-kt_r88d-kn_-ml2_-ect_i816-e1_4_1_csm2179",{"$f":"CONCATENATE(TableMotorCrossRef[[#This Row],[Manufacturer]],TableMotorCrossRef[[#This Row],[Model]])","v":"OmronR88M-K40030"}]
["Panasonic","MSMD01",45,45,30,3,8,25,38,"NA",6,3.4,"NA","NA",4,"http://industrial.panasonic.com/ww/i_e/25000/fa_pro_acs_minas_a4_e/fa_pro_acs_minas_a4_e/a4_22.pdf",{"$f":"CONCATENATE(TableMotorCrossRef[[#This Row],[Manufacturer]],TableMotorCrossRef[[#This Row],[Model]])","v":"PanasonicMSMD01"}]
["Panasonic","MSMD02",46,70,50,3,11,30,60,"NA",6.5,4.5,"NA","NA",4,"http://industrial.panasonic.com/ww/i_e/25000/fa_pro_acs_minas_a4_e/fa_pro_acs_minas_a4_e/a4_22.pdf",{"$f":"CONCATENATE(TableMotorCrossRef[[#This Row],[Manufacturer]],TableMotorCrossRef[[#This Row],[Model]])","v":"PanasonicMSMD02"}]
["Panasonic","MSMD04",47,70,50,3,14,30,60,"NA",6.5,4.5,"NA","NA",4,"http://industrial.panasonic.com/ww/i_e/25000/fa_pro_acs_minas_a4_e/fa_pro_acs_minas_a4_e/a4_22.pdf",{"$f":"CONCATENATE(TableMotorCrossRef[[#This Row],[Manufacturer]],TableMotorCrossRef[[#This Row],[Model]])","v":"PanasonicMSMD04"}]
["Panasonic","MSMD5A",45,45,30,3,8,25,38,"NA",6,3.4,"NA","NA",4,"http://industrial.panasonic.com/ww/i_e/25000/fa_pro_acs_minas_a4_e/fa_pro_acs_minas_a4_e/a4_22.pdf",{"$f":"CONCATENATE(TableMotorCrossRef[[#This Row],[Manufacturer]],TableMotorCrossRef[[#This Row],[Model]])","v":"PanasonicMSMD5A"}]
["Parker","BE16x",53,46.69,22.02,1.6,6.35,24.8,40.9,"NA",6.52,3.56,"NA","NA",4,"http://divapps.parker.com/divapps/emn/download%5CMotors%5CBEServoMotors_2013.pdf",{"$f":"CONCATENATE(TableMotorCrossRef[[#This Row],[Manufacturer]],TableMotorCrossRef[[#This Row],[Model]])","v":"ParkerBE16x"}]
["Parker","BE23x",54,66.680000000000007,38.1,1.6,9.51,31.9,57.3,"NA",9.14,5.54,"NA","NA",4,"http://divapps.parker.com/divapps/emn/download%5CMotors%5CBEServoMotors_2013.pdf",{"$f":"CONCATENATE(TableMotorCrossRef[[#This Row],[Manufacturer]],TableMotorCrossRef[[#This Row],[Model]])","v":"ParkerBE23x"}]
["Parker","BE34x",55,98.43,73.03,2.4,12.7,30.3,84.9,"NA",6.95,5.54,"NA","NA",4,"http://divapps.parker.com/divapps/emn/download%5CMotors%5CBEServoMotors_2013.pdf",{"$f":"CONCATENATE(TableMotorCrossRef[[#This Row],[Manufacturer]],TableMotorCrossRef[[#This Row],[Model]])","v":"ParkerBE34x"}]
["Parker","MPJ092x",48,100,80,2.9,16,40.1,88.8,"NA",9.9,7,"NA","NA",4,"http://www.exoticautomation.com/exotic/exotic_pdfs/cat/Parker/EM/Parker%20-%20MPP%20MPJ%20Catalog.pdf",{"$f":"CONCATENATE(TableMotorCrossRef[[#This Row],[Manufacturer]],TableMotorCrossRef[[#This Row],[Model]])","v":"ParkerMPJ092x"}]
["Parker","MPM662xxx6xxx",5,66.680000000000007,38.1,1.6,6.35,20.6,57.2,"NA",11.7,5.21,"NA","NA",4,"http://divapps.parker.com/divapps/emn/faq/MTS/maxplus_rotary.pdf",{"$f":"CONCATENATE(TableMotorCrossRef[[#This Row],[Manufacturer]],TableMotorCrossRef[[#This Row],[Model]])","v":"ParkerMPM662xxx6xxx"}]
["Parker","MPM662xxx7xxx",49,80,50,3,8,30,66,"NA",10.199999999999999,5,"NA","NA",4,"http://divapps.parker.com/divapps/emn/faq/MTS/maxplus_rotary.pdf",{"$f":"CONCATENATE(TableMotorCrossRef[[#This Row],[Manufacturer]],TableMotorCrossRef[[#This Row],[Model]])","v":"ParkerMPM662xxx7xxx"}]
["Parker","MPM664xxx6xxx",5,66.680000000000007,38.1,1.6,6.35,20.6,57.2,"NA",11.7,5.21,"NA","NA",4,"http://divapps.parker.com/divapps/emn/faq/MTS/maxplus_rotary.pdf",{"$f":"CONCATENATE(TableMotorCrossRef[[#This Row],[Manufacturer]],TableMotorCrossRef[[#This Row],[Model]])","v":"ParkerMPM664xxx6xxx"}]
["Parker","MPM664xxx7xxx",49,80,50,3,8,30,66,"NA",10.199999999999999,5,"NA","NA",4,"http://divapps.parker.com/divapps/emn/faq/MTS/maxplus_rotary.pdf",{"$f":"CONCATENATE(TableMotorCrossRef[[#This Row],[Manufacturer]],TableMotorCrossRef[[#This Row],[Model]])","v":"ParkerMPM664xxx7xxx"}]
["Parker","MPM721xxx7x1x",50,75.010000000000005,60,2.5,11,23,72,"NA",11.2,5.79,"NA","NA",4,"http://divapps.parker.com/divapps/emn/faq/MTS/maxplus_rotary.pdf",{"$f":"CONCATENATE(TableMotorCrossRef[[#This Row],[Manufacturer]],TableMotorCrossRef[[#This Row],[Model]])","v":"ParkerMPM721xxx7x1x"}]
["Parker","MPM721xxx7x2x",50,75.010000000000005,60,2.5,11,23,72,"NA",11.2,5.79,"NA","NA",4,"http://divapps.parker.com/divapps/emn/faq/MTS/maxplus_rotary.pdf",{"$f":"CONCATENATE(TableMotorCrossRef[[#This Row],[Manufacturer]],TableMotorCrossRef[[#This Row],[Model]])","v":"ParkerMPM721xxx7x2x"}]
["Parker","MPM722xxx7x1x",50,75.010000000000005,60,2.5,11,23,72,"NA",11.2,5.79,"NA","NA",4,"http://divapps.parker.com/divapps/emn/faq/MTS/maxplus_rotary.pdf",{"$f":"CONCATENATE(TableMotorCrossRef[[#This Row],[Manufacturer]],TableMotorCrossRef[[#This Row],[Model]])","v":"ParkerMPM722xxx7x1x"}]
["Parker","MPM722xxx7x2x",50,75.010000000000005,60,2.5,11,23,72,"NA",11.2,5.79,"NA","NA",4,"http://divapps.parker.com/divapps/emn/faq/MTS/maxplus_rotary.pdf",{"$f":"CONCATENATE(TableMotorCrossRef[[#This Row],[Manufacturer]],TableMotorCrossRef[[#This Row],[Model]])","v":"ParkerMPM722xxx7x2x"}]
["Parker","MPM723xxx7x1x",50,75.010000000000005,60,2.5,11,23,72,"NA",11.2,5.79,"NA","NA",4,"http://divapps.parker.com/divapps/emn/faq/MTS/maxplus_rotary.pdf",{"$f":"CONCATENATE(TableMotorCrossRef[[#This Row],[Manufacturer]],TableMotorCrossRef[[#This Row],[Model]])","v":"ParkerMPM723xxx7x1x"}]
["Parker","MPM723xxx7x2x",50,75.010000000000005,60,2.5,11,23,72,"NA",11.2,5.79,"NA","NA",4,"http://divapps.parker.com/divapps/emn/faq/MTS/maxplus_rotary.pdf",{"$f":"CONCATENATE(TableMotorCrossRef[[#This Row],[Manufacturer]],TableMotorCrossRef[[#This Row],[Model]])","v":"ParkerMPM723xxx7x2x"}]
["Parker","MPM724xxx7x1x",50,75.010000000000005,60,2.5,11,23,72,"NA",11.2,5.79,"NA","NA",4,"http://divapps.parker.com/divapps/emn/faq/MTS/maxplus_rotary.pdf",{"$f":"CONCATENATE(TableMotorCrossRef[[#This Row],[Manufacturer]],TableMotorCrossRef[[#This Row],[Model]])","v":"ParkerMPM724xxx7x1x"}]
["Parker","MPM724xxx7x2x",50,75.010000000000005,60,2.5,11,23,72,"NA",11.2,5.79,"NA","NA",4,"http://divapps.parker.com/divapps/emn/faq/MTS/maxplus_rotary.pdf",{"$f":"CONCATENATE(TableMotorCrossRef[[#This Row],[Manufacturer]],TableMotorCrossRef[[#This Row],[Model]])","v":"ParkerMPM724xxx7x2x"}]
["Parker","MPM891xxx6xxx",51,98.43,{"$f":"AVERAGE(73.08,72.97)","v":73.025000000000006},1.6,12.7,30,84.1,"NA",11.2,5.66,"NA","NA",4,"http://divapps.parker.com/divapps/emn/faq/MTS/maxplus_rotary.pdf",{"$f":"CONCATENATE(TableMotorCrossRef[[#This Row],[Manufacturer]],TableMotorCrossRef[[#This Row],[Model]])","v":"ParkerMPM891xxx6xxx"}]
["Parker","MPM891xxx7xxx",52,100,80,3,14,30,89,"NA",11.2,7,"NA","NA",4,"http://divapps.parker.com/divapps/emn/faq/MTS/maxplus_rotary.pdf",{"$f":"CONCATENATE(TableMotorCrossRef[[#This Row],[Manufacturer]],TableMotorCrossRef[[#This Row],[Model]])","v":"ParkerMPM891xxx7xxx"}]
["Parker","MPM892xxx6xxx",51,98.43,73.025000000000006,1.6,12.7,30,84.1,"NA",11.2,5.66,"NA","NA",4,"http://divapps.parker.com/divapps/emn/faq/MTS/maxplus_rotary.pdf",{"$f":"CONCATENATE(TableMotorCrossRef[[#This Row],[Manufacturer]],TableMotorCrossRef[[#This Row],[Model]])","v":"ParkerMPM892xxx6xxx"}]
["Parker","MPM892xxx7xxx",52,100,80,3,14,30,89,"NA",11.2,7,"NA","NA",4,"http://divapps.parker.com/divapps/emn/faq/MTS/maxplus_rotary.pdf",{"$f":"CONCATENATE(TableMotorCrossRef[[#This Row],[Manufacturer]],TableMotorCrossRef[[#This Row],[Model]])","v":"ParkerMPM892xxx7xxx"}]
["Parker","MPM893xxx6xxx",51,98.43,{"$f":"AVERAGE(73.08,72.97)","v":73.025000000000006},1.6,12.7,30,84.1,"NA",11.2,5.66,"NA","NA",4,"http://divapps.parker.com/divapps/emn/faq/MTS/maxplus_rotary.pdf",{"$f":"CONCATENATE(TableMotorCrossRef[[#This Row],[Manufacturer]],TableMotorCrossRef[[#This Row],[Model]])","v":"ParkerMPM893xxx6xxx"}]
["Parker","MPM893xxx7xxx",52,100,80,3,14,30,89,"NA",11.2,7,"NA","NA",4,"http://divapps.parker.com/divapps/emn/faq/MTS/maxplus_rotary.pdf",{"$f":"CONCATENATE(TableMotorCrossRef[[#This Row],[Manufacturer]],TableMotorCrossRef[[#This Row],[Model]])","v":"ParkerMPM893xxx7xxx"}]
["Parker","MPP092x",48,100,80,2.9,16,40.1,88.8,"NA",9.9,7,"NA","NA",4,"http://www.exoticautomation.com/exotic/exotic_pdfs/cat/Parker/EM/Parker%20-%20MPP%20MPJ%20Catalog.pdf",{"$f":"CONCATENATE(TableMotorCrossRef[[#This Row],[Manufacturer]],TableMotorCrossRef[[#This Row],[Model]])","v":"ParkerMPP092x"}]
["Procesi","B56P",79,100,80,3,14,30,91.3,"NA",11,6.5,"NA","NA",4,"http://www.procesi.si/wp-content/uploads/2013/07/LafertServo-.pdf",{"$f":"CONCATENATE(TableMotorCrossRef[[#This Row],[Manufacturer]],TableMotorCrossRef[[#This Row],[Model]])","v":"ProcesiB56P"}]
["Rexroth","MSK030",37,63,40,2.5,9,20,54,"NA",7,5,"NA","NA",4,"http://www.boschrexroth-us.com/country_units/america/united_states/sub_websites/brus_dcc/documentation_downloads/ProductDocumentation/CurrentProducts/Motors/IndraDyn_S/29628905IndraDynSprojectV05.pdf",{"$f":"CONCATENATE(TableMotorCrossRef[[#This Row],[Manufacturer]],TableMotorCrossRef[[#This Row],[Model]])","v":"RexrothMSK030"}]
["Rexroth","MSK040",38,95,50,2.5,14,30,82,"NA",8,6.6,"NA","NA",4,"http://www.boschrexroth-us.com/country_units/america/united_states/sub_websites/brus_dcc/documentation_downloads/ProductDocumentation/CurrentProducts/Motors/IndraDyn_S/29628905IndraDynSprojectV05.pdf",{"$f":"CONCATENATE(TableMotorCrossRef[[#This Row],[Manufacturer]],TableMotorCrossRef[[#This Row],[Model]])","v":"RexrothMSK040"}]
["Rockwell (Allen-Bradley)","MPF-x3xx",56,100,80,2.7,16,40,92.4,"NA",9.91,7,"NA","NA",4,"http://literature.rockwellautomation.com/idc/groups/literature/documents/td/gmc-td001_-en-p.pdf",{"$f":"CONCATENATE(TableMotorCrossRef[[#This Row],[Manufacturer]],TableMotorCrossRef[[#This Row],[Model]])","v":"Rockwell (Allen-Bradley)MPF-x3xx"}]
["Rockwell (Allen-Bradley)","MPL-A1510",57,63,40,2.5,9,19.7,55,"NA",9,5.8,"NA","NA",4,"http://literature.rockwellautomation.com/idc/groups/literature/documents/td/gmc-td001_-en-p.pdf",{"$f":"CONCATENATE(TableMotorCrossRef[[#This Row],[Manufacturer]],TableMotorCrossRef[[#This Row],[Model]])","v":"Rockwell (Allen-Bradley)MPL-A1510"}]
["Rockwell (Allen-Bradley)","MPL-A1520",57,63,40,2.5,9,19.7,55,"NA",9,5.8,"NA","NA",4,"http://literature.rockwellautomation.com/idc/groups/literature/documents/td/gmc-td001_-en-p.pdf",{"$f":"CONCATENATE(TableMotorCrossRef[[#This Row],[Manufacturer]],TableMotorCrossRef[[#This Row],[Model]])","v":"Rockwell (Allen-Bradley)MPL-A1520"}]
["Rockwell (Allen-Bradley)","MPL-A1530",57,63,40,2.5,9,19.7,55,"NA",9,5.8,"NA","NA",4,"http://literature.rockwellautomation.com/idc/groups/literature/documents/td/gmc-td001_-en-p.pdf",{"$f":"CONCATENATE(TableMotorCrossRef[[#This Row],[Manufacturer]],TableMotorCrossRef[[#This Row],[Model]])","v":"Rockwell (Allen-Bradley)MPL-A1530"}]
["Rockwell (Allen-Bradley)","MPL-A210",58,75,60,2.5,11,22.7,70,"NA",9,5.8,"NA","NA",4,"http://literature.rockwellautomation.com/idc/groups/literature/documents/td/gmc-td001_-en-p.pdf",{"$f":"CONCATENATE(TableMotorCrossRef[[#This Row],[Manufacturer]],TableMotorCrossRef[[#This Row],[Model]])","v":"Rockwell (Allen-Bradley)MPL-A210"}]
["Rockwell (Allen-Bradley)","MPL-A220",58,75,60,2.5,11,22.7,70,"NA",9,5.8,"NA","NA",4,"http://literature.rockwellautomation.com/idc/groups/literature/documents/td/gmc-td001_-en-p.pdf",{"$f":"CONCATENATE(TableMotorCrossRef[[#This Row],[Manufacturer]],TableMotorCrossRef[[#This Row],[Model]])","v":"Rockwell (Allen-Bradley)MPL-A220"}]
["Rockwell (Allen-Bradley)","MPL-A230",58,75,60,2.5,11,22.7,70,"NA",9,5.8,"NA","NA",4,"http://literature.rockwellautomation.com/idc/groups/literature/documents/td/gmc-td001_-en-p.pdf",{"$f":"CONCATENATE(TableMotorCrossRef[[#This Row],[Manufacturer]],TableMotorCrossRef[[#This Row],[Model]])","v":"Rockwell (Allen-Bradley)MPL-A230"}]
["Rockwell (Allen-Bradley)","MPL-B1510",57,63,40,2.5,9,19.7,55,"NA",9,5.8,"NA","NA",4,"http://literature.rockwellautomation.com/idc/groups/literature/documents/td/gmc-td001_-en-p.pdf",{"$f":"CONCATENATE(TableMotorCrossRef[[#This Row],[Manufacturer]],TableMotorCrossRef[[#This Row],[Model]])","v":"Rockwell (Allen-Bradley)MPL-B1510"}]
["Rockwell (Allen-Bradley)","MPL-B1520",57,63,40,2.5,9,19.7,55,"NA",9,5.8,"NA","NA",4,"http://literature.rockwellautomation.com/idc/groups/literature/documents/td/gmc-td001_-en-p.pdf",{"$f":"CONCATENATE(TableMotorCrossRef[[#This Row],[Manufacturer]],TableMotorCrossRef[[#This Row],[Model]])","v":"Rockwell (Allen-Bradley)MPL-B1520"}]
["Rockwell (Allen-Bradley)","MPL-B1530",57,63,40,2.5,9,19.7,55,"NA",9,5.8,"NA","NA",4,"http://literature.rockwellautomation.com/idc/groups/literature/documents/td/gmc-td001_-en-p.pdf",{"$f":"CONCATENATE(TableMotorCrossRef[[#This Row],[Manufacturer]],TableMotorCrossRef[[#This Row],[Model]])","v":"Rockwell (Allen-Bradley)MPL-B1530"}]
["Rockwell (Allen-Bradley)","MPL-B210",58,75,60,2.5,11,22.7,70,"NA",9,5.8,"NA","NA",4,"http://literature.rockwellautomation.com/idc/groups/literature/documents/td/gmc-td001_-en-p.pdf",{"$f":"CONCATENATE(TableMotorCrossRef[[#This Row],[Manufacturer]],TableMotorCrossRef[[#This Row],[Model]])","v":"Rockwell (Allen-Bradley)MPL-B210"}]
["Rockwell (Allen-Bradley)","MPL-B220",58,75,60,2.5,11,22.7,70,"NA",9,5.8,"NA","NA",4,"http://literature.rockwellautomation.com/idc/groups/literature/documents/td/gmc-td001_-en-p.pdf",{"$f":"CONCATENATE(TableMotorCrossRef[[#This Row],[Manufacturer]],TableMotorCrossRef[[#This Row],[Model]])","v":"Rockwell (Allen-Bradley)MPL-B220"}]
["Rockwell (Allen-Bradley)","MPL-B230",58,75,60,2.5,11,22.7,70,"NA",9,5.8,"NA","NA",4,"http://literature.rockwellautomation.com/idc/groups/literature/documents/td/gmc-td001_-en-p.pdf",{"$f":"CONCATENATE(TableMotorCrossRef[[#This Row],[Manufacturer]],TableMotorCrossRef[[#This Row],[Model]])","v":"Rockwell (Allen-Bradley)MPL-B230"}]
["Rockwell (Allen-Bradley)","TL-A1x0xx-Bx3xAA (Metric)",42,46,30,2.5,8,25,40,"NA",5,4.5,"NA","NA",4,"http://literature.rockwellautomation.com/idc/groups/literature/documents/td/gmc-td001_-en-p.pdf",{"$f":"CONCATENATE(TableMotorCrossRef[[#This Row],[Manufacturer]],TableMotorCrossRef[[#This Row],[Model]])","v":"Rockwell (Allen-Bradley)TL-A1x0xx-Bx3xAA (Metric)"}]
["Rockwell (Allen-Bradley)","TL-A220xx-Bx3xAA (Metric)",59,70,50,3,12,30,60,"NA",6,5.5,"NA","NA",4,"http://literature.rockwellautomation.com/idc/groups/literature/documents/td/gmc-td001_-en-p.pdf",{"$f":"CONCATENATE(TableMotorCrossRef[[#This Row],[Manufacturer]],TableMotorCrossRef[[#This Row],[Model]])","v":"Rockwell (Allen-Bradley)TL-A220xx-Bx3xAA (Metric)"}]
["Rockwell (Allen-Bradley)","TL-A230xx-Bx3xAA (Metric)",59,70,50,3,12,30,60,"NA",6,5.5,"NA","NA",4,"http://literature.rockwellautomation.com/idc/groups/literature/documents/td/gmc-td001_-en-p.pdf",{"$f":"CONCATENATE(TableMotorCrossRef[[#This Row],[Manufacturer]],TableMotorCrossRef[[#This Row],[Model]])","v":"Rockwell (Allen-Bradley)TL-A230xx-Bx3xAA (Metric)"}]
["Rockwell (Allen-Bradley)","TLY-A1x0xx-xx6-xAA (Metric)",42,46,30,2.5,8,25,40,"NA",5,4.5,"NA","NA",4,"http://literature.rockwellautomation.com/idc/groups/literature/documents/td/gmc-td001_-en-p.pdf",{"$f":"CONCATENATE(TableMotorCrossRef[[#This Row],[Manufacturer]],TableMotorCrossRef[[#This Row],[Model]])","v":"Rockwell (Allen-Bradley)TLY-A1x0xx-xx6-xAA (Metric)"}]
["Rockwell (Allen-Bradley)","TLY-A220xx-Hx6xAN (NEMA)",60,66.7,38.1,1.5,12.7,38.1,60,"NA",6,5.5,"NA","NA",4,"http://literature.rockwellautomation.com/idc/groups/literature/documents/td/gmc-td001_-en-p.pdf",{"$f":"CONCATENATE(TableMotorCrossRef[[#This Row],[Manufacturer]],TableMotorCrossRef[[#This Row],[Model]])","v":"Rockwell (Allen-Bradley)TLY-A220xx-Hx6xAN (NEMA)"}]
["Rockwell (Allen-Bradley)","TLY-A220xx-xx6-xAA (Metric)",59,70,50,3,12,30,60,"NA",6,5.5,"NA","NA",4,"http://literature.rockwellautomation.com/idc/groups/literature/documents/td/gmc-td001_-en-p.pdf",{"$f":"CONCATENATE(TableMotorCrossRef[[#This Row],[Manufacturer]],TableMotorCrossRef[[#This Row],[Model]])","v":"Rockwell (Allen-Bradley)TLY-A220xx-xx6-xAA (Metric)"}]
["Rockwell (Allen-Bradley)","TLY-A230xx-Hx6xAN (NEMA)",60,66.7,38.1,1.5,12.7,38.1,60,"NA",6,5.5,"NA","NA",4,"http://literature.rockwellautomation.com/idc/groups/literature/documents/td/gmc-td001_-en-p.pdf",{"$f":"CONCATENATE(TableMotorCrossRef[[#This Row],[Manufacturer]],TableMotorCrossRef[[#This Row],[Model]])","v":"Rockwell (Allen-Bradley)TLY-A230xx-Hx6xAN (NEMA)"}]
["Rockwell (Allen-Bradley)","TLY-A230xx-xx6-xAA (Metric)",59,70,50,3,12,30,60,"NA",6,5.5,"NA","NA",4,"http://literature.rockwellautomation.com/idc/groups/literature/documents/td/gmc-td001_-en-p.pdf",{"$f":"CONCATENATE(TableMotorCrossRef[[#This Row],[Manufacturer]],TableMotorCrossRef[[#This Row],[Model]])","v":"Rockwell (Allen-Bradley)TLY-A230xx-xx6-xAA (Metric)"}]
["Sanyo Denki","103H71xx-xx",61,66.665999999999997,38.1,1.5,6.35,20.6,56,"NA",5,4.5,"NA","NA",4,"http://www.sanyo-denki.com/Data/Servo/catalogs/F2_ver1.pdf",{"$f":"CONCATENATE(TableMotorCrossRef[[#This Row],[Manufacturer]],TableMotorCrossRef[[#This Row],[Model]])","v":"Sanyo Denki103H71xx-xx"}]
["Sanyo Denki","Q1AA04003xxx",62,46,30,2.5,6,25,40,"NA",5,4.5,"NA","NA",4,"http://www.sanyo-denki.com/Data/Servo/catalogs/Q.pdf",{"$f":"CONCATENATE(TableMotorCrossRef[[#This Row],[Manufacturer]],TableMotorCrossRef[[#This Row],[Model]])","v":"Sanyo DenkiQ1AA04003xxx"}]
["Sanyo Denki","Q1AA06020xxx",63,70,50,3,14,30,60,"NA",6,5.5,"NA","NA",4,"http://www.sanyo-denki.com/Data/Servo/catalogs/Q.pdf",{"$f":"CONCATENATE(TableMotorCrossRef[[#This Row],[Manufacturer]],TableMotorCrossRef[[#This Row],[Model]])","v":"Sanyo DenkiQ1AA06020xxx"}]
["Sanyo Denki","Q1AA07075xxx",64,90,70,3,16,40,76,"NA",8,5.5,"NA","NA",4,"http://www.sanyo-denki.com/Data/Servo/catalogs/Q.pdf",{"$f":"CONCATENATE(TableMotorCrossRef[[#This Row],[Manufacturer]],TableMotorCrossRef[[#This Row],[Model]])","v":"Sanyo DenkiQ1AA07075xxx"}]
["Sanyo Denki","Q2AA04006xxx",66,48,34,2,7,24,42,"NA",5,3.5,"NA","NA",4,"http://www.sanyo-denki.com/Data/Servo/catalogs/Q.pdf",{"$f":"CONCATENATE(TableMotorCrossRef[[#This Row],[Manufacturer]],TableMotorCrossRef[[#This Row],[Model]])","v":"Sanyo DenkiQ2AA04006xxx"}]
["Sanyo Denki","Q2AA04010xxx",66,48,34,2,7,24,42,"NA",5,3.5,"NA","NA",4,"http://www.sanyo-denki.com/Data/Servo/catalogs/Q.pdf",{"$f":"CONCATENATE(TableMotorCrossRef[[#This Row],[Manufacturer]],TableMotorCrossRef[[#This Row],[Model]])","v":"Sanyo DenkiQ2AA04010xxx"}]
["Sanyo Denki","Q2AA05005xxx",67,60,50,2.5,8,24,54,"NA",5,4.5,"NA","NA",4,"http://www.sanyo-denki.com/Data/Servo/catalogs/Q.pdf",{"$f":"CONCATENATE(TableMotorCrossRef[[#This Row],[Manufacturer]],TableMotorCrossRef[[#This Row],[Model]])","v":"Sanyo DenkiQ2AA05005xxx"}]
["Sanyo Denki","Q2AA07xxxxxx",68,90,70,3,14,30,76,"NA",8,5.5,"NA","NA",4,"http://www.sanyo-denki.com/Data/Servo/catalogs/Q.pdf",{"$f":"CONCATENATE(TableMotorCrossRef[[#This Row],[Manufacturer]],TableMotorCrossRef[[#This Row],[Model]])","v":"Sanyo DenkiQ2AA07xxxxxx"}]
["Sanyo Denki","Q2AA08xxxxxx",69,100,80,3,16,35,86,"NA",8,6.6,"NA","NA",4,"http://www.sanyo-denki.com/Data/Servo/catalogs/Q.pdf",{"$f":"CONCATENATE(TableMotorCrossRef[[#This Row],[Manufacturer]],TableMotorCrossRef[[#This Row],[Model]])","v":"Sanyo DenkiQ2AA08xxxxxx"}]
["Sanyo Denki","SM286xx-xx",70,98.429000000000002,73.025000000000006,1.5,14,30,85.5,"NA",8,5.6,"NA","NA",4,"http://www.sanyo-denki.com/Data/Servo/catalogs/F2_ver1.pdf",{"$f":"CONCATENATE(TableMotorCrossRef[[#This Row],[Manufacturer]],TableMotorCrossRef[[#This Row],[Model]])","v":"Sanyo DenkiSM286xx-xx"}]
["SEM","HDM82x",71,100,80,3,14,30,82,"NA",10.5,6.6,"NA","NA",4,"http://www.sem.co.uk/fileadmin/data/file/Brochure_HDM__English_Issue5.1.pdf",{"$f":"CONCATENATE(TableMotorCrossRef[[#This Row],[Manufacturer]],TableMotorCrossRef[[#This Row],[Model]])","v":"SEMHDM82x"}]
["Siemens","1FK702x",72,63,40,2.5,9,20,55,"NA",10,5.4,"NA","NA",4,"https://www.automation.siemens.com/mcms/infocenter/dokumentencenter/mc/Documentsu20Catalogs/Catalog-D31-2012-en.pdf",{"$f":"CONCATENATE(TableMotorCrossRef[[#This Row],[Manufacturer]],TableMotorCrossRef[[#This Row],[Model]])","v":"Siemens1FK702x"}]
["Siemens","1FK703x",73,75,60,3,14,30,72,"NA",8,6.5,"NA","NA",4,"https://www.automation.siemens.com/mcms/infocenter/dokumentencenter/mc/Documentsu20Catalogs/Catalog-D31-2012-en.pdf",{"$f":"CONCATENATE(TableMotorCrossRef[[#This Row],[Manufacturer]],TableMotorCrossRef[[#This Row],[Model]])","v":"Siemens1FK703x"}]
["Slo-Syn","M060",74,66.668999999999997,38.1,1.3,6.35,20.6,56.9,"NA",4.83,5.21,"NA","NA",4,"http://g-line.chess.cornell.edu/G-lineStatus/G-lineManuals/StepperMotors/SloSynCatalogue.pdf",{"$f":"CONCATENATE(TableMotorCrossRef[[#This Row],[Manufacturer]],TableMotorCrossRef[[#This Row],[Model]])","v":"Slo-SynM060"}]
["Slo-Syn","M090",75,98.429000000000002,73.025000000000006,2,9.5250000000000004,30.2,86,"NA",4.8,5.8,"NA","NA",4,"http://g-line.chess.cornell.edu/G-lineStatus/G-lineManuals/StepperMotors/SloSynCatalogue.pdf",{"$f":"CONCATENATE(TableMotorCrossRef[[#This Row],[Manufacturer]],TableMotorCrossRef[[#This Row],[Model]])","v":"Slo-SynM090"}]
["Teknic","NEMA23, 3/8” shaft ",null,66.7,38.1,1.9,9.5299999999999994,20.6,59.1,"NA",4.8,5.2,"NA","NA",4," https://www.teknic.com/files/downloads/23xx%20CPM%20Dimensional%20Drawing.pdf",{"$f":"CONCATENATE(TableMotorCrossRef[[#This Row],[Manufacturer]],TableMotorCrossRef[[#This Row],[Model]])","v":"TeknicNEMA23, 3/8” shaft "}]
["Teknic","NEMA34, ½” shaft ",null,98.4,73.03,2,12.7,32.5,86.9,"NA",4.8,5.6,"NA","NA",4,"https://www.teknic.com/files/downloads/clearpath_user_manual.pdf, sid 99 ",{"$f":"CONCATENATE(TableMotorCrossRef[[#This Row],[Manufacturer]],TableMotorCrossRef[[#This Row],[Model]])","v":"TeknicNEMA34, ½” shaft "}]
["Yaskawa","SGMJV-01AxA21",42,46,30,2.5,8,25,40,"NA",5,4.3,"NA","NA",4,"http://www.yaskawa.com/site/dmservo.nsf/%28DocID%29/TKUR-975RV5/$File/YEA-KAEPS800000042J-SGMJV.pdf",{"$f":"CONCATENATE(TableMotorCrossRef[[#This Row],[Manufacturer]],TableMotorCrossRef[[#This Row],[Model]])","v":"YaskawaSGMJV-01AxA21"}]
["Yaskawa","SGMJV-04AxA21",63,70,50,3,14,30,60,"NA",6,5.5,"NA","NA",4,"http://www.yaskawa.com/site/dmservo.nsf/%28DocID%29/TKUR-975RV5/$File/YEA-KAEPS800000042J-SGMJV.pdf",{"$f":"CONCATENATE(TableMotorCrossRef[[#This Row],[Manufacturer]],TableMotorCrossRef[[#This Row],[Model]])","v":"YaskawaSGMJV-04AxA21"}]
["Yaskawa","SGMPH-01xxx",76,70,50,3,8,25,60,"NA",6,5.3,"NA","NA",4,"http://www.yaskawa.com/site/dmservo.nsf/%28DocID%29/TKUR-5Z4QR7/$File/G-MI-99001-SGMPH-D.pdf",{"$f":"CONCATENATE(TableMotorCrossRef[[#This Row],[Manufacturer]],TableMotorCrossRef[[#This Row],[Model]])","v":"YaskawaSGMPH-01xxx"}]
["Yaskawa","SGMPH-02xxx",77,90,70,3,14,30,80,"NA",8,7,"NA","NA",4,"http://www.yaskawa.com/site/dmservo.nsf/%28DocID%29/TKUR-5Z4QR7/$File/G-MI-99001-SGMPH-D.pdf",{"$f":"CONCATENATE(TableMotorCrossRef[[#This Row],[Manufacturer]],TableMotorCrossRef[[#This Row],[Model]])","v":"YaskawaSGMPH-02xxx"}]
["Yaskawa","SGMPH-04xxx",77,90,70,3,14,30,80,"NA",8,7,"NA","NA",4,"http://www.yaskawa.com/site/dmservo.nsf/%28DocID%29/TKUR-5Z4QR7/$File/G-MI-99001-SGMPH-D.pdf",{"$f":"CONCATENATE(TableMotorCrossRef[[#This Row],[Manufacturer]],TableMotorCrossRef[[#This Row],[Model]])","v":"YaskawaSGMPH-04xxx"}]
["Yaskawa","SJME-01A",42,46,30,2.5,8,25,40,"NA",5,4.3,"NA","NA",4,"http://www.yaskawa.com/site/products.nsf/ProductDetailPages/rotary%20servomotors~SJME%20Junma~SJME-Junma-dimensions.html",{"$f":"CONCATENATE(TableMotorCrossRef[[#This Row],[Manufacturer]],TableMotorCrossRef[[#This Row],[Model]])","v":"YaskawaSJME-01A"}]
["Yaskawa","SJME-02",63,70,50,3,14,30,60,"NA",6,5.5,"NA","NA",4,"http://www.yaskawa.com/site/products.nsf/ProductDetailPages/rotary%20servomotors~SJME%20Junma~SJME-Junma-dimensions.html",{"$f":"CONCATENATE(TableMotorCrossRef[[#This Row],[Manufacturer]],TableMotorCrossRef[[#This Row],[Model]])","v":"YaskawaSJME-02"}]
["Yaskawa","SJME-04",63,70,50,3,14,30,60,"NA",6,5.5,"NA","NA",4,"http://www.yaskawa.com/site/products.nsf/ProductDetailPages/rotary%20servomotors~SJME%20Junma~SJME-Junma-dimensions.html",{"$f":"CONCATENATE(TableMotorCrossRef[[#This Row],[Manufacturer]],TableMotorCrossRef[[#This Row],[Model]])","v":"YaskawaSJME-04"}]
["Yaskawa","SJME-08",65,90,70,3,16,40,80,"NA",8,7,"NA","NA",4,"http://www.yaskawa.com/site/products.nsf/ProductDetailPages/rotary%20servomotors~SJME%20Junma~SJME-Junma-dimensions.html",{"$f":"CONCATENATE(TableMotorCrossRef[[#This Row],[Manufacturer]],TableMotorCrossRef[[#This Row],[Model]])","v":"YaskawaSJME-08"}]

{"sheet":"Criteria","index":5,"n_rows":218,"n_cols":84,"rows_kept":218,"cut":false,"hidden":true,"merged":[[0,1,1,1],[0,3,1,3],[0,2,1,2]]}
[null,"HIT?","Error txt","OK txt","ALL MOTOR TYPES",null,null,null,"SQ AND ROUND MOTOR THRU HOLES",null,null,null,null,null,null,null,"SQ MOTOR TAPPED HOLES",null,null,null,null,null,null,null,"ROUND MOTOR TAPPED HOLES"]
[null,null,null,null,"SL","SD","C","LC","BCD","PD","PL","SQ/ROUND","All OK?","PLATE","Error txt","OK txt","BCD","PD","PL","SQ","All OK?","PLATE","Error txt","OK txt","BCD","PD","PL","ROUND","All OK?","PLATE","Error txt","OK txt"]
["PC25LX",{"$f":"IFERROR(IF($F$11=1,M3,IF($F$11=2,U3,AC3)),0)","v":0},{"$f":"IF($F$11=1,O3,IF($F$11=2,W3,AE3))","v":"Values out of range:\nShaft diameter\nUnsupported combination"},"Your motor fits!\nPLATE B\nC = 52 mm",{"$f":"IF(OR(E34=1,E34=0),E34,\"???\")","v":1},{"$f":"IF(OR(H34=1,H34=0),H34,\"???\")","v":0},{"$f":"INDEX(C26:E33,MATCH(1,E26:E33,0),1)","v":52},{"$f":"INDEX(C26:E33,MATCH(1,E26:E33,0),2)","v":38.700000000000003},{"$f":"IF(OR(R34=1,R34=0),R34,\"???\")","v":1},{"$f":"IF(OR(O34=1,O34=0),O34,\"???\")","v":1},{"$f":"IF(OR(U34=1,U34=0),U34,\"???\")","v":1},1,{"$f":"IF(AND($E3,$F3,I3,J3,K3,L3),1,0)","v":0},{"$f":"IFERROR(INDEX(I26:I33,MATCH(MIN(X26:X33),X26:X33,0),1),\"???\")","v":"B"},{"$f":"$N$20&IF(I3,\"\",$N$12)&IF(J3=1,\"\",$N$13)&IF($F3=1,\"\",$N$14)&IF($E3=1,\"\",$N$16)&IF(K3=1,\"\",$N$15)&IF(AND(L3=0,$B$11=1),$N$18,IF(AND(L3=0,$B$11=2),$Q$12,\"\"))&IF(SUM(I3:L3)=4,$N$22,\"\")","v":"Values out of range:\nShaft diameter\nUnsupported combination"},{"$f":"$N$17&$N$21&N3&CHAR(10)&$N$19&$G3&\" mm\"","v":"Your motor fits!\nPLATE B\nC = 52 mm"},{"$f":"IF(OR(AV34=1,AV34=0),AV34,\"???\")","v":0},{"$f":"IF(OR(AU34=1,AU34=0),AU34,\"???\")","v":0},{"$f":"IF(OR(AY34=1,AY34=0),AY34,\"???\")","v":1},{"$f":"IF(OR(AB34=1,AB34=0),AB34,\"???\")","v":1},{"$f":"AZ34","v":0},{"$f":"IFERROR(INDEX(Y27:Y33,MATCH(MIN(BB27:BB33),BB27:BB33,0),1),\"???\")","v":"???"},{"$f":"$N$20&IF(Q3,\"\",$N$12)&IF(R3=1,\"\",$N$13)&IF($F3=1,\"\",$N$14)&IF($E3=1,\"\",$N$16)&IF(S3=1,\"\",$N$15)&IF(AND(T3=0,$B$11=1),$N$18,IF(AND(T3=0,$B$11=2),$Q$12,\"\"))&IF(SUM(Q3:T3)=4,$N$22,\"\")","v":"Values out of range:\nBolt circle diameter\nPilot diameter\nShaft diameter\n"},{"$f":"$N$17&$N$21&V3&CHAR(10)&$N$19&$G3&\" mm\"","v":"Your motor fits!\nPLATE ???\nC = 52 mm"},{"$f":"IF(OR(BZ34=1,BZ34=0),BZ34,\"???\")","v":0},{"$f":"IF(OR(BY34=1,BY34=0),BY34,\"???\")","v":0},{"$f":"IF(OR(CC34=1,CC34=0),CC34,\"???\")","v":1},{"$f":"IF(OR(BF34=1,BF34=0),BF34,\"???\")","v":1},{"$f":"CD34","v":0},{"$f":"IFERROR(INDEX(BC27:BC33,MATCH(MIN(CF27:CF33),CF27:CF33,0),1),\"???\")","v":"???"},{"$f":"$N$20&IF(Y3,\"\",$N$12)&IF(Z3=1,\"\",$N$13)&IF($F3=1,\"\",$N$14)&IF($E3=1,\"\",$N$16)&IF(AA3=1,\"\",$N$15)&IF(AND(AB3=0,$B$11=1),$N$18,IF(AND(AB3=0,$B$11=2),$Q$12,\"\"))&IF(SUM(Y3:AB3)=4,$N$22,\"\")","v":"Values out of range:\nBolt circle diameter\nPilot diameter\nShaft diameter\n"},{"$f":"$N$17&$N$21&AD3&CHAR(10)&$N$19&$G3&\" mm\"","v":"Your motor fits!\nPLATE ???\nC = 52 mm"}]
["PC32LX",1,"Values out of range:\nUnsupported combination","Your motor fits!\nPLATE B\nC = 59 mm",{"$f":"IF(OR(E48=1,E48=0),E48,\"???\")","v":1},{"$f":"IF(OR(H48=1,H48=0),H48,\"???\")","v":1},{"$f":"INDEX(C40:C47,MATCH(1,E40:E47,0),1)","v":59},{"$f":"INDEX(D40:D47,MATCH(1,E40:E47,0),1)","v":45.2},{"$f":"IF(OR(R48=1,R48=0),R48,\"???\")","v":1},{"$f":"IF(OR(O48=1,O48=0),O48,\"???\")","v":1},{"$f":"IF(OR(U48=1,U48=0),U48,\"???\")","v":1},1,1,{"$f":"IFERROR(INDEX(I40:I47,MATCH(MIN(X40:X47),X40:X47,0),1),\"???\")","v":"B"},"Values out of range:\nUnsupported combination",{"$f":"$N$17&$N$21&N4&CHAR(10)&$N$19&$G4&\" mm\"","v":"Your motor fits!\nPLATE B\nC = 59 mm"},{"$f":"IF(OR(AV48=1,AV48=0),AV48,\"???\")","v":0},{"$f":"IF(OR(AU48=1,AU48=0),AU48,\"???\")","v":0},{"$f":"IF(OR(AY48=1,AY48=0),AY48,\"???\")","v":1},{"$f":"IF(OR(AB48=1,AB48=0),AB48,\"???\")","v":1},{"$f":"AZ48","v":0},{"$f":"IFERROR(INDEX(Y41:Y47,MATCH(MIN(BB41:BB47),BB41:BB47,0),1),\"???\")","v":"???"},"Values out of range:\nBolt circle diameter\nPilot diameter\n",{"$f":"$N$17&$N$21&V4&CHAR(10)&$N$19&$G4&\" mm\"","v":"Your motor fits!\nPLATE ???\nC = 59 mm"},{"$f":"IF(OR(BZ48=1,BZ48=0),BZ48,\"???\")","v":0},{"$f":"IF(OR(BY48=1,BY48=0),BY48,\"???\")","v":0},{"$f":"IF(OR(CC48=1,CC48=0),CC48,\"???\")","v":1},{"$f":"IF(OR(BF48=1,BF48=0),BF48,\"???\")","v":1},{"$f":"CD48","v":0},{"$f":"IFERROR(INDEX(BC41:BC47,MATCH(MIN(CF41:CF47),CF41:CF47,0),1),\"???\")","v":"???"},"Values out of range:\nBolt circle diameter\nPilot diameter\n",{"$f":"$N$17&$N$21&AD4&CHAR(10)&$N$19&$G4&\" mm\"","v":"Your motor fits!\nPLATE ???\nC = 59 mm"}]
["PC40LX",1,"Values out of range:\nUnsupported combination","Your motor fits!\nPLATE A\nC = 62 mm",{"$f":"IF(OR(E62=1,E62=0),E62,\"???\")","v":1},{"$f":"IF(OR(H62=1,H62=0),H62,\"???\")","v":1},{"$f":"INDEX(C54:D61,MATCH(1,E54:E61,0),1)","v":62},{"$f":"INDEX(C54:D61,MATCH(1,E54:E61,0),2)","v":48.7},{"$f":"IF(OR(R62=1,R62=0),R62,\"???\")","v":1},{"$f":"IF(OR(O62=1,O62=0),O62,\"???\")","v":1},{"$f":"IF(OR(U62=1,U62=0),U62,\"???\")","v":1},1,1,{"$f":"IFERROR(INDEX(I54:I61,MATCH(MIN(X54:X61),X54:X61,0),1),\"???\")","v":"A"},"Values out of range:\nUnsupported combination",{"$f":"$N$17&$N$21&N5&CHAR(10)&$N$19&$G5&\" mm\"","v":"Your motor fits!\nPLATE A\nC = 62 mm"},{"$f":"IF(OR(AV62=1,AV62=0),AV62,\"???\")","v":0},{"$f":"IF(OR(AU62=1,AU62=0),AU62,\"???\")","v":0},{"$f":"IF(OR(AY62=1,AY62=0),AY62,\"???\")","v":1},{"$f":"IF(OR(AB62=1,AB62=0),AB62,\"???\")","v":1},{"$f":"AZ62","v":0},{"$f":"IFERROR(INDEX(Y55:Y61,MATCH(MIN(BB55:BB61),BB55:BB61,0),1),\"???\")","v":"???"},"Values out of range:\nBolt circle diameter\nPilot diameter\n",{"$f":"$N$17&$N$21&V5&CHAR(10)&$N$19&$G5&\" mm\"","v":"Your motor fits!\nPLATE ???\nC = 62 mm"},{"$f":"IF(OR(BZ62=1,BZ62=0),BZ62,\"???\")","v":0},{"$f":"IF(OR(BY62=1,BY62=0),BY62,\"???\")","v":0},{"$f":"IF(OR(CC62=1,CC62=0),CC62,\"???\")","v":1},{"$f":"IF(OR(BF62=1,BF62=0),BF62,\"???\")","v":1},{"$f":"CD62","v":0},{"$f":"IFERROR(INDEX(BC55:BC61,MATCH(MIN(CF55:CF61),CF55:CF61,0),1),\"???\")","v":"???"},"Values out of range:\nBolt circle diameter\nPilot diameter\n",{"$f":"$N$17&$N$21&AD5&CHAR(10)&$N$19&$G5&\" mm\"","v":"Your motor fits!\nPLATE ???\nC = 62 mm"}]
["PC25PA",0,"Values out of range:\nShaft diameter\nUnsupported combination","Your motor fits!\nPLATE D",{"$f":"IF(OR(E76=1,E76=0),E76,\"???\")","v":1},{"$f":"IF(OR(H76=1,H76=0),H76,\"???\")","v":0},{"$f":"INDEX(C68:C75,MATCH(1,E68:E75,0),1)","v":"NA"},{"$f":"INDEX(D68:D75,MATCH(1,E68:E75,0),1)","v":"NA"},{"$f":"IF(OR(R76=1,R76=0),R76,\"???\")","v":1},{"$f":"IF(OR(O76=1,O76=0),O76,\"???\")","v":1},{"$f":"IF(OR(U76=1,U76=0),U76,\"???\")","v":1},{"$f":"IF(OR(L76=1,L76=0),L76,\"???\")","v":1},0,{"$f":"IFERROR(INDEX(I68:I75,MATCH(MIN(X68:X75),X68:X75,0),1),\"???\")","v":"D"},"Values out of range:\nShaft diameter\nUnsupported combination",{"$f":"$N$17&$N$21&N6","v":"Your motor fits!\nPLATE D"},{"$f":"IF(OR(AV76=1,AV76=0),AV76,\"???\")","v":0},{"$f":"IF(OR(AU76=1,AU76=0),AU76,\"???\")","v":0},{"$f":"IF(OR(AY76=1,AY76=0),AY76,\"???\")","v":1},{"$f":"IF(OR(AB76=1,AB76=0),AB76,\"???\")","v":0},{"$f":"AZ76","v":0},{"$f":"IFERROR(INDEX(Y69:Y75,MATCH(MIN(BB69:BB75),BB69:BB75,0),1),\"???\")","v":"???"},"Values out of range:\nBolt circle diameter\nPilot diameter\nShaft diameter\nSquare side\n",{"$f":"$N$17&$N$21&V6","v":"Your motor fits!\nPLATE ???"},{"$f":"IF(OR(BZ76=1,BZ76=0),BZ76,\"???\")","v":0},{"$f":"IF(OR(BY76=1,BY76=0),BY76,\"???\")","v":0},{"$f":"IF(OR(CC76=1,CC76=0),CC76,\"???\")","v":1},{"$f":"IF(OR(BF76=1,BF76=0),BF76,\"???\")","v":0},{"$f":"CD76","v":0},{"$f":"IFERROR(INDEX(BC69:BC75,MATCH(MIN(CF69:CF75),CF69:CF75,0),1),\"???\")","v":"???"},"Values out of range:\nBolt circle diameter\nPilot diameter\nShaft diameter\nSquare side\n",{"$f":"$N$17&$N$21&AD6","v":"Your motor fits!\nPLATE ???"}]
["PC32PA",0,{"$f":"IF($F$11=1,O7,IF($F$11=2,W7,AE7))","v":"Values out of range:\nShaft diameter\nUnsupported combination"},{"$f":"IF($F$11=1,P7,IF($F$11=2,X7,AF7))","v":"Your motor fits!\nPLATE C"},{"$f":"IF(OR(E90=1,E90=0),E90,\"???\")","v":1},{"$f":"IF(OR(H90=1,H90=0),H90,\"???\")","v":0},{"$f":"INDEX(C82:C89,MATCH(1,E82:E89,0),1)","v":"NA"},{"$f":"INDEX(D82:D89,MATCH(1,E82:E89,0),1)","v":"NA"},{"$f":"IF(OR(R90=1,R90=0),R90,\"???\")","v":1},{"$f":"IF(OR(O90=1,O90=0),O90,\"???\")","v":1},{"$f":"IF(OR(U90=1,U90=0),U90,\"???\")","v":1},{"$f":"IF(OR(L90=1,L90=0),L90,\"???\")","v":1},0,{"$f":"IFERROR(INDEX(I82:I89,MATCH(MIN(X82:X89),X82:X89,0),1),\"???\")","v":"C"},"Values out of range:\nShaft diameter\nUnsupported combination",{"$f":"$N$17&$N$21&N7","v":"Your motor fits!\nPLATE C"},{"$f":"IF(OR(AV90=1,AV90=0),AV90,\"???\")","v":0},{"$f":"IF(OR(AU90=1,AU90=0),AU90,\"???\")","v":0},{"$f":"IF(OR(AY90=1,AY90=0),AY90,\"???\")","v":1},{"$f":"IF(OR(AB90=1,AB90=0),AB90,\"???\")","v":1},{"$f":"AZ90","v":0},{"$f":"IFERROR(INDEX(Y83:Y89,MATCH(MIN(BB83:BB89),BB83:BB89,0),1),\"???\")","v":"???"},"Values out of range:\nBolt circle diameter\nPilot diameter\nShaft diameter\n",{"$f":"$N$17&$N$21&V7","v":"Your motor fits!\nPLATE ???"},{"$f":"IF(OR(BZ90=1,BZ90=0),BZ90,\"???\")","v":0},{"$f":"IF(OR(BY90=1,BY90=0),BY90,\"???\")","v":0},{"$f":"IF(OR(CC90=1,CC90=0),CC90,\"???\")","v":1},{"$f":"IF(OR(BF90=1,BF90=0),BF90,\"???\")","v":1},{"$f":"CD90","v":0},{"$f":"IFERROR(INDEX(BC83:BC89,MATCH(MIN(CF83:CF89),CF83:CF89,0),1),\"???\")","v":"???"},"Values out of range:\nBolt circle diameter\nPilot diameter\nShaft diameter\n",{"$f":"$N$17&$N$21&AD7","v":"Your motor fits!\nPLATE ???"}]
["PC40PA",1,{"$f":"IF($F$11=1,O8,IF($F$11=2,W8,AE8))","v":"Values out of range:\nUnsupported combination"},{"$f":"IF($F$11=1,P8,IF($F$11=2,X8,AF8))","v":"Your motor fits!\nPLATE C"},{"$f":"IF(OR(E104=1,E104=0),E104,\"???\")","v":1},{"$f":"IF(OR(H104=1,H104=0),H104,\"???\")","v":1},{"$f":"INDEX(C96:C103,MATCH(1,E96:E103,0),1)","v":"NA"},{"$f":"INDEX(D96:D103,MATCH(1,E96:E103,0),1)","v":"NA"},{"$f":"IF(OR(R104=1,R104=0),R104,\"???\")","v":1},{"$f":"IF(OR(O104=1,O104=0),O104,\"???\")","v":1},{"$f":"IF(OR(U104=1,U104=0),U104,\"???\")","v":1},{"$f":"IF(OR(L104=1,L104=0),L104,\"???\")","v":1},1,{"$f":"IFERROR(INDEX(I96:I103,MATCH(MIN(X96:X103),X96:X103,0),1),\"???\")","v":"C"},"Values out of range:\nUnsupported combination",{"$f":"$N$17&$N$21&N8","v":"Your motor fits!\nPLATE C"},{"$f":"IF(OR(AV104=1,AV104=0),AV104,\"???\")","v":0},{"$f":"IF(OR(AU104=1,AU104=0),AU104,\"???\")","v":0},{"$f":"IF(OR(AY104=1,AY104=0),AY104,\"???\")","v":1},{"$f":"IF(OR(AB104=1,AB104=0),AB104,\"???\")","v":1},{"$f":"AZ104","v":0},{"$f":"IFERROR(INDEX(Y97:Y103,MATCH(MIN(BB97:BB103),BB97:BB103,0),1),\"???\")","v":"???"},"Values out of range:\nBolt circle diameter\nPilot diameter\n",{"$f":"$N$17&$N$21&V8","v":"Your motor fits!\nPLATE ???"},{"$f":"IF(OR(BZ104=1,BZ104=0),BZ104,\"???\")","v":0},{"$f":"IF(OR(BY104=1,BY104=0),BY104,\"???\")","v":0},{"$f":"IF(OR(CC104=1,CC104=0),CC104,\"???\")","v":1},{"$f":"IF(OR(BF104=1,BF104=0),BF104,\"???\")","v":1},{"$f":"CD104","v":0},{"$f":"IFERROR(INDEX(BC97:BC103,MATCH(MIN(CF97:CF103),CF97:CF103,0),1),\"???\")","v":"???"},"Values out of range:\nBolt circle diameter\nPilot diameter\n",{"$f":"$N$17&$N$21&AD8","v":"Your motor fits!\nPLATE ???"}]
[]
["UI input"]
["MOTOR SQ/ROUND",{"$f":"UIoptions!N35","v":1},"1=SQ, 2=ROUND",null,"Choice",{"$f":"IF(B12=1,1,IF(AND(B12=0,B11=1),2,IF(AND(B12=0,B11=2),3,\"???\")))","v":1},"1=SQ/ROUND THRU, 2=SQ TAPPED, 3=ROUND TAPPED",null,null,null,null,null,null,"Txt msgs"]
["THRU HOLES",{"$f":"IF(UIoptions!N75=1,1,0)","v":1},"1=THRU, 0 = TAPPED",null,null,null,null,null,null,null,null,null,null,{"$f":"\"Bolt circle diameter\"&CHAR(10)","v":"Bolt circle diameter\n"},null,"e",{"$f":"\"Outer diameter\"&CHAR(10)","v":"Outer diameter\n"},null,"e"]
["BCD",{"$f":"UIoptions!P10","v":63},null,null,null,null,null,null,null,null,null,null,null,{"$f":"\"Pilot diameter\"&CHAR(10)","v":"Pilot diameter\n"},null,"e"]
["PD",{"$f":"UIoptions!P11","v":40},null,null,null,null,null,null,null,null,null,null,null,{"$f":"\"Shaft diameter\"&CHAR(10)","v":"Shaft diameter\n"},null,"e"]
["SD",{"$f":"UIoptions!P12","v":15},null,null,null,null,null,null,null,null,null,null,null,{"$f":"\"Pilot length\"& CHAR(10)","v":"Pilot length\n"},null,"e"]
["SL",{"$f":"UIoptions!P13","v":20},null,null,null,null,null,null,null,null,null,null,null,{"$f":"\"Shaft length\"&CHAR(10)","v":"Shaft length\n"},null,"e"]
["PL",{"$f":"UIoptions!P14","v":2.5},null,null,null,null,null,null,null,null,null,null,null,{"$f":"\"Your motor fits!\"&CHAR(10)","v":"Your motor fits!\n"},null,"e"]
["SQ/ROUND",{"$f":"UIoptions!P15","v":58},null,null,null,null,null,null,null,null,null,null,null,{"$f":"\"Square side\"&CHAR(10)","v":"Square side\n"},null,"e"]
["FL",{"$f":"UIoptions!P16","v":7},null,null,null,null,null,null,null,null,null,null,null,"C = "]
["THREAD_L",{"$f":"UIoptions!P17","v":0},null,null,null,null,null,null,null,null,null,null,null,{"$f":"\"Values out of range:\"&CHAR(10)","v":"Values out of range:\n"},null,"e"]
["HOLE_D",{"$f":"UIoptions!$P$18","v":4.8},null,null,null,null,null,null,null,null,null,null,null,"PLATE "]
["THREAD_SZ",{"$f":"UIoptions!P19","v":"NA"},{"$f":"IFERROR(INDEX(A111:B153,MATCH(B22,A111:A153,0),2),\"???\")","v":"???"},null,null,null,null,null,null,null,null,null,null,"Unsupported combination"]
["PC25LX",null,null,null,null,null,null,null,"PC25LX",null,null,null,null,null,null,null,null,null,null,null,null,null,null,null,"PC25LX",null,null,null,null,null,null,null,null,null,null,null,null,null,null,null,null,null,null,null,null,null,null,null,null,null,null,null,null,null,"PC25LX"]
["ALL MOTOR TYPES",null,null,null,null,null,null,null,"SQ AND ROUND MOTOR THRU HOLES",null,null,null,null,null,null,null,null,null,null,null,null,null,null,null,"SQ MOTOR TAPPED HOLES",null,null,null,null,null,null,null,null,null,null,null,null,null,null,null,null,null,null,null,null,null,null,null,null,null,null,null,null,null,"ROUND MOTOR TAPPED HOLES"]
["SL min","SL max","Outline C","LC","SL hit?","SD min","SD max","SD hit?","PLATE","SQ min","SQ max","SQ hit?","PD min","PD max","PD hit?","BCD min","BCD max","BCD hit?","PL min","PL max","PL hit?","HIT?","PRIO","Prio Hit",null,null,null,null,"M3",null,null,null,null,null,"M4",null,null,null,null,null,"M5",null,null,null,null,null,"Chosen thread",null,null,null,null,null,null,null,null,null,null,null,"M3",null,null,null,null,null,"M4",null,null,null,null,null,"M5",null,null,null,null,null,"Chosen thread"]
[19,21.5,52,38.700000000000003,{"$f":"IF(AND($B$16>=Criteria!A26,$B$16<=Criteria!B26),1,0)","v":1},5,11,{"$f":"IF(AND($B$15>=F26,$B$15<=G26),1,0)","v":0},"A","NA","NA","NA",16,36,{"$f":"IF(AND($B$14>=M26,$B$14<=N26),1,0)","v":0},43.8,48,{"$f":"IF(AND(Q26=\"NA\",K26<>\"NA\"),L26,IF(AND($B$13>=P26,$B$13<=Q26),1,0))","v":0},0.2,4,{"$f":"IF(AND($B$17>=S26,$B$17<=T26),1,0)","v":1},{"$f":"IF(AND(IF(L26=\"NA\",1,L26)=1,IF(O26=\"NA\",1,O26)=1,IF(R26=\"NA\",1,R26)=1,IF(U26=\"NA\",1,U26)=1),1,0)","v":0},1,{"$f":"IF(V26=1,W26,\"NA\")","v":"NA"},"PLATE","SQ min","SQ max","SQ hit?","PD min","PD max","PD hit?","BCD min","BCD max","BCD hit?","PD min","PD max","PD hit?","BCD min","BCD max","BCD hit?","PD min","PD max","PD hit?","BCD min","BCD max","BCD hit?","PD hit?","BCD hit?","PL min","PL max","PL hit?","HIT?","PRIO","Prio Hit","PLATE","Round min","Round max","Round hit?","PD min","PD max","PD hit?","BCD min","BCD max","BCD hit?","PD min","PD max","PD hit?","BCD min","BCD max","BCD hit?","PD min","PD max","PD hit?","BCD min","BCD max","BCD hit?","PD hit?","BCD hit?","PL min","PL max","PL hit?","HIT?","PRIO","Prio Hit"]
[21.5,24,52,36.200000000000003,{"$f":"IF(AND($B$16>Criteria!A27,$B$16<=Criteria!B27),1,0)","v":0},null,null,null,"B","NA","NA","NA",16,54,{"$f":"IF(AND($B$14>=M27,$B$14<=N27),1,0)","v":1},48,72,{"$f":"IF(AND(Q27=\"NA\",K27<>\"NA\"),L27,IF(AND($B$13>=P27,$B$13<=Q27),1,0))","v":1},0.2,4,{"$f":"IF(AND($B$17>=S27,$B$17<=T27),1,0)","v":1},{"$f":"IF(AND(IF(L27=\"NA\",1,L27)=1,IF(O27=\"NA\",1,O27)=1,IF(R27=\"NA\",1,R27)=1,IF(U27=\"NA\",1,U27)=1),1,0)","v":1},2,{"$f":"IF(V27=1,W27,\"NA\")","v":2},"A2",0,100,{"$f":"IF(AA27=\"NA\",1,IF(AND($B$18>=Z27,$B$18<=AA27),1,0))","v":1},0,{"$f":"IF($B$13-6.5>AG27-6.5,AG27-6.5,$B$13-6.5)","v":22.5},{"$f":"IF(AD27=\"NA\",1,IF(AND($B$14>=AC27,$B$14<=AD27),1,0))","v":0},0,29,{"$f":"IF(AND($B$13>=AF27,$B$13<=AG27),1,0)","v":0},0,{"$f":"IF($B$13-9.7>AM27-9.7,AM27-9.7,$B$13-9.7)","v":16.3},{"$f":"IF(AJ27=\"NA\",1,IF(AND($B$14>=AI27,$B$14<=AJ27),1,0))","v":0},0,26,{"$f":"IF(AM27=\"NA\",1,IF(AND($B$13>=AL27,$B$13<=AM27),1,0))","v":0},0,{"$f":"IF($B$13-11>AS27-11,AS27-11,$B$13-11)","v":14},{"$f":"IF(AP27=\"NA\",1,IF(AND($B$14>=AO27,$B$14<=AP27),1,0))","v":0},0,25,{"$f":"IF(AS27=\"NA\",1,IF(AND($B$13>=AR27,$B$13<=AS27),1,0))","v":0},{"$f":"IF($C$22=\"M3\",AE27,IF($C$22=\"M4\",AK27,IF($C$22=\"M5\",AQ27,\"???\")))","v":"???"},{"$f":"IF($C$22=\"M3\",AH27,IF($C$22=\"M4\",AN27,IF($C$22=\"M5\",AT27,\"???\")))","v":"???"},0.2,4,{"$f":"IF(AND($B$17>=AW27,$B$17<=AX27),1,0)","v":1},{"$f":"IF(AND(IF(AB27=\"NA\",1,AB27)=1,IF(AU27=\"NA\",1,AU27)=1,IF(AV27=\"NA\",1,AV27)=1,IF(AY27=\"NA\",1,AY27)=1),1,0)","v":0},1,{"$f":"IF(AZ27=1,BA27,\"NA\")","v":"NA"},"A2",0,42,{"$f":"IF(BE27=\"NA\",1,IF(AND($B$18>=BD27,$B$18<=BE27),1,0))","v":0},0,{"$f":"IF($B$13-6.5>BK27-6.5,BK27-6.5,$B$13-6.5)","v":22.5},{"$f":"IF(BH27=\"NA\",1,IF(AND($B$14>=BG27,$B$14<=BH27),1,0))","v":0},0,29,{"$f":"IF(AND($B$13>=BJ27,$B$13<=BK27),1,0)","v":0},0,{"$f":"IF($B$13-9.7>BQ27-9.7,BQ27-9.7,$B$13-9.7)","v":16.3},{"$f":"IF(BN27=\"NA\",1,IF(AND($B$14>=BM27,$B$14<=BN27),1,0))","v":0},0,26,{"$f":"IF(BQ27=\"NA\",1,IF(AND($B$13>=BP27,$B$13<=BQ27),1,0))","v":0},0,{"$f":"IF($B$13-11>BW27-11,BW27-11,$B$13-11)","v":14},{"$f":"IF(BT27=\"NA\",1,IF(AND($B$14>=BS27,$B$14<=BT27),1,0))","v":0},0,25,{"$f":"IF(BW27=\"NA\",1,IF(AND($B$13>=BV27,$B$13<=BW27),1,0))","v":0},{"$f":"IF($C$22=\"M3\",BI27,IF($C$22=\"M4\",BO27,IF($C$22=\"M5\",BU27,\"???\")))","v":"???"},{"$f":"IF($C$22=\"M3\",BL27,IF($C$22=\"M4\",BR27,IF($C$22=\"M5\",BX27,\"???\")))","v":"???"},0.2,4,{"$f":"IF(AND($B$17>=CA27,$B$17<=CB27),1,0)","v":1},{"$f":"IF(AND(IF(BF27=\"NA\",1,BF27)=1,IF(BY27=\"NA\",1,BY27)=1,IF(BZ27=\"NA\",1,BZ27)=1,IF(CC27=\"NA\",1,CC27)=1),1,0)","v":0},1,{"$f":"IF(CD27=1,CE27,\"NA\")","v":"NA"}]
[24,26.5,57,38.700000000000003,{"$f":"IF(AND($B$16>Criteria!A28,$B$16<=Criteria!B28),1,0)","v":0},null,null,null,null,null,null,null,null,null,null,null,null,null,null,null,null,null,null,null,"B2",0,100,{"$f":"IF(AA28=\"NA\",1,IF(AND($B$18>=Z28,$B$18<=AA28),1,0))","v":1},0,{"$f":"IF($B$13-6.5>AG28-6.5,AG28-6.5,$B$13-6.5)","v":37.5},{"$f":"IF(AD28=\"NA\",1,IF(AND($B$14>=AC28,$B$14<=AD28),1,0))","v":0},0,44,{"$f":"IF(AND($B$13>=AF28,$B$13<=AG28),1,0)","v":0},0,{"$f":"IF($B$13-9.7>AM28-9.7,AM28-9.7,$B$13-9.7)","v":31.3},{"$f":"IF(AJ28=\"NA\",1,IF(AND($B$14>=AI28,$B$14<=AJ28),1,0))","v":0},0,41,{"$f":"IF(AM28=\"NA\",1,IF(AND($B$13>=AL28,$B$13<=AM28),1,0))","v":0},0,{"$f":"IF($B$13-11>AS28-11,AS28-11,$B$13-11)","v":29},{"$f":"IF(AP28=\"NA\",1,IF(AND($B$14>=AO28,$B$14<=AP28),1,0))","v":0},0,40,{"$f":"IF(AS28=\"NA\",1,IF(AND($B$13>=AR28,$B$13<=AS28),1,0))","v":0},{"$f":"IF($C$22=\"M3\",AE28,IF($C$22=\"M4\",AK28,IF($C$22=\"M5\",AQ28,\"???\")))","v":"???"},{"$f":"IF($C$22=\"M3\",AH28,IF($C$22=\"M4\",AN28,IF($C$22=\"M5\",AT28,\"???\")))","v":"???"},0.2,4,{"$f":"IF(AND($B$17>=AW28,$B$17<=AX28),1,0)","v":1},{"$f":"IF(AND(IF(AB28=\"NA\",1,AB28)=1,IF(AU28=\"NA\",1,AU28)=1,IF(AV28=\"NA\",1,AV28)=1,IF(AY28=\"NA\",1,AY28)=1),1,0)","v":0},3,{"$f":"IF(AZ28=1,BA28,\"NA\")","v":"NA"},"B2",0,60,{"$f":"IF(BE28=\"NA\",1,IF(AND($B$18>=BD28,$B$18<=BE28),1,0))","v":1},0,{"$f":"IF($B$13-6.5>BK28-6.5,BK28-6.5,$B$13-6.5)","v":37.5},{"$f":"IF(BH28=\"NA\",1,IF(AND($B$14>=BG28,$B$14<=BH28),1,0))","v":0},0,44,{"$f":"IF(AND($B$13>=BJ28,$B$13<=BK28),1,0)","v":0},0,{"$f":"IF($B$13-9.7>BQ28-9.7,BQ28-9.7,$B$13-9.7)","v":31.3},{"$f":"IF(BN28=\"NA\",1,IF(AND($B$14>=BM28,$B$14<=BN28),1,0))","v":0},0,41,{"$f":"IF(BQ28=\"NA\",1,IF(AND($B$13>=BP28,$B$13<=BQ28),1,0))","v":0},0,{"$f":"IF($B$13-11>BW28-11,BW28-11,$B$13-11)","v":29},{"$f":"IF(BT28=\"NA\",1,IF(AND($B$14>=BS28,$B$14<=BT28),1,0))","v":0},0,40,{"$f":"IF(BW28=\"NA\",1,IF(AND($B$13>=BV28,$B$13<=BW28),1,0))","v":0},{"$f":"IF($C$22=\"M3\",BI28,IF($C$22=\"M4\",BO28,IF($C$22=\"M5\",BU28,\"???\")))","v":"???"},{"$f":"IF($C$22=\"M3\",BL28,IF($C$22=\"M4\",BR28,IF($C$22=\"M5\",BX28,\"???\")))","v":"???"},0.2,4,{"$f":"IF(AND($B$17>=CA28,$B$17<=CB28),1,0)","v":1},{"$f":"IF(AND(IF(BF28=\"NA\",1,BF28)=1,IF(BY28=\"NA\",1,BY28)=1,IF(BZ28=\"NA\",1,BZ28)=1,IF(CC28=\"NA\",1,CC28)=1),1,0)","v":0},4,{"$f":"IF(CD28=1,CE28,\"NA\")","v":"NA"}]
[26.5,29,57,36.200000000000003,{"$f":"IF(AND($B$16>Criteria!A29,$B$16<=Criteria!B29),1,0)","v":0},null,null,null,null,null,null,null,null,null,null,null,null,null,null,null,null,null,null,null,"B","NA","NA",{"$f":"IF(AA29=\"NA\",1,IF(AND($B$18>=Z29,$B$18<=AA29),1,0))","v":1},0,68,{"$f":"IF(AD29=\"NA\",1,IF(AND($B$14>=AC29,$B$14<=AD29),1,0))","v":1},55,70,{"$f":"IF(AND($B$13>=AF29,$B$13<=AG29),1,0)","v":1},0,68,{"$f":"IF(AJ29=\"NA\",1,IF(AND($B$14>=AI29,$B$14<=AJ29),1,0))","v":1},55,70,{"$f":"IF(AM29=\"NA\",1,IF(AND($B$13>=AL29,$B$13<=AM29),1,0))","v":1},"NA",68,{"$f":"IF(AP29=\"NA\",1,IF(AND($B$14>=AO29,$B$14<=AP29),1,0))","v":0},55,70,{"$f":"IF(AS29=\"NA\",1,IF(AND($B$13>=AR29,$B$13<=AS29),1,0))","v":1},{"$f":"IF($C$22=\"M3\",AE29,IF($C$22=\"M4\",AK29,IF($C$22=\"M5\",AQ29,\"???\")))","v":"???"},{"$f":"IF($C$22=\"M3\",AH29,IF($C$22=\"M4\",AN29,IF($C$22=\"M5\",AT29,\"???\")))","v":"???"},0.2,4,{"$f":"IF(AND($B$17>=AW29,$B$17<=AX29),1,0)","v":1},{"$f":"IF(AND(IF(AB29=\"NA\",1,AB29)=1,IF(AU29=\"NA\",1,AU29)=1,IF(AV29=\"NA\",1,AV29)=1,IF(AY29=\"NA\",1,AY29)=1),1,0)","v":0},2,{"$f":"IF(AZ29=1,BA29,\"NA\")","v":"NA"},"B","NA","NA",{"$f":"IF(BE29=\"NA\",1,IF(AND($B$18>=BD29,$B$18<=BE29),1,0))","v":1},5,51,{"$f":"IF(BH29=\"NA\",1,IF(AND($B$14>=BG29,$B$14<=BH29),1,0))","v":1},45,50,{"$f":"IF(AND(BK29=\"NA\",BE29<>\"NA\"),BF29,IF(AND($B$13>=BJ29,$B$13<=BK29),1,0))","v":0},0,68,{"$f":"IF(BN29=\"NA\",1,IF(AND($B$14>=BM29,$B$14<=BN29),1,0))","v":1},55,70,{"$f":"IF(BQ29=\"NA\",1,IF(AND($B$13>=BP29,$B$13<=BQ29),1,0))","v":1},"NA",68,{"$f":"IF(BT29=\"NA\",1,IF(AND($B$14>=BS29,$B$14<=BT29),1,0))","v":0},55,70,{"$f":"IF(BW29=\"NA\",1,IF(AND($B$13>=BV29,$B$13<=BW29),1,0))","v":1},{"$f":"IF($C$22=\"M3\",BI29,IF($C$22=\"M4\",BO29,IF($C$22=\"M5\",BU29,\"???\")))","v":"???"},{"$f":"IF($C$22=\"M3\",BL29,IF($C$22=\"M4\",BR29,IF($C$22=\"M5\",BX29,\"???\")))","v":"???"},0.2,4,{"$f":"IF(AND($B$17>=CA29,$B$17<=CB29),1,0)","v":1},{"$f":"IF(AND(IF(BF29=\"NA\",1,BF29)=1,IF(BY29=\"NA\",1,BY29)=1,IF(BZ29=\"NA\",1,BZ29)=1,IF(CC29=\"NA\",1,CC29)=1),1,0)","v":0},2,{"$f":"IF(CD29=1,CE29,\"NA\")","v":"NA"}]
[29,31.5,62,38.700000000000003,{"$f":"IF(AND($B$16>Criteria!A30,$B$16<=Criteria!B30),1,0)","v":0},null,null,null,null,null,null,null,null,null,null,null,null,null,null,null,null,null,null,null,null,null,null,null,null,null,null,null,null,null,null,null,null,null,null,null,null,null,null,null,null,null,null,null,null,null,null,null,null,null,"B","NA","NA",{"$f":"IF(BE30=\"NA\",1,IF(AND($B$18>=BD30,$B$18<=BE30),1,0))","v":1},5,51,{"$f":"IF(BH30=\"NA\",1,IF(AND($B$14>=BG30,$B$14<=BH30),1,0))","v":1},55,70,{"$f":"IF(AND(BK30=\"NA\",BE30<>\"NA\"),BF30,IF(AND($B$13>=BJ30,$B$13<=BK30),1,0))","v":1},5,51,{"$f":"IF(BN30=\"NA\",1,IF(AND($B$14>=BM30,$B$14<=BN30),1,0))","v":1},55,70,{"$f":"IF(AND(BQ30=\"NA\",BK30<>\"NA\"),BL30,IF(AND($B$13>=BP30,$B$13<=BQ30),1,0))","v":1},5,51,{"$f":"IF(BT30=\"NA\",1,IF(AND($B$14>=BS30,$B$14<=BT30),1,0))","v":1},55,70,{"$f":"IF(AND(BW30=\"NA\",BQ30<>\"NA\"),BR30,IF(AND($B$13>=BV30,$B$13<=BW30),1,0))","v":1},null,null,0.2,4,{"$f":"IF(AND($B$17>=CA30,$B$17<=CB30),1,0)","v":1},{"$f":"IF(AND(IF(BF30=\"NA\",1,BF30)=1,IF(BY30=\"NA\",1,BY30)=1,IF(BZ30=\"NA\",1,BZ30)=1,IF(CC30=\"NA\",1,CC30)=1),1,0)","v":0},3,{"$f":"IF(CD30=1,CE30,\"NA\")","v":"NA"}]
[31.5,34,62,36.200000000000003,{"$f":"IF(AND($B$16>Criteria!A31,$B$16<=Criteria!B31),1,0)","v":0}]
[34,36.5,67,38.700000000000003,{"$f":"IF(AND($B$16>Criteria!A32,$B$16<=Criteria!B32),1,0)","v":0}]
[36.5,39,67,36.200000000000003,{"$f":"IF(AND($B$16>Criteria!A33,$B$16<=Criteria!B33),1,0)","v":0}]
[null,null,null,null,{"$f":"SUM(E26:E33)","v":1},null,null,{"$f":"SUM(H26:H33)","v":0},null,null,null,null,null,null,{"$f":"IF(SUM(O26:O33)>=1,1,0)","v":1},null,null,{"$f":"IF(SUM(R26:R33)>=1,1,0)","v":1},null,null,{"$f":"IF(SUM(U26:U33)>=1,1,0)","v":1},{"$f":"IF(SUM(V26:V33)>=1,1,0)","v":1},null,null,null,null,null,{"$f":"IF(SUM(AB27:AB33)>=1,1,0)","v":1},null,null,{"$f":"IF(SUM(AE27:AE33)>=1,1,0)","v":1},null,null,{"$f":"IF(SUM(AH27:AH33)>=1,1,0)","v":1},null,null,{"$f":"IF(SUM(AK27:AK33)>=1,1,0)","v":1},null,null,{"$f":"IF(SUM(AN27:AN33)>=1,1,0)","v":1},null,null,{"$f":"IF(SUM(AQ27:AQ33)>=1,1,0)","v":0},null,null,{"$f":"IF(SUM(AT27:AT33)>=1,1,0)","v":1},{"$f":"IF(SUM(AU27:AU33)>=1,1,0)","v":0},{"$f":"IF(SUM(AV27:AV33)>=1,1,0)","v":0},null,null,{"$f":"IF(SUM(AY27:AY33)>=1,1,0)","v":1},{"$f":"IF(SUM(AZ27:AZ33)>=1,1,0)","v":0},null,null,null,null,null,{"$f":"IF(SUM(BF27:BF33)>=1,1,0)","v":1},null,null,{"$f":"IF(SUM(BI27:BI33)>=1,1,0)","v":1},null,null,{"$f":"IF(SUM(BL27:BL33)>=1,1,0)","v":1},null,null,{"$f":"IF(SUM(BO27:BO33)>=1,1,0)","v":1},null,null,{"$f":"IF(SUM(BR27:BR33)>=1,1,0)","v":1},null,null,{"$f":"IF(SUM(BU27:BU33)>=1,1,0)","v":1},null,null,{"$f":"IF(SUM(BX27:BX33)>=1,1,0)","v":1},{"$f":"IF(SUM(BY27:BY33)>=1,1,0)","v":0},{"$f":"IF(SUM(BZ27:BZ33)>=1,1,0)","v":0},null,null,{"$f":"IF(SUM(CC27:CC33)>=1,1,0)","v":1},{"$f":"IF(SUM(CD27:CD33)>=1,1,0)","v":0}]
[]
[]
["PC32LX",null,null,null,null,null,null,null,"PC32LX",null,null,null,null,null,null,null,null,null,null,null,null,null,null,null,"PC32LX",null,null,null,null,null,null,null,null,null,null,null,null,null,null,null,null,null,null,null,null,null,null,null,null,null,null,null,null,null,"PC32LX"]
["ALL MOTOR TYPES",null,null,null,null,null,null,null,"SQ AND ROUND MOTOR THRU HOLES",null,null,null,null,null,null,null,null,null,null,null,null,null,null,null,"SQ MOTOR TAPPED HOLES",null,null,null,null,null,null,null,null,null,null,null,null,null,null,null,null,null,null,null,null,null,null,null,null,null,null,null,null,null,"ROUND MOTOR TAPPED HOLES"]
["SL min","SL max","Outline C","LC","SL hit?","SD min","SD max","SD hit?","PLATE","SQ min","SQ max","SQ hit?","PD min","PD max","PD hit?","BCD min","BCD max","BCD hit?","PL min","PL max","PL hit?","HIT?","PRIO","Prio Hit",null,null,null,null,"M3",null,null,null,null,null,"M4",null,null,null,null,null,"M5",null,null,null,null,null,"Chosen thread",null,null,null,null,null,null,null,null,null,null,null,"M3",null,null,null,null,null,"M4",null,null,null,null,null,"M5",null,null,null,null,null,"Chosen thread"]
[20,23.5,59,45.2,{"$f":"IF(AND($B$16>=Criteria!A40,$B$16<=Criteria!B40),1,0)","v":1},5,19,{"$f":"IF(AND($B$15>=F40,$B$15<=G40),1,0)","v":1},"A","NA","NA","NA",16,39,{"$f":"IF(AND($B$14>=M40,$B$14<=N40),1,0)","v":0},37,50,{"$f":"IF(AND(Q40=\"NA\",K40<>\"NA\"),L40,IF(AND($B$13>=P40,$B$13<=Q40),1,0))","v":0},0.2,4,{"$f":"IF(AND($B$17>=S40,$B$17<=T40),1,0)","v":1},{"$f":"IF(AND(IF(L40=\"NA\",1,L40)=1,IF(O40=\"NA\",1,O40)=1,IF(R40=\"NA\",1,R40)=1,IF(U40=\"NA\",1,U40)=1),1,0)","v":0},1,{"$f":"IF(V40=1,W40,\"NA\")","v":"NA"},"PLATE","SQ min","SQ max","SQ hit?","PD min","PD max","PD hit?","BCD min","BCD max","BCD hit?","PD min","PD max","PD hit?","BCD min","BCD max","BCD hit?","PD min","PD max","PD hit?","BCD min","BCD max","BCD hit?","PD hit?","BCD hit?","PL min","PL max","PL hit?","HIT?","PRIO","Prio Hit","PLATE","Round min","Round max","Round hit?","PD min","PD max","PD hit?","BCD min","BCD max","BCD hit?","PD min","PD max","PD hit?","BCD min","BCD max","BCD hit?","PD min","PD max","PD hit?","BCD min","BCD max","BCD hit?","PD hit?","BCD hit?","PL min","PL max","PL hit?","HIT?","PRIO","Prio Hit"]
[23.5,27,59,41.7,{"$f":"IF(AND($B$16>Criteria!A41,$B$16<=Criteria!B41),1,0)","v":0},null,null,null,"B","NA","NA","NA",16,75,{"$f":"IF(AND($B$14>=M41,$B$14<=N41),1,0)","v":1},50,99,{"$f":"IF(AND(Q41=\"NA\",K41<>\"NA\"),L41,IF(AND($B$13>=P41,$B$13<=Q41),1,0))","v":1},0.2,4,{"$f":"IF(AND($B$17>=S41,$B$17<=T41),1,0)","v":1},{"$f":"IF(AND(IF(L41=\"NA\",1,L41)=1,IF(O41=\"NA\",1,O41)=1,IF(R41=\"NA\",1,R41)=1,IF(U41=\"NA\",1,U41)=1),1,0)","v":1},2,{"$f":"IF(V41=1,W41,\"NA\")","v":2},"A2",0,100,{"$f":"IF(AA41=\"NA\",1,IF(AND($B$18>=Z41,$B$18<=AA41),1,0))","v":1},0,{"$f":"IF($B$13-6.5>AG41-6.5,AG41-6.5,$B$13-6.5)","v":16.5},{"$f":"IF(AD41=\"NA\",1,IF(AND($B$14>=AC41,$B$14<=AD41),1,0))","v":0},0,23,{"$f":"IF(AND($B$13>=AF41,$B$13<=AG41),1,0)","v":0},0,{"$f":"IF($B$13-9.7>AM41-9.7,AM41-9.7,$B$13-9.7)","v":10.3},{"$f":"IF(AJ41=\"NA\",1,IF(AND($B$14>=AI41,$B$14<=AJ41),1,0))","v":0},0,20,{"$f":"IF(AM41=\"NA\",1,IF(AND($B$13>=AL41,$B$13<=AM41),1,0))","v":0},0,{"$f":"IF($B$13-11>AS41-11,AS41-11,$B$13-11)","v":8},{"$f":"IF(AP41=\"NA\",1,IF(AND($B$14>=AO41,$B$14<=AP41),1,0))","v":0},0,19,{"$f":"IF(AS41=\"NA\",1,IF(AND($B$13>=AR41,$B$13<=AS41),1,0))","v":0},{"$f":"IF($C$22=\"M3\",AE41,IF($C$22=\"M4\",AK41,IF($C$22=\"M5\",AQ41,\"???\")))","v":"???"},{"$f":"IF($C$22=\"M3\",AH41,IF($C$22=\"M4\",AN41,IF($C$22=\"M5\",AT41,\"???\")))","v":"???"},0.2,4,{"$f":"IF(AND($B$17>=AW41,$B$17<=AX41),1,0)","v":1},{"$f":"IF(AND(IF(AB41=\"NA\",1,AB41)=1,IF(AU41=\"NA\",1,AU41)=1,IF(AV41=\"NA\",1,AV41)=1,IF(AY41=\"NA\",1,AY41)=1),1,0)","v":0},1,{"$f":"IF(AZ41=1,BA41,\"NA\")","v":"NA"},"A2",0,39,{"$f":"IF(BE41=\"NA\",1,IF(AND($B$18>=BD41,$B$18<=BE41),1,0))","v":0},0,{"$f":"IF($B$13-6.5>BK41-6.5,BK41-6.5,$B$13-6.5)","v":16.5},{"$f":"IF(BH41=\"NA\",1,IF(AND($B$14>=BG41,$B$14<=BH41),1,0))","v":0},0,23,{"$f":"IF(AND($B$13>=BJ41,$B$13<=BK41),1,0)","v":0},0,{"$f":"IF($B$13-9.7>BQ41-9.7,BQ41-9.7,$B$13-9.7)","v":10.3},{"$f":"IF(BN41=\"NA\",1,IF(AND($B$14>=BM41,$B$14<=BN41),1,0))","v":0},0,20,{"$f":"IF(BQ41=\"NA\",1,IF(AND($B$13>=BP41,$B$13<=BQ41),1,0))","v":0},0,{"$f":"IF($B$13-11>BW41-11,BW41-11,$B$13-11)","v":8},{"$f":"IF(BT41=\"NA\",1,IF(AND($B$14>=BS41,$B$14<=BT41),1,0))","v":0},0,19,{"$f":"IF(BW41=\"NA\",1,IF(AND($B$13>=BV41,$B$13<=BW41),1,0))","v":0},{"$f":"IF($C$22=\"M3\",BI41,IF($C$22=\"M4\",BO41,IF($C$22=\"M5\",BU41,\"???\")))","v":"???"},{"$f":"IF($C$22=\"M3\",BL41,IF($C$22=\"M4\",BR41,IF($C$22=\"M5\",BX41,\"???\")))","v":"???"},0.2,4,{"$f":"IF(AND($B$17>=CA41,$B$17<=CB41),1,0)","v":1},{"$f":"IF(AND(IF(BF41=\"NA\",1,BF41)=1,IF(BY41=\"NA\",1,BY41)=1,IF(BZ41=\"NA\",1,BZ41)=1,IF(CC41=\"NA\",1,CC41)=1),1,0)","v":0},1,{"$f":"IF(CD41=1,CE41,\"NA\")","v":"NA"}]
[27,30.5,66,45.2,{"$f":"IF(AND($B$16>Criteria!A42,$B$16<=Criteria!B42),1,0)","v":0},null,null,null,null,null,null,null,null,null,null,null,null,null,null,null,null,null,null,null,"B2",0,200,{"$f":"IF(AA42=\"NA\",1,IF(AND($B$18>=Z42,$B$18<=AA42),1,0))","v":1},0,{"$f":"IF($B$13-6.5>AG42-6.5,AG42-6.5,$B$13-6.5)","v":55.5},{"$f":"IF(AD42=\"NA\",1,IF(AND($B$14>=AC42,$B$14<=AD42),1,0))","v":1},0,62,{"$f":"IF(AND($B$13>=AF42,$B$13<=AG42),1,0)","v":0},0,{"$f":"IF($B$13-9.7>AM42-9.7,AM42-9.7,$B$13-9.7)","v":49.3},{"$f":"IF(AJ42=\"NA\",1,IF(AND($B$14>=AI42,$B$14<=AJ42),1,0))","v":1},0,59,{"$f":"IF(AM42=\"NA\",1,IF(AND($B$13>=AL42,$B$13<=AM42),1,0))","v":0},0,{"$f":"IF($B$13-11>AS42-11,AS42-11,$B$13-11)","v":47},{"$f":"IF(AP42=\"NA\",1,IF(AND($B$14>=AO42,$B$14<=AP42),1,0))","v":1},null,58,{"$f":"IF(AS42=\"NA\",1,IF(AND($B$13>=AR42,$B$13<=AS42),1,0))","v":0},{"$f":"IF($C$22=\"M3\",AE42,IF($C$22=\"M4\",AK42,IF($C$22=\"M5\",AQ42,\"???\")))","v":"???"},{"$f":"IF($C$22=\"M3\",AH42,IF($C$22=\"M4\",AN42,IF($C$22=\"M5\",AT42,\"???\")))","v":"???"},0.2,4,{"$f":"IF(AND($B$17>=AW42,$B$17<=AX42),1,0)","v":1},{"$f":"IF(AND(IF(AB42=\"NA\",1,AB42)=1,IF(AU42=\"NA\",1,AU42)=1,IF(AV42=\"NA\",1,AV42)=1,IF(AY42=\"NA\",1,AY42)=1),1,0)","v":0},3,{"$f":"IF(AZ42=1,BA42,\"NA\")","v":"NA"},"B2",0,80,{"$f":"IF(BE42=\"NA\",1,IF(AND($B$18>=BD42,$B$18<=BE42),1,0))","v":1},0,{"$f":"IF($B$13-6.5>BK42-6.5,BK42-6.5,$B$13-6.5)","v":55.5},{"$f":"IF(BH42=\"NA\",1,IF(AND($B$14>=BG42,$B$14<=BH42),1,0))","v":1},0,62,{"$f":"IF(AND($B$13>=BJ42,$B$13<=BK42),1,0)","v":0},0,{"$f":"IF($B$13-9.7>BQ42-9.7,BQ42-9.7,$B$13-9.7)","v":49.3},{"$f":"IF(BN42=\"NA\",1,IF(AND($B$14>=BM42,$B$14<=BN42),1,0))","v":1},0,59,{"$f":"IF(BQ42=\"NA\",1,IF(AND($B$13>=BP42,$B$13<=BQ42),1,0))","v":0},0,{"$f":"IF($B$13-11>BW42-11,BW42-11,$B$13-11)","v":47},{"$f":"IF(BT42=\"NA\",1,IF(AND($B$14>=BS42,$B$14<=BT42),1,0))","v":1},0,58,{"$f":"IF(BW42=\"NA\",1,IF(AND($B$13>=BV42,$B$13<=BW42),1,0))","v":0},{"$f":"IF($C$22=\"M3\",BI42,IF($C$22=\"M4\",BO42,IF($C$22=\"M5\",BU42,\"???\")))","v":"???"},{"$f":"IF($C$22=\"M3\",BL42,IF($C$22=\"M4\",BR42,IF($C$22=\"M5\",BX42,\"???\")))","v":"???"},0.2,4,{"$f":"IF(AND($B$17>=CA42,$B$17<=CB42),1,0)","v":1},{"$f":"IF(AND(IF(BF42=\"NA\",1,BF42)=1,IF(BY42=\"NA\",1,BY42)=1,IF(BZ42=\"NA\",1,BZ42)=1,IF(CC42=\"NA\",1,CC42)=1),1,0)","v":0},4,{"$f":"IF(CD42=1,CE42,\"NA\")","v":"NA"}]
[30.5,34,66,41.7,{"$f":"IF(AND($B$16>Criteria!A43,$B$16<=Criteria!B43),1,0)","v":0},null,null,null,null,null,null,null,null,null,null,null,null,null,null,null,null,null,null,null,"B","NA","NA",{"$f":"IF(AA43=\"NA\",1,IF(AND($B$18>=Z43,$B$18<=AA43),1,0))","v":1},0,97,{"$f":"IF(AD43=\"NA\",1,IF(AND($B$14>=AC43,$B$14<=AD43),1,0))","v":1},70,99,{"$f":"IF(AND($B$13>=AF43,$B$13<=AG43),1,0)","v":0},0,97,{"$f":"IF(AJ43=\"NA\",1,IF(AND($B$14>=AI43,$B$14<=AJ43),1,0))","v":1},70,99,{"$f":"IF(AM43=\"NA\",1,IF(AND($B$13>=AL43,$B$13<=AM43),1,0))","v":0},0,97,{"$f":"IF(AP43=\"NA\",1,IF(AND($B$14>=AO43,$B$14<=AP43),1,0))","v":1},70,99,{"$f":"IF(AS43=\"NA\",1,IF(AND($B$13>=AR43,$B$13<=AS43),1,0))","v":0},{"$f":"IF($C$22=\"M3\",AE43,IF($C$22=\"M4\",AK43,IF($C$22=\"M5\",AQ43,\"???\")))","v":"???"},{"$f":"IF($C$22=\"M3\",AH43,IF($C$22=\"M4\",AN43,IF($C$22=\"M5\",AT43,\"???\")))","v":"???"},0.2,4,{"$f":"IF(AND($B$17>=AW43,$B$17<=AX43),1,0)","v":1},{"$f":"IF(AND(IF(AB43=\"NA\",1,AB43)=1,IF(AU43=\"NA\",1,AU43)=1,IF(AV43=\"NA\",1,AV43)=1,IF(AY43=\"NA\",1,AY43)=1),1,0)","v":0},2,{"$f":"IF(AZ43=1,BA43,\"NA\")","v":"NA"},"B","NA","NA",{"$f":"IF(BE43=\"NA\",1,IF(AND($B$18>=BD43,$B$18<=BE43),1,0))","v":1},5,69,{"$f":"IF(AND($B$14>=BG43,$B$14<=BH43),1,0)","v":1},56,69,{"$f":"IF(AND(BK43=\"NA\",BE43<>\"NA\"),BF43,IF(AND($B$13>=BJ43,$B$13<=BK43),1,0))","v":1},0,97,{"$f":"IF(BN43=\"NA\",1,IF(AND($B$14>=BM43,$B$14<=BN43),1,0))","v":1},70,99,{"$f":"IF(BQ43=\"NA\",1,IF(AND($B$13>=BP43,$B$13<=BQ43),1,0))","v":0},0,97,{"$f":"IF(BT43=\"NA\",1,IF(AND($B$14>=BS43,$B$14<=BT43),1,0))","v":1},70,99,{"$f":"IF(BW43=\"NA\",1,IF(AND($B$13>=BV43,$B$13<=BW43),1,0))","v":0},{"$f":"IF($C$22=\"M3\",BI43,IF($C$22=\"M4\",BO43,IF($C$22=\"M5\",BU43,\"???\")))","v":"???"},{"$f":"IF($C$22=\"M3\",BL43,IF($C$22=\"M4\",BR43,IF($C$22=\"M5\",BX43,\"???\")))","v":"???"},0.2,4,{"$f":"IF(AND($B$17>=CA43,$B$17<=CB43),1,0)","v":1},{"$f":"IF(AND(IF(BF43=\"NA\",1,BF43)=1,IF(BY43=\"NA\",1,BY43)=1,IF(BZ43=\"NA\",1,BZ43)=1,IF(CC43=\"NA\",1,CC43)=1),1,0)","v":0},2,{"$f":"IF(CD43=1,CE43,\"NA\")","v":"NA"}]
[34,37.5,73,45.2,{"$f":"IF(AND($B$16>Criteria!A44,$B$16<=Criteria!B44),1,0)","v":0},null,null,null,null,null,null,null,null,null,null,null,null,null,null,null,null,null,null,null,null,null,null,null,null,null,null,null,null,null,null,null,null,null,null,null,null,null,null,null,null,null,null,null,null,null,null,null,null,null,"B","NA","NA",{"$f":"IF(BE44=\"NA\",1,IF(AND($B$18>=BD44,$B$18<=BE44),1,0))","v":1},5,69,{"$f":"IF(AND($B$14>=BG44,$B$14<=BH44),1,0)","v":1},70,99,{"$f":"IF(AND(BK44=\"NA\",BE44<>\"NA\"),BF44,IF(AND($B$13>=BJ44,$B$13<=BK44),1,0))","v":0},5,69,{"$f":"IF(AND($B$14>=BM44,$B$14<=BN44),1,0)","v":1},70,99,{"$f":"IF(AND(BQ44=\"NA\",BK44<>\"NA\"),BL44,IF(AND($B$13>=BP44,$B$13<=BQ44),1,0))","v":0},5,69,{"$f":"IF(AND($B$14>=BS44,$B$14<=BT44),1,0)","v":1},70,99,{"$f":"IF(AND(BW44=\"NA\",BQ44<>\"NA\"),BR44,IF(AND($B$13>=BV44,$B$13<=BW44),1,0))","v":0},{"$f":"IF($C$22=\"M3\",BI44,IF($C$22=\"M4\",BO44,IF($C$22=\"M5\",BU44,\"???\")))","v":"???"},{"$f":"IF($C$22=\"M3\",BL44,IF($C$22=\"M4\",BR44,IF($C$22=\"M5\",BX44,\"???\")))","v":"???"},0.2,4,{"$f":"IF(AND($B$17>=CA44,$B$17<=CB44),1,0)","v":1},{"$f":"IF(AND(IF(BF44=\"NA\",1,BF44)=1,IF(BY44=\"NA\",1,BY44)=1,IF(BZ44=\"NA\",1,BZ44)=1,IF(CC44=\"NA\",1,CC44)=1),1,0)","v":0},3,{"$f":"IF(CD44=1,CE44,\"NA\")","v":"NA"}]
[37.5,41,73,41.7,{"$f":"IF(AND($B$16>Criteria!A45,$B$16<=Criteria!B45),1,0)","v":0}]
[null,null,null,null,{"$f":"IF(AND($B$16>Criteria!A46,$B$16<=Criteria!B46),1,0)","v":0}]
[null,null,null,null,{"$f":"IF(AND($B$16>Criteria!A47,$B$16<=Criteria!B47),1,0)","v":0}]
[null,null,null,null,{"$f":"SUM(E40:E47)","v":1},null,null,{"$f":"SUM(H40:H47)","v":1},null,null,null,null,null,null,{"$f":"IF(SUM(O40:O47)>=1,1,0)","v":1},null,null,{"$f":"IF(SUM(R40:R47)>=1,1,0)","v":1},null,null,{"$f":"IF(SUM(U40:U47)>=1,1,0)","v":1},{"$f":"IF(SUM(V40:V47)>=1,1,0)","v":1},null,null,null,null,null,{"$f":"IF(SUM(AB41:AB47)>=1,1,0)","v":1},null,null,{"$f":"IF(SUM(AE41:AE47)>=1,1,0)","v":1},null,null,{"$f":"IF(SUM(AH41:AH47)>=1,1,0)","v":0},null,null,{"$f":"IF(SUM(AK41:AK47)>=1,1,0)","v":1},null,null,{"$f":"IF(SUM(AN41:AN47)>=1,1,0)","v":0},null,null,{"$f":"IF(SUM(AQ41:AQ47)>=1,1,0)","v":1},null,null,{"$f":"IF(SUM(AT41:AT47)>=1,1,0)","v":0},{"$f":"IF(SUM(AU41:AU47)>=1,1,0)","v":0},{"$f":"IF(SUM(AV41:AV47)>=1,1,0)","v":0},null,null,{"$f":"IF(SUM(AY41:AY47)>=1,1,0)","v":1},{"$f":"IF(SUM(AZ41:AZ47)>=1,1,0)","v":0},null,null,null,null,null,{"$f":"IF(SUM(BF41:BF47)>=1,1,0)","v":1},null,null,{"$f":"IF(SUM(BI41:BI47)>=1,1,0)","v":1},null,null,{"$f":"IF(SUM(BL41:BL47)>=1,1,0)","v":1},null,null,{"$f":"IF(SUM(BO41:BO47)>=1,1,0)","v":1},null,null,{"$f":"IF(SUM(BR41:BR47)>=1,1,0)","v":0},null,null,{"$f":"IF(SUM(BU41:BU47)>=1,1,0)","v":1},null,null,{"$f":"IF(SUM(BX41:BX47)>=1,1,0)","v":0},{"$f":"IF(SUM(BY41:BY47)>=1,1,0)","v":0},{"$f":"IF(SUM(BZ41:BZ47)>=1,1,0)","v":0},null,null,{"$f":"IF(SUM(CC41:CC47)>=1,1,0)","v":1},{"$f":"IF(SUM(CD41:CD47)>=1,1,0)","v":0}]
[]
[]
["PC40LX",null,null,null,null,null,null,null,"PC40LX",null,null,null,null,null,null,null,null,null,null,null,null,null,null,null,"PC40LX",null,null,null,null,null,null,null,null,null,null,null,null,null,null,null,null,null,null,null,null,null,null,null,null,null,null,null,null,null,"PC40LX"]
["ALL MOTOR TYPES",null,null,null,null,null,null,null,"SQ AND ROUND MOTOR THRU HOLES",null,null,null,null,null,null,null,null,null,null,null,null,null,null,null,"SQ MOTOR TAPPED HOLES",null,null,null,null,null,null,null,null,null,null,null,null,null,null,null,null,null,null,null,null,null,null,null,null,null,null,null,null,null,"ROUND MOTOR TAPPED HOLES"]
["SL min","SL max","Outline C","LC","SL hit?","SD min","SD max","SD hit?","PLATE","SQ min","SQ max","SQ hit?","PD min","PD max","PD hit?","BCD min","BCD max","BCD hit?","PL min","PL max","PL hit?","HIT?","PRIO","Prio Hit",null,null,null,null,"M3",null,null,null,null,null,"M4",null,null,null,null,null,"M5",null,null,null,null,null,"Chosen thread",null,null,null,null,null,null,null,null,null,null,null,"M3",null,null,null,null,null,"M4",null,null,null,null,null,"M5",null,null,null,null,null,"Chosen thread"]
[20,23.5,62,48.7,{"$f":"IF(AND($B$16>=Criteria!A54,$B$16<=Criteria!B54),1,0)","v":1},5,19,{"$f":"IF(AND($B$15>=F54,$B$15<=G54),1,0)","v":1},"A","NA","NA","NA",16,54,{"$f":"IF(AND($B$14>=M54,$B$14<=N54),1,0)","v":1},37,72,{"$f":"IF(AND(Q54=\"NA\",K54<>\"NA\"),L54,IF(AND($B$13>=P54,$B$13<=Q54),1,0))","v":1},0.2,4,{"$f":"IF(AND($B$17>=S54,$B$17<=T54),1,0)","v":1},{"$f":"IF(AND(IF(L54=\"NA\",1,L54)=1,IF(O54=\"NA\",1,O54)=1,IF(R54=\"NA\",1,R54)=1,IF(U54=\"NA\",1,U54)=1),1,0)","v":1},1,{"$f":"IF(V54=1,W54,\"NA\")","v":1},"PLATE","SQ min","SQ max","SQ hit?","PD min","PD max","PD hit?","BCD min","BCD max","BCD hit?","PD min","PD max","PD hit?","BCD min","BCD max","BCD hit?","PD min","PD max","PD hit?","BCD min","BCD max","BCD hit?","PD hit?","BCD hit?","PL min","PL max","PL hit?","HIT?","PRIO","Prio Hit","PLATE","Round min","Round max","Round hit?","PD min","PD max","PD hit?","BCD min","BCD max","BCD hit?","PD min","PD max","PD hit?","BCD min","BCD max","BCD hit?","PD min","PD max","PD hit?","BCD min","BCD max","BCD hit?","PD hit?","BCD hit?","PL min","PL max","PL hit?","HIT?","PRIO","Prio Hit"]
[23.5,27,62,45.2,{"$f":"IF(AND($B$16>Criteria!A55,$B$16<=Criteria!B55),1,0)","v":0},null,null,null,"B","NA","NA","NA",16,85,{"$f":"IF(AND($B$14>=M55,$B$14<=N55),1,0)","v":1},72,107,{"$f":"IF(AND(Q55=\"NA\",K55<>\"NA\"),L55,IF(AND($B$13>=P55,$B$13<=Q55),1,0))","v":0},0.2,4,{"$f":"IF(AND($B$17>=S55,$B$17<=T55),1,0)","v":1},{"$f":"IF(AND(IF(L55=\"NA\",1,L55)=1,IF(O55=\"NA\",1,O55)=1,IF(R55=\"NA\",1,R55)=1,IF(U55=\"NA\",1,U55)=1),1,0)","v":0},2,{"$f":"IF(V55=1,W55,\"NA\")","v":"NA"},"A2",0,200,{"$f":"IF(AA55=\"NA\",1,IF(AND($B$18>=Z55,$B$18<=AA55),1,0))","v":1},0,{"$f":"IF($B$13-6.5>AG55-6.5,AG55-6.5,$B$13-6.5)","v":39.5},{"$f":"IF(AD55=\"NA\",1,IF(AND($B$14>=AC55,$B$14<=AD55),1,0))","v":0},0,46,{"$f":"IF(AND($B$13>=AF55,$B$13<=AG55),1,0)","v":0},0,{"$f":"IF($B$13-9.7>AM55-9.7,AM55-9.7,$B$13-9.7)","v":33.299999999999997},{"$f":"IF(AJ55=\"NA\",1,IF(AND($B$14>=AI55,$B$14<=AJ55),1,0))","v":0},0,43,{"$f":"IF(AM55=\"NA\",1,IF(AND($B$13>=AL55,$B$13<=AM55),1,0))","v":0},0,{"$f":"IF($B$13-11>AS55-11,AS55-11,$B$13-11)","v":31},{"$f":"IF(AP55=\"NA\",1,IF(AND($B$14>=AO55,$B$14<=AP55),1,0))","v":0},0,42,{"$f":"IF(AS55=\"NA\",1,IF(AND($B$13>=AR55,$B$13<=AS55),1,0))","v":0},{"$f":"IF($C$22=\"M3\",AE55,IF($C$22=\"M4\",AK55,IF($C$22=\"M5\",AQ55,\"???\")))","v":"???"},{"$f":"IF($C$22=\"M3\",AH55,IF($C$22=\"M4\",AN55,IF($C$22=\"M5\",AT55,\"???\")))","v":"???"},0.2,4,{"$f":"IF(AND($B$17>=AW55,$B$17<=AX55),1,0)","v":1},{"$f":"IF(AND(IF(AB55=\"NA\",1,AB55)=1,IF(AU55=\"NA\",1,AU55)=1,IF(AV55=\"NA\",1,AV55)=1,IF(AY55=\"NA\",1,AY55)=1),1,0)","v":0},1,{"$f":"IF(AZ55=1,BA55,\"NA\")","v":"NA"},"A2",0,60,{"$f":"IF(BE55=\"NA\",1,IF(AND($B$18>=BD55,$B$18<=BE55),1,0))","v":1},0,{"$f":"IF($B$13-6.5>BK55-6.5,BK55-6.5,$B$13-6.5)","v":39.5},{"$f":"IF(BH55=\"NA\",1,IF(AND($B$14>=BG55,$B$14<=BH55),1,0))","v":0},0,46,{"$f":"IF(AND($B$13>=BJ55,$B$13<=BK55),1,0)","v":0},0,{"$f":"IF($B$13-9.7>BQ55-9.7,BQ55-9.7,$B$13-9.7)","v":33.299999999999997},{"$f":"IF(BN55=\"NA\",1,IF(AND($B$14>=BM55,$B$14<=BN55),1,0))","v":0},0,43,{"$f":"IF(BQ55=\"NA\",1,IF(AND($B$13>=BP55,$B$13<=BQ55),1,0))","v":0},0,{"$f":"IF($B$13-11>BW55-11,BW55-11,$B$13-11)","v":31},{"$f":"IF(BT55=\"NA\",1,IF(AND($B$14>=BS55,$B$14<=BT55),1,0))","v":0},0,42,{"$f":"IF(BW55=\"NA\",1,IF(AND($B$13>=BV55,$B$13<=BW55),1,0))","v":0},{"$f":"IF($C$22=\"M3\",BI55,IF($C$22=\"M4\",BO55,IF($C$22=\"M5\",BU55,\"???\")))","v":"???"},{"$f":"IF($C$22=\"M3\",BL55,IF($C$22=\"M4\",BR55,IF($C$22=\"M5\",BX55,\"???\")))","v":"???"},0.2,4,{"$f":"IF(AND($B$17>=CA55,$B$17<=CB55),1,0)","v":1},{"$f":"IF(AND(IF(BF55=\"NA\",1,BF55)=1,IF(BY55=\"NA\",1,BY55)=1,IF(BZ55=\"NA\",1,BZ55)=1,IF(CC55=\"NA\",1,CC55)=1),1,0)","v":0},1,{"$f":"IF(CD55=1,CE55,\"NA\")","v":"NA"}]
[27,30.5,69,48.7,{"$f":"IF(AND($B$16>Criteria!A56,$B$16<=Criteria!B56),1,0)","v":0},null,null,null,null,null,null,null,null,null,null,null,null,null,null,null,null,null,null,null,"B2",0,300,{"$f":"IF(AA56=\"NA\",1,IF(AND($B$18>=Z56,$B$18<=AA56),1,0))","v":1},0,{"$f":"IF($B$13-6.5>AG56-6.5,AG56-6.5,$B$13-6.5)","v":56.5},{"$f":"IF(AD56=\"NA\",1,IF(AND($B$14>=AC56,$B$14<=AD56),1,0))","v":1},0,68,{"$f":"IF(AND($B$13>=AF56,$B$13<=AG56),1,0)","v":1},0,{"$f":"IF($B$13-9.7>AM56-9.7,AM56-9.7,$B$13-9.7)","v":53.3},{"$f":"IF(AJ56=\"NA\",1,IF(AND($B$14>=AI56,$B$14<=AJ56),1,0))","v":1},0,65,{"$f":"IF(AM56=\"NA\",1,IF(AND($B$13>=AL56,$B$13<=AM56),1,0))","v":1},0,{"$f":"IF($B$13-11>AS56-11,AS56-11,$B$13-11)","v":52},{"$f":"IF(AP56=\"NA\",1,IF(AND($B$14>=AO56,$B$14<=AP56),1,0))","v":1},0,64,{"$f":"IF(AS56=\"NA\",1,IF(AND($B$13>=AR56,$B$13<=AS56),1,0))","v":1},{"$f":"IF($C$22=\"M3\",AE56,IF($C$22=\"M4\",AK56,IF($C$22=\"M5\",AQ56,\"???\")))","v":"???"},{"$f":"IF($C$22=\"M3\",AH56,IF($C$22=\"M4\",AN56,IF($C$22=\"M5\",AT56,\"???\")))","v":"???"},0.2,4,{"$f":"IF(AND($B$17>=AW56,$B$17<=AX56),1,0)","v":1},{"$f":"IF(AND(IF(AB56=\"NA\",1,AB56)=1,IF(AU56=\"NA\",1,AU56)=1,IF(AV56=\"NA\",1,AV56)=1,IF(AY56=\"NA\",1,AY56)=1),1,0)","v":0},3,{"$f":"IF(AZ56=1,BA56,\"NA\")","v":"NA"},"B2",0,90,{"$f":"IF(BE56=\"NA\",1,IF(AND($B$18>=BD56,$B$18<=BE56),1,0))","v":1},0,{"$f":"IF($B$13-6.5>BK56-6.5,BK56-6.5,$B$13-6.5)","v":56.5},{"$f":"IF(BH56=\"NA\",1,IF(AND($B$14>=BG56,$B$14<=BH56),1,0))","v":1},0,68,{"$f":"IF(AND($B$13>=BJ56,$B$13<=BK56),1,0)","v":1},0,{"$f":"IF($B$13-9.7>BQ56-9.7,BQ56-9.7,$B$13-9.7)","v":53.3},{"$f":"IF(BN56=\"NA\",1,IF(AND($B$14>=BM56,$B$14<=BN56),1,0))","v":1},0,65,{"$f":"IF(BQ56=\"NA\",1,IF(AND($B$13>=BP56,$B$13<=BQ56),1,0))","v":1},0,{"$f":"IF($B$13-11>BW56-11,BW56-11,$B$13-11)","v":52},{"$f":"IF(BT56=\"NA\",1,IF(AND($B$14>=BS56,$B$14<=BT56),1,0))","v":1},0,64,{"$f":"IF(BW56=\"NA\",1,IF(AND($B$13>=BV56,$B$13<=BW56),1,0))","v":1},{"$f":"IF($C$22=\"M3\",BI56,IF($C$22=\"M4\",BO56,IF($C$22=\"M5\",BU56,\"???\")))","v":"???"},{"$f":"IF($C$22=\"M3\",BL56,IF($C$22=\"M4\",BR56,IF($C$22=\"M5\",BX56,\"???\")))","v":"???"},0.2,4,{"$f":"IF(AND($B$17>=CA56,$B$17<=CB56),1,0)","v":1},{"$f":"IF(AND(IF(BF56=\"NA\",1,BF56)=1,IF(BY56=\"NA\",1,BY56)=1,IF(BZ56=\"NA\",1,BZ56)=1,IF(CC56=\"NA\",1,CC56)=1),1,0)","v":0},4,{"$f":"IF(CD56=1,CE56,\"NA\")","v":"NA"}]
[30.5,34,69,45.2,{"$f":"IF(AND($B$16>Criteria!A57,$B$16<=Criteria!B57),1,0)","v":0},null,null,null,null,null,null,null,null,null,null,null,null,null,null,null,null,null,null,null,"B","NA","NA",{"$f":"IF(AA57=\"NA\",1,IF(AND($B$18>=Z57,$B$18<=AA57),1,0))","v":1},0,108,{"$f":"IF(AD57=\"NA\",1,IF(AND($B$14>=AC57,$B$14<=AD57),1,0))","v":1},82,110,{"$f":"IF(AND(AG57=\"NA\",AA57<>\"NA\"),AB57,IF(AND($B$13>=AF57,$B$13<=AG57),1,0))","v":0},0,108,{"$f":"IF(AJ57=\"NA\",1,IF(AND($B$14>=AI57,$B$14<=AJ57),1,0))","v":1},82,110,{"$f":"IF(AND(AM57=\"NA\",AG57<>\"NA\"),AH57,IF(AND($B$13>=AL57,$B$13<=AM57),1,0))","v":0},0,108,{"$f":"IF(AP57=\"NA\",1,IF(AND($B$14>=AO57,$B$14<=AP57),1,0))","v":1},82,110,{"$f":"IF(AND(AS57=\"NA\",AM57<>\"NA\"),AN57,IF(AND($B$13>=AR57,$B$13<=AS57),1,0))","v":0},{"$f":"IF($C$22=\"M3\",AE57,IF($C$22=\"M4\",AK57,IF($C$22=\"M5\",AQ57,\"???\")))","v":"???"},{"$f":"IF($C$22=\"M3\",AH57,IF($C$22=\"M4\",AN57,IF($C$22=\"M5\",AT57,\"???\")))","v":"???"},0.2,4,{"$f":"IF(AND($B$17>=AW57,$B$17<=AX57),1,0)","v":1},{"$f":"IF(AND(IF(AB57=\"NA\",1,AB57)=1,IF(AU57=\"NA\",1,AU57)=1,IF(AV57=\"NA\",1,AV57)=1,IF(AY57=\"NA\",1,AY57)=1),1,0)","v":0},2,{"$f":"IF(AZ57=1,BA57,\"NA\")","v":"NA"},"B","NA","NA",{"$f":"IF(BE57=\"NA\",1,IF(AND($B$18>=BD57,$B$18<=BE57),1,0))","v":1},"NA","NA",{"$f":"IF(BH57=\"NA\",1,IF(AND($B$14>=BG57,$B$14<=BH57),1,0))","v":1},67,81,{"$f":"IF(AND($B$13>=BJ57,$B$13<=BK57),1,0)","v":0},"NA","NA",{"$f":"IF(BN57=\"NA\",1,IF(AND($B$14>=BM57,$B$14<=BN57),1,0))","v":1},82,110,{"$f":"IF(BQ57=\"NA\",1,IF(AND($B$13>=BP57,$B$13<=BQ57),1,0))","v":0},"NA","NA","NA",82,110,{"$f":"IF(AND(BW57=\"NA\",BQ57<>\"NA\"),BR57,IF(AND($B$13>=BV57,$B$13<=BW57),1,0))","v":0},{"$f":"IF($C$22=\"M3\",BI57,IF($C$22=\"M4\",BO57,IF($C$22=\"M5\",BU57,\"???\")))","v":"???"},{"$f":"IF($C$22=\"M3\",BL57,IF($C$22=\"M4\",BR57,IF($C$22=\"M5\",BX57,\"???\")))","v":"???"},0.2,4,{"$f":"IF(AND($B$17>=CA57,$B$17<=CB57),1,0)","v":1},{"$f":"IF(AND(IF(BF57=\"NA\",1,BF57)=1,IF(BY57=\"NA\",1,BY57)=1,IF(BZ57=\"NA\",1,BZ57)=1,IF(CC57=\"NA\",1,CC57)=1),1,0)","v":0},2,{"$f":"IF(CD57=1,CE57,\"NA\")","v":"NA"}]
[34,37.5,76,48.7,{"$f":"IF(AND($B$16>Criteria!A58,$B$16<=Criteria!B58),1,0)","v":0},null,null,null,null,null,null,null,null,null,null,null,null,null,null,null,null,null,null,null,null,null,null,null,null,null,null,null,null,null,null,null,null,null,null,null,null,null,null,null,null,null,null,null,null,null,null,null,null,null,"B","NA","NA",{"$f":"IF(BE58=\"NA\",1,IF(AND($B$18>=BD58,$B$18<=BE58),1,0))","v":1},"NA","NA",{"$f":"IF(BH58=\"NA\",1,IF(AND($B$14>=BG58,$B$14<=BH58),1,0))","v":1},82,110,{"$f":"IF(AND($B$13>=BJ58,$B$13<=BK58),1,0)","v":0},"NA","NA",{"$f":"IF(BN58=\"NA\",1,IF(AND($B$14>=BM58,$B$14<=BN58),1,0))","v":1},82,110,{"$f":"IF(BQ58=\"NA\",1,IF(AND($B$13>=BP58,$B$13<=BQ58),1,0))","v":0},"NA","NA",{"$f":"IF(BT58=\"NA\",1,IF(AND($B$14>=BS58,$B$14<=BT58),1,0))","v":1},82,110,{"$f":"IF(AND(BW58=\"NA\",BQ58<>\"NA\"),BR58,IF(AND($B$13>=BV58,$B$13<=BW58),1,0))","v":0},{"$f":"IF($C$22=\"M3\",BI58,IF($C$22=\"M4\",BO58,IF($C$22=\"M5\",BU58,\"???\")))","v":"???"},{"$f":"IF($C$22=\"M3\",BL58,IF($C$22=\"M4\",BR58,IF($C$22=\"M5\",BX58,\"???\")))","v":"???"},0.2,4,{"$f":"IF(AND($B$17>=CA58,$B$17<=CB58),1,0)","v":1},{"$f":"IF(AND(IF(BF58=\"NA\",1,BF58)=1,IF(BY58=\"NA\",1,BY58)=1,IF(BZ58=\"NA\",1,BZ58)=1,IF(CC58=\"NA\",1,CC58)=1),1,0)","v":0},3,{"$f":"IF(CD58=1,CE58,\"NA\")","v":"NA"}]
[37.5,41,76,45.2,{"$f":"IF(AND($B$16>Criteria!A59,$B$16<=Criteria!B59),1,0)","v":0}]
[]
[]
[null,null,null,null,{"$f":"SUM(E54:E61)","v":1},null,null,{"$f":"SUM(H54:H61)","v":1},null,null,null,null,null,null,{"$f":"IF(SUM(O54:O61)>=1,1,0)","v":1},null,null,{"$f":"IF(SUM(R54:R61)>=1,1,0)","v":1},null,null,{"$f":"IF(SUM(U54:U61)>=1,1,0)","v":1},{"$f":"IF(SUM(V54:V61)>=1,1,0)","v":1},null,null,null,null,null,{"$f":"IF(SUM(AB55:AB61)>=1,1,0)","v":1},null,null,{"$f":"IF(SUM(AE55:AE61)>=1,1,0)","v":1},null,null,{"$f":"IF(SUM(AH55:AH61)>=1,1,0)","v":1},null,null,{"$f":"IF(SUM(AK55:AK61)>=1,1,0)","v":1},null,null,{"$f":"IF(SUM(AN55:AN61)>=1,1,0)","v":1},null,null,{"$f":"IF(SUM(AQ55:AQ61)>=1,1,0)","v":1},null,null,{"$f":"IF(SUM(AT55:AT61)>=1,1,0)","v":1},{"$f":"IF(SUM(AU55:AU61)>=1,1,0)","v":0},{"$f":"IF(SUM(AV55:AV61)>=1,1,0)","v":0},null,null,{"$f":"IF(SUM(AY54:AY61)>=1,1,0)","v":1},{"$f":"IF(SUM(AZ54:AZ61)>=1,1,0)","v":0},null,null,null,null,null,{"$f":"IF(SUM(BF54:BF61)>=1,1,0)","v":1},null,null,{"$f":"IF(SUM(BI55:BI61)>=1,1,0)","v":1},null,null,{"$f":"IF(SUM(BL55:BL61)>=1,1,0)","v":1},null,null,{"$f":"IF(SUM(BO55:BO61)>=1,1,0)","v":1},null,null,{"$f":"IF(SUM(BR55:BR61)>=1,1,0)","v":1},null,null,{"$f":"IF(SUM(BU55:BU61)>=1,1,0)","v":1},null,null,{"$f":"IF(SUM(BX55:BX61)>=1,1,0)","v":1},{"$f":"IF(SUM(BY55:BY61)>=1,1,0)","v":0},{"$f":"IF(SUM(BZ55:BZ61)>=1,1,0)","v":0},null,null,{"$f":"IF(SUM(CC54:CC61)>=1,1,0)","v":1},{"$f":"IF(SUM(CD54:CD61)>=1,1,0)","v":0}]
[]
[]
["PC25PA",null,null,null,null,null,null,null,"PC25PA",null,null,null,null,null,null,null,null,null,null,null,null,null,null,null,"PC25PA",null,null,null,null,null,null,null,null,null,null,null,null,null,null,null,null,null,null,null,null,null,null,null,null,null,null,null,null,null,"PC25PA"]
["ALL MOTOR TYPES",null,null,null,null,null,null,null,"SQ AND ROUND MOTOR THRU HOLES",null,null,null,null,null,null,null,null,null,null,null,null,null,null,null,"SQ MOTOR TAPPED HOLES",null,null,null,null,null,null,null,null,null,null,null,null,null,null,null,null,null,null,null,null,null,null,null,null,null,null,null,null,null,"ROUND MOTOR TAPPED HOLES"]
["SL min","SL max","Outline C","LC","SL hit?","SD min","SD max","SD hit?","PLATE","SQ min","SQ max","SQ hit?","PD min","PD max","PD hit?","BCD min","BCD max","BCD hit?","PL min","PL max","PL hit?","HIT?","PRIO","Prio Hit",null,null,null,null,"M3",null,null,null,null,null,"M4",null,null,null,null,null,"M5",null,null,null,null,null,"Chosen thread",null,null,null,null,null,null,null,null,null,null,null,"M3",null,null,null,null,null,"M4",null,null,null,null,null,"M5",null,null,null,null,null,"Chosen thread"]
[13,35,"NA","NA",{"$f":"IF(AND($B$16>=Criteria!A68,$B$16<=Criteria!B68),1,0)","v":1},5,10,{"$f":"IF(AND($B$15>=F68,$B$15<=G68),1,0)","v":0},"C",0,66.5,{"$f":"IF(AND($B$18>=J68,$B$18<=K68),1,0)","v":1},16,39,{"$f":"IF(AND($B$14>=M68,$B$14<=N68),1,0)","v":0},43,51,{"$f":"IF(AND(Q68=\"NA\",K68<>\"NA\"),L68,IF(AND($B$13>=P68,$B$13<=Q68),1,0))","v":0},0,4,{"$f":"IF(AND($B$17>=S68,$B$17<=T68),1,0)","v":1},{"$f":"IF(AND(IF(L68=\"NA\",1,L68)=1,IF(O68=\"NA\",1,O68)=1,IF(R68=\"NA\",1,R68)=1,IF(U68=\"NA\",1,U68)=1),1,0)","v":0},1,{"$f":"IF(V68=1,W68,\"NA\")","v":"NA"},"PLATE","SQ min","SQ max","SQ hit?","PD min","PD max","PD hit?","BCD min","BCD max","BCD hit?","PD min","PD max","PD hit?","BCD min","BCD max","BCD hit?","PD min","PD max","PD hit?","BCD min","BCD max","BCD hit?","PD hit?","BCD hit?","PL min","PL max","PL hit?","HIT?","PRIO","Prio Hit","PLATE","Round min","Round max","Round hit?","PD min","PD max","PD hit?","BCD min","BCD max","BCD hit?","PD min","PD max","PD hit?","BCD min","BCD max","BCD hit?","PD min","PD max","PD hit?","BCD min","BCD max","BCD hit?","PD hit?","BCD hit?","PL min","PL max","PL hit?","HIT?","PRIO","Prio Hit"]
[null,null,null,null,null,null,null,null,"D",0,66.5,{"$f":"IF(AND($B$18>=J69,$B$18<=K69),1,0)","v":1},16,54,{"$f":"IF(AND($B$14>=M69,$B$14<=N69),1,0)","v":1},52,72,{"$f":"IF(AND(Q69=\"NA\",K69<>\"NA\"),L69,IF(AND($B$13>=P69,$B$13<=Q69),1,0))","v":1},0,4,{"$f":"IF(AND($B$17>=S69,$B$17<=T69),1,0)","v":1},{"$f":"IF(AND(IF(L69=\"NA\",1,L69)=1,IF(O69=\"NA\",1,O69)=1,IF(R69=\"NA\",1,R69)=1,IF(U69=\"NA\",1,U69)=1),1,0)","v":1},2,{"$f":"IF(V69=1,W69,\"NA\")","v":2},"C2",0,30,{"$f":"IF(AA69=\"NA\",1,IF(AND($B$18>=Z69,$B$18<=AA69),1,0))","v":0},0,{"$f":"IF($B$13-6.5>AG69-6.5,AG69-6.5,$B$13-6.5)","v":29.5},{"$f":"IF(AD69=\"NA\",1,IF(AND($B$14>=AC69,$B$14<=AD69),1,0))","v":0},0,36,{"$f":"IF(AND($B$13>=AF69,$B$13<=AG69),1,0)","v":0},0,{"$f":"IF($B$13-9.7>AM69-9.7,AM69-9.7,$B$13-9.7)","v":23.3},{"$f":"IF(AJ69=\"NA\",1,IF(AND($B$14>=AI69,$B$14<=AJ69),1,0))","v":0},0,33,{"$f":"IF(AM69=\"NA\",1,IF(AND($B$13>=AL69,$B$13<=AM69),1,0))","v":0},0,{"$f":"IF($B$13-11>AS69-11,AS69-11,$B$13-11)","v":21},{"$f":"IF(AP69=\"NA\",1,IF(AND($B$14>=AO69,$B$14<=AP69),1,0))","v":0},0,32,{"$f":"IF(AS69=\"NA\",1,IF(AND($B$13>=AR69,$B$13<=AS69),1,0))","v":0},{"$f":"IF($C$22=\"M3\",AE69,IF($C$22=\"M4\",AK69,IF($C$22=\"M5\",AQ69,\"???\")))","v":"???"},{"$f":"IF($C$22=\"M3\",AH69,IF($C$22=\"M4\",AN69,IF($C$22=\"M5\",AT69,\"???\")))","v":"???"},0,4,{"$f":"IF(AND($B$17>=AW69,$B$17<=AX69),1,0)","v":1},{"$f":"IF(AND(IF(AB69=\"NA\",1,AB69)=1,IF(AU69=\"NA\",1,AU69)=1,IF(AV69=\"NA\",1,AV69)=1,IF(AY69=\"NA\",1,AY69)=1),1,0)","v":0},1,{"$f":"IF(AZ69=1,BA69,\"NA\")","v":"NA"},"C2",0,43,{"$f":"IF(BE69=\"NA\",1,IF(AND($B$18>=BD69,$B$18<=BE69),1,0))","v":0},0,{"$f":"IF($B$13-6.5>BK69-6.5,BK69-6.5,$B$13-6.5)","v":29.5},{"$f":"IF(BH69=\"NA\",1,IF(AND($B$14>=BG69,$B$14<=BH69),1,0))","v":0},0,36,{"$f":"IF(AND($B$13>=BJ69,$B$13<=BK69),1,0)","v":0},0,{"$f":"IF($B$13-9.7>BQ69-9.7,BQ69-9.7,$B$13-9.7)","v":23.3},{"$f":"IF(BN69=\"NA\",1,IF(AND($B$14>=BM69,$B$14<=BN69),1,0))","v":0},0,33,{"$f":"IF(BQ69=\"NA\",1,IF(AND($B$13>=BP69,$B$13<=BQ69),1,0))","v":0},0,{"$f":"IF($B$13-11>BW69-11,BW69-11,$B$13-11)","v":21},{"$f":"IF(BT69=\"NA\",1,IF(AND($B$14>=BS69,$B$14<=BT69),1,0))","v":0},0,32,{"$f":"IF(BW69=\"NA\",1,IF(AND($B$13>=BV69,$B$13<=BW69),1,0))","v":0},{"$f":"IF($C$22=\"M3\",BI69,IF($C$22=\"M4\",BO69,IF($C$22=\"M5\",BU69,\"???\")))","v":"???"},{"$f":"IF($C$22=\"M3\",BL69,IF($C$22=\"M4\",BR69,IF($C$22=\"M5\",BX69,\"???\")))","v":"???"},0,4,{"$f":"IF(AND($B$17>=CA69,$B$17<=CB69),1,0)","v":1},{"$f":"IF(AND(IF(BF69=\"NA\",1,BF69)=1,IF(BY69=\"NA\",1,BY69)=1,IF(BZ69=\"NA\",1,BZ69)=1,IF(CC69=\"NA\",1,CC69)=1),1,0)","v":0},1,{"$f":"IF(CD69=1,CE69,\"NA\")","v":"NA"}]
[null,null,null,null,null,null,null,null,null,null,null,null,null,null,null,null,null,null,null,null,null,null,null,null,"D2",0,44,{"$f":"IF(AA70=\"NA\",1,IF(AND($B$18>=Z70,$B$18<=AA70),1,0))","v":0},0,{"$f":"IF($B$13-6.5>AG70-6.5,AG70-6.5,$B$13-6.5)","v":48.5},{"$f":"IF(AD70=\"NA\",1,IF(AND($B$14>=AC70,$B$14<=AD70),1,0))","v":1},0,55,{"$f":"IF(AND($B$13>=AF70,$B$13<=AG70),1,0)","v":0},0,{"$f":"IF($B$13-9.7>AM70-9.7,AM70-9.7,$B$13-9.7)","v":42.3},{"$f":"IF(AJ70=\"NA\",1,IF(AND($B$14>=AI70,$B$14<=AJ70),1,0))","v":1},0,52,{"$f":"IF(AM70=\"NA\",1,IF(AND($B$13>=AL70,$B$13<=AM70),1,0))","v":0},0,{"$f":"IF($B$13-11>AS70-11,AS70-11,$B$13-11)","v":40},{"$f":"IF(AP70=\"NA\",1,IF(AND($B$14>=AO70,$B$14<=AP70),1,0))","v":1},0,51,{"$f":"IF(AS70=\"NA\",1,IF(AND($B$13>=AR70,$B$13<=AS70),1,0))","v":0},{"$f":"IF($C$22=\"M3\",AE70,IF($C$22=\"M4\",AK70,IF($C$22=\"M5\",AQ70,\"???\")))","v":"???"},{"$f":"IF($C$22=\"M3\",AH70,IF($C$22=\"M4\",AN70,IF($C$22=\"M5\",AT70,\"???\")))","v":"???"},0,4,{"$f":"IF(AND($B$17>=AW70,$B$17<=AX70),1,0)","v":1},{"$f":"IF(AND(IF(AB70=\"NA\",1,AB70)=1,IF(AU70=\"NA\",1,AU70)=1,IF(AV70=\"NA\",1,AV70)=1,IF(AY70=\"NA\",1,AY70)=1),1,0)","v":0},2,{"$f":"IF(AZ70=1,BA70,\"NA\")","v":"NA"},"D2",0,57,{"$f":"IF(BE70=\"NA\",1,IF(AND($B$18>=BD70,$B$18<=BE70),1,0))","v":0},0,{"$f":"IF($B$13-6.5>BK70-6.5,BK70-6.5,$B$13-6.5)","v":48.5},{"$f":"IF(BH70=\"NA\",1,IF(AND($B$14>=BG70,$B$14<=BH70),1,0))","v":1},0,55,{"$f":"IF(AND($B$13>=BJ70,$B$13<=BK70),1,0)","v":0},0,{"$f":"IF($B$13-9.7>BQ70-9.7,BQ70-9.7,$B$13-9.7)","v":42.3},{"$f":"IF(BN70=\"NA\",1,IF(AND($B$14>=BM70,$B$14<=BN70),1,0))","v":1},0,52,{"$f":"IF(BQ70=\"NA\",1,IF(AND($B$13>=BP70,$B$13<=BQ70),1,0))","v":0},0,{"$f":"IF($B$13-11>BW70-11,BW70-11,$B$13-11)","v":40},{"$f":"IF(BT70=\"NA\",1,IF(AND($B$14>=BS70,$B$14<=BT70),1,0))","v":1},0,51,{"$f":"IF(BW70=\"NA\",1,IF(AND($B$13>=BV70,$B$13<=BW70),1,0))","v":0},{"$f":"IF($C$22=\"M3\",BI70,IF($C$22=\"M4\",BO70,IF($C$22=\"M5\",BU70,\"???\")))","v":"???"},{"$f":"IF($C$22=\"M3\",BL70,IF($C$22=\"M4\",BR70,IF($C$22=\"M5\",BX70,\"???\")))","v":"???"},0,4,{"$f":"IF(AND($B$17>=CA70,$B$17<=CB70),1,0)","v":1},{"$f":"IF(AND(IF(BF70=\"NA\",1,BF70)=1,IF(BY70=\"NA\",1,BY70)=1,IF(BZ70=\"NA\",1,BZ70)=1,IF(CC70=\"NA\",1,CC70)=1),1,0)","v":0},2,{"$f":"IF(CD70=1,CE70,\"NA\")","v":"NA"}]
[]
[]
[]
[]
[]
[null,null,null,null,{"$f":"SUM(E68:E75)","v":1},null,null,{"$f":"SUM(H68:H75)","v":0},null,null,null,{"$f":"IF(SUM(L68:L75)>=1,1,0)","v":1},null,null,{"$f":"IF(SUM(O68:O75)>=1,1,0)","v":1},null,null,{"$f":"IF(SUM(R68:R75)>=1,1,0)","v":1},null,null,{"$f":"IF(SUM(U68:U75)>=1,1,0)","v":1},{"$f":"IF(SUM(V68:V75)>=1,1,0)","v":1},null,null,null,null,null,{"$f":"IF(SUM(AB69:AB75)>=1,1,0)","v":0},null,null,{"$f":"IF(SUM(AE69:AE75)>=1,1,0)","v":1},null,null,{"$f":"IF(SUM(AH69:AH75)>=1,1,0)","v":0},null,null,{"$f":"IF(SUM(AK69:AK75)>=1,1,0)","v":1},null,null,{"$f":"IF(SUM(AN69:AN75)>=1,1,0)","v":0},null,null,{"$f":"IF(SUM(AQ69:AQ75)>=1,1,0)","v":1},null,null,{"$f":"IF(SUM(AT69:AT75)>=1,1,0)","v":0},{"$f":"IF(SUM(AU69:AU75)>=1,1,0)","v":0},{"$f":"IF(SUM(AV69:AV75)>=1,1,0)","v":0},null,null,{"$f":"IF(SUM(AY68:AY75)>=1,1,0)","v":1},{"$f":"IF(SUM(AZ68:AZ75)>=1,1,0)","v":0},null,null,null,null,null,{"$f":"IF(SUM(BF68:BF75)>=1,1,0)","v":0},null,null,{"$f":"IF(SUM(BI69:BI75)>=1,1,0)","v":1},null,null,{"$f":"IF(SUM(BL69:BL75)>=1,1,0)","v":0},null,null,{"$f":"IF(SUM(BO69:BO75)>=1,1,0)","v":1},null,null,{"$f":"IF(SUM(BR69:BR75)>=1,1,0)","v":0},null,null,{"$f":"IF(SUM(BU69:BU75)>=1,1,0)","v":1},null,null,{"$f":"IF(SUM(BX69:BX75)>=1,1,0)","v":0},{"$f":"IF(SUM(BY69:BY75)>=1,1,0)","v":0},{"$f":"IF(SUM(BZ69:BZ75)>=1,1,0)","v":0},null,null,{"$f":"IF(SUM(CC68:CC75)>=1,1,0)","v":1},{"$f":"IF(SUM(CD68:CD75)>=1,1,0)","v":0}]
[]
[]
["PC32PA",null,null,null,null,null,null,null,"PC32PA",null,null,null,null,null,null,null,null,null,null,null,null,null,null,null,"PC32PA",null,null,null,null,null,null,null,null,null,null,null,null,null,null,null,null,null,null,null,null,null,null,null,null,null,null,null,null,null,"PC32PA"]
["ALL MOTOR TYPES",null,null,null,null,null,null,null,"SQ AND ROUND MOTOR THRU HOLES",null,null,null,null,null,null,null,null,null,null,null,null,null,null,null,"SQ MOTOR TAPPED HOLES",null,null,null,null,null,null,null,null,null,null,null,null,null,null,null,null,null,null,null,null,null,null,null,null,null,null,null,null,null,"ROUND MOTOR TAPPED HOLES"]
["SL min","SL max","Outline C","LC","SL hit?","SD min","SD max","SD hit?","PLATE","SQ min","SQ max","SQ hit?","PD min","PD max","PD hit?","BCD min","BCD max","BCD hit?","PL min","PL max","PL hit?","HIT?","PRIO","Prio Hit",null,null,null,null,"M3",null,null,null,null,null,"M4",null,null,null,null,null,"M5",null,null,null,null,null,"Chosen thread",null,null,null,null,null,null,null,null,null,null,null,"M3",null,null,null,null,null,"M4",null,null,null,null,null,"M5",null,null,null,null,null,"Chosen thread"]
[15,34,"NA","NA",{"$f":"IF(AND($B$16>=Criteria!A82,$B$16<=Criteria!B82),1,0)","v":1},5,14,{"$f":"IF(AND($B$15>=F82,$B$15<=G82),1,0)","v":0},"C",0,82.5,{"$f":"IF(AND($B$18>=J82,$B$18<=K82),1,0)","v":1},16,54,{"$f":"IF(AND($B$14>=M82,$B$14<=N82),1,0)","v":1},53,72,{"$f":"IF(AND(Q82=\"NA\",K82<>\"NA\"),L82,IF(AND($B$13>=P82,$B$13<=Q82),1,0))","v":1},0,4,{"$f":"IF(AND($B$17>=S82,$B$17<=T82),1,0)","v":1},{"$f":"IF(AND(IF(L82=\"NA\",1,L82)=1,IF(O82=\"NA\",1,O82)=1,IF(R82=\"NA\",1,R82)=1,IF(U82=\"NA\",1,U82)=1),1,0)","v":1},1,{"$f":"IF(V82=1,W82,\"NA\")","v":1},"PLATE","SQ min","SQ max","SQ hit?","PD min","PD max","PD hit?","BCD min","BCD max","BCD hit?","PD min","PD max","PD hit?","BCD min","BCD max","BCD hit?","PD min","PD max","PD hit?","BCD min","BCD max","BCD hit?","PD hit?","BCD hit?","PL min","PL max","PL hit?","HIT?","PRIO","Prio Hit","PLATE","Round min","Round max","Round hit?","PD min","PD max","PD hit?","BCD min","BCD max","BCD hit?","PD min","PD max","PD hit?","BCD min","BCD max","BCD hit?","PD min","PD max","PD hit?","BCD min","BCD max","BCD hit?","PD hit?","BCD hit?","PL min","PL max","PL hit?","HIT?","PRIO","Prio Hit"]
[null,null,null,null,null,null,null,null,"D",0,82.5,{"$f":"IF(AND($B$18>=J83,$B$18<=K83),1,0)","v":1},16,74,{"$f":"IF(AND($B$14>=M83,$B$14<=N83),1,0)","v":1},73,99,{"$f":"IF(AND(Q83=\"NA\",K83<>\"NA\"),L83,IF(AND($B$13>=P83,$B$13<=Q83),1,0))","v":0},0,4,{"$f":"IF(AND($B$17>=S83,$B$17<=T83),1,0)","v":1},{"$f":"IF(AND(IF(L83=\"NA\",1,L83)=1,IF(O83=\"NA\",1,O83)=1,IF(R83=\"NA\",1,R83)=1,IF(U83=\"NA\",1,U83)=1),1,0)","v":0},2,{"$f":"IF(V83=1,W83,\"NA\")","v":"NA"},"C2",0,45,{"$f":"IF(AA83=\"NA\",1,IF(AND($B$18>=Z83,$B$18<=AA83),1,0))","v":0},0,{"$f":"IF($B$13-6.5>AG83-6.5,AG83-6.5,$B$13-6.5)","v":39.5},{"$f":"IF(AD83=\"NA\",1,IF(AND($B$14>=AC83,$B$14<=AD83),1,0))","v":0},0,46,{"$f":"IF(AND($B$13>=AF83,$B$13<=AG83),1,0)","v":0},0,{"$f":"IF($B$13-9.7>AM83-9.7,AM83-9.7,$B$13-9.7)","v":33.299999999999997},{"$f":"IF(AJ83=\"NA\",1,IF(AND($B$14>=AI83,$B$14<=AJ83),1,0))","v":0},0,43,{"$f":"IF(AM83=\"NA\",1,IF(AND($B$13>=AL83,$B$13<=AM83),1,0))","v":0},0,{"$f":"IF($B$13-11>AS83-11,AS83-11,$B$13-11)","v":31},{"$f":"IF(AP83=\"NA\",1,IF(AND($B$14>=AO83,$B$14<=AP83),1,0))","v":0},0,42,{"$f":"IF(AS83=\"NA\",1,IF(AND($B$13>=AR83,$B$13<=AS83),1,0))","v":0},{"$f":"IF($C$22=\"M3\",AE83,IF($C$22=\"M4\",AK83,IF($C$22=\"M5\",AQ83,\"???\")))","v":"???"},{"$f":"IF($C$22=\"M3\",AH83,IF($C$22=\"M4\",AN83,IF($C$22=\"M5\",AT83,\"???\")))","v":"???"},0,4,{"$f":"IF(AND($B$17>=AW83,$B$17<=AX83),1,0)","v":1},{"$f":"IF(AND(IF(AB83=\"NA\",1,AB83)=1,IF(AU83=\"NA\",1,AU83)=1,IF(AV83=\"NA\",1,AV83)=1,IF(AY83=\"NA\",1,AY83)=1),1,0)","v":0},1,{"$f":"IF(AZ83=1,BA83,\"NA\")","v":"NA"},"C2",0,60,{"$f":"IF(BE83=\"NA\",1,IF(AND($B$18>=BD83,$B$18<=BE83),1,0))","v":1},0,{"$f":"IF($B$13-6.5>BK83-6.5,BK83-6.5,$B$13-6.5)","v":39.5},{"$f":"IF(BH83=\"NA\",1,IF(AND($B$14>=BG83,$B$14<=BH83),1,0))","v":0},0,46,{"$f":"IF(AND($B$13>=BJ83,$B$13<=BK83),1,0)","v":0},0,{"$f":"IF($B$13-9.7>BQ83-9.7,BQ83-9.7,$B$13-9.7)","v":33.299999999999997},{"$f":"IF(BN83=\"NA\",1,IF(AND($B$14>=BM83,$B$14<=BN83),1,0))","v":0},0,43,{"$f":"IF(BQ83=\"NA\",1,IF(AND($B$13>=BP83,$B$13<=BQ83),1,0))","v":0},0,{"$f":"IF($B$13-11>BW83-11,BW83-11,$B$13-11)","v":31},{"$f":"IF(BT83=\"NA\",1,IF(AND($B$14>=BS83,$B$14<=BT83),1,0))","v":0},0,42,{"$f":"IF(BW83=\"NA\",1,IF(AND($B$13>=BV83,$B$13<=BW83),1,0))","v":0},{"$f":"IF($C$22=\"M3\",BI83,IF($C$22=\"M4\",BO83,IF($C$22=\"M5\",BU83,\"???\")))","v":"???"},{"$f":"IF($C$22=\"M3\",BL83,IF($C$22=\"M4\",BR83,IF($C$22=\"M5\",BX83,\"???\")))","v":"???"},0,4,{"$f":"IF(AND($B$17>=CA83,$B$17<=CB83),1,0)","v":1},{"$f":"IF(AND(IF(BF83=\"NA\",1,BF83)=1,IF(BY83=\"NA\",1,BY83)=1,IF(BZ83=\"NA\",1,BZ83)=1,IF(CC83=\"NA\",1,CC83)=1),1,0)","v":0},1,{"$f":"IF(CD83=1,CE83,\"NA\")","v":"NA"}]
[null,null,null,null,null,null,null,null,null,null,null,null,null,null,null,null,null,null,null,null,null,null,null,null,"D2",0,64,{"$f":"IF(AA84=\"NA\",1,IF(AND($B$18>=Z84,$B$18<=AA84),1,0))","v":1},0,{"$f":"IF($B$13-6.5>AG84-6.5,AG84-6.5,$B$13-6.5)","v":55.5},{"$f":"IF(AD84=\"NA\",1,IF(AND($B$14>=AC84,$B$14<=AD84),1,0))","v":1},0,62,{"$f":"IF(AND($B$13>=AF84,$B$13<=AG84),1,0)","v":0},0,{"$f":"IF($B$13-9.7>AM84-9.7,AM84-9.7,$B$13-9.7)","v":49.3},{"$f":"IF(AJ84=\"NA\",1,IF(AND($B$14>=AI84,$B$14<=AJ84),1,0))","v":1},0,59,{"$f":"IF(AM84=\"NA\",1,IF(AND($B$13>=AL84,$B$13<=AM84),1,0))","v":0},0,{"$f":"IF($B$13-11>AS84-11,AS84-11,$B$13-11)","v":47},{"$f":"IF(AP84=\"NA\",1,IF(AND($B$14>=AO84,$B$14<=AP84),1,0))","v":1},null,58,{"$f":"IF(AS84=\"NA\",1,IF(AND($B$13>=AR84,$B$13<=AS84),1,0))","v":0},{"$f":"IF($C$22=\"M3\",AE84,IF($C$22=\"M4\",AK84,IF($C$22=\"M5\",AQ84,\"???\")))","v":"???"},{"$f":"IF($C$22=\"M3\",AH84,IF($C$22=\"M4\",AN84,IF($C$22=\"M5\",AT84,\"???\")))","v":"???"},0,4,{"$f":"IF(AND($B$17>=AW84,$B$17<=AX84),1,0)","v":1},{"$f":"IF(AND(IF(AB84=\"NA\",1,AB84)=1,IF(AU84=\"NA\",1,AU84)=1,IF(AV84=\"NA\",1,AV84)=1,IF(AY84=\"NA\",1,AY84)=1),1,0)","v":0},3,{"$f":"IF(AZ84=1,BA84,\"NA\")","v":"NA"},"D2",0,80,{"$f":"IF(BE84=\"NA\",1,IF(AND($B$18>=BD84,$B$18<=BE84),1,0))","v":1},0,{"$f":"IF($B$13-6.5>BK84-6.5,BK84-6.5,$B$13-6.5)","v":55.5},{"$f":"IF(BH84=\"NA\",1,IF(AND($B$14>=BG84,$B$14<=BH84),1,0))","v":1},0,62,{"$f":"IF(AND($B$13>=BJ84,$B$13<=BK84),1,0)","v":0},0,{"$f":"IF($B$13-9.7>BQ84-9.7,BQ84-9.7,$B$13-9.7)","v":49.3},{"$f":"IF(BN84=\"NA\",1,IF(AND($B$14>=BM84,$B$14<=BN84),1,0))","v":1},0,59,{"$f":"IF(BQ84=\"NA\",1,IF(AND($B$13>=BP84,$B$13<=BQ84),1,0))","v":0},0,{"$f":"IF($B$13-11>BW84-11,BW84-11,$B$13-11)","v":47},{"$f":"IF(BT84=\"NA\",1,IF(AND($B$14>=BS84,$B$14<=BT84),1,0))","v":1},null,58,{"$f":"IF(BW84=\"NA\",1,IF(AND($B$13>=BV84,$B$13<=BW84),1,0))","v":0},{"$f":"IF($C$22=\"M3\",BI84,IF($C$22=\"M4\",BO84,IF($C$22=\"M5\",BU84,\"???\")))","v":"???"},{"$f":"IF($C$22=\"M3\",BL84,IF($C$22=\"M4\",BR84,IF($C$22=\"M5\",BX84,\"???\")))","v":"???"},0,4,{"$f":"IF(AND($B$17>=CA84,$B$17<=CB84),1,0)","v":1},{"$f":"IF(AND(IF(BF84=\"NA\",1,BF84)=1,IF(BY84=\"NA\",1,BY84)=1,IF(BZ84=\"NA\",1,BZ84)=1,IF(CC84=\"NA\",1,CC84)=1),1,0)","v":0},3,{"$f":"IF(CD84=1,CE84,\"NA\")","v":"NA"}]
[null,null,null,null,null,null,null,null,null,null,null,null,null,null,null,null,null,null,null,null,null,null,null,null,"D",0,82.5,{"$f":"IF(AA85=\"NA\",1,IF(AND($B$18>=Z85,$B$18<=AA85),1,0))","v":1},16,68,{"$f":"IF(AND($B$14>=AC85,$B$14<=AD85),1,0)","v":1},91,98,{"$f":"IF(AND(AG85=\"NA\",AA85<>\"NA\"),AB85,IF(AND($B$13>=AF85,$B$13<=AG85),1,0))","v":0},16,68,{"$f":"IF(AND($B$14>=AI85,$B$14<=AJ85),1,0)","v":1},91,98,{"$f":"IF(AND(AM85=\"NA\",AG85<>\"NA\"),AH85,IF(AND($B$13>=AL85,$B$13<=AM85),1,0))","v":0},16,68,{"$f":"IF(AND($B$14>=AO85,$B$14<=AP85),1,0)","v":1},91,98,{"$f":"IF(AND(AS85=\"NA\",AM85<>\"NA\"),AN85,IF(AND($B$13>=AR85,$B$13<=AS85),1,0))","v":0},null,null,0,4,{"$f":"IF(AND($B$17>=AW85,$B$17<=AX85),1,0)","v":1},{"$f":"IF(AND(IF(AB85=\"NA\",1,AB85)=1,IF(AU85=\"NA\",1,AU85)=1,IF(AV85=\"NA\",1,AV85)=1,IF(AY85=\"NA\",1,AY85)=1),1,0)","v":0},2,{"$f":"IF(AZ85=1,BA85,\"NA\")","v":"NA"},"D",0,82.5,{"$f":"IF(BE85=\"NA\",1,IF(AND($B$18>=BD85,$B$18<=BE85),1,0))","v":1},16,68,{"$f":"IF(AND($B$14>=BG85,$B$14<=BH85),1,0)","v":1},91,98,{"$f":"IF(AND(BK85=\"NA\",BE85<>\"NA\"),BF85,IF(AND($B$13>=BJ85,$B$13<=BK85),1,0))","v":0},16,68,{"$f":"IF(AND($B$14>=BM85,$B$14<=BN85),1,0)","v":1},91,98,{"$f":"IF(AND(BQ85=\"NA\",BK85<>\"NA\"),BL85,IF(AND($B$13>=BP85,$B$13<=BQ85),1,0))","v":0},16,68,{"$f":"IF(AND($B$14>=BS85,$B$14<=BT85),1,0)","v":1},91,98,{"$f":"IF(AND(BW85=\"NA\",BQ85<>\"NA\"),BR85,IF(AND($B$13>=BV85,$B$13<=BW85),1,0))","v":0},{"$f":"IF($C$22=\"M3\",BI85,IF($C$22=\"M4\",BO85,IF($C$22=\"M5\",BU85,\"???\")))","v":"???"},{"$f":"IF($C$22=\"M3\",BL85,IF($C$22=\"M4\",BR85,IF($C$22=\"M5\",BX85,\"???\")))","v":"???"},0,4,{"$f":"IF(AND($B$17>=CA85,$B$17<=CB85),1,0)","v":1},{"$f":"IF(AND(IF(BF85=\"NA\",1,BF85)=1,IF(BY85=\"NA\",1,BY85)=1,IF(BZ85=\"NA\",1,BZ85)=1,IF(CC85=\"NA\",1,CC85)=1),1,0)","v":0},2,{"$f":"IF(CD85=1,CE85,\"NA\")","v":"NA"}]
[]
[]
[]
[]
[null,null,null,null,{"$f":"SUM(E82:E89)","v":1},null,null,{"$f":"SUM(H82:H89)","v":0},null,null,null,{"$f":"IF(SUM(L82:L89)>=1,1,0)","v":1},null,null,{"$f":"IF(SUM(O82:O89)>=1,1,0)","v":1},null,null,{"$f":"IF(SUM(R82:R89)>=1,1,0)","v":1},null,null,{"$f":"IF(SUM(U82:U89)>=1,1,0)","v":1},{"$f":"IF(SUM(V82:V89)>=1,1,0)","v":1},null,null,null,null,null,{"$f":"IF(SUM(AB83:AB89)>=1,1,0)","v":1},null,null,{"$f":"IF(SUM(AE83:AE89)>=1,1,0)","v":1},null,null,{"$f":"IF(SUM(AH83:AH89)>=1,1,0)","v":0},null,null,{"$f":"IF(SUM(AK83:AK89)>=1,1,0)","v":1},null,null,{"$f":"IF(SUM(AN83:AN89)>=1,1,0)","v":0},null,null,{"$f":"IF(SUM(AQ83:AQ89)>=1,1,0)","v":1},null,null,{"$f":"IF(SUM(AT83:AT89)>=1,1,0)","v":0},{"$f":"IF(SUM(AU83:AU89)>=1,1,0)","v":0},{"$f":"IF(SUM(AV83:AV89)>=1,1,0)","v":0},null,null,{"$f":"IF(SUM(AY82:AY89)>=1,1,0)","v":1},{"$f":"IF(SUM(AZ82:AZ89)>=1,1,0)","v":0},null,null,null,null,null,{"$f":"IF(SUM(BF82:BF89)>=1,1,0)","v":1},null,null,{"$f":"IF(SUM(BI83:BI89)>=1,1,0)","v":1},null,null,{"$f":"IF(SUM(BL83:BL89)>=1,1,0)","v":0},null,null,{"$f":"IF(SUM(BO83:BO89)>=1,1,0)","v":1},null,null,{"$f":"IF(SUM(BR83:BR89)>=1,1,0)","v":0},null,null,{"$f":"IF(SUM(BU83:BU89)>=1,1,0)","v":1},null,null,{"$f":"IF(SUM(BX83:BX89)>=1,1,0)","v":0},{"$f":"IF(SUM(BY83:BY89)>=1,1,0)","v":0},{"$f":"IF(SUM(BZ83:BZ89)>=1,1,0)","v":0},null,null,{"$f":"IF(SUM(CC82:CC89)>=1,1,0)","v":1},{"$f":"IF(SUM(CD82:CD89)>=1,1,0)","v":0}]
[]
[]
["PC40PA",null,null,null,null,null,null,null,"PC40PA",null,null,null,null,null,null,null,null,null,null,null,null,null,null,null,"PC40PA",null,null,null,null,null,null,null,null,null,null,null,null,null,null,null,null,null,null,null,null,null,null,null,null,null,null,null,null,null,"PC40PA"]
["ALL MOTOR TYPES",null,null,null,null,null,null,null,"SQ AND ROUND MOTOR THRU HOLES",null,null,null,null,null,null,null,null,null,null,null,null,null,null,null,"SQ MOTOR TAPPED HOLES",null,null,null,null,null,null,null,null,null,null,null,null,null,null,null,null,null,null,null,null,null,null,null,null,null,null,null,null,null,"ROUND MOTOR TAPPED HOLES"]
["SL min","SL max","Outline C","LC","SL hit?","SD min","SD max","SD hit?","PLATE","SQ min","SQ max","SQ hit?","PD min","PD max","PD hit?","BCD min","BCD max","BCD hit?","PL min","PL max","PL hit?","HIT?","PRIO","Prio Hit",null,null,null,null,"M3",null,null,null,null,null,"M4",null,null,null,null,null,"M5",null,null,null,null,null,"Chosen thread",null,null,null,null,null,null,null,null,null,null,null,"M3",null,null,null,null,null,"M4",null,null,null,null,null,"M5",null,null,null,null,null,"Chosen thread"]
[15,41,"NA","NA",{"$f":"IF(AND($B$16>=Criteria!A96,$B$16<=Criteria!B96),1,0)","v":1},5,16,{"$f":"IF(AND($B$15>=F96,$B$15<=G96),1,0)","v":1},"C",0,90.5,{"$f":"IF(AND($B$18>=J96,$B$18<=K96),1,0)","v":1},16,64,{"$f":"IF(AND($B$14>=M96,$B$14<=N96),1,0)","v":1},53,85,{"$f":"IF(AND(Q96=\"NA\",K96<>\"NA\"),L96,IF(AND($B$13>=P96,$B$13<=Q96),1,0))","v":1},0,4,{"$f":"IF(AND($B$17>=S96,$B$17<=T96),1,0)","v":1},{"$f":"IF(AND(IF(L96=\"NA\",1,L96)=1,IF(O96=\"NA\",1,O96)=1,IF(R96=\"NA\",1,R96)=1,IF(U96=\"NA\",1,U96)=1),1,0)","v":1},1,{"$f":"IF(V96=1,W96,\"NA\")","v":1},"PLATE","SQ min","SQ max","SQ hit?","PD min","PD max","PD hit?","BCD min","BCD max","BCD hit?","PD min","PD max","PD hit?","BCD min","BCD max","BCD hit?","PD min","PD max","PD hit?","BCD min","BCD max","BCD hit?","PD hit?","BCD hit?","PL min","PL max","PL hit?","HIT?","PRIO","Prio Hit","PLATE","Round min","Round max","Round hit?","PD min","PD max","PD hit?","BCD min","BCD max","BCD hit?","PD min","PD max","PD hit?","BCD min","BCD max","BCD hit?","PD min","PD max","PD hit?","BCD min","BCD max","BCD hit?","PD hit?","BCD hit?","PL min","PL max","PL hit?","HIT?","PRIO","Prio Hit"]
[null,null,null,null,null,null,null,null,"D",0,90.5,{"$f":"IF(AND($B$18>=J97,$B$18<=K97),1,0)","v":1},16,85,{"$f":"IF(AND($B$14>=M97,$B$14<=N97),1,0)","v":1},86,107,{"$f":"IF(AND(Q97=\"NA\",K97<>\"NA\"),L97,IF(AND($B$13>=P97,$B$13<=Q97),1,0))","v":0},0,4,{"$f":"IF(AND($B$17>=S97,$B$17<=T97),1,0)","v":1},{"$f":"IF(AND(IF(L97=\"NA\",1,L97)=1,IF(O97=\"NA\",1,O97)=1,IF(R97=\"NA\",1,R97)=1,IF(U97=\"NA\",1,U97)=1),1,0)","v":0},2,{"$f":"IF(V97=1,W97,\"NA\")","v":"NA"},"C2",0,54,{"$f":"IF(AA97=\"NA\",1,IF(AND($B$18>=Z97,$B$18<=AA97),1,0))","v":0},0,{"$f":"IF($B$13-6.5>AG97-6.5,AG97-6.5,$B$13-6.5)","v":46.5},{"$f":"IF(AD97=\"NA\",1,IF(AND($B$14>=AC97,$B$14<=AD97),1,0))","v":1},0,53,{"$f":"IF(AND($B$13>=AF97,$B$13<=AG97),1,0)","v":0},0,{"$f":"IF($B$13-9.7>AM97-9.7,AM97-9.7,$B$13-9.7)","v":40.299999999999997},{"$f":"IF(AJ97=\"NA\",1,IF(AND($B$14>=AI97,$B$14<=AJ97),1,0))","v":1},0,50,{"$f":"IF(AM97=\"NA\",1,IF(AND($B$13>=AL97,$B$13<=AM97),1,0))","v":0},0,{"$f":"IF($B$13-11>AS97-11,AS97-11,$B$13-11)","v":38},{"$f":"IF(AP97=\"NA\",1,IF(AND($B$14>=AO97,$B$14<=AP97),1,0))","v":0},0,49,{"$f":"IF(AS97=\"NA\",1,IF(AND($B$13>=AR97,$B$13<=AS97),1,0))","v":0},{"$f":"IF($C$22=\"M3\",AE97,IF($C$22=\"M4\",AK97,IF($C$22=\"M5\",AQ97,\"???\")))","v":"???"},{"$f":"IF($C$22=\"M3\",AH97,IF($C$22=\"M4\",AN97,IF($C$22=\"M5\",AT97,\"???\")))","v":"???"},0,4,{"$f":"IF(AND($B$17>=AW97,$B$17<=AX97),1,0)","v":1},{"$f":"IF(AND(IF(AB97=\"NA\",1,AB97)=1,IF(AU97=\"NA\",1,AU97)=1,IF(AV97=\"NA\",1,AV97)=1,IF(AY97=\"NA\",1,AY97)=1),1,0)","v":0},1,{"$f":"IF(AZ97=1,BA97,\"NA\")","v":"NA"},"C2",0,70,{"$f":"IF(BE97=\"NA\",1,IF(AND($B$18>=BD97,$B$18<=BE97),1,0))","v":1},0,{"$f":"IF($B$13-6.5>BK97-6.5,BK97-6.5,$B$13-6.5)","v":46.5},{"$f":"IF(BH97=\"NA\",1,IF(AND($B$14>=BG97,$B$14<=BH97),1,0))","v":1},0,53,{"$f":"IF(AND($B$13>=BJ97,$B$13<=BK97),1,0)","v":0},0,{"$f":"IF($B$13-9.7>BQ97-9.7,BQ97-9.7,$B$13-9.7)","v":40.299999999999997},{"$f":"IF(BN97=\"NA\",1,IF(AND($B$14>=BM97,$B$14<=BN97),1,0))","v":1},0,50,{"$f":"IF(BQ97=\"NA\",1,IF(AND($B$13>=BP97,$B$13<=BQ97),1,0))","v":0},0,{"$f":"IF($B$13-11>BW97-11,BW97-11,$B$13-11)","v":38},{"$f":"IF(BT97=\"NA\",1,IF(AND($B$14>=BS97,$B$14<=BT97),1,0))","v":0},0,49,{"$f":"IF(BW97=\"NA\",1,IF(AND($B$13>=BV97,$B$13<=BW97),1,0))","v":0},{"$f":"IF($C$22=\"M3\",BI97,IF($C$22=\"M4\",BO97,IF($C$22=\"M5\",BU97,\"???\")))","v":"???"},{"$f":"IF($C$22=\"M3\",BL97,IF($C$22=\"M4\",BR97,IF($C$22=\"M5\",BX97,\"???\")))","v":"???"},0,4,{"$f":"IF(AND($B$17>=CA97,$B$17<=CB97),1,0)","v":1},{"$f":"IF(AND(IF(BF97=\"NA\",1,BF97)=1,IF(BY97=\"NA\",1,BY97)=1,IF(BZ97=\"NA\",1,BZ97)=1,IF(CC97=\"NA\",1,CC97)=1),1,0)","v":0},1,{"$f":"IF(CD97=1,CE97,\"NA\")","v":"NA"}]
[null,null,null,null,null,null,null,null,null,null,null,null,null,null,null,null,null,null,null,null,null,null,null,null,"D2",0,71,{"$f":"IF(AA98=\"NA\",1,IF(AND($B$18>=Z98,$B$18<=AA98),1,0))","v":1},0,{"$f":"IF($B$13-6.5>AG98-6.5,AG98-6.5,$B$13-6.5)","v":56.5},{"$f":"IF(AD98=\"NA\",1,IF(AND($B$14>=AC98,$B$14<=AD98),1,0))","v":1},0,68,{"$f":"IF(AND($B$13>=AF98,$B$13<=AG98),1,0)","v":1},0,{"$f":"IF($B$13-9.7>AM98-9.7,AM98-9.7,$B$13-9.7)","v":53.3},{"$f":"IF(AJ98=\"NA\",1,IF(AND($B$14>=AI98,$B$14<=AJ98),1,0))","v":1},0,65,{"$f":"IF(AM98=\"NA\",1,IF(AND($B$13>=AL98,$B$13<=AM98),1,0))","v":1},0,{"$f":"IF($B$13-11>AS98-11,AS98-11,$B$13-11)","v":52},{"$f":"IF(AP98=\"NA\",1,IF(AND($B$14>=AO98,$B$14<=AP98),1,0))","v":1},0,64,{"$f":"IF(AS98=\"NA\",1,IF(AND($B$13>=AR98,$B$13<=AS98),1,0))","v":1},{"$f":"IF($C$22=\"M3\",AE98,IF($C$22=\"M4\",AK98,IF($C$22=\"M5\",AQ98,\"???\")))","v":"???"},{"$f":"IF($C$22=\"M3\",AH98,IF($C$22=\"M4\",AN98,IF($C$22=\"M5\",AT98,\"???\")))","v":"???"},0,4,{"$f":"IF(AND($B$17>=AW98,$B$17<=AX98),1,0)","v":1},{"$f":"IF(AND(IF(AB98=\"NA\",1,AB98)=1,IF(AU98=\"NA\",1,AU98)=1,IF(AV98=\"NA\",1,AV98)=1,IF(AY98=\"NA\",1,AY98)=1),1,0)","v":0},3,{"$f":"IF(AZ98=1,BA98,\"NA\")","v":"NA"},"D2",0,90,{"$f":"IF(BE98=\"NA\",1,IF(AND($B$18>=BD98,$B$18<=BE98),1,0))","v":1},0,{"$f":"IF($B$13-6.5>BK98-6.5,BK98-6.5,$B$13-6.5)","v":56.5},{"$f":"IF(BH98=\"NA\",1,IF(AND($B$14>=BG98,$B$14<=BH98),1,0))","v":1},0,68,{"$f":"IF(AND($B$13>=BJ98,$B$13<=BK98),1,0)","v":1},0,{"$f":"IF($B$13-9.7>BQ98-9.7,BQ98-9.7,$B$13-9.7)","v":53.3},{"$f":"IF(BN98=\"NA\",1,IF(AND($B$14>=BM98,$B$14<=BN98),1,0))","v":1},0,65,{"$f":"IF(BQ98=\"NA\",1,IF(AND($B$13>=BP98,$B$13<=BQ98),1,0))","v":1},0,{"$f":"IF($B$13-11>BW98-11,BW98-11,$B$13-11)","v":52},{"$f":"IF(BT98=\"NA\",1,IF(AND($B$14>=BS98,$B$14<=BT98),1,0))","v":1},0,64,{"$f":"IF(BW98=\"NA\",1,IF(AND($B$13>=BV98,$B$13<=BW98),1,0))","v":1},{"$f":"IF($C$22=\"M3\",BI98,IF($C$22=\"M4\",BO98,IF($C$22=\"M5\",BU98,\"???\")))","v":"???"},{"$f":"IF($C$22=\"M3\",BL98,IF($C$22=\"M4\",BR98,IF($C$22=\"M5\",BX98,\"???\")))","v":"???"},0,4,{"$f":"IF(AND($B$17>=CA98,$B$17<=CB98),1,0)","v":1},{"$f":"IF(AND(IF(BF98=\"NA\",1,BF98)=1,IF(BY98=\"NA\",1,BY98)=1,IF(BZ98=\"NA\",1,BZ98)=1,IF(CC98=\"NA\",1,CC98)=1),1,0)","v":0},3,{"$f":"IF(CD98=1,CE98,\"NA\")","v":"NA"}]
[null,null,null,null,null,null,null,null,null,null,null,null,null,null,null,null,null,null,null,null,null,null,null,null,"D",0,90.5,{"$f":"IF(AA99=\"NA\",1,IF(AND($B$18>=Z99,$B$18<=AA99),1,0))","v":1},16,74,{"$f":"IF(AND($B$14>=AC99,$B$14<=AD99),1,0)","v":1},106,114,{"$f":"IF(AND(AG99=\"NA\",AA99<>\"NA\"),AB99,IF(AND($B$13>=AF99,$B$13<=AG99),1,0))","v":0},16,74,{"$f":"IF(AND($B$14>=AI99,$B$14<=AJ99),1,0)","v":1},106,114,{"$f":"IF(AND(AM99=\"NA\",AG99<>\"NA\"),AH99,IF(AND($B$13>=AL99,$B$13<=AM99),1,0))","v":0},16,74,{"$f":"IF(AND($B$14>=AO99,$B$14<=AP99),1,0)","v":1},106,114,{"$f":"IF(AND(AS99=\"NA\",AM99<>\"NA\"),AN99,IF(AND($B$13>=AR99,$B$13<=AS99),1,0))","v":0},{"$f":"IF($C$22=\"M3\",AE99,IF($C$22=\"M4\",AK99,IF($C$22=\"M5\",AQ99,\"???\")))","v":"???"},{"$f":"IF($C$22=\"M3\",AH99,IF($C$22=\"M4\",AN99,IF($C$22=\"M5\",AT99,\"???\")))","v":"???"},0,4,{"$f":"IF(AND($B$17>=AW99,$B$17<=AX99),1,0)","v":1},{"$f":"IF(AND(IF(AB99=\"NA\",1,AB99)=1,IF(AU99=\"NA\",1,AU99)=1,IF(AV99=\"NA\",1,AV99)=1,IF(AY99=\"NA\",1,AY99)=1),1,0)","v":0},2,{"$f":"IF(AZ99=1,BA99,\"NA\")","v":"NA"},"D",0,90,{"$f":"IF(BE99=\"NA\",1,IF(AND($B$18>=BD99,$B$18<=BE99),1,0))","v":1},16,74,{"$f":"IF(AND($B$14>=BG99,$B$14<=BH99),1,0)","v":1},106,114,{"$f":"IF(AND(BK99=\"NA\",BE99<>\"NA\"),BF99,IF(AND($B$13>=BJ99,$B$13<=BK99),1,0))","v":0},16,74,{"$f":"IF(AND($B$14>=BM99,$B$14<=BN99),1,0)","v":1},106,114,{"$f":"IF(AND(BQ99=\"NA\",BK99<>\"NA\"),BL99,IF(AND($B$13>=BP99,$B$13<=BQ99),1,0))","v":0},16,74,{"$f":"IF(AND($B$14>=BS99,$B$14<=BT99),1,0)","v":1},106,114,{"$f":"IF(AND(BW99=\"NA\",BQ99<>\"NA\"),BR99,IF(AND($B$13>=BV99,$B$13<=BW99),1,0))","v":0},{"$f":"IF($C$22=\"M3\",BI99,IF($C$22=\"M4\",BO99,IF($C$22=\"M5\",BU99,\"???\")))","v":"???"},{"$f":"IF($C$22=\"M3\",BL99,IF($C$22=\"M4\",BR99,IF($C$22=\"M5\",BX99,\"???\")))","v":"???"},0,4,{"$f":"IF(AND($B$17>=CA99,$B$17<=CB99),1,0)","v":1},{"$f":"IF(AND(IF(BF99=\"NA\",1,BF99)=1,IF(BY99=\"NA\",1,BY99)=1,IF(BZ99=\"NA\",1,BZ99)=1,IF(CC99=\"NA\",1,CC99)=1),1,0)","v":0},2,{"$f":"IF(CD99=1,CE99,\"NA\")","v":"NA"}]
[]
[]
[]
[]
[null,null,null,null,{"$f":"SUM(E96:E103)","v":1},null,null,{"$f":"SUM(H96:H103)","v":1},null,null,null,{"$f":"IF(SUM(L96:L103)>=1,1,0)","v":1},null,null,{"$f":"IF(SUM(O96:O103)>=1,1,0)","v":1},null,null,{"$f":"IF(SUM(R96:R103)>=1,1,0)","v":1},null,null,{"$f":"IF(SUM(U96:U103)>=1,1,0)","v":1},{"$f":"IF(SUM(V96:V103)>=1,1,0)","v":1},null,null,null,null,null,{"$f":"IF(SUM(AB97:AB103)>=1,1,0)","v":1},null,null,{"$f":"IF(SUM(AE97:AE103)>=1,1,0)","v":1},null,null,{"$f":"IF(SUM(AH97:AH103)>=1,1,0)","v":1},null,null,{"$f":"IF(SUM(AK97:AK103)>=1,1,0)","v":1},null,null,{"$f":"IF(SUM(AN97:AN103)>=1,1,0)","v":1},null,null,{"$f":"IF(SUM(AQ97:AQ103)>=1,1,0)","v":1},null,null,{"$f":"IF(SUM(AT97:AT103)>=1,1,0)","v":1},{"$f":"IF(SUM(AU97:AU103)>=1,1,0)","v":0},{"$f":"IF(SUM(AV97:AV103)>=1,1,0)","v":0},null,null,{"$f":"IF(SUM(AY97:AY103)>=1,1,0)","v":1},{"$f":"IF(SUM(AZ97:AZ103)>=1,1,0)","v":0},null,null,null,null,null,{"$f":"IF(SUM(BF96:BF103)>=1,1,0)","v":1},null,null,{"$f":"IF(SUM(BI97:BI103)>=1,1,0)","v":1},null,null,{"$f":"IF(SUM(BL97:BL103)>=1,1,0)","v":1},null,null,{"$f":"IF(SUM(BO97:BO103)>=1,1,0)","v":1},null,null,{"$f":"IF(SUM(BR97:BR103)>=1,1,0)","v":1},null,null,{"$f":"IF(SUM(BU97:BU103)>=1,1,0)","v":1},null,null,{"$f":"IF(SUM(BX97:BX103)>=1,1,0)","v":1},{"$f":"IF(SUM(BY97:BY103)>=1,1,0)","v":0},{"$f":"IF(SUM(BZ97:BZ103)>=1,1,0)","v":0},null,null,{"$f":"IF(SUM(CC96:CC103)>=1,1,0)","v":1},{"$f":"IF(SUM(CD96:CD103)>=1,1,0)","v":0}]
[]
[]
[]
["SCREWS AND HOLES"]
[]
["Size","Cross fit","Close","Coarse","CHOSEN","Double plates","Hit"]
["M1,6","M1,6",1.7,2,2,null,{"$f":"IF(AND($B$21<C112,$B$21>=C111),1,0)","v":0}]
["M2","M2",2.2000000000000002,2.6,2.6,null,0]
["M2,5","M2,5",2.7,3.1,3.1,null,0]
["M3","M3",3.2,3.6,4,3.5,0]
["M4","M4",4.3,4.8,5,4.5,1]
["M5","M5",5.3,5.8,6,5.5,0]
["M6","M6",6.4,7,7,null,0]
["M8","M8",8.4,10,10,null,0]
["M10","M10",10.5,12,12,null,0]
["M12","M12",13,15,15,null,0]
["M16","M16",17,19,19,null,0]
["M20","M20",21,24,24,null,0]
["M24","M24",25,28,28,null,0]
["M30","M30",31,35,35,null,0]
["M36","M36",37,42,42,null,{"$f":"IF(AND($B$21<=D125,$B$21>=C125),1,0)","v":0}]
["#1 - 64 UNC"]
["#2 - 56 UNC",null,null,2.44,2.8]
["#3 - 48 UNC",null,null,3.1,3.1]
["#4 - 40 UNC","M3",null,3.76,3.4]
["#5 - 40 UNC",null,null,null,3.8]
["#6 - 32 UNC",null,null,null,4.2]
["#8 - 32 UNC","M4",null,null,5]
["#10 - 24 UNC",null,null,null,5.6]
["#12 - 24 UNC","M5",null,null,6]
["1/4\" - 20 UNC",null,null,null,7.4]
["5/16\" - 18 UNC",null,null,null,10]
["3/8\" - 16 UNC",null,null,null,12]
["7/16\" - 14 UNC",null,null,null,14]
["1/2\" - 13 UNC",null,null,null,16]
["#1 - 72 UNF"]
["#2 - 64 UNF",null,null,null,2.8]
["#3 - 56 UNF",null,null,null,3.1]
["#4 - 48 UNF","M3",null,null,3.4]
["#5 - 44 UNF",null,null,null,3.8]
["#6 - 40 UNF",null,null,null,4.2]
["#8 - 36 UNF","M4",null,null,5]
["#10 - 32 UNF",null,null,null,5.6]
["#12 - 28 UNF","M5",null,null,6]
["1/4\" - 28 UNF",null,null,null,7.4]
["5/16\" - 24 UNF",null,null,null,10]
["3/8\" - 24 UNF",null,null,null,12]
["7/16\" - 20 UNF",null,null,null,14]
["1/2\" - 20 UNF",null,null,null,16]
[]
[]
["MOTOR  PLATE DRAWINGS",null,null,null,null,null,null,null,"Comments"]
[]
[null,null,null,null,null,"Drw Machining"]
["PC25","LX","A","PC25LXA",null,"3-123.400"]
["PC25","LX","B","PC25LXB",null,"3-123.400"]
["PC25","LX","A2","PC25LXA2",null,"3-123.496 / 495"]
["PC25","LX","B2","PC25LXB2",null,"3-123.436 / 463"]
["PC25","PA","C","PC25PAC",null,"3-123.397"]
["PC25","PA","D","PC25PAD",null,"3-123.397"]
["PC25","PA","C2","PC25PAC2",null,"3-123.508 / 507"]
["PC25","PA","D2","PC25PAD2",null,"3-123.467 / 466"]
["PC32","LX","A","PC32LXA",null,"3-123.399"]
["PC32","LX","B","PC32LXB",null,"3-123.399"]
["PC32","LX","A2","PC32LXA2",null,"3-123.492 / 491"]
["PC32","LX","B2","PC32LXB2",null,"3-123.464 / 437"]
["PC32","PA","C","PC32PAC",null,"3-123.396"]
["PC32","PA","D","PC32PAD",null,"3-123.396"]
["PC32","PA","C2","PC32PAC2",null,"3-123.488 / 503"]
["PC32","PA","D2","PC32PAD2",null,"3-123.464 / 468"]
["PC40","LX","A","PC40LXA",null,"3-123.398"]
["PC40","LX","B","PC40LXB",null,"3-123.398"]
["PC40","LX","A2","PC40LXA2",null,"3-123.488 / 487"]
["PC40","LX","B2","PC40LXB2",null,"3-123.465 / 438"]
["PC40","PA","C","PC40PAC",null,"3-123.395"]
["PC40","PA","D","PC40PAD",null,"3-123.395"]
["PC40","PA","C2","PC40PAC2",null,"3-123.521 / 499"]
["PC40","PA","D2","PC40PAD2",null,"3-123.465 / 469"]
["PC25","PA","SPLC2-092",{"$f":"CONCATENATE(A183,B183,C183)","v":"PC25PASPLC2-092"},null,"3-123.522 / 507"]
["PC32","PA","SPLC2-106","PC32PASPLC2-106",null,"3-123.526 / 503"]
["PC40","LX","SPLB2-008",{"$f":"CONCATENATE(A185,B185,C185)","v":"PC40LXSPLB2-008"},null,"3-123.536 / 537"]
["PC40","LX","SPLB2-120",{"$f":"CONCATENATE(A186,B186,C186)","v":"PC40LXSPLB2-120"},null,"3-123.545  / 438"]
["PC40","PA","SPLD2-107","PC40PASPLD2-107",null,"3-123.535 / 469"]
["PC40","PA","SPLD2-125",{"$f":"CONCATENATE(A188,B188,C188)","v":"PC40PASPLD2-125"},null,"3-123.538 / 469"]
["PC40","LX","SPLA-137","PC40LXSPLA-137",null,"3-123.552"]
["PC40","PA","SPLA2-135","PC40PASPLA2-135",null,"3-123.554 / 578"]
["PC40","PA","SPLD2-161","PC40PASPLD2-161",null,"3-123.599 / 600"]
["PC40","LX","SPLB2-107","PC40LXSPLB2-107",null,"3-123.438 / 601"]
["PC32","PA","32PASPLC-204","PC32PA32PASPLC-204",null,"3-123.667"]
["PC32","LX","SPLB2-135","PC32LXSPLB2-135",null,"3-123.437 / 603"]
["PC32","LX","SPLA-192","PC32LXSPLA-192",null,"3-123.620"]
["PC25","PA","SPLD2-203","PC25PASPLD2-203",null,"3-123.621 / 466"]
["PC25","PA","SPLD2-210","PC25PASPLD2-210",null,"3-123.629 / 628"]
["PC40","PA","40PASPLC-204","PC40PA40PASPLC-204",null,"3-123.630"]
["PC40","PA","SPLD-221","PC40PASPLD-221",null,"3-123.600"]
["PC32","PA","SPLD-223","PC32PASPLD-223",null,"3-123.632"]
["PC40","PA","SPLD-224","PC40PASPLD-224",null,"3-123.636"]
["PC32","LX","SPLB-242","PC32LXSPLB-242",null,"3-123.648"]
["PC32","PA","SPLC-243","PC32PASPLC-243",null,"3-123.649"]
["PC25","LX","SPLB2-246","PC25LXSPLB2-246",null,"3-123.651 / 650"]
["PC32","PA","SPLD2-271","PC32PASPLD2-271",null,"3-123.664 / 468"]
["PC40","LX","SPLA-125","PC40LXSPLA-125",null,"3-123.660"]
["PC32","LX","SPLB2-107","PC32LXSPLB2-107",null,"3-123.665 / 437"]
["PC32","LX","SPLB-125","PC32LXSPLB-125",null,"3-123.668"]
["PC32","PA","SPLC2-007","PC32PASPLC2-007",null,"3-123.669 / 503"]
["PC32","LX","SPLA-248","PC32LXSPLA-248",null,"3-123.652"]
["PC32","LX","32LXB2-274","PC32LX32LXB2-274",null,"3-123.464 / 670",null,null,"Witout SPL means that plate to be machined in the house"]
["PC40","LX","40LXB2-274","PC40LX40LXB2-274",null,"3-123.465 / 671 ",null,null,"Witout SPL means that plate to be machined in the house"]
["PC40","LX","SPLA2-282","PC40LXSPLA2-282",null,"3-123.487 / 689"]
["PC25","PA","SPLD2-283","PC25PASPLD2-283",null,"3-123.466 / 690"]
["PC40","PA","40PAD2-288","PC40PA40PAD2-288",null,"3-123.465 / 692",null,null,"Witout SPL means that plate to be machined in the house"]
["PC40","PA","SPLC-290","PC40PASPLC-290",null,"3-123.693"]
["PC32","LX","SPLB2-300","PC32LXSPLB2-300",null,"3-123.696 / 437"]
["PC40","LX","SPLA2-249",{"$f":"CONCATENATE(A218,B218,C218)","v":"PC40LXSPLA2-249"},null,"3-123.653 / 487"]

{"sheet":"Sheet1","index":6,"n_rows":69,"n_cols":10,"rows_kept":69,"cut":false,"hidden":true,"merged":[]}
[]
[]
[]
[]
[]
[]
[]
[]
[]
[]
[]
[]
[]
[]
[]
[]
[null,null,null,null,null,null,null,null,null,"INLINE"]
[]
[]
[]
[]
[]
[]
[]
[]
[]
[1,2,3,4,5,6,7,8,9]
[]
[]
[]
[]
["INLINE"]
[]
["Part","Machining","Dependen on","PCF OK?","Comments","Production OK?","Comments"]
["Bell house","Length","PC size, shaft length",null,"PCF"]
[null,"holes","PC size, foot mount",null,"PCF"]
[]
["Motor Plate","Size","(Engineering), PC size, BD",null,"PCF"]
[null,"BD","BD",null,"db"]
[null,"PD","PD",null,"db"]
[null,"L","Engineering, PC size",null,"db"]
[null,"Rin","Engineering, PC size",null,"db"]
[null,"Threaded/hole","Engineering, hole",null,"db"]
[]
[]
["Mounting Screws","Length","Flange length/thread depth",null,"PCF"]
[null,"Size","Hole/Thread",null,"PCF"]
[]
["Coupling","Size","PC size",null,"PCF"]
[null,"Bore","Shadt D",null,"PCF"]
[null,"LC","Shaft length",null,"PCF död artikel"]
[]
[]
["BGM"]
[]
["Motor Plate","Size","Engineering, PC size",null,"PCF"]
[null,"BD","BD",null,"db"]
[null,"PD","PD",null,"db"]
[null,"L","Engineering, PC size",null,"db"]
[null,"Rin","Engineering, PC size",null,"db"]
[null,"Threaded/hole","Engineering, hole",null,"db"]
[]
["Sleeve/coupling","Size","PC size",null,"PCF"]
[null,"Bore","Shaft dia",null,"db"]
[null,"No sleeve","Shaft D, PC size",null,"PCF"]
[null,"Diff. Coupl.","Shaft D, PC size",null,"PCF"]
[]
["Mounting Screws","Length","Flange length/thread depth",null,"PCF"]
[null,"Size","Hole/Thread",null,"PCF"]

{"sheet":"UIfilter","index":7,"n_rows":167,"n_cols":7,"rows_kept":167,"cut":false,"hidden":true,"merged":[]}
["MotorManufacturer",null,"MotorModels",null,"UI choices"]
["Applied Motion",null,"test",null,"Combo1",{"$f":"UIoptions!T21","v":5},{"$f":"INDIRECT(\"A\"&F2+1)","v":"Kollmorgen"}]
["Delta",null,"test",null,"FirstRow",{"$f":"ROW(INDEX(TableMotorCrossRef[Manufacturer],MATCH(G2,TableMotorCrossRef[Manufacturer],0)))","v":17}]
["Emerson",null,"test",null,"NbrOfModels",{"$f":"COUNTIF(TableMotorCrossRef[Manufacturer],G2)","v":25}]
["Fanuc"]
["Kollmorgen"]
["Lin"]
["Micron "]
["Mitsubishi"]
["Moog"]
["Nidec Servo"]
["Omron"]
["Panasonic"]
["Parker"]
["Procesi"]
["Rexroth"]
["Rockwell (Allen-Bradley)"]
["Sanyo Denki"]
["SEM"]
["Siemens"]
["Slo-Syn"]
["Teknic"]
["Yaskawa"]
[]
[]
[]
[]
[]
[]
[]
[]
[]
[]
[]
[]
[]
[]
[]
[]
[]
[]
[]
[]
[]
[]
[]
[]
[]
[]
[]
[]
[]
[]
[]
[]
[]
[]
[]
[]
[]
[]
[]
[]
[]
[]
[]
[]
[]
[]
[]
[]
[]
[]
[]
[]
[]
[]
[]
[]
[]
[]
[]
[]
[]
[]
[]
[]
[]
[]
[]
[]
[]
[]
[]
[]
[]
[]
[]
[]
[]
[]
[]
[]
[]
[]
[]
[]
[]
[]
[]
[]
[]
[]
[]
[]
[]
[]
[]
[]
[]
[]
[]
[]
[]
[]
[]
[]
[]
[]
[]
[]
[]
[]
[]
[]
[]
[]
[]
[]
[]
[]
[]
[]
[]
[]
[]
[]
[]
[]
[]
[]
[]
[]
[]
[]
[]
[]
[]
[]
[]
[]
[]
[]
["d"]
[]
[]
[{"$f":"COUNTIF(UiMotorManufacturers[MotorManufacturer],A164)","v":0}]

{"sheet":"VERSION","index":8,"n_rows":12,"n_cols":5,"rows_kept":12,"cut":false,"hidden":true,"merged":[]}
["Version","Date","Web version","Description","Signature"]
["0.8.1",140430,null,"First version released. Motors with threaded holes not yet supported.","MJB"]
["0.8.9",140530,null," -Changed description of outer dimension of motor body to be dependent on selection.\n-Added new graphics.\n-Added Load motor ID in the NewID tab.\n-Started to implement support for threaded holes (not yet available for end user)\n-Added a tab for production.","MJB"]
["0.9.0",140618,"x"," -Added metric threaded holes, M3, M4, M5.\n-Added more information in  the production tab.","MJB"]
["0.9.1",140901,null," -Added new drawings to double plates","MJB"]
["0.9.2",140916,null," -Added new drawings for SPEC-plates.","MJB/MK/AK"]
["0.9.3",140922,null,"Added new formula for SPL plates, reference to drawing. -Modify BCD hole diameter on AKM3C= 85 mm and AKM3A= 75 mm.","AK"]
["0.9.4",141112,null,"SD is shown in the production tab when the motor ID calls for a SPL plate.","MJB"]
["0.9.5",150119,null,"The thread size is shown instead of generated hole diameter in the production tab for A2, B2, C2 and D2 plates.","MJB"]
["0.9.6",150910,null,"Change SQ MOTOR for LX version in criteria. SQ dimension doesn’t matter for the ready mount","AKJ"]
["0.9.7",170110,null,"Max BCD for 25LX from 71mm to 72mm\nMax SD for 32LX & 40LX from 16mm to 19mm","AÖ"]
[null,180822,null,"text was missing in UI (DE41-DE45) corrected  ","AÖ"]

{"sheet":"DATABASErevision","index":9,"n_rows":0,"n_cols":0,"rows_kept":0,"cut":false,"hidden":true,"merged":[]}

{"sheet":"PRODUCTION","index":10,"n_rows":22,"n_cols":5,"rows_kept":22,"cut":false,"hidden":true,"merged":[]}
[]
[]
[null,"Size",null,"Type","Motor ID"]
[null,null,null,null,319]
[]
[]
[null,"Plate:",null,{"$f":"INDEX(PCdb[],MATCH($E$4,PCdb[RMID],0),UIoptions!D$48)","v":"D"}]
[null,"Drawing",null,{"$f":"INDEX(Criteria!D159:F218,MATCH(CONCATENATE(UIoptions!C45,UIoptions!D45,PRODUCTION!D7),Criteria!D159:D218,0),3)","v":"3-123.395"}]
[]
[null,"BCD",null,{"$f":"IF(ISNUMBER(SEARCH(\"SP\",D7)),\"See Drawing\",INDEX(PCdb[],MATCH($E$4,PCdb[RMID],0),COLUMN(PCdb[BCD])))","v":90}]
[null,"PD",null,{"$f":"IF(ISNUMBER(SEARCH(\"SP\",D7)),\"See Drawing\",INDEX(PCdb[],MATCH($E$4,PCdb[RMID],0),COLUMN(PCdb[PD])))","v":70}]
[null,"SL",null,{"$f":"IF(ISNUMBER(SEARCH(\"SP\",D7)),\"See Drawing\",INDEX(PCdb[],MATCH($E$4,PCdb[RMID],0),COLUMN(PCdb[SL])))","v":25}]
[null,"SD",null,{"$f":"INDEX(PCdb[],MATCH($E$4,PCdb[RMID],0),COLUMN(PCdb[SD]))","v":16}]
[]
[null,"H",null,{"$f":"IF(ISNUMBER(SEARCH(\"SPL\",D7)),\"See Drawing\",IF(OR(D7=\"A2\",D7=\"B2\",D7=\"C2\",D7=\"D2\"),INDEX(PCdb[],MATCH($E$4,PCdb[RMID],0),COLUMN(PCdb[THREAD_SZ])),INDEX(PCdb[],MATCH($E$4,PCdb[RMID],0),COLUMN(PCdb[H]))))","v":"M6"}]
[null,"Nbr",null,{"$f":"IF(ISNUMBER(SEARCH(\"SPL\",D7)),\"See Drawing\",INDEX(PCdb[],MATCH($E$4,PCdb[RMID],0),COLUMN(PCdb[NBR_HOLES])))","v":4},"(number of screws/holes)"]
[null,"Rin",null,{"$f":"IF(ISNUMBER(SEARCH(\"SPL\",D7)),\"See Drawing\",INDEX(PCdb[],MATCH($E$4,PCdb[RMID],0),UIoptions!E$48))","v":37}]
[null,"L",null,{"$f":"IF(ISNUMBER(SEARCH(\"SPL\",D7)),\"See Drawing\",INDEX(PCdb[],MATCH($E$4,PCdb[RMID],0),UIoptions!F$48))","v":"NA"}]
[null,"Beta1",null,{"$f":"INDEX(PCdb[],MATCH($E$4,PCdb[RMID],0),UIoptions!$G$48)","v":45}]
[null,"Beta2",null,{"$f":"INDEX(PCdb[],MATCH($E$4,PCdb[RMID],0),UIoptions!$H$48)","v":90}]
[]
[null,"LC",null,{"$f":"IF(UIoptions!$C$41=1,INDEX(PCdb[],MATCH(PRODUCTION!$E$4,PCdb[RMID],0),UIoptions!I48),\"NA\")","v":"NA"}]

{"sheet":"Blad1","index":11,"n_rows":3,"n_cols":4,"rows_kept":3,"cut":false,"hidden":true,"merged":[]}
[]
["ID","Tillverkare","Artikel nr","kommentar"]
[98,null,159]